Workbook

Sheet BDD
G1: jury | I1: branche | J1: N de Matiere | M1: nombre du condidat | N1: somme | O1: salles | P1: tables
G2: 9009 | I2: branche1 | J2: 7 | M2: 20 | N2: =SUMIFS(M:M,G:G,G2) -> 180
G3: 9009 | I3: branche1 | J3: 7 | M3: 20 | N3: =SUMIFS(M:M,G:G,G3) -> 180
G4: 9009 | I4: branche1 | J4: 7 | M4: 20 | N4: =SUMIFS(M:M,G:G,G4) -> 180
G5: 9009 | I5: branche1 | J5: 7 | M5: 20 | N5: =SUMIFS(M:M,G:G,G5) -> 180
G6: 9009 | I6: branche1 | J6: 7 | M6: 20 | N6: =SUMIFS(M:M,G:G,G6) -> 180
G7: 9009 | I7: branche1 | J7: 7 | M7: 20 | N7: =SUMIFS(M:M,G:G,G7) -> 180
G8: 9009 | I8: branche1 | J8: 7 | M8: 20 | N8: =SUMIFS(M:M,G:G,G8) -> 180
G9: 9009 | I9: branche1 | J9: 7 | M9: 20 | N9: =SUMIFS(M:M,G:G,G9) -> 180
G10: 9009 | I10: branche1 | J10: 7 | M10: 20 | N10: =SUMIFS(M:M,G:G,G10) -> 180
G11: 9010 | I11: branche1 | J11: 7 | M11: 20 | N11: =SUMIFS(M:M,G:G,G11) -> 180
G12: 9010 | I12: branche1 | J12: 7 | M12: 20 | N12: =SUMIFS(M:M,G:G,G12) -> 180
G13: 9010 | I13: branche1 | J13: 7 | M13: 20 | N13: =SUMIFS(M:M,G:G,G13) -> 180
D14: 269 | E14: 3 | F14: =D14/E14 -> 89.666667 | G14: 9010 | I14: branche1 | J14: 7 | M14: 20 | N14: =SUMIFS(M:M,G:G,G14) -> 180
D15: 13 | E15: 7 | F15: =D15*E15 -> 91 | G15: 9010 | I15: branche1 | J15: 7 | M15: 20 | N15: =SUMIFS(M:M,G:G,G15) -> 180
G16: 9010 | I16: branche1 | J16: 7 | M16: 20 | N16: =SUMIFS(M:M,G:G,G16) -> 180
G17: 9010 | I17: branche1 | J17: 7 | M17: 20 | N17: =SUMIFS(M:M,G:G,G17) -> 180
G18: 9010 | I18: branche1 | J18: 7 | M18: 20 | N18: =SUMIFS(M:M,G:G,G18) -> 180
G19: 9010 | I19: branche1 | J19: 7 | M19: 20 | N19: =SUMIFS(M:M,G:G,G19) -> 180
G20: 9011 | I20: branche1 | J20: 7 | M20: 20 | N20: =SUMIFS(M:M,G:G,G20) -> 180
G21: 9011 | I21: branche1 | J21: 7 | M21: 20 | N21: =SUMIFS(M:M,G:G,G21) -> 180
G22: 9011 | I22: branche1 | J22: 7 | M22: 20 | N22: =SUMIFS(M:M,G:G,G22) -> 180
G23: 9011 | I23: branche1 | J23: 7 | M23: 20 | N23: =SUMIFS(M:M,G:G,G23) -> 180
G24: 9011 | I24: branche1 | J24: 7 | M24: 20 | N24: =SUMIFS(M:M,G:G,G24) -> 180
G25: 9011 | I25: branche1 | J25: 7 | M25: 20 | N25: =SUMIFS(M:M,G:G,G25) -> 180
G26: 9011 | I26: branche1 | J26: 7 | M26: 20 | N26: =SUMIFS(M:M,G:G,G26) -> 180
G27: 9011 | I27: branche1 | J27: 7 | M27: 20 | N27: =SUMIFS(M:M,G:G,G27) -> 180
... G2549: 9554 | I2549: branche3 | J2549: 10 | M2549: 4 | N2549: =SUMIFS(M:M,G:G,G2549) -> 84

Sheet Feuil2
A1: jury | C1: branche | D1: N de Matiere | G1: nombre du condidat | H1: somme | I1: total | J1: agent
A2: 9009 | C2: branche1 | D2: 7 | E2: 1 | F2: 2 | G2: 20 | H2: =SUMIFS(BDD!M:M,BDD!G:G,A2) -> 180 | I2: =H2*D2 -> 1260 | J2: A1
A3: 9010 | C3: branche1 | D3: 7 | E3: 2 | G3: 20 | H3: =SUMIFS(BDD!M:M,BDD!G:G,A3) -> 180 | I3: =H3*D3 -> 1260 | J3: A2
A4: 9011 | C4: branche1 | D4: 7 | E4: 3 | G4: 20 | H4: =SUMIFS(BDD!M:M,BDD!G:G,A4) -> 180 | I4: =H4*D4 -> 1260 | J4: A3
A5: 9012 | C5: branche1 | D5: 7 | E5: 4 | G5: 20 | H5: =SUMIFS(BDD!M:M,BDD!G:G,A5) -> 180 | I5: =H5*D5 -> 1260 | J5: A4
A6: 9013 | C6: branche1 | D6: 7 | E6: 5 | G6: 20 | H6: =SUMIFS(BDD!M:M,BDD!G:G,A6) -> 180 | I6: =H6*D6 -> 1260 | J6: A5
A7: 9014 | C7: branche1 | D7: 7 | E7: 6 | G7: 20 | H7: =SUMIFS(BDD!M:M,BDD!G:G,A7) -> 180 | I7: =H7*D7 -> 1260 | J7: A6
A8: 9015 | C8: branche1 | D8: 7 | E8: 7 | G8: 19 | H8: =SUMIFS(BDD!M:M,BDD!G:G,A8) -> 179 | I8: =H8*D8 -> 1253 | J8: A7
A9: 9016 | C9: branche1 | D9: 7 | E9: 8 | G9: 20 | H9: =SUMIFS(BDD!M:M,BDD!G:G,A9) -> 180 | I9: =H9*D9 -> 1260 | J9: A8
A10: 9017 | C10: branche1 | D10: 7 | E10: 9 | G10: 20 | H10: =SUMIFS(BDD!M:M,BDD!G:G,A10) -> 180 | I10: =H10*D10 -> 1260 | J10: B9
A11: 9018 | C11: branche1 | D11: 7 | E11: 10 | G11: 20 | H11: =SUMIFS(BDD!M:M,BDD!G:G,A11) -> 180 | I11: =H11*D11 -> 1260 | J11: B10
A12: 9019 | C12: branche1 | D12: 7 | E12: 11 | G12: 20 | H12: =SUMIFS(BDD!M:M,BDD!G:G,A12) -> 180 | I12: =H12*D12 -> 1260 | J12: B11
A13: 9020 | C13: branche1 | D13: 7 | E13: 12 | G13: 20 | H13: =SUMIFS(BDD!M:M,BDD!G:G,A13) -> 180 | I13: =H13*D13 -> 1260 | J13: B12
A14: 9021 | C14: branche1 | D14: 7 | E14: 13 | G14: 20 | H14: =SUMIFS(BDD!M:M,BDD!G:G,A14) -> 180 | I14: =H14*D14 -> 1260 | J14: B13
... A91: 9098 | C91: branche1 | D91: 7 | E91: 90 | G91: 20 | H91: =SUMIFS(BDD!M:M,BDD!G:G,A91) -> 180 | I91: =H91*D91 -> 1260 | J91: L90
A92: 9099 | C92: branche1 | D92: 7 | E92: 91 | G92: 20 | H92: =SUMIFS(BDD!M:M,BDD!G:G,A92) -> 180 | I92: =H92*D92 -> 1260
A93: 9100 | C93: branche1 | D93: 7 | E93: 92 | G93: 20 | H93: =SUMIFS(BDD!M:M,BDD!G:G,A93) -> 179 | I93: =H93*D93 -> 1253
A94: 9101 | C94: branche1 | D94: 7 | E94: 93 | G94: 20 | H94: =SUMIFS(BDD!M:M,BDD!G:G,A94) -> 180 | I94: =H94*D94 -> 1260
A95: 9102 | C95: branche1 | D95: 7 | E95: 94 | G95: 20 | H95: =SUMIFS(BDD!M:M,BDD!G:G,A95) -> 180 | I95: =H95*D95 -> 1260
A96: 9103 | C96: branche1 | D96: 7 | E96: 95 | G96: 20 | H96: =SUMIFS(BDD!M:M,BDD!G:G,A96) -> 180 | I96: =H96*D96 -> 1260
A97: 9104 | C97: branche1 | D97: 7 | E97: 96 | G97: 20 | H97: =SUMIFS(BDD!M:M,BDD!G:G,A97) -> 180 | I97: =H97*D97 -> 1260
A98: 9105 | C98: branche1 | D98: 7 | E98: 97 | G98: 20 | H98: =SUMIFS(BDD!M:M,BDD!G:G,A98) -> 180 | I98: =H98*D98 -> 1260
A99: 9106 | C99: branche1 | D99: 7 | E99: 98 | G99: 20 | H99: =SUMIFS(BDD!M:M,BDD!G:G,A99) -> 180 | I99: =H99*D99 -> 1260
A100: 9107 | C100: branche1 | D100: 7 | E100: 99 | G100: 20 | H100: =SUMIFS(BDD!M:M,BDD!G:G,A100) -> 180 | I100: =H100*D100 -> 1260
A101: 9108 | C101: branche1 | D101: 7 | E101: 100 | G101: 20 | H101: =SUMIFS(BDD!M:M,BDD!G:G,A101) -> 180 | I101: =H101*D101 -> 1260
A102: 9109 | C102: branche1 | D102: 7 | E102: 101 | G102: 20 | H102: =SUMIFS(BDD!M:M,BDD!G:G,A102) -> 180 | I102: =H102*D102 -> 1260
A103: 9110 | C103: branche1 | D103: 7 | E103: 102 | G103: 20 | H103: =SUMIFS(BDD!M:M,BDD!G:G,A103) -> 180 | I103: =H103*D103 -> 1260
... A268: 9554 | C268: branche3 | D268: 10 | E268: 5 | G268: 20 | H268: =SUMIFS(BDD!M:M,BDD!G:G,A268) -> 84 | I268: =H268*D268 -> 840
