Workbook
Name _REGION__: #REF!
Name CLIENT: #REF!
Name CLIENT__REGION__AGENTS: #REF!
Name DEPENSER_MOINS_1_GV___MIXTE: #REF!
Name Nom_de_l_Offre: #REF!
Name SCACHAP: #REF!

Sheet CALENDRIER
C1: AVRIL | E1: 0
E2: 0 | G2: 2022 | N2: =DATE(G2,E1,1) -> 44531
C3: Envoi Fiche prdt | E3: =IF(C3="Envoi Fiche prdt",1,"") -> 1
L5: S | M5: =WEEKNUM(M6) -> 49 | N5: =WEEKNUM(N6) -> 49 | O5: =WEEKNUM(O6) -> 49 | P5: =WEEKNUM(P6) -> 49 | Q5: =WEEKNUM(Q6) -> 50 | R5: =WEEKNUM(R6) -> 50 | S5: =WEEKNUM(S6) -> 50 | T5: =WEEKNUM(T6) -> 50 | ... AP5: =WEEKNUM(AP6) -> 53
C6: Nom de l'offre | D6: Client | E6: Région | F6: Agent | G6: FICHE | H6: REMONTE | I6: Date de début | J6: Date de fin | K6: OP / Prospectus SALONS | L6: J | M6: =N2 -> 44531 | N6: =M6+1 -> 44532 | O6: =N6+1 -> 44533 | P6: =O6+1 -> 44534 | Q6: =P6+1 -> 44535 | R6: =Q6+1 -> 44536 | S6: =R6+1 -> 44537 | T6: =S6+1 -> 44538 | U6: =T6+1 -> 44539 | ... AP6: =AO6+1 -> 44560
C7: =IFERROR(VLOOKUP(B7,'BASE DE DONNEES TTES LES INFOS'!$A$3:$I$137,7,FALSE),"") | D7: =IFERROR(VLOOKUP($B7,'BASE DE DONNEES TTES LES INFOS'!$A$3:$I$137,5,FALSE),"") | E7: =IFERROR(VLOOKUP($B7,'BASE DE DONNEES TTES LES INFOS'!$A$3:$I$137,6,FALSE),"") | F7: =IF(C7="","",IFERROR(_xlfn.XLOOKUP(B7,'BASE DE DONNEES TTES LES INFOS'!#REF!,'BASE DE DONNEES TTES LES INFOS'!E:E,0,0),"")) | G7: =IF(C7="","",_xlfn.XLOOKUP(B7,'BASE DE DONNEES TTES LES INFOS'!#REF!,'BASE DE DONNEES TTES LES INFOS'!I:I,0,0)) | H7: =IF(C7="","",_xlfn.XLOOKUP(B7,'BASE DE DONNEES TTES LES INFOS'!#REF!,'BASE DE DONNEES TTES LES INFOS'!H:H,0,0)) | I7: =IF(C7="","",_xlfn.XLOOKUP(B7,'BASE DE DONNEES TTES LES INFOS'!#REF!,'BASE DE DONNEES TTES LES INFOS'!F:F,0,0)) | J7: =IF(C7="","",_xlfn.XLOOKUP(B7,'BASE DE DONNEES TTES LES INFOS'!#REF!,'BASE DE DONNEES TTES LES INFOS'!G:G,0,0)) | K7: =IF(C7="","",_xlfn.XLOOKUP(B7,'BASE DE DONNEES TTES LES INFOS'!#REF!,'BASE DE DONNEES TTES LES INFOS'!J:J,0,0)) | M7: =IF($J7>=M$6,IF($I7<=M$6,"x","")) | N7: =IF($J7>=N$6,IF($I7<=N$6,"x","")) | O7: =IF($J7>=O$6,IF($I7<=O$6,"x","")) | P7: =IF($J7>=P$6,IF($I7<=P$6,"x","")) | Q7: =IF($J7>=Q$6,IF($I7<=Q$6,"x","")) | R7: =IF($J7>=R$6,IF($I7<=R$6,"x","")) | S7: =IF($J7>=S$6,IF($I7<=S$6,"x","")) | T7: =IF($J7>=T$6,IF($I7<=T$6,"x","")) | ... AP7: =IF($J7>=AP$6,IF($I7<=AP$6,"x",""))
C8: RÉGION DM7 PAQUES MIXTES | D8: LECLERC | E8: sud | F8: A | G8: 44665 | H8: 44656 | I8: 44656 | J8: 44667 | K8: PUB / CATALOGUE | M8: X | N8: =IF($J8>=N$6,IF($I8<=N$6,"x","")) | O8: =IF($J8>=O$6,IF($I8<=O$6,"x","")) | P8: =IF($J8>=P$6,IF($I8<=P$6,"x","")) | Q8: X | W8: =IF($J8>=W$6,IF($I8<=W$6,"x","")) | X8: x | Y8: x | Z8: x | AA8: x | AB8: x | AC8: x | AD8: x | AE8: x | AF8: x | AG8: x | AH8: x | AI8: x | AJ8: =IF($J8>=AJ$6,IF($I8<=AJ$6,"x","")) | AK8: =IF($J8>=AK$6,IF($I8<=AK$6,"x","")) | AL8: =IF($J8>=AL$6,IF($I8<=AL$6,"x","")) | AM8: =IF($J8>=AM$6,IF($I8<=AM$6,"x","")) | AN8: =IF($J8>=AN$6,IF($I8<=AN$6,"x","")) | AO8: =IF($J8>=AO$6,IF($I8<=AO$6,"x","")) | AP8: =IF($J8>=AP$6,IF($I8<=AP$6,"x",""))
C9: RÉGION DM2 PAQUES MIXTES | D9: LECLERC | E9: nord | F9: B | G9: 44656 | H9: 44658 | I9: 44662 | J9: 44666 | K9: PUB / CATALOGUE | N9: =IF($J9>=N$6,IF($I9<=N$6,"x","")) | O9: =IF($J9>=O$6,IF($I9<=O$6,"x","")) | P9: =IF($J9>=P$6,IF($I9<=P$6,"x","")) | Q9: X | S9: X | W9: =IF($J9>=W$6,IF($I9<=W$6,"x","")) | X9: x | Y9: x | Z9: x | AA9: x | AE9: =IF($J9>=AE$6,IF($I9<=AE$6,"x","")) | AF9: =IF($J9>=AF$6,IF($I9<=AF$6,"x","")) | AG9: =IF($J9>=AG$6,IF($I9<=AG$6,"x","")) | AH9: =IF($J9>=AH$6,IF($I9<=AH$6,"x","")) | AI9: =IF($J9>=AI$6,IF($I9<=AI$6,"x","")) | AJ9: =IF($J9>=AJ$6,IF($I9<=AJ$6,"x","")) | AK9: =IF($J9>=AK$6,IF($I9<=AK$6,"x","")) | AL9: =IF($J9>=AL$6,IF($I9<=AL$6,"x","")) | ... AP9: =IF($J9>=AP$6,IF($I9<=AP$6,"x",""))
C10: RÉGION DM2 PAQUES MIXTES | D10: LECLERC | E10: EST | F10: C | G10: Ø | H10: Ø | I10: 44663 | J10: 44664 | K10: PROSPECTUS | M10: X | N10: =IF($J10>=N$6,IF($I10<=N$6,"x","")) | O10: =IF($J10>=O$6,IF($I10<=O$6,"x","")) | P10: =IF($J10>=P$6,IF($I10<=P$6,"x","")) | Q10: =IF($J10>=Q$6,IF($I10<=Q$6,"x","")) | R10: =IF($J10>=R$6,IF($I10<=R$6,"x","")) | S10: =IF($J10>=S$6,IF($I10<=S$6,"x","")) | T10: =IF($J10>=T$6,IF($I10<=T$6,"x","")) | U10: =IF($J10>=U$6,IF($I10<=U$6,"x","")) | ... AP10: =IF($J10>=AP$6,IF($I10<=AP$6,"x",""))
C11: DM 2 | D11: AUCHAN | E11: NORD | F11: A | G11: 44655 | H11: 44677 | I11: 44670 | J11: 44673 | K11: SALON | M11: =IF($J11>=M$6,IF($I11<=M$6,"x","")) | N11: =IF($J11>=N$6,IF($I11<=N$6,"x","")) | O11: =IF($J11>=O$6,IF($I11<=O$6,"x","")) | P11: X | Q11: =IF($J11>=Q$6,IF($I11<=Q$6,"x","")) | S11: =IF($J11>=S$6,IF($I11<=S$6,"x","")) | T11: =IF($J11>=T$6,IF($I11<=T$6,"x","")) | U11: =IF($J11>=U$6,IF($I11<=U$6,"x","")) | V11: =IF($J11>=V$6,IF($I11<=V$6,"x","")) | W11: =IF($J11>=W$6,IF($I11<=W$6,"x","")) | Z11: =IF($J11>=Z$6,IF($I11<=Z$6,"x","")) | AA11: =IF($J11>=AA$6,IF($I11<=AA$6,"x","")) | AB11: =IF($J11>=AB$6,IF($I11<=AB$6,"x","")) | AC11: =IF($J11>=AC$6,IF($I11<=AC$6,"x","")) | AD11: =IF($J11>=AD$6,IF($I11<=AD$6,"x","")) | AE11: X | AF11: X | AG11: X | AH11: X | AI11: =IF($J11>=AI$6,IF($I11<=AI$6,"x","")) | AJ11: =IF($J11>=AJ$6,IF($I11<=AJ$6,"x","")) | AK11: =IF($J11>=AK$6,IF($I11<=AK$6,"x","")) | AL11: X | AM11: =IF($J11>=AM$6,IF($I11<=AM$6,"x","")) | AN11: =IF($J11>=AN$6,IF($I11<=AN$6,"x","")) | AO11: =IF($J11>=AO$6,IF($I11<=AO$6,"x","")) | AP11: =IF($J11>=AP$6,IF($I11<=AP$6,"x",""))
C12: =IFERROR(VLOOKUP(B12,'BASE DE DONNEES TTES LES INFOS'!$A$3:$I$137,7,FALSE),"") | D12: =IFERROR(VLOOKUP($B12,'BASE DE DONNEES TTES LES INFOS'!$A$3:$I$137,5,FALSE),"") | E12: =IFERROR(VLOOKUP($B12,'BASE DE DONNEES TTES LES INFOS'!$A$3:$I$137,6,FALSE),"") | F12: =IF(C12="","",IFERROR(_xlfn.XLOOKUP(B12,'BASE DE DONNEES TTES LES INFOS'!#REF!,'BASE DE DONNEES TTES LES INFOS'!E:E,0,0),"")) | G12: =IF(C12="","",_xlfn.XLOOKUP(B12,'BASE DE DONNEES TTES LES INFOS'!#REF!,'BASE DE DONNEES TTES LES INFOS'!I:I,0,0)) | H12: =IF(C12="","",_xlfn.XLOOKUP(B12,'BASE DE DONNEES TTES LES INFOS'!#REF!,'BASE DE DONNEES TTES LES INFOS'!H:H,0,0)) | I12: =IF(C12="","",_xlfn.XLOOKUP(B12,'BASE DE DONNEES TTES LES INFOS'!#REF!,'BASE DE DONNEES TTES LES INFOS'!F:F,0,0)) | J12: =IF(C12="","",_xlfn.XLOOKUP(B12,'BASE DE DONNEES TTES LES INFOS'!#REF!,'BASE DE DONNEES TTES LES INFOS'!G:G,0,0)) | K12: =IF(C12="","",_xlfn.XLOOKUP(B12,'BASE DE DONNEES TTES LES INFOS'!#REF!,'BASE DE DONNEES TTES LES INFOS'!J:J,0,0)) | M12: =IF($J12>=M$6,IF($I12<=M$6,"x","")) | N12: =IF($J12>=N$6,IF($I12<=N$6,"x","")) | O12: =IF($J12>=O$6,IF($I12<=O$6,"x","")) | P12: =IF($J12>=P$6,IF($I12<=P$6,"x","")) | Q12: =IF($J12>=Q$6,IF($I12<=Q$6,"x","")) | R12: =IF($J12>=R$6,IF($I12<=R$6,"x","")) | S12: =IF($J12>=S$6,IF($I12<=S$6,"x","")) | T12: =IF($J12>=T$6,IF($I12<=T$6,"x","")) | ... AP12: =IF($J12>=AP$6,IF($I12<=AP$6,"x",""))
C13: =IFERROR(VLOOKUP(B13,'BASE DE DONNEES TTES LES INFOS'!$A$3:$I$137,7,FALSE),"") | D13: =IFERROR(VLOOKUP($B13,'BASE DE DONNEES TTES LES INFOS'!$A$3:$I$137,5,FALSE),"") | E13: =IFERROR(VLOOKUP($B13,'BASE DE DONNEES TTES LES INFOS'!$A$3:$I$137,6,FALSE),"") | F13: =IF(C13="","",IFERROR(_xlfn.XLOOKUP(B13,'BASE DE DONNEES TTES LES INFOS'!#REF!,'BASE DE DONNEES TTES LES INFOS'!E:E,0,0),"")) | G13: =IF(C13="","",_xlfn.XLOOKUP(B13,'BASE DE DONNEES TTES LES INFOS'!#REF!,'BASE DE DONNEES TTES LES INFOS'!I:I,0,0)) | H13: =IF(C13="","",_xlfn.XLOOKUP(B13,'BASE DE DONNEES TTES LES INFOS'!#REF!,'BASE DE DONNEES TTES LES INFOS'!H:H,0,0)) | I13: =IF(C13="","",_xlfn.XLOOKUP(B13,'BASE DE DONNEES TTES LES INFOS'!#REF!,'BASE DE DONNEES TTES LES INFOS'!F:F,0,0)) | J13: =IF(C13="","",_xlfn.XLOOKUP(B13,'BASE DE DONNEES TTES LES INFOS'!#REF!,'BASE DE DONNEES TTES LES INFOS'!G:G,0,0)) | K13: =IF(C13="","",_xlfn.XLOOKUP(B13,'BASE DE DONNEES TTES LES INFOS'!#REF!,'BASE DE DONNEES TTES LES INFOS'!J:J,0,0)) | M13: =IF($J13>=M$6,IF($I13<=M$6,"x","")) | N13: =IF($J13>=N$6,IF($I13<=N$6,"x","")) | O13: =IF($J13>=O$6,IF($I13<=O$6,"x","")) | P13: =IF($J13>=P$6,IF($I13<=P$6,"x","")) | Q13: =IF($J13>=Q$6,IF($I13<=Q$6,"x","")) | R13: =IF($J13>=R$6,IF($I13<=R$6,"x","")) | S13: =IF($J13>=S$6,IF($I13<=S$6,"x","")) | T13: =IF($J13>=T$6,IF($I13<=T$6,"x","")) | ... AP13: =IF($J13>=AP$6,IF($I13<=AP$6,"x",""))
C14: =IFERROR(VLOOKUP(B14,'BASE DE DONNEES TTES LES INFOS'!$A$3:$I$137,7,FALSE),"") | D14: =IFERROR(VLOOKUP($B14,'BASE DE DONNEES TTES LES INFOS'!$A$3:$I$137,5,FALSE),"") | E14: =IFERROR(VLOOKUP($B14,'BASE DE DONNEES TTES LES INFOS'!$A$3:$I$137,6,FALSE),"") | F14: =IF(C14="","",IFERROR(_xlfn.XLOOKUP(B14,'BASE DE DONNEES TTES LES INFOS'!#REF!,'BASE DE DONNEES TTES LES INFOS'!E:E,0,0),"")) | G14: =IF(C14="","",_xlfn.XLOOKUP(B14,'BASE DE DONNEES TTES LES INFOS'!#REF!,'BASE DE DONNEES TTES LES INFOS'!I:I,0,0)) | H14: =IF(C14="","",_xlfn.XLOOKUP(B14,'BASE DE DONNEES TTES LES INFOS'!#REF!,'BASE DE DONNEES TTES LES INFOS'!H:H,0,0)) | I14: =IF(C14="","",_xlfn.XLOOKUP(B14,'BASE DE DONNEES TTES LES INFOS'!#REF!,'BASE DE DONNEES TTES LES INFOS'!F:F,0,0)) | J14: =IF(C14="","",_xlfn.XLOOKUP(B14,'BASE DE DONNEES TTES LES INFOS'!#REF!,'BASE DE DONNEES TTES LES INFOS'!G:G,0,0)) | K14: =IF(C14="","",_xlfn.XLOOKUP(B14,'BASE DE DONNEES TTES LES INFOS'!#REF!,'BASE DE DONNEES TTES LES INFOS'!J:J,0,0)) | M14: =IF($J14>=M$6,IF($I14<=M$6,"x","")) | N14: =IF($J14>=N$6,IF($I14<=N$6,"x","")) | O14: =IF($J14>=O$6,IF($I14<=O$6,"x","")) | P14: =IF($J14>=P$6,IF($I14<=P$6,"x","")) | Q14: =IF($J14>=Q$6,IF($I14<=Q$6,"x","")) | R14: =IF($J14>=R$6,IF($I14<=R$6,"x","")) | S14: =IF($J14>=S$6,IF($I14<=S$6,"x","")) | T14: =IF($J14>=T$6,IF($I14<=T$6,"x","")) | ... AP14: =IF($J14>=AP$6,IF($I14<=AP$6,"x",""))
C15: =IFERROR(VLOOKUP(B15,'BASE DE DONNEES TTES LES INFOS'!$A$3:$I$137,7,FALSE),"") | D15: =IFERROR(VLOOKUP($B15,'BASE DE DONNEES TTES LES INFOS'!$A$3:$I$137,5,FALSE),"") | E15: =IFERROR(VLOOKUP($B15,'BASE DE DONNEES TTES LES INFOS'!$A$3:$I$137,6,FALSE),"") | F15: =IF(C15="","",IFERROR(_xlfn.XLOOKUP(B15,'BASE DE DONNEES TTES LES INFOS'!#REF!,'BASE DE DONNEES TTES LES INFOS'!E:E,0,0),"")) | G15: =IF(C15="","",_xlfn.XLOOKUP(B15,'BASE DE DONNEES TTES LES INFOS'!#REF!,'BASE DE DONNEES TTES LES INFOS'!I:I,0,0)) | H15: =IF(C15="","",_xlfn.XLOOKUP(B15,'BASE DE DONNEES TTES LES INFOS'!#REF!,'BASE DE DONNEES TTES LES INFOS'!H:H,0,0)) | I15: =IF(C15="","",_xlfn.XLOOKUP(B15,'BASE DE DONNEES TTES LES INFOS'!#REF!,'BASE DE DONNEES TTES LES INFOS'!F:F,0,0)) | J15: =IF(C15="","",_xlfn.XLOOKUP(B15,'BASE DE DONNEES TTES LES INFOS'!#REF!,'BASE DE DONNEES TTES LES INFOS'!G:G,0,0)) | K15: =IF(C15="","",_xlfn.XLOOKUP(B15,'BASE DE DONNEES TTES LES INFOS'!#REF!,'BASE DE DONNEES TTES LES INFOS'!J:J,0,0)) | M15: =IF($J15>=M$6,IF($I15<=M$6,"x","")) | N15: =IF($J15>=N$6,IF($I15<=N$6,"x","")) | O15: =IF($J15>=O$6,IF($I15<=O$6,"x","")) | P15: =IF($J15>=P$6,IF($I15<=P$6,"x","")) | Q15: =IF($J15>=Q$6,IF($I15<=Q$6,"x","")) | R15: =IF($J15>=R$6,IF($I15<=R$6,"x","")) | S15: =IF($J15>=S$6,IF($I15<=S$6,"x","")) | T15: =IF($J15>=T$6,IF($I15<=T$6,"x","")) | ... AP15: =IF($J15>=AP$6,IF($I15<=AP$6,"x",""))
C16: =IFERROR(VLOOKUP(B16,'BASE DE DONNEES TTES LES INFOS'!$A$3:$I$137,7,FALSE),"") | D16: =IFERROR(VLOOKUP($B16,'BASE DE DONNEES TTES LES INFOS'!$A$3:$I$137,5,FALSE),"") | E16: =IFERROR(VLOOKUP($B16,'BASE DE DONNEES TTES LES INFOS'!$A$3:$I$137,6,FALSE),"") | F16: =IF(C16="","",IFERROR(_xlfn.XLOOKUP(B16,'BASE DE DONNEES TTES LES INFOS'!#REF!,'BASE DE DONNEES TTES LES INFOS'!E:E,0,0),"")) | G16: =IF(C16="","",_xlfn.XLOOKUP(B16,'BASE DE DONNEES TTES LES INFOS'!#REF!,'BASE DE DONNEES TTES LES INFOS'!I:I,0,0)) | H16: =IF(C16="","",_xlfn.XLOOKUP(B16,'BASE DE DONNEES TTES LES INFOS'!#REF!,'BASE DE DONNEES TTES LES INFOS'!H:H,0,0)) | I16: =IF(C16="","",_xlfn.XLOOKUP(B16,'BASE DE DONNEES TTES LES INFOS'!#REF!,'BASE DE DONNEES TTES LES INFOS'!F:F,0,0)) | J16: =IF(C16="","",_xlfn.XLOOKUP(B16,'BASE DE DONNEES TTES LES INFOS'!#REF!,'BASE DE DONNEES TTES LES INFOS'!G:G,0,0)) | K16: =IF(C16="","",_xlfn.XLOOKUP(B16,'BASE DE DONNEES TTES LES INFOS'!#REF!,'BASE DE DONNEES TTES LES INFOS'!J:J,0,0)) | M16: =IF($J16>=M$6,IF($I16<=M$6,"x","")) | N16: =IF($J16>=N$6,IF($I16<=N$6,"x","")) | O16: =IF($J16>=O$6,IF($I16<=O$6,"x","")) | P16: =IF($J16>=P$6,IF($I16<=P$6,"x","")) | Q16: =IF($J16>=Q$6,IF($I16<=Q$6,"x","")) | R16: =IF($J16>=R$6,IF($I16<=R$6,"x","")) | S16: =IF($J16>=S$6,IF($I16<=S$6,"x","")) | T16: =IF($J16>=T$6,IF($I16<=T$6,"x","")) | ... AP16: =IF($J16>=AP$6,IF($I16<=AP$6,"x",""))
C17: =IFERROR(VLOOKUP(B17,'BASE DE DONNEES TTES LES INFOS'!$A$3:$I$137,7,FALSE),"") | D17: =IFERROR(VLOOKUP($B17,'BASE DE DONNEES TTES LES INFOS'!$A$3:$I$137,5,FALSE),"") | E17: =IFERROR(VLOOKUP($B17,'BASE DE DONNEES TTES LES INFOS'!$A$3:$I$137,6,FALSE),"") | F17: =IF(C17="","",IFERROR(_xlfn.XLOOKUP(B17,'BASE DE DONNEES TTES LES INFOS'!#REF!,'BASE DE DONNEES TTES LES INFOS'!E:E,0,0),"")) | G17: =IF(C17="","",_xlfn.XLOOKUP(B17,'BASE DE DONNEES TTES LES INFOS'!#REF!,'BASE DE DONNEES TTES LES INFOS'!I:I,0,0)) | H17: =IF(C17="","",_xlfn.XLOOKUP(B17,'BASE DE DONNEES TTES LES INFOS'!#REF!,'BASE DE DONNEES TTES LES INFOS'!H:H,0,0)) | I17: =IF(C17="","",_xlfn.XLOOKUP(B17,'BASE DE DONNEES TTES LES INFOS'!#REF!,'BASE DE DONNEES TTES LES INFOS'!F:F,0,0)) | J17: =IF(C17="","",_xlfn.XLOOKUP(B17,'BASE DE DONNEES TTES LES INFOS'!#REF!,'BASE DE DONNEES TTES LES INFOS'!G:G,0,0)) | K17: =IF(C17="","",_xlfn.XLOOKUP(B17,'BASE DE DONNEES TTES LES INFOS'!#REF!,'BASE DE DONNEES TTES LES INFOS'!J:J,0,0)) | M17: =IF($J17>=M$6,IF($I17<=M$6,"x","")) | N17: =IF($J17>=N$6,IF($I17<=N$6,"x","")) | O17: =IF($J17>=O$6,IF($I17<=O$6,"x","")) | P17: =IF($J17>=P$6,IF($I17<=P$6,"x","")) | Q17: =IF($J17>=Q$6,IF($I17<=Q$6,"x","")) | R17: =IF($J17>=R$6,IF($I17<=R$6,"x","")) | S17: =IF($J17>=S$6,IF($I17<=S$6,"x","")) | T17: =IF($J17>=T$6,IF($I17<=T$6,"x","")) | ... AP17: =IF($J17>=AP$6,IF($I17<=AP$6,"x",""))
C18: =IFERROR(VLOOKUP(B18,'BASE DE DONNEES TTES LES INFOS'!$A$3:$I$137,7,FALSE),"") | D18: =IFERROR(VLOOKUP($B18,'BASE DE DONNEES TTES LES INFOS'!$A$3:$I$137,5,FALSE),"") | E18: =IFERROR(VLOOKUP($B18,'BASE DE DONNEES TTES LES INFOS'!$A$3:$I$137,6,FALSE),"") | F18: =IF(C18="","",IFERROR(_xlfn.XLOOKUP(B18,'BASE DE DONNEES TTES LES INFOS'!#REF!,'BASE DE DONNEES TTES LES INFOS'!E:E,0,0),"")) | G18: =IF(C18="","",_xlfn.XLOOKUP(B18,'BASE DE DONNEES TTES LES INFOS'!#REF!,'BASE DE DONNEES TTES LES INFOS'!I:I,0,0)) | H18: =IF(C18="","",_xlfn.XLOOKUP(B18,'BASE DE DONNEES TTES LES INFOS'!#REF!,'BASE DE DONNEES TTES LES INFOS'!H:H,0,0)) | I18: =IF(C18="","",_xlfn.XLOOKUP(B18,'BASE DE DONNEES TTES LES INFOS'!#REF!,'BASE DE DONNEES TTES LES INFOS'!F:F,0,0)) | J18: =IF(C18="","",_xlfn.XLOOKUP(B18,'BASE DE DONNEES TTES LES INFOS'!#REF!,'BASE DE DONNEES TTES LES INFOS'!G:G,0,0)) | K18: =IF(C18="","",_xlfn.XLOOKUP(B18,'BASE DE DONNEES TTES LES INFOS'!#REF!,'BASE DE DONNEES TTES LES INFOS'!J:J,0,0)) | M18: =IF($J18>=M$6,IF($I18<=M$6,"x","")) | N18: =IF($J18>=N$6,IF($I18<=N$6,"x","")) | O18: =IF($J18>=O$6,IF($I18<=O$6,"x","")) | P18: =IF($J18>=P$6,IF($I18<=P$6,"x","")) | Q18: =IF($J18>=Q$6,IF($I18<=Q$6,"x","")) | R18: =IF($J18>=R$6,IF($I18<=R$6,"x","")) | S18: =IF($J18>=S$6,IF($I18<=S$6,"x","")) | T18: =IF($J18>=T$6,IF($I18<=T$6,"x","")) | ... AP18: =IF($J18>=AP$6,IF($I18<=AP$6,"x",""))
C19: =IFERROR(VLOOKUP(B19,'BASE DE DONNEES TTES LES INFOS'!$A$3:$I$137,7,FALSE),"") | D19: =IFERROR(VLOOKUP($B19,'BASE DE DONNEES TTES LES INFOS'!$A$3:$I$137,5,FALSE),"") | E19: =IFERROR(VLOOKUP($B19,'BASE DE DONNEES TTES LES INFOS'!$A$3:$I$137,6,FALSE),"") | F19: =IF(C19="","",IFERROR(_xlfn.XLOOKUP(B19,'BASE DE DONNEES TTES LES INFOS'!#REF!,'BASE DE DONNEES TTES LES INFOS'!E:E,0,0),"")) | G19: =IF(C19="","",_xlfn.XLOOKUP(B19,'BASE DE DONNEES TTES LES INFOS'!#REF!,'BASE DE DONNEES TTES LES INFOS'!I:I,0,0)) | H19: =IF(C19="","",_xlfn.XLOOKUP(B19,'BASE DE DONNEES TTES LES INFOS'!#REF!,'BASE DE DONNEES TTES LES INFOS'!H:H,0,0)) | I19: =IF(C19="","",_xlfn.XLOOKUP(B19,'BASE DE DONNEES TTES LES INFOS'!#REF!,'BASE DE DONNEES TTES LES INFOS'!F:F,0,0)) | J19: =IF(C19="","",_xlfn.XLOOKUP(B19,'BASE DE DONNEES TTES LES INFOS'!#REF!,'BASE DE DONNEES TTES LES INFOS'!G:G,0,0)) | K19: =IF(C19="","",_xlfn.XLOOKUP(B19,'BASE DE DONNEES TTES LES INFOS'!#REF!,'BASE DE DONNEES TTES LES INFOS'!J:J,0,0)) | M19: =IF($J19>=M$6,IF($I19<=M$6,"x","")) | N19: =IF($J19>=N$6,IF($I19<=N$6,"x","")) | O19: =IF($J19>=O$6,IF($I19<=O$6,"x","")) | P19: =IF($J19>=P$6,IF($I19<=P$6,"x","")) | Q19: =IF($J19>=Q$6,IF($I19<=Q$6,"x","")) | R19: =IF($J19>=R$6,IF($I19<=R$6,"x","")) | S19: =IF($J19>=S$6,IF($I19<=S$6,"x","")) | T19: =IF($J19>=T$6,IF($I19<=T$6,"x","")) | ... AP19: =IF($J19>=AP$6,IF($I19<=AP$6,"x",""))
N21: =DATE(G2,E1,1) -> 44531

Sheet BASE DE DONNEES TTES LES INFOS
A2: Année | B2: CLIENT__REGION__AGENTS | C2: _REGION__ | D2: Nom_de_l'Offre | E2: AGENTS | F2: Date_debut | G2: Date_fin | H2: REMONTEES | I2: FICHES | J2: OP__SALON_PROSPECTUS | K2: Commentaires 1 | L2: Retomber des commandes € | M2: Cout de l'évenement € | N2: Commentaires 2
A3: 2022 | B3: LECLERC | C3: sud | D3: RÉGION DM7 PAQUES MIXTES | E3: A | F3: 44656 | G3: 44667 | H3: 44656 | I3: 44665 | J3: PUB / CATALOGUE | K3: Evenement tous les ans | N3: Ne pas reparticiper en 2023 pas assez de retombées
A4: 2022 | B4: LECLERC | C4: nord | D4: RÉGION DM2 PAQUES MIXTES | E4: B | F4: 44662 | G4: 44666 | H4: 44658 | I4: 44656 | J4: PUB / CATALOGUE | N4: Très bonne retombées prévoir de participer en 2023
A5: 2022 | B5: LECLERC | C5: EST | D5: RÉGION DM2 PAQUES MIXTES | E5: C | F5: 44663 | G5: 44664 | H5: Ø | I5: Ø | J5: PROSPECTUS
A6: 2022 | B6: AUCHAN | C6: NORD | D6: DM 2 | E6: A | F6: 44670 | G6: 44673 | H6: 44677 | I6: 44655 | J6: SALON | K6: Evenement tous les ans | N6: Pas assez de visibilité
