Workbook

Sheet Paramètre
A2: Période | B2: 1
A3: Date | B3: 45040

Sheet UDM Stratégique
H2: FICHE SYNTHÈSE - CONTINUUM JEUNESSE SERVICES SPÉCIFIQUES (1re LIGNE)
A7: =CONCATENATE("PORTRAIT STRATÉGIQUE DES UNITÉS DE MESURE PAR CA ou SCA - ANNÉE 2023-2024, PÉRIODES 1 À ",Paramètre!B2," (CUMULATIF)") -> PORTRAIT STRATÉGIQUE DES UNITÉS DE MESURE PAR CA ou SCA - ANNÉE 2023-2024, PÉRIODES 1 À 1 (CUMULATIF)
A9: CA ou SCA | B9: AL | D9: ARG | F9: SOM | H9: LDDM | J9: PDH | L9: STJ | N9: TDB | P9: CISSS
B10: Us diff. | C10: Interv. | D10: Us diff. | E10: Interv. | F10: Us diff. | G10: Interv. | H10: Us diff. | I10: Interv. | J10: Us diff. | K10: Interv. | L10: Us diff. | M10: Interv. | N10: Us diff. | O10: Interv. | P10: Us diff. | Q10: Interv.
A11: Développement, adaptation et intégration sociale enfants (0-5 ans) et leur famille
A12: Serv psychosociaux pour les jeunes en difficulté et leur famille JED 0-5 ans
A13: Serv psychosociaux pour les jeunes en difficulté et leur famille JED 6-12 ans
A14: Serv psychosociaux pour les jeunes en difficulté et leur famille JED 13-18 ans
A15: Serv psychosociaux pour les jeunes en difficulté et leur famille Autres 1
A16: Mécanisme d'accès SMJ
A17: Services spécifiques SMJ
A18: Sage-femme
A19: Réfugiés social
A20: Réfugiés santé
A21: Santé parentale et infantile - CLSC
A22: Aire ouverte
... A24: 1 Autres = JED Groupe(s), JED Intervention brève, JED ASSS Généraux, JED ASSS SIPPE, JED Crise Jeunesse, Groupe Semer l'avenir, Semer l'avenir (individuel), Sous-Programme(s) du programme Agir tôt, Hors-Piste
B27: =MATCH("Jeunesse",[1]Liste_1!$B:$B,0) -> 40 | C27: =MATCH("DI-TSA-DP",[1]Liste_1!$B:$B,0) -> 78 | D27: =MATCH("Jeunesse",[2]Liste_1!$B:$B,0) -> 41 | E27: =MATCH("DI-TSA-DP",[2]Liste_1!$B:$B,0) -> 81 | F27: =MATCH("Jeunesse",[3]Liste_1!$B:$B,0) -> 41 | G27: =MATCH("DI-TSA-DP",[3]Liste_1!$B:$B,0) -> 83 | H27: =MATCH("Jeunesse",[4]Liste_1!$B:$B,0) -> 43 | I27: =MATCH("DI-TSA-DP",[4]Liste_1!$B:$B,0) -> 86 | J27: =MATCH("Jeunesse",[5]Liste_1!$B:$B,0) -> 42 | K27: =MATCH("DI-TSA-DP",[5]Liste_1!$B:$B,0) -> 81 | L27: =MATCH("Jeunesse",[6]Liste_1!$B:$B,0) -> 56 | M27: =MATCH("DI-TSA-DP",[6]Liste_1!$B:$B,0) -> 108 | N27: =MATCH("Jeunesse",[7]Liste_1!$B:$B,0) -> 50 | O27: =MATCH("DI-TSA-DP",[7]Liste_1!$B:$B,0) -> 100

Sheet Attente Stratégique
K2: FICHE SYNTHÈSE - CONTINUUM JEUNESSE SERVICES SPÉCIFIQUES (1re LIGNE)
A8: =CONCATENATE("PORTRAIT STRATÉGIQUE DE LA LISTE D'ATTENTE PAR CA OU SCA - ANNÉE 2024-2025, EN DATE DU ",UPPER(TEXT(Paramètre!B3,"jj mmmm aaaa"))) -> PORTRAIT STRATÉGIQUE DE LA LISTE D'ATTENTE PAR CA OU SCA - ANNÉE 2024-2025, EN DATE DU 24 AVRIL 2023
A10: CA ou SCA | B10: AL | F10: ARG | J10: SOM | N10: LDDM | R10: PDH | V10: STJ | Z10: TDB | AD10: CISSS
B11: Pér. Préc. | C11: Pér. Courante | F11: Pér. Préc. | G11: Pér. Courante | J11: Pér. Préc. | K11: Pér. Courante | N11: Pér. Préc. | O11: Pér. Courante | R11: Pér. Préc. | S11: Pér. Courante | V11: Pér. Préc. | W11: Pér. Courante | Z11: Pér. Préc. | AA11: Pér. Courante | AD11: Pér. Préc. | AE11: Pér. Cour.
B12: Us tot. 1 | C12: Us tot. 1 | D12: Délai le + court (jrs) | E12: Délai le + long (jrs) | F12: Us tot. 1 | G12: Us tot. 1 | H12: Délai le + court (jrs) | I12: Délai le + long (jrs) | J12: Us tot. 1 | K12: Us tot. 1 | L12: Délai le + court (jrs) | M12: Délai le + long (jrs) | N12: Us tot. 1 | O12: Us tot. 1 | P12: Délai le + court (jrs) | Q12: Délai le + long (jrs) | R12: Us tot. 1 | S12: Us tot. 1 | T12: Délai le + court (jrs) | U12: Délai le + long (jrs) | V12: Us tot. 1 | W12: Us tot. 1 | X12: Délai le + court (jrs) | Y12: Délai le + long (jrs) | Z12: Us tot. 1 | AA12: Us tot. 1 | AB12: Délai le + court (jrs) | AC12: Délai le + long (jrs) | AD12: Us tot. 1 | AE12: Us tot. 1
A13: Développement, adaptation et intégration sociale enfants (0-5 ans) et leur famille
A14: Serv psychosociaux pour les jeunes en difficulté et leur famille JED 0-5 ans
A15: Serv psychosociaux pour les jeunes en difficulté et leur famille JED 6-12 ans
A16: Serv psychosociaux pour les jeunes en difficulté et leur famille JED 13-18 ans
A17: Serv psychosociaux pour les jeunes en difficulté et leur famille Autres 2
A18: Mécanisme d'accès SMJ
A19: Services spécifiques SMJ
A20: Sage-femme
A21: Réfugiés social
A22: Réfugiés santé
A23: Santé parentale et infantile - CLSC
A24: Aire ouverte
... A28: N.B. La liste d'attente représente les usagers non-assignés seulement à un intervenant.
B30: =MATCH("Continuum Jeunesse",[8]Liste_1!$B:$B,0) -> 29 | C30: =MATCH("Continuum SAPA (à valider)",[8]Liste_1!$B:$B,0) -> 49 | D30: =MATCH("5910",[15]Liste_1!$A:$A,0)-1 -> 5 | F30: =MATCH("Continuum Jeunesse",[9]Liste_1!$B:$B,0) -> 21 | G30: =MATCH("Continuum SAPA (à valider)",[9]Liste_1!$B:$B,0) -> #N/A | H30: =MATCH("5910",[16]Liste_1!$A:$A,0)-1 -> 5 | J30: =MATCH("Continuum Jeunesse",[10]Liste_1!$B:$B,0) -> 31 | K30: =MATCH("Continuum SAPA (à valider)",[10]Liste_1!$B:$B,0) -> 56 | L30: =MATCH("5910",[17]Liste_1!$A:$A,0)-1 -> 5 | N30: =MATCH("Continuum Jeunesse",[11]Liste_1!$B:$B,0) -> 38 | O30: =MATCH("Continuum SAPA (à valider)",[11]Liste_1!$B:$B,0) -> 71 | P30: =MATCH("5910",[18]Liste_1!$A:$A,0)-1 -> 5 | R30: =MATCH("Continuum Jeunesse",[12]Liste_1!$B:$B,0) -> 28 | S30: =MATCH("Continuum SAPA (à valider)",[12]Liste_1!$B:$B,0) -> 51 | T30: =MATCH("5910",[19]Liste_1!$A:$A,0)-1 -> 4 | V30: =MATCH("Continuum Jeunesse",[13]Liste_1!$B:$B,0) -> 46 | W30: =MATCH("Continuum SAPA (à valider)",[13]Liste_1!$B:$B,0) -> 78 | X30: =MATCH("5910",[20]Liste_1!$A:$A,0)-1 -> 5 | Z30: =MATCH("Continuum Jeunesse",[14]Liste_1!$B:$B,0) -> 36 | AA30: =MATCH("Continuum SAPA (à valider)",[14]Liste_1!$B:$B,0) -> 67 | AB30: =MATCH("5910",[21]Liste_1!$A:$A,0)-1 -> 5

Sheet % <30 jours
F2: FICHE SYNTHÈSE - CONTINUUM JEUNESSE SERVICES SPÉCIFIQUES (1re LIGNE)
A8: =CONCATENATE("PORTRAIT DES USAGERS PRIS EN CHARGE PAR UN INTERVENANT - ANNÉE 2024-2025, PÉRIODES 1 À ",Paramètre!B2," (CUMULATIF)") -> PORTRAIT DES USAGERS PRIS EN CHARGE PAR UN INTERVENANT - ANNÉE 2024-2025, PÉRIODES 1 À 1 (CUMULATIF)
A10: Sous-programme | C10: AL | D10: ARG | E10: SOM | F10: LDDM | G10: PDH | H10: STJ | I10: TDB
C11: < 30 jrs | D11: < 30 jrs | E11: < 30 jrs | F11: < 30 jrs | G11: < 30 jrs | H11: < 30 jrs | I11: < 30 jrs
B12: JED Interv. brève
B13: Dépistage Agir tôt
B14: Intervention précoce individue
B15: Interv précoce surveillance
B16: JED Social Obst./ Péd.
B17: Groupe Semer l'avenir
B18: JED Groupe Équipe Enfants
B19: JED Groupe Anxiété Réadap.
B20: Groupe intervention précoce
B21: JED Groupe Équipe Ado
B22: JED Groupe Anxiété-Enfants
B23: JED Groupe Anxiété-Adolescents
... B57: Note 1: Le calcul du délai de prise en charge s'effectue entre la date de première intervention sous-programme et la date d'assignation à ce même sous-programme. L'intervention doit avoir été saisie APRÈS la saisie de l'assignation au sous-programme.

Sheet Demandes
F2: FICHE SYNTHÈSE - CONTINUUM JEUNESSE SERVICES SPÉCIFIQUES (1re LIGNE)
B8: NOMBRE DE DEMANDES DE SERVICE TRAITÉES PAR LE GUICHET JEUNESSE
B9: =CONCATENATE("ANNÉE 2024-2025, PÉRIODES 1 À ",Paramètre!B2," (CUMULATIF)") -> ANNÉE 2024-2025, PÉRIODES 1 À 1 (CUMULATIF)
B12: Demandes "Acceptée" | C12: AL | D12: ARG | E12: SOM | F12: LDDM | G12: PDH | H12: STJ | I12: TDB | J12: CISSS
B13: Acceptée JED
B14: Acceptée DP
B15: Acceptée DI
B16: Acceptée Pandémie
B17: Acceptée TSA
B18: Acceptée Éval Dx Tr neurodév
B19: Acceptée SM
B20: Acceptée Priorisation SM Famille-Entourage
B21: Acceptée Sphysique
B22: Acceptée Spub
B23: Acceptée Santé gén.
B24: Acceptée Serv Psy Gén
... B34: Total de demandes "Acceptée" et "En attente de décision" (Guichet jeunesse uniquement)

Sheet Query_Demande_Objet
A1: Source.Name | B1: Sous-prog. dem. ind. desc. | C1: Nb demande / Guichet | D1: Décision | E1: Nb demandes / Guichet / Décision | F1: Objet dem. ind. code norm. | G1: Nb demande par objet | H1: Objet dem. ind. desc. | I1: Nb demande / Guichet / Objet / Décision
B2: Guichet DI-TSA-DP | H2: 200 Déficience physique
B3: Guichet DI-TSA-DP | H3: 310 Déficience intellectuelle
B4: Guichet DI-TSA-DP | H4: 320 Trouble spectre autisme
B5: Guichet DI-TSA-DP | H5: 321 Éval dx tr neurodéveloppem
B6: Guichet DI-TSA-DP | H6: 310 Déficience intellectuelle
B7: Guichet DI-TSA-DP | H7: 320 Trouble spectre autisme
B8: Guichet DI-TSA-DP | H8: 800 Jeunes en difficulté
B9: Guichet Jeunesse | H9: 150 Services de santé généraux
B10: Guichet Jeunesse | H10: 410 Services de santé mentale
B11: Guichet Jeunesse | H11: 510 Services prénataux
B12: Guichet Jeunesse | H12: 520 Soins postnataux
B13: Guichet Jeunesse | H13: 600 Dépendances
... B116: Guichet Jeunesse | H116: 800 Jeunes en difficultés

Sheet Suivi étroit
I2: FICHE SYNTHÈSE - CONTINUUM SANTÉ MENTALE, DÉPENDANCE ET SERVICES GÉNÉRAUX SERVICES SPÉCIFIQUES (1re LIGNE)
B8: PORTRAIT SUIVI ÉTROIT CRISE SUICIDAIRE PAR CA OU SCA - 2024-2025
A10: 5931 | B10: Mécanisme d'accès SMJ | C10: AL | E10: ARG | G10: SOM | I10: LDDM | K10: PDH | M10: STJ | O10: TDB | Q10: CISSS
C11: Us diff. | D11: Interv. | E11: Us diff. | F11: Interv. | G11: Us diff. | H11: Interv. | I11: Us diff. | J11: Interv. | K11: Us diff. | L11: Interv. | M11: Us diff. | N11: Interv. | O11: Us diff. | P11: Interv. | Q11: Us diff. | R11: Interv.
A12: 1 | B12: Période 1 | C12: =IF($A12<=Paramètre!$B$2,SUMIFS(SMA_Suivi_étroit[Nb usagers],SMA_Suivi_étroit[Source.Name],'Suivi étroit'!C$10,SMA_Suivi_étroit[CA/Sous-CA],'Suivi étroit'!$A$10,SMA_Suivi_étroit[Période financière],'Suivi étroit'!$A12),"") -> 0 | D12: =IF($A12<=Paramètre!$B$2,SUMIFS(SMA_Suivi_étroit[Nb interv],SMA_Suivi_étroit[Source.Name],'Suivi étroit'!C$10,SMA_Suivi_étroit[CA/Sous-CA],'Suivi étroit'!$A$10,SMA_Suivi_étroit[Période financière],'Suivi étroit'!$A12),"") -> 0 | E12: =IF($A12<=Paramètre!$B$2,SUMIFS(SMA_Suivi_étroit[Nb usagers],SMA_Suivi_étroit[Source.Name],'Suivi étroit'!E$10,SMA_Suivi_étroit[CA/Sous-CA],'Suivi étroit'!$A$10,SMA_Suivi_étroit[Période financière],'Suivi étroit'!$A12),"") -> 0 | F12: =IF($A12<=Paramètre!$B$2,SUMIFS(SMA_Suivi_étroit[Nb interv],SMA_Suivi_étroit[Source.Name],'Suivi étroit'!E$10,SMA_Suivi_étroit[CA/Sous-CA],'Suivi étroit'!$A$10,SMA_Suivi_étroit[Période financière],'Suivi étroit'!$A12),"") -> 0 | G12: =IF($A12<=Paramètre!$B$2,SUMIFS(SMA_Suivi_étroit[Nb usagers],SMA_Suivi_étroit[Source.Name],'Suivi étroit'!G$10,SMA_Suivi_étroit[CA/Sous-CA],'Suivi étroit'!$A$10,SMA_Suivi_étroit[Période financière],'Suivi étroit'!$A12),"") -> 0 | H12: =IF($A12<=Paramètre!$B$2,SUMIFS(SMA_Suivi_étroit[Nb interv],SMA_Suivi_étroit[Source.Name],'Suivi étroit'!G$10,SMA_Suivi_étroit[CA/Sous-CA],'Suivi étroit'!$A$10,SMA_Suivi_étroit[Période financière],'Suivi étroit'!$A12),"") -> 0 | I12: =IF($A12<=Paramètre!$B$2,SUMIFS(SMA_Suivi_étroit[Nb usagers],SMA_Suivi_étroit[Source.Name],'Suivi étroit'!I$10,SMA_Suivi_étroit[CA/Sous-CA],'Suivi étroit'!$A$10,SMA_Suivi_étroit[Période financière],'Suivi étroit'!$A12),"") -> 0 | J12: =IF($A12<=Paramètre!$B$2,SUMIFS(SMA_Suivi_étroit[Nb interv],SMA_Suivi_étroit[Source.Name],'Suivi étroit'!I$10,SMA_Suivi_étroit[CA/Sous-CA],'Suivi étroit'!$A$10,SMA_Suivi_étroit[Période financière],'Suivi étroit'!$A12),"") -> 0 | K12: =IF($A12<=Paramètre!$B$2,SUMIFS(SMA_Suivi_étroit[Nb usagers],SMA_Suivi_étroit[Source.Name],'Suivi étroit'!K$10,SMA_Suivi_étroit[CA/Sous-CA],'Suivi étroit'!$A$10,SMA_Suivi_étroit[Période financière],'Suivi étroit'!$A12),"") -> 0 | L12: =IF($A12<=Paramètre!$B$2,SUMIFS(SMA_Suivi_étroit[Nb interv],SMA_Suivi_étroit[Source.Name],'Suivi étroit'!K$10,SMA_Suivi_étroit[CA/Sous-CA],'Suivi étroit'!$A$10,SMA_Suivi_étroit[Période financière],'Suivi étroit'!$A12),"") -> 0 | M12: =IF($A12<=Paramètre!$B$2,SUMIFS(SMA_Suivi_étroit[Nb usagers],SMA_Suivi_étroit[Source.Name],'Suivi étroit'!M$10,SMA_Suivi_étroit[CA/Sous-CA],'Suivi étroit'!$A$10,SMA_Suivi_étroit[Période financière],'Suivi étroit'!$A12),"") -> 0 | N12: =IF($A12<=Paramètre!$B$2,SUMIFS(SMA_Suivi_étroit[Nb interv],SMA_Suivi_étroit[Source.Name],'Suivi étroit'!M$10,SMA_Suivi_étroit[CA/Sous-CA],'Suivi étroit'!$A$10,SMA_Suivi_étroit[Période financière],'Suivi étroit'!$A12),"") -> 0 | O12: =IF($A12<=Paramètre!$B$2,SUMIFS(SMA_Suivi_étroit[Nb usagers],SMA_Suivi_étroit[Source.Name],'Suivi étroit'!O$10,SMA_Suivi_étroit[CA/Sous-CA],'Suivi étroit'!$A$10,SMA_Suivi_étroit[Période financière],'Suivi étroit'!$A12),"") -> 0 | P12: =IF($A12<=Paramètre!$B$2,SUMIFS(SMA_Suivi_étroit[Nb interv],SMA_Suivi_étroit[Source.Name],'Suivi étroit'!O$10,SMA_Suivi_étroit[CA/Sous-CA],'Suivi étroit'!$A$10,SMA_Suivi_étroit[Période financière],'Suivi étroit'!$A12),"") -> 0 | Q12: =IF($A12<=Paramètre!$B$2,SUM(C12,E12,G12,I12,K12,M12,O12),"") -> 0 | R12: =IF($A12<=Paramètre!$B$2,SUM(D12,F12,H12,J12,L12,N12,P12),"") -> 0
A13: 2 | B13: Période 2 | C13: =IF($A13<=Paramètre!$B$2,SUMIFS(SMA_Suivi_étroit[Nb usagers],SMA_Suivi_étroit[Source.Name],'Suivi étroit'!C$10,SMA_Suivi_étroit[CA/Sous-CA],'Suivi étroit'!$A$10,SMA_Suivi_étroit[Période financière],'Suivi étroit'!$A13),"") | D13: =IF($A13<=Paramètre!$B$2,SUMIFS(SMA_Suivi_étroit[Nb interv],SMA_Suivi_étroit[Source.Name],'Suivi étroit'!C$10,SMA_Suivi_étroit[CA/Sous-CA],'Suivi étroit'!$A$10,SMA_Suivi_étroit[Période financière],'Suivi étroit'!$A13),"") | E13: =IF($A13<=Paramètre!$B$2,SUMIFS(SMA_Suivi_étroit[Nb usagers],SMA_Suivi_étroit[Source.Name],'Suivi étroit'!E$10,SMA_Suivi_étroit[CA/Sous-CA],'Suivi étroit'!$A$10,SMA_Suivi_étroit[Période financière],'Suivi étroit'!$A13),"") | F13: =IF($A13<=Paramètre!$B$2,SUMIFS(SMA_Suivi_étroit[Nb interv],SMA_Suivi_étroit[Source.Name],'Suivi étroit'!E$10,SMA_Suivi_étroit[CA/Sous-CA],'Suivi étroit'!$A$10,SMA_Suivi_étroit[Période financière],'Suivi étroit'!$A13),"") | G13: =IF($A13<=Paramètre!$B$2,SUMIFS(SMA_Suivi_étroit[Nb usagers],SMA_Suivi_étroit[Source.Name],'Suivi étroit'!G$10,SMA_Suivi_étroit[CA/Sous-CA],'Suivi étroit'!$A$10,SMA_Suivi_étroit[Période financière],'Suivi étroit'!$A13),"") | H13: =IF($A13<=Paramètre!$B$2,SUMIFS(SMA_Suivi_étroit[Nb interv],SMA_Suivi_étroit[Source.Name],'Suivi étroit'!G$10,SMA_Suivi_étroit[CA/Sous-CA],'Suivi étroit'!$A$10,SMA_Suivi_étroit[Période financière],'Suivi étroit'!$A13),"") | I13: =IF($A13<=Paramètre!$B$2,SUMIFS(SMA_Suivi_étroit[Nb usagers],SMA_Suivi_étroit[Source.Name],'Suivi étroit'!I$10,SMA_Suivi_étroit[CA/Sous-CA],'Suivi étroit'!$A$10,SMA_Suivi_étroit[Période financière],'Suivi étroit'!$A13),"") | J13: =IF($A13<=Paramètre!$B$2,SUMIFS(SMA_Suivi_étroit[Nb interv],SMA_Suivi_étroit[Source.Name],'Suivi étroit'!I$10,SMA_Suivi_étroit[CA/Sous-CA],'Suivi étroit'!$A$10,SMA_Suivi_étroit[Période financière],'Suivi étroit'!$A13),"") | K13: =IF($A13<=Paramètre!$B$2,SUMIFS(SMA_Suivi_étroit[Nb usagers],SMA_Suivi_étroit[Source.Name],'Suivi étroit'!K$10,SMA_Suivi_étroit[CA/Sous-CA],'Suivi étroit'!$A$10,SMA_Suivi_étroit[Période financière],'Suivi étroit'!$A13),"") | L13: =IF($A13<=Paramètre!$B$2,SUMIFS(SMA_Suivi_étroit[Nb interv],SMA_Suivi_étroit[Source.Name],'Suivi étroit'!K$10,SMA_Suivi_étroit[CA/Sous-CA],'Suivi étroit'!$A$10,SMA_Suivi_étroit[Période financière],'Suivi étroit'!$A13),"") | M13: =IF($A13<=Paramètre!$B$2,SUMIFS(SMA_Suivi_étroit[Nb usagers],SMA_Suivi_étroit[Source.Name],'Suivi étroit'!M$10,SMA_Suivi_étroit[CA/Sous-CA],'Suivi étroit'!$A$10,SMA_Suivi_étroit[Période financière],'Suivi étroit'!$A13),"") | N13: =IF($A13<=Paramètre!$B$2,SUMIFS(SMA_Suivi_étroit[Nb interv],SMA_Suivi_étroit[Source.Name],'Suivi étroit'!M$10,SMA_Suivi_étroit[CA/Sous-CA],'Suivi étroit'!$A$10,SMA_Suivi_étroit[Période financière],'Suivi étroit'!$A13),"") | O13: =IF($A13<=Paramètre!$B$2,SUMIFS(SMA_Suivi_étroit[Nb usagers],SMA_Suivi_étroit[Source.Name],'Suivi étroit'!O$10,SMA_Suivi_étroit[CA/Sous-CA],'Suivi étroit'!$A$10,SMA_Suivi_étroit[Période financière],'Suivi étroit'!$A13),"") | P13: =IF($A13<=Paramètre!$B$2,SUMIFS(SMA_Suivi_étroit[Nb interv],SMA_Suivi_étroit[Source.Name],'Suivi étroit'!O$10,SMA_Suivi_étroit[CA/Sous-CA],'Suivi étroit'!$A$10,SMA_Suivi_étroit[Période financière],'Suivi étroit'!$A13),"") | Q13: =IF($A13<=Paramètre!$B$2,SUM(C13,E13,G13,I13,K13,M13,O13),"") | R13: =IF($A13<=Paramètre!$B$2,SUM(D13,F13,H13,J13,L13,N13,P13),"")
A14: 3 | B14: Période 3 | C14: =IF($A14<=Paramètre!$B$2,SUMIFS(SMA_Suivi_étroit[Nb usagers],SMA_Suivi_étroit[Source.Name],'Suivi étroit'!C$10,SMA_Suivi_étroit[CA/Sous-CA],'Suivi étroit'!$A$10,SMA_Suivi_étroit[Période financière],'Suivi étroit'!$A14),"") | D14: =IF($A14<=Paramètre!$B$2,SUMIFS(SMA_Suivi_étroit[Nb interv],SMA_Suivi_étroit[Source.Name],'Suivi étroit'!C$10,SMA_Suivi_étroit[CA/Sous-CA],'Suivi étroit'!$A$10,SMA_Suivi_étroit[Période financière],'Suivi étroit'!$A14),"") | E14: =IF($A14<=Paramètre!$B$2,SUMIFS(SMA_Suivi_étroit[Nb usagers],SMA_Suivi_étroit[Source.Name],'Suivi étroit'!E$10,SMA_Suivi_étroit[CA/Sous-CA],'Suivi étroit'!$A$10,SMA_Suivi_étroit[Période financière],'Suivi étroit'!$A14),"") | F14: =IF($A14<=Paramètre!$B$2,SUMIFS(SMA_Suivi_étroit[Nb interv],SMA_Suivi_étroit[Source.Name],'Suivi étroit'!E$10,SMA_Suivi_étroit[CA/Sous-CA],'Suivi étroit'!$A$10,SMA_Suivi_étroit[Période financière],'Suivi étroit'!$A14),"") | G14: =IF($A14<=Paramètre!$B$2,SUMIFS(SMA_Suivi_étroit[Nb usagers],SMA_Suivi_étroit[Source.Name],'Suivi étroit'!G$10,SMA_Suivi_étroit[CA/Sous-CA],'Suivi étroit'!$A$10,SMA_Suivi_étroit[Période financière],'Suivi étroit'!$A14),"") | H14: =IF($A14<=Paramètre!$B$2,SUMIFS(SMA_Suivi_étroit[Nb interv],SMA_Suivi_étroit[Source.Name],'Suivi étroit'!G$10,SMA_Suivi_étroit[CA/Sous-CA],'Suivi étroit'!$A$10,SMA_Suivi_étroit[Période financière],'Suivi étroit'!$A14),"") | I14: =IF($A14<=Paramètre!$B$2,SUMIFS(SMA_Suivi_étroit[Nb usagers],SMA_Suivi_étroit[Source.Name],'Suivi étroit'!I$10,SMA_Suivi_étroit[CA/Sous-CA],'Suivi étroit'!$A$10,SMA_Suivi_étroit[Période financière],'Suivi étroit'!$A14),"") | J14: =IF($A14<=Paramètre!$B$2,SUMIFS(SMA_Suivi_étroit[Nb interv],SMA_Suivi_étroit[Source.Name],'Suivi étroit'!I$10,SMA_Suivi_étroit[CA/Sous-CA],'Suivi étroit'!$A$10,SMA_Suivi_étroit[Période financière],'Suivi étroit'!$A14),"") | K14: =IF($A14<=Paramètre!$B$2,SUMIFS(SMA_Suivi_étroit[Nb usagers],SMA_Suivi_étroit[Source.Name],'Suivi étroit'!K$10,SMA_Suivi_étroit[CA/Sous-CA],'Suivi étroit'!$A$10,SMA_Suivi_étroit[Période financière],'Suivi étroit'!$A14),"") | L14: =IF($A14<=Paramètre!$B$2,SUMIFS(SMA_Suivi_étroit[Nb interv],SMA_Suivi_étroit[Source.Name],'Suivi étroit'!K$10,SMA_Suivi_étroit[CA/Sous-CA],'Suivi étroit'!$A$10,SMA_Suivi_étroit[Période financière],'Suivi étroit'!$A14),"") | M14: =IF($A14<=Paramètre!$B$2,SUMIFS(SMA_Suivi_étroit[Nb usagers],SMA_Suivi_étroit[Source.Name],'Suivi étroit'!M$10,SMA_Suivi_étroit[CA/Sous-CA],'Suivi étroit'!$A$10,SMA_Suivi_étroit[Période financière],'Suivi étroit'!$A14),"") | N14: =IF($A14<=Paramètre!$B$2,SUMIFS(SMA_Suivi_étroit[Nb interv],SMA_Suivi_étroit[Source.Name],'Suivi étroit'!M$10,SMA_Suivi_étroit[CA/Sous-CA],'Suivi étroit'!$A$10,SMA_Suivi_étroit[Période financière],'Suivi étroit'!$A14),"") | O14: =IF($A14<=Paramètre!$B$2,SUMIFS(SMA_Suivi_étroit[Nb usagers],SMA_Suivi_étroit[Source.Name],'Suivi étroit'!O$10,SMA_Suivi_étroit[CA/Sous-CA],'Suivi étroit'!$A$10,SMA_Suivi_étroit[Période financière],'Suivi étroit'!$A14),"") | P14: =IF($A14<=Paramètre!$B$2,SUMIFS(SMA_Suivi_étroit[Nb interv],SMA_Suivi_étroit[Source.Name],'Suivi étroit'!O$10,SMA_Suivi_étroit[CA/Sous-CA],'Suivi étroit'!$A$10,SMA_Suivi_étroit[Période financière],'Suivi étroit'!$A14),"") | Q14: =IF($A14<=Paramètre!$B$2,SUM(C14,E14,G14,I14,K14,M14,O14),"") | R14: =IF($A14<=Paramètre!$B$2,SUM(D14,F14,H14,J14,L14,N14,P14),"")
A15: 4 | B15: Période 4 | C15: =IF($A15<=Paramètre!$B$2,SUMIFS(SMA_Suivi_étroit[Nb usagers],SMA_Suivi_étroit[Source.Name],'Suivi étroit'!C$10,SMA_Suivi_étroit[CA/Sous-CA],'Suivi étroit'!$A$10,SMA_Suivi_étroit[Période financière],'Suivi étroit'!$A15),"") | D15: =IF($A15<=Paramètre!$B$2,SUMIFS(SMA_Suivi_étroit[Nb interv],SMA_Suivi_étroit[Source.Name],'Suivi étroit'!C$10,SMA_Suivi_étroit[CA/Sous-CA],'Suivi étroit'!$A$10,SMA_Suivi_étroit[Période financière],'Suivi étroit'!$A15),"") | E15: =IF($A15<=Paramètre!$B$2,SUMIFS(SMA_Suivi_étroit[Nb usagers],SMA_Suivi_étroit[Source.Name],'Suivi étroit'!E$10,SMA_Suivi_étroit[CA/Sous-CA],'Suivi étroit'!$A$10,SMA_Suivi_étroit[Période financière],'Suivi étroit'!$A15),"") | F15: =IF($A15<=Paramètre!$B$2,SUMIFS(SMA_Suivi_étroit[Nb interv],SMA_Suivi_étroit[Source.Name],'Suivi étroit'!E$10,SMA_Suivi_étroit[CA/Sous-CA],'Suivi étroit'!$A$10,SMA_Suivi_étroit[Période financière],'Suivi étroit'!$A15),"") | G15: =IF($A15<=Paramètre!$B$2,SUMIFS(SMA_Suivi_étroit[Nb usagers],SMA_Suivi_étroit[Source.Name],'Suivi étroit'!G$10,SMA_Suivi_étroit[CA/Sous-CA],'Suivi étroit'!$A$10,SMA_Suivi_étroit[Période financière],'Suivi étroit'!$A15),"") | H15: =IF($A15<=Paramètre!$B$2,SUMIFS(SMA_Suivi_étroit[Nb interv],SMA_Suivi_étroit[Source.Name],'Suivi étroit'!G$10,SMA_Suivi_étroit[CA/Sous-CA],'Suivi étroit'!$A$10,SMA_Suivi_étroit[Période financière],'Suivi étroit'!$A15),"") | I15: =IF($A15<=Paramètre!$B$2,SUMIFS(SMA_Suivi_étroit[Nb usagers],SMA_Suivi_étroit[Source.Name],'Suivi étroit'!I$10,SMA_Suivi_étroit[CA/Sous-CA],'Suivi étroit'!$A$10,SMA_Suivi_étroit[Période financière],'Suivi étroit'!$A15),"") | J15: =IF($A15<=Paramètre!$B$2,SUMIFS(SMA_Suivi_étroit[Nb interv],SMA_Suivi_étroit[Source.Name],'Suivi étroit'!I$10,SMA_Suivi_étroit[CA/Sous-CA],'Suivi étroit'!$A$10,SMA_Suivi_étroit[Période financière],'Suivi étroit'!$A15),"") | K15: =IF($A15<=Paramètre!$B$2,SUMIFS(SMA_Suivi_étroit[Nb usagers],SMA_Suivi_étroit[Source.Name],'Suivi étroit'!K$10,SMA_Suivi_étroit[CA/Sous-CA],'Suivi étroit'!$A$10,SMA_Suivi_étroit[Période financière],'Suivi étroit'!$A15),"") | L15: =IF($A15<=Paramètre!$B$2,SUMIFS(SMA_Suivi_étroit[Nb interv],SMA_Suivi_étroit[Source.Name],'Suivi étroit'!K$10,SMA_Suivi_étroit[CA/Sous-CA],'Suivi étroit'!$A$10,SMA_Suivi_étroit[Période financière],'Suivi étroit'!$A15),"") | M15: =IF($A15<=Paramètre!$B$2,SUMIFS(SMA_Suivi_étroit[Nb usagers],SMA_Suivi_étroit[Source.Name],'Suivi étroit'!M$10,SMA_Suivi_étroit[CA/Sous-CA],'Suivi étroit'!$A$10,SMA_Suivi_étroit[Période financière],'Suivi étroit'!$A15),"") | N15: =IF($A15<=Paramètre!$B$2,SUMIFS(SMA_Suivi_étroit[Nb interv],SMA_Suivi_étroit[Source.Name],'Suivi étroit'!M$10,SMA_Suivi_étroit[CA/Sous-CA],'Suivi étroit'!$A$10,SMA_Suivi_étroit[Période financière],'Suivi étroit'!$A15),"") | O15: =IF($A15<=Paramètre!$B$2,SUMIFS(SMA_Suivi_étroit[Nb usagers],SMA_Suivi_étroit[Source.Name],'Suivi étroit'!O$10,SMA_Suivi_étroit[CA/Sous-CA],'Suivi étroit'!$A$10,SMA_Suivi_étroit[Période financière],'Suivi étroit'!$A15),"") | P15: =IF($A15<=Paramètre!$B$2,SUMIFS(SMA_Suivi_étroit[Nb interv],SMA_Suivi_étroit[Source.Name],'Suivi étroit'!O$10,SMA_Suivi_étroit[CA/Sous-CA],'Suivi étroit'!$A$10,SMA_Suivi_étroit[Période financière],'Suivi étroit'!$A15),"") | Q15: =IF($A15<=Paramètre!$B$2,SUM(C15,E15,G15,I15,K15,M15,O15),"") | R15: =IF($A15<=Paramètre!$B$2,SUM(D15,F15,H15,J15,L15,N15,P15),"")
A16: 5 | B16: Période 5 | C16: =IF($A16<=Paramètre!$B$2,SUMIFS(SMA_Suivi_étroit[Nb usagers],SMA_Suivi_étroit[Source.Name],'Suivi étroit'!C$10,SMA_Suivi_étroit[CA/Sous-CA],'Suivi étroit'!$A$10,SMA_Suivi_étroit[Période financière],'Suivi étroit'!$A16),"") | D16: =IF($A16<=Paramètre!$B$2,SUMIFS(SMA_Suivi_étroit[Nb interv],SMA_Suivi_étroit[Source.Name],'Suivi étroit'!C$10,SMA_Suivi_étroit[CA/Sous-CA],'Suivi étroit'!$A$10,SMA_Suivi_étroit[Période financière],'Suivi étroit'!$A16),"") | E16: =IF($A16<=Paramètre!$B$2,SUMIFS(SMA_Suivi_étroit[Nb usagers],SMA_Suivi_étroit[Source.Name],'Suivi étroit'!E$10,SMA_Suivi_étroit[CA/Sous-CA],'Suivi étroit'!$A$10,SMA_Suivi_étroit[Période financière],'Suivi étroit'!$A16),"") | F16: =IF($A16<=Paramètre!$B$2,SUMIFS(SMA_Suivi_étroit[Nb interv],SMA_Suivi_étroit[Source.Name],'Suivi étroit'!E$10,SMA_Suivi_étroit[CA/Sous-CA],'Suivi étroit'!$A$10,SMA_Suivi_étroit[Période financière],'Suivi étroit'!$A16),"") | G16: =IF($A16<=Paramètre!$B$2,SUMIFS(SMA_Suivi_étroit[Nb usagers],SMA_Suivi_étroit[Source.Name],'Suivi étroit'!G$10,SMA_Suivi_étroit[CA/Sous-CA],'Suivi étroit'!$A$10,SMA_Suivi_étroit[Période financière],'Suivi étroit'!$A16),"") | H16: =IF($A16<=Paramètre!$B$2,SUMIFS(SMA_Suivi_étroit[Nb interv],SMA_Suivi_étroit[Source.Name],'Suivi étroit'!G$10,SMA_Suivi_étroit[CA/Sous-CA],'Suivi étroit'!$A$10,SMA_Suivi_étroit[Période financière],'Suivi étroit'!$A16),"") | I16: =IF($A16<=Paramètre!$B$2,SUMIFS(SMA_Suivi_étroit[Nb usagers],SMA_Suivi_étroit[Source.Name],'Suivi étroit'!I$10,SMA_Suivi_étroit[CA/Sous-CA],'Suivi étroit'!$A$10,SMA_Suivi_étroit[Période financière],'Suivi étroit'!$A16),"") | J16: =IF($A16<=Paramètre!$B$2,SUMIFS(SMA_Suivi_étroit[Nb interv],SMA_Suivi_étroit[Source.Name],'Suivi étroit'!I$10,SMA_Suivi_étroit[CA/Sous-CA],'Suivi étroit'!$A$10,SMA_Suivi_étroit[Période financière],'Suivi étroit'!$A16),"") | K16: =IF($A16<=Paramètre!$B$2,SUMIFS(SMA_Suivi_étroit[Nb usagers],SMA_Suivi_étroit[Source.Name],'Suivi étroit'!K$10,SMA_Suivi_étroit[CA/Sous-CA],'Suivi étroit'!$A$10,SMA_Suivi_étroit[Période financière],'Suivi étroit'!$A16),"") | L16: =IF($A16<=Paramètre!$B$2,SUMIFS(SMA_Suivi_étroit[Nb interv],SMA_Suivi_étroit[Source.Name],'Suivi étroit'!K$10,SMA_Suivi_étroit[CA/Sous-CA],'Suivi étroit'!$A$10,SMA_Suivi_étroit[Période financière],'Suivi étroit'!$A16),"") | M16: =IF($A16<=Paramètre!$B$2,SUMIFS(SMA_Suivi_étroit[Nb usagers],SMA_Suivi_étroit[Source.Name],'Suivi étroit'!M$10,SMA_Suivi_étroit[CA/Sous-CA],'Suivi étroit'!$A$10,SMA_Suivi_étroit[Période financière],'Suivi étroit'!$A16),"") | N16: =IF($A16<=Paramètre!$B$2,SUMIFS(SMA_Suivi_étroit[Nb interv],SMA_Suivi_étroit[Source.Name],'Suivi étroit'!M$10,SMA_Suivi_étroit[CA/Sous-CA],'Suivi étroit'!$A$10,SMA_Suivi_étroit[Période financière],'Suivi étroit'!$A16),"") | O16: =IF($A16<=Paramètre!$B$2,SUMIFS(SMA_Suivi_étroit[Nb usagers],SMA_Suivi_étroit[Source.Name],'Suivi étroit'!O$10,SMA_Suivi_étroit[CA/Sous-CA],'Suivi étroit'!$A$10,SMA_Suivi_étroit[Période financière],'Suivi étroit'!$A16),"") | P16: =IF($A16<=Paramètre!$B$2,SUMIFS(SMA_Suivi_étroit[Nb interv],SMA_Suivi_étroit[Source.Name],'Suivi étroit'!O$10,SMA_Suivi_étroit[CA/Sous-CA],'Suivi étroit'!$A$10,SMA_Suivi_étroit[Période financière],'Suivi étroit'!$A16),"") | Q16: =IF($A16<=Paramètre!$B$2,SUM(C16,E16,G16,I16,K16,M16,O16),"") | R16: =IF($A16<=Paramètre!$B$2,SUM(D16,F16,H16,J16,L16,N16,P16),"")
A17: 6 | B17: Période 6 | C17: =IF($A17<=Paramètre!$B$2,SUMIFS(SMA_Suivi_étroit[Nb usagers],SMA_Suivi_étroit[Source.Name],'Suivi étroit'!C$10,SMA_Suivi_étroit[CA/Sous-CA],'Suivi étroit'!$A$10,SMA_Suivi_étroit[Période financière],'Suivi étroit'!$A17),"") | D17: =IF($A17<=Paramètre!$B$2,SUMIFS(SMA_Suivi_étroit[Nb interv],SMA_Suivi_étroit[Source.Name],'Suivi étroit'!C$10,SMA_Suivi_étroit[CA/Sous-CA],'Suivi étroit'!$A$10,SMA_Suivi_étroit[Période financière],'Suivi étroit'!$A17),"") | E17: =IF($A17<=Paramètre!$B$2,SUMIFS(SMA_Suivi_étroit[Nb usagers],SMA_Suivi_étroit[Source.Name],'Suivi étroit'!E$10,SMA_Suivi_étroit[CA/Sous-CA],'Suivi étroit'!$A$10,SMA_Suivi_étroit[Période financière],'Suivi étroit'!$A17),"") | F17: =IF($A17<=Paramètre!$B$2,SUMIFS(SMA_Suivi_étroit[Nb interv],SMA_Suivi_étroit[Source.Name],'Suivi étroit'!E$10,SMA_Suivi_étroit[CA/Sous-CA],'Suivi étroit'!$A$10,SMA_Suivi_étroit[Période financière],'Suivi étroit'!$A17),"") | G17: =IF($A17<=Paramètre!$B$2,SUMIFS(SMA_Suivi_étroit[Nb usagers],SMA_Suivi_étroit[Source.Name],'Suivi étroit'!G$10,SMA_Suivi_étroit[CA/Sous-CA],'Suivi étroit'!$A$10,SMA_Suivi_étroit[Période financière],'Suivi étroit'!$A17),"") | H17: =IF($A17<=Paramètre!$B$2,SUMIFS(SMA_Suivi_étroit[Nb interv],SMA_Suivi_étroit[Source.Name],'Suivi étroit'!G$10,SMA_Suivi_étroit[CA/Sous-CA],'Suivi étroit'!$A$10,SMA_Suivi_étroit[Période financière],'Suivi étroit'!$A17),"") | I17: =IF($A17<=Paramètre!$B$2,SUMIFS(SMA_Suivi_étroit[Nb usagers],SMA_Suivi_étroit[Source.Name],'Suivi étroit'!I$10,SMA_Suivi_étroit[CA/Sous-CA],'Suivi étroit'!$A$10,SMA_Suivi_étroit[Période financière],'Suivi étroit'!$A17),"") | J17: =IF($A17<=Paramètre!$B$2,SUMIFS(SMA_Suivi_étroit[Nb interv],SMA_Suivi_étroit[Source.Name],'Suivi étroit'!I$10,SMA_Suivi_étroit[CA/Sous-CA],'Suivi étroit'!$A$10,SMA_Suivi_étroit[Période financière],'Suivi étroit'!$A17),"") | K17: =IF($A17<=Paramètre!$B$2,SUMIFS(SMA_Suivi_étroit[Nb usagers],SMA_Suivi_étroit[Source.Name],'Suivi étroit'!K$10,SMA_Suivi_étroit[CA/Sous-CA],'Suivi étroit'!$A$10,SMA_Suivi_étroit[Période financière],'Suivi étroit'!$A17),"") | L17: =IF($A17<=Paramètre!$B$2,SUMIFS(SMA_Suivi_étroit[Nb interv],SMA_Suivi_étroit[Source.Name],'Suivi étroit'!K$10,SMA_Suivi_étroit[CA/Sous-CA],'Suivi étroit'!$A$10,SMA_Suivi_étroit[Période financière],'Suivi étroit'!$A17),"") | M17: =IF($A17<=Paramètre!$B$2,SUMIFS(SMA_Suivi_étroit[Nb usagers],SMA_Suivi_étroit[Source.Name],'Suivi étroit'!M$10,SMA_Suivi_étroit[CA/Sous-CA],'Suivi étroit'!$A$10,SMA_Suivi_étroit[Période financière],'Suivi étroit'!$A17),"") | N17: =IF($A17<=Paramètre!$B$2,SUMIFS(SMA_Suivi_étroit[Nb interv],SMA_Suivi_étroit[Source.Name],'Suivi étroit'!M$10,SMA_Suivi_étroit[CA/Sous-CA],'Suivi étroit'!$A$10,SMA_Suivi_étroit[Période financière],'Suivi étroit'!$A17),"") | O17: =IF($A17<=Paramètre!$B$2,SUMIFS(SMA_Suivi_étroit[Nb usagers],SMA_Suivi_étroit[Source.Name],'Suivi étroit'!O$10,SMA_Suivi_étroit[CA/Sous-CA],'Suivi étroit'!$A$10,SMA_Suivi_étroit[Période financière],'Suivi étroit'!$A17),"") | P17: =IF($A17<=Paramètre!$B$2,SUMIFS(SMA_Suivi_étroit[Nb interv],SMA_Suivi_étroit[Source.Name],'Suivi étroit'!O$10,SMA_Suivi_étroit[CA/Sous-CA],'Suivi étroit'!$A$10,SMA_Suivi_étroit[Période financière],'Suivi étroit'!$A17),"") | Q17: =IF($A17<=Paramètre!$B$2,SUM(C17,E17,G17,I17,K17,M17,O17),"") | R17: =IF($A17<=Paramètre!$B$2,SUM(D17,F17,H17,J17,L17,N17,P17),"")
A18: 7 | B18: Période 7 | C18: =IF($A18<=Paramètre!$B$2,SUMIFS(SMA_Suivi_étroit[Nb usagers],SMA_Suivi_étroit[Source.Name],'Suivi étroit'!C$10,SMA_Suivi_étroit[CA/Sous-CA],'Suivi étroit'!$A$10,SMA_Suivi_étroit[Période financière],'Suivi étroit'!$A18),"") | D18: =IF($A18<=Paramètre!$B$2,SUMIFS(SMA_Suivi_étroit[Nb interv],SMA_Suivi_étroit[Source.Name],'Suivi étroit'!C$10,SMA_Suivi_étroit[CA/Sous-CA],'Suivi étroit'!$A$10,SMA_Suivi_étroit[Période financière],'Suivi étroit'!$A18),"") | E18: =IF($A18<=Paramètre!$B$2,SUMIFS(SMA_Suivi_étroit[Nb usagers],SMA_Suivi_étroit[Source.Name],'Suivi étroit'!E$10,SMA_Suivi_étroit[CA/Sous-CA],'Suivi étroit'!$A$10,SMA_Suivi_étroit[Période financière],'Suivi étroit'!$A18),"") | F18: =IF($A18<=Paramètre!$B$2,SUMIFS(SMA_Suivi_étroit[Nb interv],SMA_Suivi_étroit[Source.Name],'Suivi étroit'!E$10,SMA_Suivi_étroit[CA/Sous-CA],'Suivi étroit'!$A$10,SMA_Suivi_étroit[Période financière],'Suivi étroit'!$A18),"") | G18: =IF($A18<=Paramètre!$B$2,SUMIFS(SMA_Suivi_étroit[Nb usagers],SMA_Suivi_étroit[Source.Name],'Suivi étroit'!G$10,SMA_Suivi_étroit[CA/Sous-CA],'Suivi étroit'!$A$10,SMA_Suivi_étroit[Période financière],'Suivi étroit'!$A18),"") | H18: =IF($A18<=Paramètre!$B$2,SUMIFS(SMA_Suivi_étroit[Nb interv],SMA_Suivi_étroit[Source.Name],'Suivi étroit'!G$10,SMA_Suivi_étroit[CA/Sous-CA],'Suivi étroit'!$A$10,SMA_Suivi_étroit[Période financière],'Suivi étroit'!$A18),"") | I18: =IF($A18<=Paramètre!$B$2,SUMIFS(SMA_Suivi_étroit[Nb usagers],SMA_Suivi_étroit[Source.Name],'Suivi étroit'!I$10,SMA_Suivi_étroit[CA/Sous-CA],'Suivi étroit'!$A$10,SMA_Suivi_étroit[Période financière],'Suivi étroit'!$A18),"") | J18: =IF($A18<=Paramètre!$B$2,SUMIFS(SMA_Suivi_étroit[Nb interv],SMA_Suivi_étroit[Source.Name],'Suivi étroit'!I$10,SMA_Suivi_étroit[CA/Sous-CA],'Suivi étroit'!$A$10,SMA_Suivi_étroit[Période financière],'Suivi étroit'!$A18),"") | K18: =IF($A18<=Paramètre!$B$2,SUMIFS(SMA_Suivi_étroit[Nb usagers],SMA_Suivi_étroit[Source.Name],'Suivi étroit'!K$10,SMA_Suivi_étroit[CA/Sous-CA],'Suivi étroit'!$A$10,SMA_Suivi_étroit[Période financière],'Suivi étroit'!$A18),"") | L18: =IF($A18<=Paramètre!$B$2,SUMIFS(SMA_Suivi_étroit[Nb interv],SMA_Suivi_étroit[Source.Name],'Suivi étroit'!K$10,SMA_Suivi_étroit[CA/Sous-CA],'Suivi étroit'!$A$10,SMA_Suivi_étroit[Période financière],'Suivi étroit'!$A18),"") | M18: =IF($A18<=Paramètre!$B$2,SUMIFS(SMA_Suivi_étroit[Nb usagers],SMA_Suivi_étroit[Source.Name],'Suivi étroit'!M$10,SMA_Suivi_étroit[CA/Sous-CA],'Suivi étroit'!$A$10,SMA_Suivi_étroit[Période financière],'Suivi étroit'!$A18),"") | N18: =IF($A18<=Paramètre!$B$2,SUMIFS(SMA_Suivi_étroit[Nb interv],SMA_Suivi_étroit[Source.Name],'Suivi étroit'!M$10,SMA_Suivi_étroit[CA/Sous-CA],'Suivi étroit'!$A$10,SMA_Suivi_étroit[Période financière],'Suivi étroit'!$A18),"") | O18: =IF($A18<=Paramètre!$B$2,SUMIFS(SMA_Suivi_étroit[Nb usagers],SMA_Suivi_étroit[Source.Name],'Suivi étroit'!O$10,SMA_Suivi_étroit[CA/Sous-CA],'Suivi étroit'!$A$10,SMA_Suivi_étroit[Période financière],'Suivi étroit'!$A18),"") | P18: =IF($A18<=Paramètre!$B$2,SUMIFS(SMA_Suivi_étroit[Nb interv],SMA_Suivi_étroit[Source.Name],'Suivi étroit'!O$10,SMA_Suivi_étroit[CA/Sous-CA],'Suivi étroit'!$A$10,SMA_Suivi_étroit[Période financière],'Suivi étroit'!$A18),"") | Q18: =IF($A18<=Paramètre!$B$2,SUM(C18,E18,G18,I18,K18,M18,O18),"") | R18: =IF($A18<=Paramètre!$B$2,SUM(D18,F18,H18,J18,L18,N18,P18),"")
A19: 8 | B19: Période 8 | C19: =IF($A19<=Paramètre!$B$2,SUMIFS(SMA_Suivi_étroit[Nb usagers],SMA_Suivi_étroit[Source.Name],'Suivi étroit'!C$10,SMA_Suivi_étroit[CA/Sous-CA],'Suivi étroit'!$A$10,SMA_Suivi_étroit[Période financière],'Suivi étroit'!$A19),"") | D19: =IF($A19<=Paramètre!$B$2,SUMIFS(SMA_Suivi_étroit[Nb interv],SMA_Suivi_étroit[Source.Name],'Suivi étroit'!C$10,SMA_Suivi_étroit[CA/Sous-CA],'Suivi étroit'!$A$10,SMA_Suivi_étroit[Période financière],'Suivi étroit'!$A19),"") | E19: =IF($A19<=Paramètre!$B$2,SUMIFS(SMA_Suivi_étroit[Nb usagers],SMA_Suivi_étroit[Source.Name],'Suivi étroit'!E$10,SMA_Suivi_étroit[CA/Sous-CA],'Suivi étroit'!$A$10,SMA_Suivi_étroit[Période financière],'Suivi étroit'!$A19),"") | F19: =IF($A19<=Paramètre!$B$2,SUMIFS(SMA_Suivi_étroit[Nb interv],SMA_Suivi_étroit[Source.Name],'Suivi étroit'!E$10,SMA_Suivi_étroit[CA/Sous-CA],'Suivi étroit'!$A$10,SMA_Suivi_étroit[Période financière],'Suivi étroit'!$A19),"") | G19: =IF($A19<=Paramètre!$B$2,SUMIFS(SMA_Suivi_étroit[Nb usagers],SMA_Suivi_étroit[Source.Name],'Suivi étroit'!G$10,SMA_Suivi_étroit[CA/Sous-CA],'Suivi étroit'!$A$10,SMA_Suivi_étroit[Période financière],'Suivi étroit'!$A19),"") | H19: =IF($A19<=Paramètre!$B$2,SUMIFS(SMA_Suivi_étroit[Nb interv],SMA_Suivi_étroit[Source.Name],'Suivi étroit'!G$10,SMA_Suivi_étroit[CA/Sous-CA],'Suivi étroit'!$A$10,SMA_Suivi_étroit[Période financière],'Suivi étroit'!$A19),"") | I19: =IF($A19<=Paramètre!$B$2,SUMIFS(SMA_Suivi_étroit[Nb usagers],SMA_Suivi_étroit[Source.Name],'Suivi étroit'!I$10,SMA_Suivi_étroit[CA/Sous-CA],'Suivi étroit'!$A$10,SMA_Suivi_étroit[Période financière],'Suivi étroit'!$A19),"") | J19: =IF($A19<=Paramètre!$B$2,SUMIFS(SMA_Suivi_étroit[Nb interv],SMA_Suivi_étroit[Source.Name],'Suivi étroit'!I$10,SMA_Suivi_étroit[CA/Sous-CA],'Suivi étroit'!$A$10,SMA_Suivi_étroit[Période financière],'Suivi étroit'!$A19),"") | K19: =IF($A19<=Paramètre!$B$2,SUMIFS(SMA_Suivi_étroit[Nb usagers],SMA_Suivi_étroit[Source.Name],'Suivi étroit'!K$10,SMA_Suivi_étroit[CA/Sous-CA],'Suivi étroit'!$A$10,SMA_Suivi_étroit[Période financière],'Suivi étroit'!$A19),"") | L19: =IF($A19<=Paramètre!$B$2,SUMIFS(SMA_Suivi_étroit[Nb interv],SMA_Suivi_étroit[Source.Name],'Suivi étroit'!K$10,SMA_Suivi_étroit[CA/Sous-CA],'Suivi étroit'!$A$10,SMA_Suivi_étroit[Période financière],'Suivi étroit'!$A19),"") | M19: =IF($A19<=Paramètre!$B$2,SUMIFS(SMA_Suivi_étroit[Nb usagers],SMA_Suivi_étroit[Source.Name],'Suivi étroit'!M$10,SMA_Suivi_étroit[CA/Sous-CA],'Suivi étroit'!$A$10,SMA_Suivi_étroit[Période financière],'Suivi étroit'!$A19),"") | N19: =IF($A19<=Paramètre!$B$2,SUMIFS(SMA_Suivi_étroit[Nb interv],SMA_Suivi_étroit[Source.Name],'Suivi étroit'!M$10,SMA_Suivi_étroit[CA/Sous-CA],'Suivi étroit'!$A$10,SMA_Suivi_étroit[Période financière],'Suivi étroit'!$A19),"") | O19: =IF($A19<=Paramètre!$B$2,SUMIFS(SMA_Suivi_étroit[Nb usagers],SMA_Suivi_étroit[Source.Name],'Suivi étroit'!O$10,SMA_Suivi_étroit[CA/Sous-CA],'Suivi étroit'!$A$10,SMA_Suivi_étroit[Période financière],'Suivi étroit'!$A19),"") | P19: =IF($A19<=Paramètre!$B$2,SUMIFS(SMA_Suivi_étroit[Nb interv],SMA_Suivi_étroit[Source.Name],'Suivi étroit'!O$10,SMA_Suivi_étroit[CA/Sous-CA],'Suivi étroit'!$A$10,SMA_Suivi_étroit[Période financière],'Suivi étroit'!$A19),"") | Q19: =IF($A19<=Paramètre!$B$2,SUM(C19,E19,G19,I19,K19,M19,O19),"") | R19: =IF($A19<=Paramètre!$B$2,SUM(D19,F19,H19,J19,L19,N19,P19),"")
A20: 9 | B20: Période 9 | C20: =IF($A20<=Paramètre!$B$2,SUMIFS(SMA_Suivi_étroit[Nb usagers],SMA_Suivi_étroit[Source.Name],'Suivi étroit'!C$10,SMA_Suivi_étroit[CA/Sous-CA],'Suivi étroit'!$A$10,SMA_Suivi_étroit[Période financière],'Suivi étroit'!$A20),"") | D20: =IF($A20<=Paramètre!$B$2,SUMIFS(SMA_Suivi_étroit[Nb interv],SMA_Suivi_étroit[Source.Name],'Suivi étroit'!C$10,SMA_Suivi_étroit[CA/Sous-CA],'Suivi étroit'!$A$10,SMA_Suivi_étroit[Période financière],'Suivi étroit'!$A20),"") | E20: =IF($A20<=Paramètre!$B$2,SUMIFS(SMA_Suivi_étroit[Nb usagers],SMA_Suivi_étroit[Source.Name],'Suivi étroit'!E$10,SMA_Suivi_étroit[CA/Sous-CA],'Suivi étroit'!$A$10,SMA_Suivi_étroit[Période financière],'Suivi étroit'!$A20),"") | F20: =IF($A20<=Paramètre!$B$2,SUMIFS(SMA_Suivi_étroit[Nb interv],SMA_Suivi_étroit[Source.Name],'Suivi étroit'!E$10,SMA_Suivi_étroit[CA/Sous-CA],'Suivi étroit'!$A$10,SMA_Suivi_étroit[Période financière],'Suivi étroit'!$A20),"") | G20: =IF($A20<=Paramètre!$B$2,SUMIFS(SMA_Suivi_étroit[Nb usagers],SMA_Suivi_étroit[Source.Name],'Suivi étroit'!G$10,SMA_Suivi_étroit[CA/Sous-CA],'Suivi étroit'!$A$10,SMA_Suivi_étroit[Période financière],'Suivi étroit'!$A20),"") | H20: =IF($A20<=Paramètre!$B$2,SUMIFS(SMA_Suivi_étroit[Nb interv],SMA_Suivi_étroit[Source.Name],'Suivi étroit'!G$10,SMA_Suivi_étroit[CA/Sous-CA],'Suivi étroit'!$A$10,SMA_Suivi_étroit[Période financière],'Suivi étroit'!$A20),"") | I20: =IF($A20<=Paramètre!$B$2,SUMIFS(SMA_Suivi_étroit[Nb usagers],SMA_Suivi_étroit[Source.Name],'Suivi étroit'!I$10,SMA_Suivi_étroit[CA/Sous-CA],'Suivi étroit'!$A$10,SMA_Suivi_étroit[Période financière],'Suivi étroit'!$A20),"") | J20: =IF($A20<=Paramètre!$B$2,SUMIFS(SMA_Suivi_étroit[Nb interv],SMA_Suivi_étroit[Source.Name],'Suivi étroit'!I$10,SMA_Suivi_étroit[CA/Sous-CA],'Suivi étroit'!$A$10,SMA_Suivi_étroit[Période financière],'Suivi étroit'!$A20),"") | K20: =IF($A20<=Paramètre!$B$2,SUMIFS(SMA_Suivi_étroit[Nb usagers],SMA_Suivi_étroit[Source.Name],'Suivi étroit'!K$10,SMA_Suivi_étroit[CA/Sous-CA],'Suivi étroit'!$A$10,SMA_Suivi_étroit[Période financière],'Suivi étroit'!$A20),"") | L20: =IF($A20<=Paramètre!$B$2,SUMIFS(SMA_Suivi_étroit[Nb interv],SMA_Suivi_étroit[Source.Name],'Suivi étroit'!K$10,SMA_Suivi_étroit[CA/Sous-CA],'Suivi étroit'!$A$10,SMA_Suivi_étroit[Période financière],'Suivi étroit'!$A20),"") | M20: =IF($A20<=Paramètre!$B$2,SUMIFS(SMA_Suivi_étroit[Nb usagers],SMA_Suivi_étroit[Source.Name],'Suivi étroit'!M$10,SMA_Suivi_étroit[CA/Sous-CA],'Suivi étroit'!$A$10,SMA_Suivi_étroit[Période financière],'Suivi étroit'!$A20),"") | N20: =IF($A20<=Paramètre!$B$2,SUMIFS(SMA_Suivi_étroit[Nb interv],SMA_Suivi_étroit[Source.Name],'Suivi étroit'!M$10,SMA_Suivi_étroit[CA/Sous-CA],'Suivi étroit'!$A$10,SMA_Suivi_étroit[Période financière],'Suivi étroit'!$A20),"") | O20: =IF($A20<=Paramètre!$B$2,SUMIFS(SMA_Suivi_étroit[Nb usagers],SMA_Suivi_étroit[Source.Name],'Suivi étroit'!O$10,SMA_Suivi_étroit[CA/Sous-CA],'Suivi étroit'!$A$10,SMA_Suivi_étroit[Période financière],'Suivi étroit'!$A20),"") | P20: =IF($A20<=Paramètre!$B$2,SUMIFS(SMA_Suivi_étroit[Nb interv],SMA_Suivi_étroit[Source.Name],'Suivi étroit'!O$10,SMA_Suivi_étroit[CA/Sous-CA],'Suivi étroit'!$A$10,SMA_Suivi_étroit[Période financière],'Suivi étroit'!$A20),"") | Q20: =IF($A20<=Paramètre!$B$2,SUM(C20,E20,G20,I20,K20,M20,O20),"") | R20: =IF($A20<=Paramètre!$B$2,SUM(D20,F20,H20,J20,L20,N20,P20),"")
A21: 10 | B21: Période 10 | C21: =IF($A21<=Paramètre!$B$2,SUMIFS(SMA_Suivi_étroit[Nb usagers],SMA_Suivi_étroit[Source.Name],'Suivi étroit'!C$10,SMA_Suivi_étroit[CA/Sous-CA],'Suivi étroit'!$A$10,SMA_Suivi_étroit[Période financière],'Suivi étroit'!$A21),"") | D21: =IF($A21<=Paramètre!$B$2,SUMIFS(SMA_Suivi_étroit[Nb interv],SMA_Suivi_étroit[Source.Name],'Suivi étroit'!C$10,SMA_Suivi_étroit[CA/Sous-CA],'Suivi étroit'!$A$10,SMA_Suivi_étroit[Période financière],'Suivi étroit'!$A21),"") | E21: =IF($A21<=Paramètre!$B$2,SUMIFS(SMA_Suivi_étroit[Nb usagers],SMA_Suivi_étroit[Source.Name],'Suivi étroit'!E$10,SMA_Suivi_étroit[CA/Sous-CA],'Suivi étroit'!$A$10,SMA_Suivi_étroit[Période financière],'Suivi étroit'!$A21),"") | F21: =IF($A21<=Paramètre!$B$2,SUMIFS(SMA_Suivi_étroit[Nb interv],SMA_Suivi_étroit[Source.Name],'Suivi étroit'!E$10,SMA_Suivi_étroit[CA/Sous-CA],'Suivi étroit'!$A$10,SMA_Suivi_étroit[Période financière],'Suivi étroit'!$A21),"") | G21: =IF($A21<=Paramètre!$B$2,SUMIFS(SMA_Suivi_étroit[Nb usagers],SMA_Suivi_étroit[Source.Name],'Suivi étroit'!G$10,SMA_Suivi_étroit[CA/Sous-CA],'Suivi étroit'!$A$10,SMA_Suivi_étroit[Période financière],'Suivi étroit'!$A21),"") | H21: =IF($A21<=Paramètre!$B$2,SUMIFS(SMA_Suivi_étroit[Nb interv],SMA_Suivi_étroit[Source.Name],'Suivi étroit'!G$10,SMA_Suivi_étroit[CA/Sous-CA],'Suivi étroit'!$A$10,SMA_Suivi_étroit[Période financière],'Suivi étroit'!$A21),"") | I21: =IF($A21<=Paramètre!$B$2,SUMIFS(SMA_Suivi_étroit[Nb usagers],SMA_Suivi_étroit[Source.Name],'Suivi étroit'!I$10,SMA_Suivi_étroit[CA/Sous-CA],'Suivi étroit'!$A$10,SMA_Suivi_étroit[Période financière],'Suivi étroit'!$A21),"") | J21: =IF($A21<=Paramètre!$B$2,SUMIFS(SMA_Suivi_étroit[Nb interv],SMA_Suivi_étroit[Source.Name],'Suivi étroit'!I$10,SMA_Suivi_étroit[CA/Sous-CA],'Suivi étroit'!$A$10,SMA_Suivi_étroit[Période financière],'Suivi étroit'!$A21),"") | K21: =IF($A21<=Paramètre!$B$2,SUMIFS(SMA_Suivi_étroit[Nb usagers],SMA_Suivi_étroit[Source.Name],'Suivi étroit'!K$10,SMA_Suivi_étroit[CA/Sous-CA],'Suivi étroit'!$A$10,SMA_Suivi_étroit[Période financière],'Suivi étroit'!$A21),"") | L21: =IF($A21<=Paramètre!$B$2,SUMIFS(SMA_Suivi_étroit[Nb interv],SMA_Suivi_étroit[Source.Name],'Suivi étroit'!K$10,SMA_Suivi_étroit[CA/Sous-CA],'Suivi étroit'!$A$10,SMA_Suivi_étroit[Période financière],'Suivi étroit'!$A21),"") | M21: =IF($A21<=Paramètre!$B$2,SUMIFS(SMA_Suivi_étroit[Nb usagers],SMA_Suivi_étroit[Source.Name],'Suivi étroit'!M$10,SMA_Suivi_étroit[CA/Sous-CA],'Suivi étroit'!$A$10,SMA_Suivi_étroit[Période financière],'Suivi étroit'!$A21),"") | N21: =IF($A21<=Paramètre!$B$2,SUMIFS(SMA_Suivi_étroit[Nb interv],SMA_Suivi_étroit[Source.Name],'Suivi étroit'!M$10,SMA_Suivi_étroit[CA/Sous-CA],'Suivi étroit'!$A$10,SMA_Suivi_étroit[Période financière],'Suivi étroit'!$A21),"") | O21: =IF($A21<=Paramètre!$B$2,SUMIFS(SMA_Suivi_étroit[Nb usagers],SMA_Suivi_étroit[Source.Name],'Suivi étroit'!O$10,SMA_Suivi_étroit[CA/Sous-CA],'Suivi étroit'!$A$10,SMA_Suivi_étroit[Période financière],'Suivi étroit'!$A21),"") | P21: =IF($A21<=Paramètre!$B$2,SUMIFS(SMA_Suivi_étroit[Nb interv],SMA_Suivi_étroit[Source.Name],'Suivi étroit'!O$10,SMA_Suivi_étroit[CA/Sous-CA],'Suivi étroit'!$A$10,SMA_Suivi_étroit[Période financière],'Suivi étroit'!$A21),"") | Q21: =IF($A21<=Paramètre!$B$2,SUM(C21,E21,G21,I21,K21,M21,O21),"") | R21: =IF($A21<=Paramètre!$B$2,SUM(D21,F21,H21,J21,L21,N21,P21),"")
A22: 11 | B22: Période 11 | C22: =IF($A22<=Paramètre!$B$2,SUMIFS(SMA_Suivi_étroit[Nb usagers],SMA_Suivi_étroit[Source.Name],'Suivi étroit'!C$10,SMA_Suivi_étroit[CA/Sous-CA],'Suivi étroit'!$A$10,SMA_Suivi_étroit[Période financière],'Suivi étroit'!$A22),"") | D22: =IF($A22<=Paramètre!$B$2,SUMIFS(SMA_Suivi_étroit[Nb interv],SMA_Suivi_étroit[Source.Name],'Suivi étroit'!C$10,SMA_Suivi_étroit[CA/Sous-CA],'Suivi étroit'!$A$10,SMA_Suivi_étroit[Période financière],'Suivi étroit'!$A22),"") | E22: =IF($A22<=Paramètre!$B$2,SUMIFS(SMA_Suivi_étroit[Nb usagers],SMA_Suivi_étroit[Source.Name],'Suivi étroit'!E$10,SMA_Suivi_étroit[CA/Sous-CA],'Suivi étroit'!$A$10,SMA_Suivi_étroit[Période financière],'Suivi étroit'!$A22),"") | F22: =IF($A22<=Paramètre!$B$2,SUMIFS(SMA_Suivi_étroit[Nb interv],SMA_Suivi_étroit[Source.Name],'Suivi étroit'!E$10,SMA_Suivi_étroit[CA/Sous-CA],'Suivi étroit'!$A$10,SMA_Suivi_étroit[Période financière],'Suivi étroit'!$A22),"") | G22: =IF($A22<=Paramètre!$B$2,SUMIFS(SMA_Suivi_étroit[Nb usagers],SMA_Suivi_étroit[Source.Name],'Suivi étroit'!G$10,SMA_Suivi_étroit[CA/Sous-CA],'Suivi étroit'!$A$10,SMA_Suivi_étroit[Période financière],'Suivi étroit'!$A22),"") | H22: =IF($A22<=Paramètre!$B$2,SUMIFS(SMA_Suivi_étroit[Nb interv],SMA_Suivi_étroit[Source.Name],'Suivi étroit'!G$10,SMA_Suivi_étroit[CA/Sous-CA],'Suivi étroit'!$A$10,SMA_Suivi_étroit[Période financière],'Suivi étroit'!$A22),"") | I22: =IF($A22<=Paramètre!$B$2,SUMIFS(SMA_Suivi_étroit[Nb usagers],SMA_Suivi_étroit[Source.Name],'Suivi étroit'!I$10,SMA_Suivi_étroit[CA/Sous-CA],'Suivi étroit'!$A$10,SMA_Suivi_étroit[Période financière],'Suivi étroit'!$A22),"") | J22: =IF($A22<=Paramètre!$B$2,SUMIFS(SMA_Suivi_étroit[Nb interv],SMA_Suivi_étroit[Source.Name],'Suivi étroit'!I$10,SMA_Suivi_étroit[CA/Sous-CA],'Suivi étroit'!$A$10,SMA_Suivi_étroit[Période financière],'Suivi étroit'!$A22),"") | K22: =IF($A22<=Paramètre!$B$2,SUMIFS(SMA_Suivi_étroit[Nb usagers],SMA_Suivi_étroit[Source.Name],'Suivi étroit'!K$10,SMA_Suivi_étroit[CA/Sous-CA],'Suivi étroit'!$A$10,SMA_Suivi_étroit[Période financière],'Suivi étroit'!$A22),"") | L22: =IF($A22<=Paramètre!$B$2,SUMIFS(SMA_Suivi_étroit[Nb interv],SMA_Suivi_étroit[Source.Name],'Suivi étroit'!K$10,SMA_Suivi_étroit[CA/Sous-CA],'Suivi étroit'!$A$10,SMA_Suivi_étroit[Période financière],'Suivi étroit'!$A22),"") | M22: =IF($A22<=Paramètre!$B$2,SUMIFS(SMA_Suivi_étroit[Nb usagers],SMA_Suivi_étroit[Source.Name],'Suivi étroit'!M$10,SMA_Suivi_étroit[CA/Sous-CA],'Suivi étroit'!$A$10,SMA_Suivi_étroit[Période financière],'Suivi étroit'!$A22),"") | N22: =IF($A22<=Paramètre!$B$2,SUMIFS(SMA_Suivi_étroit[Nb interv],SMA_Suivi_étroit[Source.Name],'Suivi étroit'!M$10,SMA_Suivi_étroit[CA/Sous-CA],'Suivi étroit'!$A$10,SMA_Suivi_étroit[Période financière],'Suivi étroit'!$A22),"") | O22: =IF($A22<=Paramètre!$B$2,SUMIFS(SMA_Suivi_étroit[Nb usagers],SMA_Suivi_étroit[Source.Name],'Suivi étroit'!O$10,SMA_Suivi_étroit[CA/Sous-CA],'Suivi étroit'!$A$10,SMA_Suivi_étroit[Période financière],'Suivi étroit'!$A22),"") | P22: =IF($A22<=Paramètre!$B$2,SUMIFS(SMA_Suivi_étroit[Nb interv],SMA_Suivi_étroit[Source.Name],'Suivi étroit'!O$10,SMA_Suivi_étroit[CA/Sous-CA],'Suivi étroit'!$A$10,SMA_Suivi_étroit[Période financière],'Suivi étroit'!$A22),"") | Q22: =IF($A22<=Paramètre!$B$2,SUM(C22,E22,G22,I22,K22,M22,O22),"") | R22: =IF($A22<=Paramètre!$B$2,SUM(D22,F22,H22,J22,L22,N22,P22),"")
A23: 12 | B23: Période 12 | C23: =IF($A23<=Paramètre!$B$2,SUMIFS(SMA_Suivi_étroit[Nb usagers],SMA_Suivi_étroit[Source.Name],'Suivi étroit'!C$10,SMA_Suivi_étroit[CA/Sous-CA],'Suivi étroit'!$A$10,SMA_Suivi_étroit[Période financière],'Suivi étroit'!$A23),"") | D23: =IF($A23<=Paramètre!$B$2,SUMIFS(SMA_Suivi_étroit[Nb interv],SMA_Suivi_étroit[Source.Name],'Suivi étroit'!C$10,SMA_Suivi_étroit[CA/Sous-CA],'Suivi étroit'!$A$10,SMA_Suivi_étroit[Période financière],'Suivi étroit'!$A23),"") | E23: =IF($A23<=Paramètre!$B$2,SUMIFS(SMA_Suivi_étroit[Nb usagers],SMA_Suivi_étroit[Source.Name],'Suivi étroit'!E$10,SMA_Suivi_étroit[CA/Sous-CA],'Suivi étroit'!$A$10,SMA_Suivi_étroit[Période financière],'Suivi étroit'!$A23),"") | F23: =IF($A23<=Paramètre!$B$2,SUMIFS(SMA_Suivi_étroit[Nb interv],SMA_Suivi_étroit[Source.Name],'Suivi étroit'!E$10,SMA_Suivi_étroit[CA/Sous-CA],'Suivi étroit'!$A$10,SMA_Suivi_étroit[Période financière],'Suivi étroit'!$A23),"") | G23: =IF($A23<=Paramètre!$B$2,SUMIFS(SMA_Suivi_étroit[Nb usagers],SMA_Suivi_étroit[Source.Name],'Suivi étroit'!G$10,SMA_Suivi_étroit[CA/Sous-CA],'Suivi étroit'!$A$10,SMA_Suivi_étroit[Période financière],'Suivi étroit'!$A23),"") | H23: =IF($A23<=Paramètre!$B$2,SUMIFS(SMA_Suivi_étroit[Nb interv],SMA_Suivi_étroit[Source.Name],'Suivi étroit'!G$10,SMA_Suivi_étroit[CA/Sous-CA],'Suivi étroit'!$A$10,SMA_Suivi_étroit[Période financière],'Suivi étroit'!$A23),"") | I23: =IF($A23<=Paramètre!$B$2,SUMIFS(SMA_Suivi_étroit[Nb usagers],SMA_Suivi_étroit[Source.Name],'Suivi étroit'!I$10,SMA_Suivi_étroit[CA/Sous-CA],'Suivi étroit'!$A$10,SMA_Suivi_étroit[Période financière],'Suivi étroit'!$A23),"") | J23: =IF($A23<=Paramètre!$B$2,SUMIFS(SMA_Suivi_étroit[Nb interv],SMA_Suivi_étroit[Source.Name],'Suivi étroit'!I$10,SMA_Suivi_étroit[CA/Sous-CA],'Suivi étroit'!$A$10,SMA_Suivi_étroit[Période financière],'Suivi étroit'!$A23),"") | K23: =IF($A23<=Paramètre!$B$2,SUMIFS(SMA_Suivi_étroit[Nb usagers],SMA_Suivi_étroit[Source.Name],'Suivi étroit'!K$10,SMA_Suivi_étroit[CA/Sous-CA],'Suivi étroit'!$A$10,SMA_Suivi_étroit[Période financière],'Suivi étroit'!$A23),"") | L23: =IF($A23<=Paramètre!$B$2,SUMIFS(SMA_Suivi_étroit[Nb interv],SMA_Suivi_étroit[Source.Name],'Suivi étroit'!K$10,SMA_Suivi_étroit[CA/Sous-CA],'Suivi étroit'!$A$10,SMA_Suivi_étroit[Période financière],'Suivi étroit'!$A23),"") | M23: =IF($A23<=Paramètre!$B$2,SUMIFS(SMA_Suivi_étroit[Nb usagers],SMA_Suivi_étroit[Source.Name],'Suivi étroit'!M$10,SMA_Suivi_étroit[CA/Sous-CA],'Suivi étroit'!$A$10,SMA_Suivi_étroit[Période financière],'Suivi étroit'!$A23),"") | N23: =IF($A23<=Paramètre!$B$2,SUMIFS(SMA_Suivi_étroit[Nb interv],SMA_Suivi_étroit[Source.Name],'Suivi étroit'!M$10,SMA_Suivi_étroit[CA/Sous-CA],'Suivi étroit'!$A$10,SMA_Suivi_étroit[Période financière],'Suivi étroit'!$A23),"") | O23: =IF($A23<=Paramètre!$B$2,SUMIFS(SMA_Suivi_étroit[Nb usagers],SMA_Suivi_étroit[Source.Name],'Suivi étroit'!O$10,SMA_Suivi_étroit[CA/Sous-CA],'Suivi étroit'!$A$10,SMA_Suivi_étroit[Période financière],'Suivi étroit'!$A23),"") | P23: =IF($A23<=Paramètre!$B$2,SUMIFS(SMA_Suivi_étroit[Nb interv],SMA_Suivi_étroit[Source.Name],'Suivi étroit'!O$10,SMA_Suivi_étroit[CA/Sous-CA],'Suivi étroit'!$A$10,SMA_Suivi_étroit[Période financière],'Suivi étroit'!$A23),"") | Q23: =IF($A23<=Paramètre!$B$2,SUM(C23,E23,G23,I23,K23,M23,O23),"") | R23: =IF($A23<=Paramètre!$B$2,SUM(D23,F23,H23,J23,L23,N23,P23),"")
A24: 13 | B24: Période 13 | C24: =IF($A24<=Paramètre!$B$2,SUMIFS(SMA_Suivi_étroit[Nb usagers],SMA_Suivi_étroit[Source.Name],'Suivi étroit'!C$10,SMA_Suivi_étroit[CA/Sous-CA],'Suivi étroit'!$A$10,SMA_Suivi_étroit[Période financière],'Suivi étroit'!$A24),"") | D24: =IF($A24<=Paramètre!$B$2,SUMIFS(SMA_Suivi_étroit[Nb interv],SMA_Suivi_étroit[Source.Name],'Suivi étroit'!C$10,SMA_Suivi_étroit[CA/Sous-CA],'Suivi étroit'!$A$10,SMA_Suivi_étroit[Période financière],'Suivi étroit'!$A24),"") | E24: =IF($A24<=Paramètre!$B$2,SUMIFS(SMA_Suivi_étroit[Nb usagers],SMA_Suivi_étroit[Source.Name],'Suivi étroit'!E$10,SMA_Suivi_étroit[CA/Sous-CA],'Suivi étroit'!$A$10,SMA_Suivi_étroit[Période financière],'Suivi étroit'!$A24),"") | F24: =IF($A24<=Paramètre!$B$2,SUMIFS(SMA_Suivi_étroit[Nb interv],SMA_Suivi_étroit[Source.Name],'Suivi étroit'!E$10,SMA_Suivi_étroit[CA/Sous-CA],'Suivi étroit'!$A$10,SMA_Suivi_étroit[Période financière],'Suivi étroit'!$A24),"") | G24: =IF($A24<=Paramètre!$B$2,SUMIFS(SMA_Suivi_étroit[Nb usagers],SMA_Suivi_étroit[Source.Name],'Suivi étroit'!G$10,SMA_Suivi_étroit[CA/Sous-CA],'Suivi étroit'!$A$10,SMA_Suivi_étroit[Période financière],'Suivi étroit'!$A24),"") | H24: =IF($A24<=Paramètre!$B$2,SUMIFS(SMA_Suivi_étroit[Nb interv],SMA_Suivi_étroit[Source.Name],'Suivi étroit'!G$10,SMA_Suivi_étroit[CA/Sous-CA],'Suivi étroit'!$A$10,SMA_Suivi_étroit[Période financière],'Suivi étroit'!$A24),"") | I24: =IF($A24<=Paramètre!$B$2,SUMIFS(SMA_Suivi_étroit[Nb usagers],SMA_Suivi_étroit[Source.Name],'Suivi étroit'!I$10,SMA_Suivi_étroit[CA/Sous-CA],'Suivi étroit'!$A$10,SMA_Suivi_étroit[Période financière],'Suivi étroit'!$A24),"") | J24: =IF($A24<=Paramètre!$B$2,SUMIFS(SMA_Suivi_étroit[Nb interv],SMA_Suivi_étroit[Source.Name],'Suivi étroit'!I$10,SMA_Suivi_étroit[CA/Sous-CA],'Suivi étroit'!$A$10,SMA_Suivi_étroit[Période financière],'Suivi étroit'!$A24),"") | K24: =IF($A24<=Paramètre!$B$2,SUMIFS(SMA_Suivi_étroit[Nb usagers],SMA_Suivi_étroit[Source.Name],'Suivi étroit'!K$10,SMA_Suivi_étroit[CA/Sous-CA],'Suivi étroit'!$A$10,SMA_Suivi_étroit[Période financière],'Suivi étroit'!$A24),"") | L24: =IF($A24<=Paramètre!$B$2,SUMIFS(SMA_Suivi_étroit[Nb interv],SMA_Suivi_étroit[Source.Name],'Suivi étroit'!K$10,SMA_Suivi_étroit[CA/Sous-CA],'Suivi étroit'!$A$10,SMA_Suivi_étroit[Période financière],'Suivi étroit'!$A24),"") | M24: =IF($A24<=Paramètre!$B$2,SUMIFS(SMA_Suivi_étroit[Nb usagers],SMA_Suivi_étroit[Source.Name],'Suivi étroit'!M$10,SMA_Suivi_étroit[CA/Sous-CA],'Suivi étroit'!$A$10,SMA_Suivi_étroit[Période financière],'Suivi étroit'!$A24),"") | N24: =IF($A24<=Paramètre!$B$2,SUMIFS(SMA_Suivi_étroit[Nb interv],SMA_Suivi_étroit[Source.Name],'Suivi étroit'!M$10,SMA_Suivi_étroit[CA/Sous-CA],'Suivi étroit'!$A$10,SMA_Suivi_étroit[Période financière],'Suivi étroit'!$A24),"") | O24: =IF($A24<=Paramètre!$B$2,SUMIFS(SMA_Suivi_étroit[Nb usagers],SMA_Suivi_étroit[Source.Name],'Suivi étroit'!O$10,SMA_Suivi_étroit[CA/Sous-CA],'Suivi étroit'!$A$10,SMA_Suivi_étroit[Période financière],'Suivi étroit'!$A24),"") | P24: =IF($A24<=Paramètre!$B$2,SUMIFS(SMA_Suivi_étroit[Nb interv],SMA_Suivi_étroit[Source.Name],'Suivi étroit'!O$10,SMA_Suivi_étroit[CA/Sous-CA],'Suivi étroit'!$A$10,SMA_Suivi_étroit[Période financière],'Suivi étroit'!$A24),"") | Q24: =IF($A24<=Paramètre!$B$2,SUM(C24,E24,G24,I24,K24,M24,O24),"") | R24: =IF($A24<=Paramètre!$B$2,SUM(D24,F24,H24,J24,L24,N24,P24),"")
B25: Cumulatif | C25: =SUMIFS(SMA_Suivi_étroit[Nb distinct usagers / SCA],SMA_Suivi_étroit[Sous-centre activités code],$A10,SMA_Suivi_étroit[Source.Name],C$27) -> 0 | D25: =SUM(D12:D24) -> 0 | E25: =SUMIFS(SMA_Suivi_étroit[Nb distinct usagers / SCA],SMA_Suivi_étroit[Sous-centre activités code],$A10,SMA_Suivi_étroit[Source.Name],E$27) -> 0 | F25: =SUM(F12:F24) -> 0 | G25: =SUMIFS(SMA_Suivi_étroit[Nb distinct usagers / SCA],SMA_Suivi_étroit[Sous-centre activités code],$A10,SMA_Suivi_étroit[Source.Name],G$27) -> 0 | H25: =SUM(H12:H24) -> 0 | I25: =SUMIFS(SMA_Suivi_étroit[Nb distinct usagers / SCA],SMA_Suivi_étroit[Sous-centre activités code],$A10,SMA_Suivi_étroit[Source.Name],I$27) -> 0 | J25: =SUM(J12:J24) -> 0 | K25: =SUMIFS(SMA_Suivi_étroit[Nb distinct usagers / SCA],SMA_Suivi_étroit[Sous-centre activités code],$A10,SMA_Suivi_étroit[Source.Name],K$27) -> 0 | L25: =SUM(L12:L24) -> 0 | M25: =SUMIFS(SMA_Suivi_étroit[Nb distinct usagers / SCA],SMA_Suivi_étroit[Sous-centre activités code],$A10,SMA_Suivi_étroit[Source.Name],M$27) -> 0 | N25: =SUM(N12:N24) -> 0 | O25: =SUMIFS(SMA_Suivi_étroit[Nb distinct usagers / SCA],SMA_Suivi_étroit[Sous-centre activités code],$A10,SMA_Suivi_étroit[Source.Name],O$27) -> 0 | P25: =SUM(P12:P24) -> 0 | Q25: =SUM(C25,E25,G25,I25,K25,M25,O25) -> 0 | R25: =SUM(R12:R24) -> 0
A27: 5932 | B27: Mécanisme d'accès SMA | C27: AL | E27: ARG | G27: SOM | I27: LDDM | K27: PDH | M27: STJ | O27: TDB | Q27: CISSS
C28: Us diff. | D28: Interv. | E28: Us diff. | F28: Interv. | G28: Us diff. | H28: Interv. | I28: Us diff. | J28: Interv. | K28: Us diff. | L28: Interv. | M28: Us diff. | N28: Interv. | O28: Us diff. | P28: Interv. | Q28: Us diff. | R28: Interv.
A29: 1 | B29: Période 1 | C29: =IF($A29<=Paramètre!$B$2,SUMIFS(SMA_Suivi_étroit[Nb usagers],SMA_Suivi_étroit[Source.Name],'Suivi étroit'!C$10,SMA_Suivi_étroit[CA/Sous-CA],'Suivi étroit'!$A$27,SMA_Suivi_étroit[Période financière],'Suivi étroit'!$A29),"") -> 0 | D29: =IF($A29<=Paramètre!$B$2,SUMIFS(SMA_Suivi_étroit[Nb distinct usagers / SCA],SMA_Suivi_étroit[Source.Name],'Suivi étroit'!C$10,SMA_Suivi_étroit[CA/Sous-CA],'Suivi étroit'!$A$27,SMA_Suivi_étroit[Période financière],'Suivi étroit'!$A29),"") -> 0 | E29: =IF($A29<=Paramètre!$B$2,SUMIFS(SMA_Suivi_étroit[Nb usagers],SMA_Suivi_étroit[Source.Name],'Suivi étroit'!E$10,SMA_Suivi_étroit[CA/Sous-CA],'Suivi étroit'!$A$27,SMA_Suivi_étroit[Période financière],'Suivi étroit'!$A29),"") -> 0 | F29: =IF($A29<=Paramètre!$B$2,SUMIFS(SMA_Suivi_étroit[Nb distinct usagers / SCA],SMA_Suivi_étroit[Source.Name],'Suivi étroit'!E$10,SMA_Suivi_étroit[CA/Sous-CA],'Suivi étroit'!$A$27,SMA_Suivi_étroit[Période financière],'Suivi étroit'!$A29),"") -> 0 | G29: =IF($A29<=Paramètre!$B$2,SUMIFS(SMA_Suivi_étroit[Nb usagers],SMA_Suivi_étroit[Source.Name],'Suivi étroit'!G$10,SMA_Suivi_étroit[CA/Sous-CA],'Suivi étroit'!$A$27,SMA_Suivi_étroit[Période financière],'Suivi étroit'!$A29),"") -> 0 | H29: =IF($A29<=Paramètre!$B$2,SUMIFS(SMA_Suivi_étroit[Nb distinct usagers / SCA],SMA_Suivi_étroit[Source.Name],'Suivi étroit'!G$10,SMA_Suivi_étroit[CA/Sous-CA],'Suivi étroit'!$A$27,SMA_Suivi_étroit[Période financière],'Suivi étroit'!$A29),"") -> 0 | I29: =IF($A29<=Paramètre!$B$2,SUMIFS(SMA_Suivi_étroit[Nb usagers],SMA_Suivi_étroit[Source.Name],'Suivi étroit'!I$10,SMA_Suivi_étroit[CA/Sous-CA],'Suivi étroit'!$A$27,SMA_Suivi_étroit[Période financière],'Suivi étroit'!$A29),"") -> 0 | J29: =IF($A29<=Paramètre!$B$2,SUMIFS(SMA_Suivi_étroit[Nb distinct usagers / SCA],SMA_Suivi_étroit[Source.Name],'Suivi étroit'!I$10,SMA_Suivi_étroit[CA/Sous-CA],'Suivi étroit'!$A$27,SMA_Suivi_étroit[Période financière],'Suivi étroit'!$A29),"") -> 0 | K29: =IF($A29<=Paramètre!$B$2,SUMIFS(SMA_Suivi_étroit[Nb usagers],SMA_Suivi_étroit[Source.Name],'Suivi étroit'!K$10,SMA_Suivi_étroit[CA/Sous-CA],'Suivi étroit'!$A$27,SMA_Suivi_étroit[Période financière],'Suivi étroit'!$A29),"") -> 0 | L29: =IF($A29<=Paramètre!$B$2,SUMIFS(SMA_Suivi_étroit[Nb distinct usagers / SCA],SMA_Suivi_étroit[Source.Name],'Suivi étroit'!K$10,SMA_Suivi_étroit[CA/Sous-CA],'Suivi étroit'!$A$27,SMA_Suivi_étroit[Période financière],'Suivi étroit'!$A29),"") -> 0 | M29: =IF($A29<=Paramètre!$B$2,SUMIFS(SMA_Suivi_étroit[Nb usagers],SMA_Suivi_étroit[Source.Name],'Suivi étroit'!M$10,SMA_Suivi_étroit[CA/Sous-CA],'Suivi étroit'!$A$27,SMA_Suivi_étroit[Période financière],'Suivi étroit'!$A29),"") -> 0 | N29: =IF($A29<=Paramètre!$B$2,SUMIFS(SMA_Suivi_étroit[Nb distinct usagers / SCA],SMA_Suivi_étroit[Source.Name],'Suivi étroit'!M$10,SMA_Suivi_étroit[CA/Sous-CA],'Suivi étroit'!$A$27,SMA_Suivi_étroit[Période financière],'Suivi étroit'!$A29),"") -> 0 | O29: =IF($A29<=Paramètre!$B$2,SUMIFS(SMA_Suivi_étroit[Nb usagers],SMA_Suivi_étroit[Source.Name],'Suivi étroit'!O$10,SMA_Suivi_étroit[CA/Sous-CA],'Suivi étroit'!$A$27,SMA_Suivi_étroit[Période financière],'Suivi étroit'!$A29),"") -> 0 | P29: =IF($A29<=Paramètre!$B$2,SUMIFS(SMA_Suivi_étroit[Nb distinct usagers / SCA],SMA_Suivi_étroit[Source.Name],'Suivi étroit'!O$10,SMA_Suivi_étroit[CA/Sous-CA],'Suivi étroit'!$A$27,SMA_Suivi_étroit[Période financière],'Suivi étroit'!$A29),"") -> 0 | Q29: =IF($A29<=Paramètre!$B$2,SUM(C29,E29,G29,I29,K29,M29,O29),"") -> 0 | R29: =IF($A29<=Paramètre!$B$2,SUM(D29,F29,H29,J29,L29,N29,P29),"") -> 0
A30: 2 | B30: Période 2 | C30: =IF($A30<=Paramètre!$B$2,SUMIFS(SMA_Suivi_étroit[Nb usagers],SMA_Suivi_étroit[Source.Name],'Suivi étroit'!C$10,SMA_Suivi_étroit[CA/Sous-CA],'Suivi étroit'!$A$27,SMA_Suivi_étroit[Période financière],'Suivi étroit'!$A30),"") | D30: =IF($A30<=Paramètre!$B$2,SUMIFS(SMA_Suivi_étroit[Nb distinct usagers / SCA],SMA_Suivi_étroit[Source.Name],'Suivi étroit'!C$10,SMA_Suivi_étroit[CA/Sous-CA],'Suivi étroit'!$A$27,SMA_Suivi_étroit[Période financière],'Suivi étroit'!$A30),"") | E30: =IF($A30<=Paramètre!$B$2,SUMIFS(SMA_Suivi_étroit[Nb usagers],SMA_Suivi_étroit[Source.Name],'Suivi étroit'!E$10,SMA_Suivi_étroit[CA/Sous-CA],'Suivi étroit'!$A$27,SMA_Suivi_étroit[Période financière],'Suivi étroit'!$A30),"") | F30: =IF($A30<=Paramètre!$B$2,SUMIFS(SMA_Suivi_étroit[Nb distinct usagers / SCA],SMA_Suivi_étroit[Source.Name],'Suivi étroit'!E$10,SMA_Suivi_étroit[CA/Sous-CA],'Suivi étroit'!$A$27,SMA_Suivi_étroit[Période financière],'Suivi étroit'!$A30),"") | G30: =IF($A30<=Paramètre!$B$2,SUMIFS(SMA_Suivi_étroit[Nb usagers],SMA_Suivi_étroit[Source.Name],'Suivi étroit'!G$10,SMA_Suivi_étroit[CA/Sous-CA],'Suivi étroit'!$A$27,SMA_Suivi_étroit[Période financière],'Suivi étroit'!$A30),"") | H30: =IF($A30<=Paramètre!$B$2,SUMIFS(SMA_Suivi_étroit[Nb distinct usagers / SCA],SMA_Suivi_étroit[Source.Name],'Suivi étroit'!G$10,SMA_Suivi_étroit[CA/Sous-CA],'Suivi étroit'!$A$27,SMA_Suivi_étroit[Période financière],'Suivi étroit'!$A30),"") | I30: =IF($A30<=Paramètre!$B$2,SUMIFS(SMA_Suivi_étroit[Nb usagers],SMA_Suivi_étroit[Source.Name],'Suivi étroit'!I$10,SMA_Suivi_étroit[CA/Sous-CA],'Suivi étroit'!$A$27,SMA_Suivi_étroit[Période financière],'Suivi étroit'!$A30),"") | J30: =IF($A30<=Paramètre!$B$2,SUMIFS(SMA_Suivi_étroit[Nb distinct usagers / SCA],SMA_Suivi_étroit[Source.Name],'Suivi étroit'!I$10,SMA_Suivi_étroit[CA/Sous-CA],'Suivi étroit'!$A$27,SMA_Suivi_étroit[Période financière],'Suivi étroit'!$A30),"") | K30: =IF($A30<=Paramètre!$B$2,SUMIFS(SMA_Suivi_étroit[Nb usagers],SMA_Suivi_étroit[Source.Name],'Suivi étroit'!K$10,SMA_Suivi_étroit[CA/Sous-CA],'Suivi étroit'!$A$27,SMA_Suivi_étroit[Période financière],'Suivi étroit'!$A30),"") | L30: =IF($A30<=Paramètre!$B$2,SUMIFS(SMA_Suivi_étroit[Nb distinct usagers / SCA],SMA_Suivi_étroit[Source.Name],'Suivi étroit'!K$10,SMA_Suivi_étroit[CA/Sous-CA],'Suivi étroit'!$A$27,SMA_Suivi_étroit[Période financière],'Suivi étroit'!$A30),"") | M30: =IF($A30<=Paramètre!$B$2,SUMIFS(SMA_Suivi_étroit[Nb usagers],SMA_Suivi_étroit[Source.Name],'Suivi étroit'!M$10,SMA_Suivi_étroit[CA/Sous-CA],'Suivi étroit'!$A$27,SMA_Suivi_étroit[Période financière],'Suivi étroit'!$A30),"") | N30: =IF($A30<=Paramètre!$B$2,SUMIFS(SMA_Suivi_étroit[Nb distinct usagers / SCA],SMA_Suivi_étroit[Source.Name],'Suivi étroit'!M$10,SMA_Suivi_étroit[CA/Sous-CA],'Suivi étroit'!$A$27,SMA_Suivi_étroit[Période financière],'Suivi étroit'!$A30),"") | O30: =IF($A30<=Paramètre!$B$2,SUMIFS(SMA_Suivi_étroit[Nb usagers],SMA_Suivi_étroit[Source.Name],'Suivi étroit'!O$10,SMA_Suivi_étroit[CA/Sous-CA],'Suivi étroit'!$A$27,SMA_Suivi_étroit[Période financière],'Suivi étroit'!$A30),"") | P30: =IF($A30<=Paramètre!$B$2,SUMIFS(SMA_Suivi_étroit[Nb distinct usagers / SCA],SMA_Suivi_étroit[Source.Name],'Suivi étroit'!O$10,SMA_Suivi_étroit[CA/Sous-CA],'Suivi étroit'!$A$27,SMA_Suivi_étroit[Période financière],'Suivi étroit'!$A30),"") | Q30: =IF($A30<=Paramètre!$B$2,SUM(C30,E30,G30,I30,K30,M30,O30),"") | R30: =IF($A30<=Paramètre!$B$2,SUM(D30,F30,H30,J30,L30,N30,P30),"")
A31: 3 | B31: Période 3 | C31: =IF($A31<=Paramètre!$B$2,SUMIFS(SMA_Suivi_étroit[Nb usagers],SMA_Suivi_étroit[Source.Name],'Suivi étroit'!C$10,SMA_Suivi_étroit[CA/Sous-CA],'Suivi étroit'!$A$27,SMA_Suivi_étroit[Période financière],'Suivi étroit'!$A31),"") | D31: =IF($A31<=Paramètre!$B$2,SUMIFS(SMA_Suivi_étroit[Nb distinct usagers / SCA],SMA_Suivi_étroit[Source.Name],'Suivi étroit'!C$10,SMA_Suivi_étroit[CA/Sous-CA],'Suivi étroit'!$A$27,SMA_Suivi_étroit[Période financière],'Suivi étroit'!$A31),"") | E31: =IF($A31<=Paramètre!$B$2,SUMIFS(SMA_Suivi_étroit[Nb usagers],SMA_Suivi_étroit[Source.Name],'Suivi étroit'!E$10,SMA_Suivi_étroit[CA/Sous-CA],'Suivi étroit'!$A$27,SMA_Suivi_étroit[Période financière],'Suivi étroit'!$A31),"") | F31: =IF($A31<=Paramètre!$B$2,SUMIFS(SMA_Suivi_étroit[Nb distinct usagers / SCA],SMA_Suivi_étroit[Source.Name],'Suivi étroit'!E$10,SMA_Suivi_étroit[CA/Sous-CA],'Suivi étroit'!$A$27,SMA_Suivi_étroit[Période financière],'Suivi étroit'!$A31),"") | G31: =IF($A31<=Paramètre!$B$2,SUMIFS(SMA_Suivi_étroit[Nb usagers],SMA_Suivi_étroit[Source.Name],'Suivi étroit'!G$10,SMA_Suivi_étroit[CA/Sous-CA],'Suivi étroit'!$A$27,SMA_Suivi_étroit[Période financière],'Suivi étroit'!$A31),"") | H31: =IF($A31<=Paramètre!$B$2,SUMIFS(SMA_Suivi_étroit[Nb distinct usagers / SCA],SMA_Suivi_étroit[Source.Name],'Suivi étroit'!G$10,SMA_Suivi_étroit[CA/Sous-CA],'Suivi étroit'!$A$27,SMA_Suivi_étroit[Période financière],'Suivi étroit'!$A31),"") | I31: =IF($A31<=Paramètre!$B$2,SUMIFS(SMA_Suivi_étroit[Nb usagers],SMA_Suivi_étroit[Source.Name],'Suivi étroit'!I$10,SMA_Suivi_étroit[CA/Sous-CA],'Suivi étroit'!$A$27,SMA_Suivi_étroit[Période financière],'Suivi étroit'!$A31),"") | J31: =IF($A31<=Paramètre!$B$2,SUMIFS(SMA_Suivi_étroit[Nb distinct usagers / SCA],SMA_Suivi_étroit[Source.Name],'Suivi étroit'!I$10,SMA_Suivi_étroit[CA/Sous-CA],'Suivi étroit'!$A$27,SMA_Suivi_étroit[Période financière],'Suivi étroit'!$A31),"") | K31: =IF($A31<=Paramètre!$B$2,SUMIFS(SMA_Suivi_étroit[Nb usagers],SMA_Suivi_étroit[Source.Name],'Suivi étroit'!K$10,SMA_Suivi_étroit[CA/Sous-CA],'Suivi étroit'!$A$27,SMA_Suivi_étroit[Période financière],'Suivi étroit'!$A31),"") | L31: =IF($A31<=Paramètre!$B$2,SUMIFS(SMA_Suivi_étroit[Nb distinct usagers / SCA],SMA_Suivi_étroit[Source.Name],'Suivi étroit'!K$10,SMA_Suivi_étroit[CA/Sous-CA],'Suivi étroit'!$A$27,SMA_Suivi_étroit[Période financière],'Suivi étroit'!$A31),"") | M31: =IF($A31<=Paramètre!$B$2,SUMIFS(SMA_Suivi_étroit[Nb usagers],SMA_Suivi_étroit[Source.Name],'Suivi étroit'!M$10,SMA_Suivi_étroit[CA/Sous-CA],'Suivi étroit'!$A$27,SMA_Suivi_étroit[Période financière],'Suivi étroit'!$A31),"") | N31: =IF($A31<=Paramètre!$B$2,SUMIFS(SMA_Suivi_étroit[Nb distinct usagers / SCA],SMA_Suivi_étroit[Source.Name],'Suivi étroit'!M$10,SMA_Suivi_étroit[CA/Sous-CA],'Suivi étroit'!$A$27,SMA_Suivi_étroit[Période financière],'Suivi étroit'!$A31),"") | O31: =IF($A31<=Paramètre!$B$2,SUMIFS(SMA_Suivi_étroit[Nb usagers],SMA_Suivi_étroit[Source.Name],'Suivi étroit'!O$10,SMA_Suivi_étroit[CA/Sous-CA],'Suivi étroit'!$A$27,SMA_Suivi_étroit[Période financière],'Suivi étroit'!$A31),"") | P31: =IF($A31<=Paramètre!$B$2,SUMIFS(SMA_Suivi_étroit[Nb distinct usagers / SCA],SMA_Suivi_étroit[Source.Name],'Suivi étroit'!O$10,SMA_Suivi_étroit[CA/Sous-CA],'Suivi étroit'!$A$27,SMA_Suivi_étroit[Période financière],'Suivi étroit'!$A31),"") | Q31: =IF($A31<=Paramètre!$B$2,SUM(C31,E31,G31,I31,K31,M31,O31),"") | R31: =IF($A31<=Paramètre!$B$2,SUM(D31,F31,H31,J31,L31,N31,P31),"")
A32: 4 | B32: Période 4 | C32: =IF($A32<=Paramètre!$B$2,SUMIFS(SMA_Suivi_étroit[Nb usagers],SMA_Suivi_étroit[Source.Name],'Suivi étroit'!C$10,SMA_Suivi_étroit[CA/Sous-CA],'Suivi étroit'!$A$27,SMA_Suivi_étroit[Période financière],'Suivi étroit'!$A32),"") | D32: =IF($A32<=Paramètre!$B$2,SUMIFS(SMA_Suivi_étroit[Nb distinct usagers / SCA],SMA_Suivi_étroit[Source.Name],'Suivi étroit'!C$10,SMA_Suivi_étroit[CA/Sous-CA],'Suivi étroit'!$A$27,SMA_Suivi_étroit[Période financière],'Suivi étroit'!$A32),"") | E32: =IF($A32<=Paramètre!$B$2,SUMIFS(SMA_Suivi_étroit[Nb usagers],SMA_Suivi_étroit[Source.Name],'Suivi étroit'!E$10,SMA_Suivi_étroit[CA/Sous-CA],'Suivi étroit'!$A$27,SMA_Suivi_étroit[Période financière],'Suivi étroit'!$A32),"") | F32: =IF($A32<=Paramètre!$B$2,SUMIFS(SMA_Suivi_étroit[Nb distinct usagers / SCA],SMA_Suivi_étroit[Source.Name],'Suivi étroit'!E$10,SMA_Suivi_étroit[CA/Sous-CA],'Suivi étroit'!$A$27,SMA_Suivi_étroit[Période financière],'Suivi étroit'!$A32),"") | G32: =IF($A32<=Paramètre!$B$2,SUMIFS(SMA_Suivi_étroit[Nb usagers],SMA_Suivi_étroit[Source.Name],'Suivi étroit'!G$10,SMA_Suivi_étroit[CA/Sous-CA],'Suivi étroit'!$A$27,SMA_Suivi_étroit[Période financière],'Suivi étroit'!$A32),"") | H32: =IF($A32<=Paramètre!$B$2,SUMIFS(SMA_Suivi_étroit[Nb distinct usagers / SCA],SMA_Suivi_étroit[Source.Name],'Suivi étroit'!G$10,SMA_Suivi_étroit[CA/Sous-CA],'Suivi étroit'!$A$27,SMA_Suivi_étroit[Période financière],'Suivi étroit'!$A32),"") | I32: =IF($A32<=Paramètre!$B$2,SUMIFS(SMA_Suivi_étroit[Nb usagers],SMA_Suivi_étroit[Source.Name],'Suivi étroit'!I$10,SMA_Suivi_étroit[CA/Sous-CA],'Suivi étroit'!$A$27,SMA_Suivi_étroit[Période financière],'Suivi étroit'!$A32),"") | J32: =IF($A32<=Paramètre!$B$2,SUMIFS(SMA_Suivi_étroit[Nb distinct usagers / SCA],SMA_Suivi_étroit[Source.Name],'Suivi étroit'!I$10,SMA_Suivi_étroit[CA/Sous-CA],'Suivi étroit'!$A$27,SMA_Suivi_étroit[Période financière],'Suivi étroit'!$A32),"") | K32: =IF($A32<=Paramètre!$B$2,SUMIFS(SMA_Suivi_étroit[Nb usagers],SMA_Suivi_étroit[Source.Name],'Suivi étroit'!K$10,SMA_Suivi_étroit[CA/Sous-CA],'Suivi étroit'!$A$27,SMA_Suivi_étroit[Période financière],'Suivi étroit'!$A32),"") | L32: =IF($A32<=Paramètre!$B$2,SUMIFS(SMA_Suivi_étroit[Nb distinct usagers / SCA],SMA_Suivi_étroit[Source.Name],'Suivi étroit'!K$10,SMA_Suivi_étroit[CA/Sous-CA],'Suivi étroit'!$A$27,SMA_Suivi_étroit[Période financière],'Suivi étroit'!$A32),"") | M32: =IF($A32<=Paramètre!$B$2,SUMIFS(SMA_Suivi_étroit[Nb usagers],SMA_Suivi_étroit[Source.Name],'Suivi étroit'!M$10,SMA_Suivi_étroit[CA/Sous-CA],'Suivi étroit'!$A$27,SMA_Suivi_étroit[Période financière],'Suivi étroit'!$A32),"") | N32: =IF($A32<=Paramètre!$B$2,SUMIFS(SMA_Suivi_étroit[Nb distinct usagers / SCA],SMA_Suivi_étroit[Source.Name],'Suivi étroit'!M$10,SMA_Suivi_étroit[CA/Sous-CA],'Suivi étroit'!$A$27,SMA_Suivi_étroit[Période financière],'Suivi étroit'!$A32),"") | O32: =IF($A32<=Paramètre!$B$2,SUMIFS(SMA_Suivi_étroit[Nb usagers],SMA_Suivi_étroit[Source.Name],'Suivi étroit'!O$10,SMA_Suivi_étroit[CA/Sous-CA],'Suivi étroit'!$A$27,SMA_Suivi_étroit[Période financière],'Suivi étroit'!$A32),"") | P32: =IF($A32<=Paramètre!$B$2,SUMIFS(SMA_Suivi_étroit[Nb distinct usagers / SCA],SMA_Suivi_étroit[Source.Name],'Suivi étroit'!O$10,SMA_Suivi_étroit[CA/Sous-CA],'Suivi étroit'!$A$27,SMA_Suivi_étroit[Période financière],'Suivi étroit'!$A32),"") | Q32: =IF($A32<=Paramètre!$B$2,SUM(C32,E32,G32,I32,K32,M32,O32),"") | R32: =IF($A32<=Paramètre!$B$2,SUM(D32,F32,H32,J32,L32,N32,P32),"")
A33: 5 | B33: Période 5 | C33: =IF($A33<=Paramètre!$B$2,SUMIFS(SMA_Suivi_étroit[Nb usagers],SMA_Suivi_étroit[Source.Name],'Suivi étroit'!C$10,SMA_Suivi_étroit[CA/Sous-CA],'Suivi étroit'!$A$27,SMA_Suivi_étroit[Période financière],'Suivi étroit'!$A33),"") | D33: =IF($A33<=Paramètre!$B$2,SUMIFS(SMA_Suivi_étroit[Nb distinct usagers / SCA],SMA_Suivi_étroit[Source.Name],'Suivi étroit'!C$10,SMA_Suivi_étroit[CA/Sous-CA],'Suivi étroit'!$A$27,SMA_Suivi_étroit[Période financière],'Suivi étroit'!$A33),"") | E33: =IF($A33<=Paramètre!$B$2,SUMIFS(SMA_Suivi_étroit[Nb usagers],SMA_Suivi_étroit[Source.Name],'Suivi étroit'!E$10,SMA_Suivi_étroit[CA/Sous-CA],'Suivi étroit'!$A$27,SMA_Suivi_étroit[Période financière],'Suivi étroit'!$A33),"") | F33: =IF($A33<=Paramètre!$B$2,SUMIFS(SMA_Suivi_étroit[Nb distinct usagers / SCA],SMA_Suivi_étroit[Source.Name],'Suivi étroit'!E$10,SMA_Suivi_étroit[CA/Sous-CA],'Suivi étroit'!$A$27,SMA_Suivi_étroit[Période financière],'Suivi étroit'!$A33),"") | G33: =IF($A33<=Paramètre!$B$2,SUMIFS(SMA_Suivi_étroit[Nb usagers],SMA_Suivi_étroit[Source.Name],'Suivi étroit'!G$10,SMA_Suivi_étroit[CA/Sous-CA],'Suivi étroit'!$A$27,SMA_Suivi_étroit[Période financière],'Suivi étroit'!$A33),"") | H33: =IF($A33<=Paramètre!$B$2,SUMIFS(SMA_Suivi_étroit[Nb distinct usagers / SCA],SMA_Suivi_étroit[Source.Name],'Suivi étroit'!G$10,SMA_Suivi_étroit[CA/Sous-CA],'Suivi étroit'!$A$27,SMA_Suivi_étroit[Période financière],'Suivi étroit'!$A33),"") | I33: =IF($A33<=Paramètre!$B$2,SUMIFS(SMA_Suivi_étroit[Nb usagers],SMA_Suivi_étroit[Source.Name],'Suivi étroit'!I$10,SMA_Suivi_étroit[CA/Sous-CA],'Suivi étroit'!$A$27,SMA_Suivi_étroit[Période financière],'Suivi étroit'!$A33),"") | J33: =IF($A33<=Paramètre!$B$2,SUMIFS(SMA_Suivi_étroit[Nb distinct usagers / SCA],SMA_Suivi_étroit[Source.Name],'Suivi étroit'!I$10,SMA_Suivi_étroit[CA/Sous-CA],'Suivi étroit'!$A$27,SMA_Suivi_étroit[Période financière],'Suivi étroit'!$A33),"") | K33: =IF($A33<=Paramètre!$B$2,SUMIFS(SMA_Suivi_étroit[Nb usagers],SMA_Suivi_étroit[Source.Name],'Suivi étroit'!K$10,SMA_Suivi_étroit[CA/Sous-CA],'Suivi étroit'!$A$27,SMA_Suivi_étroit[Période financière],'Suivi étroit'!$A33),"") | L33: =IF($A33<=Paramètre!$B$2,SUMIFS(SMA_Suivi_étroit[Nb distinct usagers / SCA],SMA_Suivi_étroit[Source.Name],'Suivi étroit'!K$10,SMA_Suivi_étroit[CA/Sous-CA],'Suivi étroit'!$A$27,SMA_Suivi_étroit[Période financière],'Suivi étroit'!$A33),"") | M33: =IF($A33<=Paramètre!$B$2,SUMIFS(SMA_Suivi_étroit[Nb usagers],SMA_Suivi_étroit[Source.Name],'Suivi étroit'!M$10,SMA_Suivi_étroit[CA/Sous-CA],'Suivi étroit'!$A$27,SMA_Suivi_étroit[Période financière],'Suivi étroit'!$A33),"") | N33: =IF($A33<=Paramètre!$B$2,SUMIFS(SMA_Suivi_étroit[Nb distinct usagers / SCA],SMA_Suivi_étroit[Source.Name],'Suivi étroit'!M$10,SMA_Suivi_étroit[CA/Sous-CA],'Suivi étroit'!$A$27,SMA_Suivi_étroit[Période financière],'Suivi étroit'!$A33),"") | O33: =IF($A33<=Paramètre!$B$2,SUMIFS(SMA_Suivi_étroit[Nb usagers],SMA_Suivi_étroit[Source.Name],'Suivi étroit'!O$10,SMA_Suivi_étroit[CA/Sous-CA],'Suivi étroit'!$A$27,SMA_Suivi_étroit[Période financière],'Suivi étroit'!$A33),"") | P33: =IF($A33<=Paramètre!$B$2,SUMIFS(SMA_Suivi_étroit[Nb distinct usagers / SCA],SMA_Suivi_étroit[Source.Name],'Suivi étroit'!O$10,SMA_Suivi_étroit[CA/Sous-CA],'Suivi étroit'!$A$27,SMA_Suivi_étroit[Période financière],'Suivi étroit'!$A33),"") | Q33: =IF($A33<=Paramètre!$B$2,SUM(C33,E33,G33,I33,K33,M33,O33),"") | R33: =IF($A33<=Paramètre!$B$2,SUM(D33,F33,H33,J33,L33,N33,P33),"")
A34: 6 | B34: Période 6 | C34: =IF($A34<=Paramètre!$B$2,SUMIFS(SMA_Suivi_étroit[Nb usagers],SMA_Suivi_étroit[Source.Name],'Suivi étroit'!C$10,SMA_Suivi_étroit[CA/Sous-CA],'Suivi étroit'!$A$27,SMA_Suivi_étroit[Période financière],'Suivi étroit'!$A34),"") | D34: =IF($A34<=Paramètre!$B$2,SUMIFS(SMA_Suivi_étroit[Nb distinct usagers / SCA],SMA_Suivi_étroit[Source.Name],'Suivi étroit'!C$10,SMA_Suivi_étroit[CA/Sous-CA],'Suivi étroit'!$A$27,SMA_Suivi_étroit[Période financière],'Suivi étroit'!$A34),"") | E34: =IF($A34<=Paramètre!$B$2,SUMIFS(SMA_Suivi_étroit[Nb usagers],SMA_Suivi_étroit[Source.Name],'Suivi étroit'!E$10,SMA_Suivi_étroit[CA/Sous-CA],'Suivi étroit'!$A$27,SMA_Suivi_étroit[Période financière],'Suivi étroit'!$A34),"") | F34: =IF($A34<=Paramètre!$B$2,SUMIFS(SMA_Suivi_étroit[Nb distinct usagers / SCA],SMA_Suivi_étroit[Source.Name],'Suivi étroit'!E$10,SMA_Suivi_étroit[CA/Sous-CA],'Suivi étroit'!$A$27,SMA_Suivi_étroit[Période financière],'Suivi étroit'!$A34),"") | G34: =IF($A34<=Paramètre!$B$2,SUMIFS(SMA_Suivi_étroit[Nb usagers],SMA_Suivi_étroit[Source.Name],'Suivi étroit'!G$10,SMA_Suivi_étroit[CA/Sous-CA],'Suivi étroit'!$A$27,SMA_Suivi_étroit[Période financière],'Suivi étroit'!$A34),"") | H34: =IF($A34<=Paramètre!$B$2,SUMIFS(SMA_Suivi_étroit[Nb distinct usagers / SCA],SMA_Suivi_étroit[Source.Name],'Suivi étroit'!G$10,SMA_Suivi_étroit[CA/Sous-CA],'Suivi étroit'!$A$27,SMA_Suivi_étroit[Période financière],'Suivi étroit'!$A34),"") | I34: =IF($A34<=Paramètre!$B$2,SUMIFS(SMA_Suivi_étroit[Nb usagers],SMA_Suivi_étroit[Source.Name],'Suivi étroit'!I$10,SMA_Suivi_étroit[CA/Sous-CA],'Suivi étroit'!$A$27,SMA_Suivi_étroit[Période financière],'Suivi étroit'!$A34),"") | J34: =IF($A34<=Paramètre!$B$2,SUMIFS(SMA_Suivi_étroit[Nb distinct usagers / SCA],SMA_Suivi_étroit[Source.Name],'Suivi étroit'!I$10,SMA_Suivi_étroit[CA/Sous-CA],'Suivi étroit'!$A$27,SMA_Suivi_étroit[Période financière],'Suivi étroit'!$A34),"") | K34: =IF($A34<=Paramètre!$B$2,SUMIFS(SMA_Suivi_étroit[Nb usagers],SMA_Suivi_étroit[Source.Name],'Suivi étroit'!K$10,SMA_Suivi_étroit[CA/Sous-CA],'Suivi étroit'!$A$27,SMA_Suivi_étroit[Période financière],'Suivi étroit'!$A34),"") | L34: =IF($A34<=Paramètre!$B$2,SUMIFS(SMA_Suivi_étroit[Nb distinct usagers / SCA],SMA_Suivi_étroit[Source.Name],'Suivi étroit'!K$10,SMA_Suivi_étroit[CA/Sous-CA],'Suivi étroit'!$A$27,SMA_Suivi_étroit[Période financière],'Suivi étroit'!$A34),"") | M34: =IF($A34<=Paramètre!$B$2,SUMIFS(SMA_Suivi_étroit[Nb usagers],SMA_Suivi_étroit[Source.Name],'Suivi étroit'!M$10,SMA_Suivi_étroit[CA/Sous-CA],'Suivi étroit'!$A$27,SMA_Suivi_étroit[Période financière],'Suivi étroit'!$A34),"") | N34: =IF($A34<=Paramètre!$B$2,SUMIFS(SMA_Suivi_étroit[Nb distinct usagers / SCA],SMA_Suivi_étroit[Source.Name],'Suivi étroit'!M$10,SMA_Suivi_étroit[CA/Sous-CA],'Suivi étroit'!$A$27,SMA_Suivi_étroit[Période financière],'Suivi étroit'!$A34),"") | O34: =IF($A34<=Paramètre!$B$2,SUMIFS(SMA_Suivi_étroit[Nb usagers],SMA_Suivi_étroit[Source.Name],'Suivi étroit'!O$10,SMA_Suivi_étroit[CA/Sous-CA],'Suivi étroit'!$A$27,SMA_Suivi_étroit[Période financière],'Suivi étroit'!$A34),"") | P34: =IF($A34<=Paramètre!$B$2,SUMIFS(SMA_Suivi_étroit[Nb distinct usagers / SCA],SMA_Suivi_étroit[Source.Name],'Suivi étroit'!O$10,SMA_Suivi_étroit[CA/Sous-CA],'Suivi étroit'!$A$27,SMA_Suivi_étroit[Période financière],'Suivi étroit'!$A34),"") | Q34: =IF($A34<=Paramètre!$B$2,SUM(C34,E34,G34,I34,K34,M34,O34),"") | R34: =IF($A34<=Paramètre!$B$2,SUM(D34,F34,H34,J34,L34,N34,P34),"")
A35: 7 | B35: Période 7 | C35: =IF($A35<=Paramètre!$B$2,SUMIFS(SMA_Suivi_étroit[Nb usagers],SMA_Suivi_étroit[Source.Name],'Suivi étroit'!C$10,SMA_Suivi_étroit[CA/Sous-CA],'Suivi étroit'!$A$27,SMA_Suivi_étroit[Période financière],'Suivi étroit'!$A35),"") | D35: =IF($A35<=Paramètre!$B$2,SUMIFS(SMA_Suivi_étroit[Nb distinct usagers / SCA],SMA_Suivi_étroit[Source.Name],'Suivi étroit'!C$10,SMA_Suivi_étroit[CA/Sous-CA],'Suivi étroit'!$A$27,SMA_Suivi_étroit[Période financière],'Suivi étroit'!$A35),"") | E35: =IF($A35<=Paramètre!$B$2,SUMIFS(SMA_Suivi_étroit[Nb usagers],SMA_Suivi_étroit[Source.Name],'Suivi étroit'!E$10,SMA_Suivi_étroit[CA/Sous-CA],'Suivi étroit'!$A$27,SMA_Suivi_étroit[Période financière],'Suivi étroit'!$A35),"") | F35: =IF($A35<=Paramètre!$B$2,SUMIFS(SMA_Suivi_étroit[Nb distinct usagers / SCA],SMA_Suivi_étroit[Source.Name],'Suivi étroit'!E$10,SMA_Suivi_étroit[CA/Sous-CA],'Suivi étroit'!$A$27,SMA_Suivi_étroit[Période financière],'Suivi étroit'!$A35),"") | G35: =IF($A35<=Paramètre!$B$2,SUMIFS(SMA_Suivi_étroit[Nb usagers],SMA_Suivi_étroit[Source.Name],'Suivi étroit'!G$10,SMA_Suivi_étroit[CA/Sous-CA],'Suivi étroit'!$A$27,SMA_Suivi_étroit[Période financière],'Suivi étroit'!$A35),"") | H35: =IF($A35<=Paramètre!$B$2,SUMIFS(SMA_Suivi_étroit[Nb distinct usagers / SCA],SMA_Suivi_étroit[Source.Name],'Suivi étroit'!G$10,SMA_Suivi_étroit[CA/Sous-CA],'Suivi étroit'!$A$27,SMA_Suivi_étroit[Période financière],'Suivi étroit'!$A35),"") | I35: =IF($A35<=Paramètre!$B$2,SUMIFS(SMA_Suivi_étroit[Nb usagers],SMA_Suivi_étroit[Source.Name],'Suivi étroit'!I$10,SMA_Suivi_étroit[CA/Sous-CA],'Suivi étroit'!$A$27,SMA_Suivi_étroit[Période financière],'Suivi étroit'!$A35),"") | J35: =IF($A35<=Paramètre!$B$2,SUMIFS(SMA_Suivi_étroit[Nb distinct usagers / SCA],SMA_Suivi_étroit[Source.Name],'Suivi étroit'!I$10,SMA_Suivi_étroit[CA/Sous-CA],'Suivi étroit'!$A$27,SMA_Suivi_étroit[Période financière],'Suivi étroit'!$A35),"") | K35: =IF($A35<=Paramètre!$B$2,SUMIFS(SMA_Suivi_étroit[Nb usagers],SMA_Suivi_étroit[Source.Name],'Suivi étroit'!K$10,SMA_Suivi_étroit[CA/Sous-CA],'Suivi étroit'!$A$27,SMA_Suivi_étroit[Période financière],'Suivi étroit'!$A35),"") | L35: =IF($A35<=Paramètre!$B$2,SUMIFS(SMA_Suivi_étroit[Nb distinct usagers / SCA],SMA_Suivi_étroit[Source.Name],'Suivi étroit'!K$10,SMA_Suivi_étroit[CA/Sous-CA],'Suivi étroit'!$A$27,SMA_Suivi_étroit[Période financière],'Suivi étroit'!$A35),"") | M35: =IF($A35<=Paramètre!$B$2,SUMIFS(SMA_Suivi_étroit[Nb usagers],SMA_Suivi_étroit[Source.Name],'Suivi étroit'!M$10,SMA_Suivi_étroit[CA/Sous-CA],'Suivi étroit'!$A$27,SMA_Suivi_étroit[Période financière],'Suivi étroit'!$A35),"") | N35: =IF($A35<=Paramètre!$B$2,SUMIFS(SMA_Suivi_étroit[Nb distinct usagers / SCA],SMA_Suivi_étroit[Source.Name],'Suivi étroit'!M$10,SMA_Suivi_étroit[CA/Sous-CA],'Suivi étroit'!$A$27,SMA_Suivi_étroit[Période financière],'Suivi étroit'!$A35),"") | O35: =IF($A35<=Paramètre!$B$2,SUMIFS(SMA_Suivi_étroit[Nb usagers],SMA_Suivi_étroit[Source.Name],'Suivi étroit'!O$10,SMA_Suivi_étroit[CA/Sous-CA],'Suivi étroit'!$A$27,SMA_Suivi_étroit[Période financière],'Suivi étroit'!$A35),"") | P35: =IF($A35<=Paramètre!$B$2,SUMIFS(SMA_Suivi_étroit[Nb distinct usagers / SCA],SMA_Suivi_étroit[Source.Name],'Suivi étroit'!O$10,SMA_Suivi_étroit[CA/Sous-CA],'Suivi étroit'!$A$27,SMA_Suivi_étroit[Période financière],'Suivi étroit'!$A35),"") | Q35: =IF($A35<=Paramètre!$B$2,SUM(C35,E35,G35,I35,K35,M35,O35),"") | R35: =IF($A35<=Paramètre!$B$2,SUM(D35,F35,H35,J35,L35,N35,P35),"")
A36: 8 | B36: Période 8 | C36: =IF($A36<=Paramètre!$B$2,SUMIFS(SMA_Suivi_étroit[Nb usagers],SMA_Suivi_étroit[Source.Name],'Suivi étroit'!C$10,SMA_Suivi_étroit[CA/Sous-CA],'Suivi étroit'!$A$27,SMA_Suivi_étroit[Période financière],'Suivi étroit'!$A36),"") | D36: =IF($A36<=Paramètre!$B$2,SUMIFS(SMA_Suivi_étroit[Nb distinct usagers / SCA],SMA_Suivi_étroit[Source.Name],'Suivi étroit'!C$10,SMA_Suivi_étroit[CA/Sous-CA],'Suivi étroit'!$A$27,SMA_Suivi_étroit[Période financière],'Suivi étroit'!$A36),"") | E36: =IF($A36<=Paramètre!$B$2,SUMIFS(SMA_Suivi_étroit[Nb usagers],SMA_Suivi_étroit[Source.Name],'Suivi étroit'!E$10,SMA_Suivi_étroit[CA/Sous-CA],'Suivi étroit'!$A$27,SMA_Suivi_étroit[Période financière],'Suivi étroit'!$A36),"") | F36: =IF($A36<=Paramètre!$B$2,SUMIFS(SMA_Suivi_étroit[Nb distinct usagers / SCA],SMA_Suivi_étroit[Source.Name],'Suivi étroit'!E$10,SMA_Suivi_étroit[CA/Sous-CA],'Suivi étroit'!$A$27,SMA_Suivi_étroit[Période financière],'Suivi étroit'!$A36),"") | G36: =IF($A36<=Paramètre!$B$2,SUMIFS(SMA_Suivi_étroit[Nb usagers],SMA_Suivi_étroit[Source.Name],'Suivi étroit'!G$10,SMA_Suivi_étroit[CA/Sous-CA],'Suivi étroit'!$A$27,SMA_Suivi_étroit[Période financière],'Suivi étroit'!$A36),"") | H36: =IF($A36<=Paramètre!$B$2,SUMIFS(SMA_Suivi_étroit[Nb distinct usagers / SCA],SMA_Suivi_étroit[Source.Name],'Suivi étroit'!G$10,SMA_Suivi_étroit[CA/Sous-CA],'Suivi étroit'!$A$27,SMA_Suivi_étroit[Période financière],'Suivi étroit'!$A36),"") | I36: =IF($A36<=Paramètre!$B$2,SUMIFS(SMA_Suivi_étroit[Nb usagers],SMA_Suivi_étroit[Source.Name],'Suivi étroit'!I$10,SMA_Suivi_étroit[CA/Sous-CA],'Suivi étroit'!$A$27,SMA_Suivi_étroit[Période financière],'Suivi étroit'!$A36),"") | J36: =IF($A36<=Paramètre!$B$2,SUMIFS(SMA_Suivi_étroit[Nb distinct usagers / SCA],SMA_Suivi_étroit[Source.Name],'Suivi étroit'!I$10,SMA_Suivi_étroit[CA/Sous-CA],'Suivi étroit'!$A$27,SMA_Suivi_étroit[Période financière],'Suivi étroit'!$A36),"") | K36: =IF($A36<=Paramètre!$B$2,SUMIFS(SMA_Suivi_étroit[Nb usagers],SMA_Suivi_étroit[Source.Name],'Suivi étroit'!K$10,SMA_Suivi_étroit[CA/Sous-CA],'Suivi étroit'!$A$27,SMA_Suivi_étroit[Période financière],'Suivi étroit'!$A36),"") | L36: =IF($A36<=Paramètre!$B$2,SUMIFS(SMA_Suivi_étroit[Nb distinct usagers / SCA],SMA_Suivi_étroit[Source.Name],'Suivi étroit'!K$10,SMA_Suivi_étroit[CA/Sous-CA],'Suivi étroit'!$A$27,SMA_Suivi_étroit[Période financière],'Suivi étroit'!$A36),"") | M36: =IF($A36<=Paramètre!$B$2,SUMIFS(SMA_Suivi_étroit[Nb usagers],SMA_Suivi_étroit[Source.Name],'Suivi étroit'!M$10,SMA_Suivi_étroit[CA/Sous-CA],'Suivi étroit'!$A$27,SMA_Suivi_étroit[Période financière],'Suivi étroit'!$A36),"") | N36: =IF($A36<=Paramètre!$B$2,SUMIFS(SMA_Suivi_étroit[Nb distinct usagers / SCA],SMA_Suivi_étroit[Source.Name],'Suivi étroit'!M$10,SMA_Suivi_étroit[CA/Sous-CA],'Suivi étroit'!$A$27,SMA_Suivi_étroit[Période financière],'Suivi étroit'!$A36),"") | O36: =IF($A36<=Paramètre!$B$2,SUMIFS(SMA_Suivi_étroit[Nb usagers],SMA_Suivi_étroit[Source.Name],'Suivi étroit'!O$10,SMA_Suivi_étroit[CA/Sous-CA],'Suivi étroit'!$A$27,SMA_Suivi_étroit[Période financière],'Suivi étroit'!$A36),"") | P36: =IF($A36<=Paramètre!$B$2,SUMIFS(SMA_Suivi_étroit[Nb distinct usagers / SCA],SMA_Suivi_étroit[Source.Name],'Suivi étroit'!O$10,SMA_Suivi_étroit[CA/Sous-CA],'Suivi étroit'!$A$27,SMA_Suivi_étroit[Période financière],'Suivi étroit'!$A36),"") | Q36: =IF($A36<=Paramètre!$B$2,SUM(C36,E36,G36,I36,K36,M36,O36),"") | R36: =IF($A36<=Paramètre!$B$2,SUM(D36,F36,H36,J36,L36,N36,P36),"")
A37: 9 | B37: Période 9 | C37: =IF($A37<=Paramètre!$B$2,SUMIFS(SMA_Suivi_étroit[Nb usagers],SMA_Suivi_étroit[Source.Name],'Suivi étroit'!C$10,SMA_Suivi_étroit[CA/Sous-CA],'Suivi étroit'!$A$27,SMA_Suivi_étroit[Période financière],'Suivi étroit'!$A37),"") | D37: =IF($A37<=Paramètre!$B$2,SUMIFS(SMA_Suivi_étroit[Nb distinct usagers / SCA],SMA_Suivi_étroit[Source.Name],'Suivi étroit'!C$10,SMA_Suivi_étroit[CA/Sous-CA],'Suivi étroit'!$A$27,SMA_Suivi_étroit[Période financière],'Suivi étroit'!$A37),"") | E37: =IF($A37<=Paramètre!$B$2,SUMIFS(SMA_Suivi_étroit[Nb usagers],SMA_Suivi_étroit[Source.Name],'Suivi étroit'!E$10,SMA_Suivi_étroit[CA/Sous-CA],'Suivi étroit'!$A$27,SMA_Suivi_étroit[Période financière],'Suivi étroit'!$A37),"") | F37: =IF($A37<=Paramètre!$B$2,SUMIFS(SMA_Suivi_étroit[Nb distinct usagers / SCA],SMA_Suivi_étroit[Source.Name],'Suivi étroit'!E$10,SMA_Suivi_étroit[CA/Sous-CA],'Suivi étroit'!$A$27,SMA_Suivi_étroit[Période financière],'Suivi étroit'!$A37),"") | G37: =IF($A37<=Paramètre!$B$2,SUMIFS(SMA_Suivi_étroit[Nb usagers],SMA_Suivi_étroit[Source.Name],'Suivi étroit'!G$10,SMA_Suivi_étroit[CA/Sous-CA],'Suivi étroit'!$A$27,SMA_Suivi_étroit[Période financière],'Suivi étroit'!$A37),"") | H37: =IF($A37<=Paramètre!$B$2,SUMIFS(SMA_Suivi_étroit[Nb distinct usagers / SCA],SMA_Suivi_étroit[Source.Name],'Suivi étroit'!G$10,SMA_Suivi_étroit[CA/Sous-CA],'Suivi étroit'!$A$27,SMA_Suivi_étroit[Période financière],'Suivi étroit'!$A37),"") | I37: =IF($A37<=Paramètre!$B$2,SUMIFS(SMA_Suivi_étroit[Nb usagers],SMA_Suivi_étroit[Source.Name],'Suivi étroit'!I$10,SMA_Suivi_étroit[CA/Sous-CA],'Suivi étroit'!$A$27,SMA_Suivi_étroit[Période financière],'Suivi étroit'!$A37),"") | J37: =IF($A37<=Paramètre!$B$2,SUMIFS(SMA_Suivi_étroit[Nb distinct usagers / SCA],SMA_Suivi_étroit[Source.Name],'Suivi étroit'!I$10,SMA_Suivi_étroit[CA/Sous-CA],'Suivi étroit'!$A$27,SMA_Suivi_étroit[Période financière],'Suivi étroit'!$A37),"") | K37: =IF($A37<=Paramètre!$B$2,SUMIFS(SMA_Suivi_étroit[Nb usagers],SMA_Suivi_étroit[Source.Name],'Suivi étroit'!K$10,SMA_Suivi_étroit[CA/Sous-CA],'Suivi étroit'!$A$27,SMA_Suivi_étroit[Période financière],'Suivi étroit'!$A37),"") | L37: =IF($A37<=Paramètre!$B$2,SUMIFS(SMA_Suivi_étroit[Nb distinct usagers / SCA],SMA_Suivi_étroit[Source.Name],'Suivi étroit'!K$10,SMA_Suivi_étroit[CA/Sous-CA],'Suivi étroit'!$A$27,SMA_Suivi_étroit[Période financière],'Suivi étroit'!$A37),"") | M37: =IF($A37<=Paramètre!$B$2,SUMIFS(SMA_Suivi_étroit[Nb usagers],SMA_Suivi_étroit[Source.Name],'Suivi étroit'!M$10,SMA_Suivi_étroit[CA/Sous-CA],'Suivi étroit'!$A$27,SMA_Suivi_étroit[Période financière],'Suivi étroit'!$A37),"") | N37: =IF($A37<=Paramètre!$B$2,SUMIFS(SMA_Suivi_étroit[Nb distinct usagers / SCA],SMA_Suivi_étroit[Source.Name],'Suivi étroit'!M$10,SMA_Suivi_étroit[CA/Sous-CA],'Suivi étroit'!$A$27,SMA_Suivi_étroit[Période financière],'Suivi étroit'!$A37),"") | O37: =IF($A37<=Paramètre!$B$2,SUMIFS(SMA_Suivi_étroit[Nb usagers],SMA_Suivi_étroit[Source.Name],'Suivi étroit'!O$10,SMA_Suivi_étroit[CA/Sous-CA],'Suivi étroit'!$A$27,SMA_Suivi_étroit[Période financière],'Suivi étroit'!$A37),"") | P37: =IF($A37<=Paramètre!$B$2,SUMIFS(SMA_Suivi_étroit[Nb distinct usagers / SCA],SMA_Suivi_étroit[Source.Name],'Suivi étroit'!O$10,SMA_Suivi_étroit[CA/Sous-CA],'Suivi étroit'!$A$27,SMA_Suivi_étroit[Période financière],'Suivi étroit'!$A37),"") | Q37: =IF($A37<=Paramètre!$B$2,SUM(C37,E37,G37,I37,K37,M37,O37),"") | R37: =IF($A37<=Paramètre!$B$2,SUM(D37,F37,H37,J37,L37,N37,P37),"")
A38: 10 | B38: Période 10 | C38: =IF($A38<=Paramètre!$B$2,SUMIFS(SMA_Suivi_étroit[Nb usagers],SMA_Suivi_étroit[Source.Name],'Suivi étroit'!C$10,SMA_Suivi_étroit[CA/Sous-CA],'Suivi étroit'!$A$27,SMA_Suivi_étroit[Période financière],'Suivi étroit'!$A38),"") | D38: =IF($A38<=Paramètre!$B$2,SUMIFS(SMA_Suivi_étroit[Nb distinct usagers / SCA],SMA_Suivi_étroit[Source.Name],'Suivi étroit'!C$10,SMA_Suivi_étroit[CA/Sous-CA],'Suivi étroit'!$A$27,SMA_Suivi_étroit[Période financière],'Suivi étroit'!$A38),"") | E38: =IF($A38<=Paramètre!$B$2,SUMIFS(SMA_Suivi_étroit[Nb usagers],SMA_Suivi_étroit[Source.Name],'Suivi étroit'!E$10,SMA_Suivi_étroit[CA/Sous-CA],'Suivi étroit'!$A$27,SMA_Suivi_étroit[Période financière],'Suivi étroit'!$A38),"") | F38: =IF($A38<=Paramètre!$B$2,SUMIFS(SMA_Suivi_étroit[Nb distinct usagers / SCA],SMA_Suivi_étroit[Source.Name],'Suivi étroit'!E$10,SMA_Suivi_étroit[CA/Sous-CA],'Suivi étroit'!$A$27,SMA_Suivi_étroit[Période financière],'Suivi étroit'!$A38),"") | G38: =IF($A38<=Paramètre!$B$2,SUMIFS(SMA_Suivi_étroit[Nb usagers],SMA_Suivi_étroit[Source.Name],'Suivi étroit'!G$10,SMA_Suivi_étroit[CA/Sous-CA],'Suivi étroit'!$A$27,SMA_Suivi_étroit[Période financière],'Suivi étroit'!$A38),"") | H38: =IF($A38<=Paramètre!$B$2,SUMIFS(SMA_Suivi_étroit[Nb distinct usagers / SCA],SMA_Suivi_étroit[Source.Name],'Suivi étroit'!G$10,SMA_Suivi_étroit[CA/Sous-CA],'Suivi étroit'!$A$27,SMA_Suivi_étroit[Période financière],'Suivi étroit'!$A38),"") | I38: =IF($A38<=Paramètre!$B$2,SUMIFS(SMA_Suivi_étroit[Nb usagers],SMA_Suivi_étroit[Source.Name],'Suivi étroit'!I$10,SMA_Suivi_étroit[CA/Sous-CA],'Suivi étroit'!$A$27,SMA_Suivi_étroit[Période financière],'Suivi étroit'!$A38),"") | J38: =IF($A38<=Paramètre!$B$2,SUMIFS(SMA_Suivi_étroit[Nb distinct usagers / SCA],SMA_Suivi_étroit[Source.Name],'Suivi étroit'!I$10,SMA_Suivi_étroit[CA/Sous-CA],'Suivi étroit'!$A$27,SMA_Suivi_étroit[Période financière],'Suivi étroit'!$A38),"") | K38: =IF($A38<=Paramètre!$B$2,SUMIFS(SMA_Suivi_étroit[Nb usagers],SMA_Suivi_étroit[Source.Name],'Suivi étroit'!K$10,SMA_Suivi_étroit[CA/Sous-CA],'Suivi étroit'!$A$27,SMA_Suivi_étroit[Période financière],'Suivi étroit'!$A38),"") | L38: =IF($A38<=Paramètre!$B$2,SUMIFS(SMA_Suivi_étroit[Nb distinct usagers / SCA],SMA_Suivi_étroit[Source.Name],'Suivi étroit'!K$10,SMA_Suivi_étroit[CA/Sous-CA],'Suivi étroit'!$A$27,SMA_Suivi_étroit[Période financière],'Suivi étroit'!$A38),"") | M38: =IF($A38<=Paramètre!$B$2,SUMIFS(SMA_Suivi_étroit[Nb usagers],SMA_Suivi_étroit[Source.Name],'Suivi étroit'!M$10,SMA_Suivi_étroit[CA/Sous-CA],'Suivi étroit'!$A$27,SMA_Suivi_étroit[Période financière],'Suivi étroit'!$A38),"") | N38: =IF($A38<=Paramètre!$B$2,SUMIFS(SMA_Suivi_étroit[Nb distinct usagers / SCA],SMA_Suivi_étroit[Source.Name],'Suivi étroit'!M$10,SMA_Suivi_étroit[CA/Sous-CA],'Suivi étroit'!$A$27,SMA_Suivi_étroit[Période financière],'Suivi étroit'!$A38),"") | O38: =IF($A38<=Paramètre!$B$2,SUMIFS(SMA_Suivi_étroit[Nb usagers],SMA_Suivi_étroit[Source.Name],'Suivi étroit'!O$10,SMA_Suivi_étroit[CA/Sous-CA],'Suivi étroit'!$A$27,SMA_Suivi_étroit[Période financière],'Suivi étroit'!$A38),"") | P38: =IF($A38<=Paramètre!$B$2,SUMIFS(SMA_Suivi_étroit[Nb distinct usagers / SCA],SMA_Suivi_étroit[Source.Name],'Suivi étroit'!O$10,SMA_Suivi_étroit[CA/Sous-CA],'Suivi étroit'!$A$27,SMA_Suivi_étroit[Période financière],'Suivi étroit'!$A38),"") | Q38: =IF($A38<=Paramètre!$B$2,SUM(C38,E38,G38,I38,K38,M38,O38),"") | R38: =IF($A38<=Paramètre!$B$2,SUM(D38,F38,H38,J38,L38,N38,P38),"")
A39: 11 | B39: Période 11 | C39: =IF($A39<=Paramètre!$B$2,SUMIFS(SMA_Suivi_étroit[Nb usagers],SMA_Suivi_étroit[Source.Name],'Suivi étroit'!C$10,SMA_Suivi_étroit[CA/Sous-CA],'Suivi étroit'!$A$27,SMA_Suivi_étroit[Période financière],'Suivi étroit'!$A39),"") | D39: =IF($A39<=Paramètre!$B$2,SUMIFS(SMA_Suivi_étroit[Nb distinct usagers / SCA],SMA_Suivi_étroit[Source.Name],'Suivi étroit'!C$10,SMA_Suivi_étroit[CA/Sous-CA],'Suivi étroit'!$A$27,SMA_Suivi_étroit[Période financière],'Suivi étroit'!$A39),"") | E39: =IF($A39<=Paramètre!$B$2,SUMIFS(SMA_Suivi_étroit[Nb usagers],SMA_Suivi_étroit[Source.Name],'Suivi étroit'!E$10,SMA_Suivi_étroit[CA/Sous-CA],'Suivi étroit'!$A$27,SMA_Suivi_étroit[Période financière],'Suivi étroit'!$A39),"") | F39: =IF($A39<=Paramètre!$B$2,SUMIFS(SMA_Suivi_étroit[Nb distinct usagers / SCA],SMA_Suivi_étroit[Source.Name],'Suivi étroit'!E$10,SMA_Suivi_étroit[CA/Sous-CA],'Suivi étroit'!$A$27,SMA_Suivi_étroit[Période financière],'Suivi étroit'!$A39),"") | G39: =IF($A39<=Paramètre!$B$2,SUMIFS(SMA_Suivi_étroit[Nb usagers],SMA_Suivi_étroit[Source.Name],'Suivi étroit'!G$10,SMA_Suivi_étroit[CA/Sous-CA],'Suivi étroit'!$A$27,SMA_Suivi_étroit[Période financière],'Suivi étroit'!$A39),"") | H39: =IF($A39<=Paramètre!$B$2,SUMIFS(SMA_Suivi_étroit[Nb distinct usagers / SCA],SMA_Suivi_étroit[Source.Name],'Suivi étroit'!G$10,SMA_Suivi_étroit[CA/Sous-CA],'Suivi étroit'!$A$27,SMA_Suivi_étroit[Période financière],'Suivi étroit'!$A39),"") | I39: =IF($A39<=Paramètre!$B$2,SUMIFS(SMA_Suivi_étroit[Nb usagers],SMA_Suivi_étroit[Source.Name],'Suivi étroit'!I$10,SMA_Suivi_étroit[CA/Sous-CA],'Suivi étroit'!$A$27,SMA_Suivi_étroit[Période financière],'Suivi étroit'!$A39),"") | J39: =IF($A39<=Paramètre!$B$2,SUMIFS(SMA_Suivi_étroit[Nb distinct usagers / SCA],SMA_Suivi_étroit[Source.Name],'Suivi étroit'!I$10,SMA_Suivi_étroit[CA/Sous-CA],'Suivi étroit'!$A$27,SMA_Suivi_étroit[Période financière],'Suivi étroit'!$A39),"") | K39: =IF($A39<=Paramètre!$B$2,SUMIFS(SMA_Suivi_étroit[Nb usagers],SMA_Suivi_étroit[Source.Name],'Suivi étroit'!K$10,SMA_Suivi_étroit[CA/Sous-CA],'Suivi étroit'!$A$27,SMA_Suivi_étroit[Période financière],'Suivi étroit'!$A39),"") | L39: =IF($A39<=Paramètre!$B$2,SUMIFS(SMA_Suivi_étroit[Nb distinct usagers / SCA],SMA_Suivi_étroit[Source.Name],'Suivi étroit'!K$10,SMA_Suivi_étroit[CA/Sous-CA],'Suivi étroit'!$A$27,SMA_Suivi_étroit[Période financière],'Suivi étroit'!$A39),"") | M39: =IF($A39<=Paramètre!$B$2,SUMIFS(SMA_Suivi_étroit[Nb usagers],SMA_Suivi_étroit[Source.Name],'Suivi étroit'!M$10,SMA_Suivi_étroit[CA/Sous-CA],'Suivi étroit'!$A$27,SMA_Suivi_étroit[Période financière],'Suivi étroit'!$A39),"") | N39: =IF($A39<=Paramètre!$B$2,SUMIFS(SMA_Suivi_étroit[Nb distinct usagers / SCA],SMA_Suivi_étroit[Source.Name],'Suivi étroit'!M$10,SMA_Suivi_étroit[CA/Sous-CA],'Suivi étroit'!$A$27,SMA_Suivi_étroit[Période financière],'Suivi étroit'!$A39),"") | O39: =IF($A39<=Paramètre!$B$2,SUMIFS(SMA_Suivi_étroit[Nb usagers],SMA_Suivi_étroit[Source.Name],'Suivi étroit'!O$10,SMA_Suivi_étroit[CA/Sous-CA],'Suivi étroit'!$A$27,SMA_Suivi_étroit[Période financière],'Suivi étroit'!$A39),"") | P39: =IF($A39<=Paramètre!$B$2,SUMIFS(SMA_Suivi_étroit[Nb distinct usagers / SCA],SMA_Suivi_étroit[Source.Name],'Suivi étroit'!O$10,SMA_Suivi_étroit[CA/Sous-CA],'Suivi étroit'!$A$27,SMA_Suivi_étroit[Période financière],'Suivi étroit'!$A39),"") | Q39: =IF($A39<=Paramètre!$B$2,SUM(C39,E39,G39,I39,K39,M39,O39),"") | R39: =IF($A39<=Paramètre!$B$2,SUM(D39,F39,H39,J39,L39,N39,P39),"")
A40: 12 | B40: Période 12 | C40: =IF($A40<=Paramètre!$B$2,SUMIFS(SMA_Suivi_étroit[Nb usagers],SMA_Suivi_étroit[Source.Name],'Suivi étroit'!C$10,SMA_Suivi_étroit[CA/Sous-CA],'Suivi étroit'!$A$27,SMA_Suivi_étroit[Période financière],'Suivi étroit'!$A40),"") | D40: =IF($A40<=Paramètre!$B$2,SUMIFS(SMA_Suivi_étroit[Nb distinct usagers / SCA],SMA_Suivi_étroit[Source.Name],'Suivi étroit'!C$10,SMA_Suivi_étroit[CA/Sous-CA],'Suivi étroit'!$A$27,SMA_Suivi_étroit[Période financière],'Suivi étroit'!$A40),"") | E40: =IF($A40<=Paramètre!$B$2,SUMIFS(SMA_Suivi_étroit[Nb usagers],SMA_Suivi_étroit[Source.Name],'Suivi étroit'!E$10,SMA_Suivi_étroit[CA/Sous-CA],'Suivi étroit'!$A$27,SMA_Suivi_étroit[Période financière],'Suivi étroit'!$A40),"") | F40: =IF($A40<=Paramètre!$B$2,SUMIFS(SMA_Suivi_étroit[Nb distinct usagers / SCA],SMA_Suivi_étroit[Source.Name],'Suivi étroit'!E$10,SMA_Suivi_étroit[CA/Sous-CA],'Suivi étroit'!$A$27,SMA_Suivi_étroit[Période financière],'Suivi étroit'!$A40),"") | G40: =IF($A40<=Paramètre!$B$2,SUMIFS(SMA_Suivi_étroit[Nb usagers],SMA_Suivi_étroit[Source.Name],'Suivi étroit'!G$10,SMA_Suivi_étroit[CA/Sous-CA],'Suivi étroit'!$A$27,SMA_Suivi_étroit[Période financière],'Suivi étroit'!$A40),"") | H40: =IF($A40<=Paramètre!$B$2,SUMIFS(SMA_Suivi_étroit[Nb distinct usagers / SCA],SMA_Suivi_étroit[Source.Name],'Suivi étroit'!G$10,SMA_Suivi_étroit[CA/Sous-CA],'Suivi étroit'!$A$27,SMA_Suivi_étroit[Période financière],'Suivi étroit'!$A40),"") | I40: =IF($A40<=Paramètre!$B$2,SUMIFS(SMA_Suivi_étroit[Nb usagers],SMA_Suivi_étroit[Source.Name],'Suivi étroit'!I$10,SMA_Suivi_étroit[CA/Sous-CA],'Suivi étroit'!$A$27,SMA_Suivi_étroit[Période financière],'Suivi étroit'!$A40),"") | J40: =IF($A40<=Paramètre!$B$2,SUMIFS(SMA_Suivi_étroit[Nb distinct usagers / SCA],SMA_Suivi_étroit[Source.Name],'Suivi étroit'!I$10,SMA_Suivi_étroit[CA/Sous-CA],'Suivi étroit'!$A$27,SMA_Suivi_étroit[Période financière],'Suivi étroit'!$A40),"") | K40: =IF($A40<=Paramètre!$B$2,SUMIFS(SMA_Suivi_étroit[Nb usagers],SMA_Suivi_étroit[Source.Name],'Suivi étroit'!K$10,SMA_Suivi_étroit[CA/Sous-CA],'Suivi étroit'!$A$27,SMA_Suivi_étroit[Période financière],'Suivi étroit'!$A40),"") | L40: =IF($A40<=Paramètre!$B$2,SUMIFS(SMA_Suivi_étroit[Nb distinct usagers / SCA],SMA_Suivi_étroit[Source.Name],'Suivi étroit'!K$10,SMA_Suivi_étroit[CA/Sous-CA],'Suivi étroit'!$A$27,SMA_Suivi_étroit[Période financière],'Suivi étroit'!$A40),"") | M40: =IF($A40<=Paramètre!$B$2,SUMIFS(SMA_Suivi_étroit[Nb usagers],SMA_Suivi_étroit[Source.Name],'Suivi étroit'!M$10,SMA_Suivi_étroit[CA/Sous-CA],'Suivi étroit'!$A$27,SMA_Suivi_étroit[Période financière],'Suivi étroit'!$A40),"") | N40: =IF($A40<=Paramètre!$B$2,SUMIFS(SMA_Suivi_étroit[Nb distinct usagers / SCA],SMA_Suivi_étroit[Source.Name],'Suivi étroit'!M$10,SMA_Suivi_étroit[CA/Sous-CA],'Suivi étroit'!$A$27,SMA_Suivi_étroit[Période financière],'Suivi étroit'!$A40),"") | O40: =IF($A40<=Paramètre!$B$2,SUMIFS(SMA_Suivi_étroit[Nb usagers],SMA_Suivi_étroit[Source.Name],'Suivi étroit'!O$10,SMA_Suivi_étroit[CA/Sous-CA],'Suivi étroit'!$A$27,SMA_Suivi_étroit[Période financière],'Suivi étroit'!$A40),"") | P40: =IF($A40<=Paramètre!$B$2,SUMIFS(SMA_Suivi_étroit[Nb distinct usagers / SCA],SMA_Suivi_étroit[Source.Name],'Suivi étroit'!O$10,SMA_Suivi_étroit[CA/Sous-CA],'Suivi étroit'!$A$27,SMA_Suivi_étroit[Période financière],'Suivi étroit'!$A40),"") | Q40: =IF($A40<=Paramètre!$B$2,SUM(C40,E40,G40,I40,K40,M40,O40),"") | R40: =IF($A40<=Paramètre!$B$2,SUM(D40,F40,H40,J40,L40,N40,P40),"")
A41: 13 | B41: Période 13 | C41: =IF($A41<=Paramètre!$B$2,SUMIFS(SMA_Suivi_étroit[Nb usagers],SMA_Suivi_étroit[Source.Name],'Suivi étroit'!C$10,SMA_Suivi_étroit[CA/Sous-CA],'Suivi étroit'!$A$27,SMA_Suivi_étroit[Période financière],'Suivi étroit'!$A41),"") | D41: =IF($A41<=Paramètre!$B$2,SUMIFS(SMA_Suivi_étroit[Nb distinct usagers / SCA],SMA_Suivi_étroit[Source.Name],'Suivi étroit'!C$10,SMA_Suivi_étroit[CA/Sous-CA],'Suivi étroit'!$A$27,SMA_Suivi_étroit[Période financière],'Suivi étroit'!$A41),"") | E41: =IF($A41<=Paramètre!$B$2,SUMIFS(SMA_Suivi_étroit[Nb usagers],SMA_Suivi_étroit[Source.Name],'Suivi étroit'!E$10,SMA_Suivi_étroit[CA/Sous-CA],'Suivi étroit'!$A$27,SMA_Suivi_étroit[Période financière],'Suivi étroit'!$A41),"") | F41: =IF($A41<=Paramètre!$B$2,SUMIFS(SMA_Suivi_étroit[Nb distinct usagers / SCA],SMA_Suivi_étroit[Source.Name],'Suivi étroit'!E$10,SMA_Suivi_étroit[CA/Sous-CA],'Suivi étroit'!$A$27,SMA_Suivi_étroit[Période financière],'Suivi étroit'!$A41),"") | G41: =IF($A41<=Paramètre!$B$2,SUMIFS(SMA_Suivi_étroit[Nb usagers],SMA_Suivi_étroit[Source.Name],'Suivi étroit'!G$10,SMA_Suivi_étroit[CA/Sous-CA],'Suivi étroit'!$A$27,SMA_Suivi_étroit[Période financière],'Suivi étroit'!$A41),"") | H41: =IF($A41<=Paramètre!$B$2,SUMIFS(SMA_Suivi_étroit[Nb distinct usagers / SCA],SMA_Suivi_étroit[Source.Name],'Suivi étroit'!G$10,SMA_Suivi_étroit[CA/Sous-CA],'Suivi étroit'!$A$27,SMA_Suivi_étroit[Période financière],'Suivi étroit'!$A41),"") | I41: =IF($A41<=Paramètre!$B$2,SUMIFS(SMA_Suivi_étroit[Nb usagers],SMA_Suivi_étroit[Source.Name],'Suivi étroit'!I$10,SMA_Suivi_étroit[CA/Sous-CA],'Suivi étroit'!$A$27,SMA_Suivi_étroit[Période financière],'Suivi étroit'!$A41),"") | J41: =IF($A41<=Paramètre!$B$2,SUMIFS(SMA_Suivi_étroit[Nb distinct usagers / SCA],SMA_Suivi_étroit[Source.Name],'Suivi étroit'!I$10,SMA_Suivi_étroit[CA/Sous-CA],'Suivi étroit'!$A$27,SMA_Suivi_étroit[Période financière],'Suivi étroit'!$A41),"") | K41: =IF($A41<=Paramètre!$B$2,SUMIFS(SMA_Suivi_étroit[Nb usagers],SMA_Suivi_étroit[Source.Name],'Suivi étroit'!K$10,SMA_Suivi_étroit[CA/Sous-CA],'Suivi étroit'!$A$27,SMA_Suivi_étroit[Période financière],'Suivi étroit'!$A41),"") | L41: =IF($A41<=Paramètre!$B$2,SUMIFS(SMA_Suivi_étroit[Nb distinct usagers / SCA],SMA_Suivi_étroit[Source.Name],'Suivi étroit'!K$10,SMA_Suivi_étroit[CA/Sous-CA],'Suivi étroit'!$A$27,SMA_Suivi_étroit[Période financière],'Suivi étroit'!$A41),"") | M41: =IF($A41<=Paramètre!$B$2,SUMIFS(SMA_Suivi_étroit[Nb usagers],SMA_Suivi_étroit[Source.Name],'Suivi étroit'!M$10,SMA_Suivi_étroit[CA/Sous-CA],'Suivi étroit'!$A$27,SMA_Suivi_étroit[Période financière],'Suivi étroit'!$A41),"") | N41: =IF($A41<=Paramètre!$B$2,SUMIFS(SMA_Suivi_étroit[Nb distinct usagers / SCA],SMA_Suivi_étroit[Source.Name],'Suivi étroit'!M$10,SMA_Suivi_étroit[CA/Sous-CA],'Suivi étroit'!$A$27,SMA_Suivi_étroit[Période financière],'Suivi étroit'!$A41),"") | O41: =IF($A41<=Paramètre!$B$2,SUMIFS(SMA_Suivi_étroit[Nb usagers],SMA_Suivi_étroit[Source.Name],'Suivi étroit'!O$10,SMA_Suivi_étroit[CA/Sous-CA],'Suivi étroit'!$A$27,SMA_Suivi_étroit[Période financière],'Suivi étroit'!$A41),"") | P41: =IF($A41<=Paramètre!$B$2,SUMIFS(SMA_Suivi_étroit[Nb distinct usagers / SCA],SMA_Suivi_étroit[Source.Name],'Suivi étroit'!O$10,SMA_Suivi_étroit[CA/Sous-CA],'Suivi étroit'!$A$27,SMA_Suivi_étroit[Période financière],'Suivi étroit'!$A41),"") | Q41: =IF($A41<=Paramètre!$B$2,SUM(C41,E41,G41,I41,K41,M41,O41),"") | R41: =IF($A41<=Paramètre!$B$2,SUM(D41,F41,H41,J41,L41,N41,P41),"")
B42: Cumulatif | C42: =SUM(C29:C41) -> 0 | D42: =SUM(D29:D41) -> 0 | E42: =SUM(E29:E41) -> 0 | F42: =SUM(F29:F41) -> 0 | G42: =SUM(G29:G41) -> 0 | H42: =SUM(H29:H41) -> 0 | I42: =SUM(I29:I41) -> 0 | J42: =SUM(J29:J41) -> 0 | ... R42: =SUM(R29:R41) -> 0
A44: 5933 | B44: Services spécifiques SMJ | C44: AL | E44: ARG | G44: SOM | I44: LDDM | K44: PDH | M44: STJ | O44: TDB | Q44: CISSS
C45: Us diff. | D45: Interv. | E45: Us diff. | F45: Interv. | G45: Us diff. | H45: Interv. | I45: Us diff. | J45: Interv. | K45: Us diff. | L45: Interv. | M45: Us diff. | N45: Interv. | O45: Us diff. | P45: Interv. | Q45: Us diff. | R45: Interv.
A46: 1 | B46: Période 1 | C46: =IF($A46<=Paramètre!$B$2,SUMIFS(SMA_Suivi_étroit[Nb usagers],SMA_Suivi_étroit[Source.Name],'Suivi étroit'!C$10,SMA_Suivi_étroit[CA/Sous-CA],'Suivi étroit'!$A$44,SMA_Suivi_étroit[Période financière],'Suivi étroit'!$A46),"") -> 0 | D46: =IF($A46<=Paramètre!$B$2,SUMIFS(SMA_Suivi_étroit[Nb interv],SMA_Suivi_étroit[Source.Name],'Suivi étroit'!C$10,SMA_Suivi_étroit[CA/Sous-CA],'Suivi étroit'!$A$44,SMA_Suivi_étroit[Période financière],'Suivi étroit'!$A46),"") -> 0 | E46: =IF($A46<=Paramètre!$B$2,SUMIFS(SMA_Suivi_étroit[Nb usagers],SMA_Suivi_étroit[Source.Name],'Suivi étroit'!E$10,SMA_Suivi_étroit[CA/Sous-CA],'Suivi étroit'!$A$44,SMA_Suivi_étroit[Période financière],'Suivi étroit'!$A46),"") -> 0 | F46: =IF($A46<=Paramètre!$B$2,SUMIFS(SMA_Suivi_étroit[Nb interv],SMA_Suivi_étroit[Source.Name],'Suivi étroit'!E$10,SMA_Suivi_étroit[CA/Sous-CA],'Suivi étroit'!$A$44,SMA_Suivi_étroit[Période financière],'Suivi étroit'!$A46),"") -> 0 | G46: =IF($A46<=Paramètre!$B$2,SUMIFS(SMA_Suivi_étroit[Nb usagers],SMA_Suivi_étroit[Source.Name],'Suivi étroit'!G$10,SMA_Suivi_étroit[CA/Sous-CA],'Suivi étroit'!$A$44,SMA_Suivi_étroit[Période financière],'Suivi étroit'!$A46),"") -> 0 | H46: =IF($A46<=Paramètre!$B$2,SUMIFS(SMA_Suivi_étroit[Nb interv],SMA_Suivi_étroit[Source.Name],'Suivi étroit'!G$10,SMA_Suivi_étroit[CA/Sous-CA],'Suivi étroit'!$A$44,SMA_Suivi_étroit[Période financière],'Suivi étroit'!$A46),"") -> 0 | I46: =IF($A46<=Paramètre!$B$2,SUMIFS(SMA_Suivi_étroit[Nb usagers],SMA_Suivi_étroit[Source.Name],'Suivi étroit'!I$10,SMA_Suivi_étroit[CA/Sous-CA],'Suivi étroit'!$A$44,SMA_Suivi_étroit[Période financière],'Suivi étroit'!$A46),"") -> 0 | J46: =IF($A46<=Paramètre!$B$2,SUMIFS(SMA_Suivi_étroit[Nb interv],SMA_Suivi_étroit[Source.Name],'Suivi étroit'!I$10,SMA_Suivi_étroit[CA/Sous-CA],'Suivi étroit'!$A$44,SMA_Suivi_étroit[Période financière],'Suivi étroit'!$A46),"") -> 0 | K46: =IF($A46<=Paramètre!$B$2,SUMIFS(SMA_Suivi_étroit[Nb usagers],SMA_Suivi_étroit[Source.Name],'Suivi étroit'!K$10,SMA_Suivi_étroit[CA/Sous-CA],'Suivi étroit'!$A$44,SMA_Suivi_étroit[Période financière],'Suivi étroit'!$A46),"") -> 0 | L46: =IF($A46<=Paramètre!$B$2,SUMIFS(SMA_Suivi_étroit[Nb interv],SMA_Suivi_étroit[Source.Name],'Suivi étroit'!K$10,SMA_Suivi_étroit[CA/Sous-CA],'Suivi étroit'!$A$44,SMA_Suivi_étroit[Période financière],'Suivi étroit'!$A46),"") -> 0 | M46: =IF($A46<=Paramètre!$B$2,SUMIFS(SMA_Suivi_étroit[Nb usagers],SMA_Suivi_étroit[Source.Name],'Suivi étroit'!M$10,SMA_Suivi_étroit[CA/Sous-CA],'Suivi étroit'!$A$44,SMA_Suivi_étroit[Période financière],'Suivi étroit'!$A46),"") -> 0 | N46: =IF($A46<=Paramètre!$B$2,SUMIFS(SMA_Suivi_étroit[Nb interv],SMA_Suivi_étroit[Source.Name],'Suivi étroit'!M$10,SMA_Suivi_étroit[CA/Sous-CA],'Suivi étroit'!$A$44,SMA_Suivi_étroit[Période financière],'Suivi étroit'!$A46),"") -> 0 | O46: =IF($A46<=Paramètre!$B$2,SUMIFS(SMA_Suivi_étroit[Nb usagers],SMA_Suivi_étroit[Source.Name],'Suivi étroit'!O$10,SMA_Suivi_étroit[CA/Sous-CA],'Suivi étroit'!$A$44,SMA_Suivi_étroit[Période financière],'Suivi étroit'!$A46),"") -> 0 | P46: =IF($A46<=Paramètre!$B$2,SUMIFS(SMA_Suivi_étroit[Nb interv],SMA_Suivi_étroit[Source.Name],'Suivi étroit'!O$10,SMA_Suivi_étroit[CA/Sous-CA],'Suivi étroit'!$A$44,SMA_Suivi_étroit[Période financière],'Suivi étroit'!$A46),"") -> 0 | Q46: =IF($A46<=Paramètre!$B$2,SUM(C46,E46,G46,I46,K46,M46,O46),"") -> 0 | R46: =IF($A46<=Paramètre!$B$2,SUM(D46,F46,H46,J46,L46,N46,P46),"") -> 0
A47: 2 | B47: Période 2 | C47: =IF($A47<=Paramètre!$B$2,SUMIFS(SMA_Suivi_étroit[Nb usagers],SMA_Suivi_étroit[Source.Name],'Suivi étroit'!C$10,SMA_Suivi_étroit[CA/Sous-CA],'Suivi étroit'!$A$44,SMA_Suivi_étroit[Période financière],'Suivi étroit'!$A47),"") | D47: =IF($A47<=Paramètre!$B$2,SUMIFS(SMA_Suivi_étroit[Nb interv],SMA_Suivi_étroit[Source.Name],'Suivi étroit'!C$10,SMA_Suivi_étroit[CA/Sous-CA],'Suivi étroit'!$A$44,SMA_Suivi_étroit[Période financière],'Suivi étroit'!$A47),"") | E47: =IF($A47<=Paramètre!$B$2,SUMIFS(SMA_Suivi_étroit[Nb usagers],SMA_Suivi_étroit[Source.Name],'Suivi étroit'!E$10,SMA_Suivi_étroit[CA/Sous-CA],'Suivi étroit'!$A$44,SMA_Suivi_étroit[Période financière],'Suivi étroit'!$A47),"") | F47: =IF($A47<=Paramètre!$B$2,SUMIFS(SMA_Suivi_étroit[Nb interv],SMA_Suivi_étroit[Source.Name],'Suivi étroit'!E$10,SMA_Suivi_étroit[CA/Sous-CA],'Suivi étroit'!$A$44,SMA_Suivi_étroit[Période financière],'Suivi étroit'!$A47),"") | G47: =IF($A47<=Paramètre!$B$2,SUMIFS(SMA_Suivi_étroit[Nb usagers],SMA_Suivi_étroit[Source.Name],'Suivi étroit'!G$10,SMA_Suivi_étroit[CA/Sous-CA],'Suivi étroit'!$A$44,SMA_Suivi_étroit[Période financière],'Suivi étroit'!$A47),"") | H47: =IF($A47<=Paramètre!$B$2,SUMIFS(SMA_Suivi_étroit[Nb interv],SMA_Suivi_étroit[Source.Name],'Suivi étroit'!G$10,SMA_Suivi_étroit[CA/Sous-CA],'Suivi étroit'!$A$44,SMA_Suivi_étroit[Période financière],'Suivi étroit'!$A47),"") | I47: =IF($A47<=Paramètre!$B$2,SUMIFS(SMA_Suivi_étroit[Nb usagers],SMA_Suivi_étroit[Source.Name],'Suivi étroit'!I$10,SMA_Suivi_étroit[CA/Sous-CA],'Suivi étroit'!$A$44,SMA_Suivi_étroit[Période financière],'Suivi étroit'!$A47),"") | J47: =IF($A47<=Paramètre!$B$2,SUMIFS(SMA_Suivi_étroit[Nb interv],SMA_Suivi_étroit[Source.Name],'Suivi étroit'!I$10,SMA_Suivi_étroit[CA/Sous-CA],'Suivi étroit'!$A$44,SMA_Suivi_étroit[Période financière],'Suivi étroit'!$A47),"") | K47: =IF($A47<=Paramètre!$B$2,SUMIFS(SMA_Suivi_étroit[Nb usagers],SMA_Suivi_étroit[Source.Name],'Suivi étroit'!K$10,SMA_Suivi_étroit[CA/Sous-CA],'Suivi étroit'!$A$44,SMA_Suivi_étroit[Période financière],'Suivi étroit'!$A47),"") | L47: =IF($A47<=Paramètre!$B$2,SUMIFS(SMA_Suivi_étroit[Nb interv],SMA_Suivi_étroit[Source.Name],'Suivi étroit'!K$10,SMA_Suivi_étroit[CA/Sous-CA],'Suivi étroit'!$A$44,SMA_Suivi_étroit[Période financière],'Suivi étroit'!$A47),"") | M47: =IF($A47<=Paramètre!$B$2,SUMIFS(SMA_Suivi_étroit[Nb usagers],SMA_Suivi_étroit[Source.Name],'Suivi étroit'!M$10,SMA_Suivi_étroit[CA/Sous-CA],'Suivi étroit'!$A$44,SMA_Suivi_étroit[Période financière],'Suivi étroit'!$A47),"") | N47: =IF($A47<=Paramètre!$B$2,SUMIFS(SMA_Suivi_étroit[Nb interv],SMA_Suivi_étroit[Source.Name],'Suivi étroit'!M$10,SMA_Suivi_étroit[CA/Sous-CA],'Suivi étroit'!$A$44,SMA_Suivi_étroit[Période financière],'Suivi étroit'!$A47),"") | O47: =IF($A47<=Paramètre!$B$2,SUMIFS(SMA_Suivi_étroit[Nb usagers],SMA_Suivi_étroit[Source.Name],'Suivi étroit'!O$10,SMA_Suivi_étroit[CA/Sous-CA],'Suivi étroit'!$A$44,SMA_Suivi_étroit[Période financière],'Suivi étroit'!$A47),"") | P47: =IF($A47<=Paramètre!$B$2,SUMIFS(SMA_Suivi_étroit[Nb interv],SMA_Suivi_étroit[Source.Name],'Suivi étroit'!O$10,SMA_Suivi_étroit[CA/Sous-CA],'Suivi étroit'!$A$44,SMA_Suivi_étroit[Période financière],'Suivi étroit'!$A47),"") | Q47: =IF($A47<=Paramètre!$B$2,SUM(C47,E47,G47,I47,K47,M47,O47),"") | R47: =IF($A47<=Paramètre!$B$2,SUM(D47,F47,H47,J47,L47,N47,P47),"")
A48: 3 | B48: Période 3 | C48: =IF($A48<=Paramètre!$B$2,SUMIFS(SMA_Suivi_étroit[Nb usagers],SMA_Suivi_étroit[Source.Name],'Suivi étroit'!C$10,SMA_Suivi_étroit[CA/Sous-CA],'Suivi étroit'!$A$44,SMA_Suivi_étroit[Période financière],'Suivi étroit'!$A48),"") | D48: =IF($A48<=Paramètre!$B$2,SUMIFS(SMA_Suivi_étroit[Nb interv],SMA_Suivi_étroit[Source.Name],'Suivi étroit'!C$10,SMA_Suivi_étroit[CA/Sous-CA],'Suivi étroit'!$A$44,SMA_Suivi_étroit[Période financière],'Suivi étroit'!$A48),"") | E48: =IF($A48<=Paramètre!$B$2,SUMIFS(SMA_Suivi_étroit[Nb usagers],SMA_Suivi_étroit[Source.Name],'Suivi étroit'!E$10,SMA_Suivi_étroit[CA/Sous-CA],'Suivi étroit'!$A$44,SMA_Suivi_étroit[Période financière],'Suivi étroit'!$A48),"") | F48: =IF($A48<=Paramètre!$B$2,SUMIFS(SMA_Suivi_étroit[Nb interv],SMA_Suivi_étroit[Source.Name],'Suivi étroit'!E$10,SMA_Suivi_étroit[CA/Sous-CA],'Suivi étroit'!$A$44,SMA_Suivi_étroit[Période financière],'Suivi étroit'!$A48),"") | G48: =IF($A48<=Paramètre!$B$2,SUMIFS(SMA_Suivi_étroit[Nb usagers],SMA_Suivi_étroit[Source.Name],'Suivi étroit'!G$10,SMA_Suivi_étroit[CA/Sous-CA],'Suivi étroit'!$A$44,SMA_Suivi_étroit[Période financière],'Suivi étroit'!$A48),"") | H48: =IF($A48<=Paramètre!$B$2,SUMIFS(SMA_Suivi_étroit[Nb interv],SMA_Suivi_étroit[Source.Name],'Suivi étroit'!G$10,SMA_Suivi_étroit[CA/Sous-CA],'Suivi étroit'!$A$44,SMA_Suivi_étroit[Période financière],'Suivi étroit'!$A48),"") | I48: =IF($A48<=Paramètre!$B$2,SUMIFS(SMA_Suivi_étroit[Nb usagers],SMA_Suivi_étroit[Source.Name],'Suivi étroit'!I$10,SMA_Suivi_étroit[CA/Sous-CA],'Suivi étroit'!$A$44,SMA_Suivi_étroit[Période financière],'Suivi étroit'!$A48),"") | J48: =IF($A48<=Paramètre!$B$2,SUMIFS(SMA_Suivi_étroit[Nb interv],SMA_Suivi_étroit[Source.Name],'Suivi étroit'!I$10,SMA_Suivi_étroit[CA/Sous-CA],'Suivi étroit'!$A$44,SMA_Suivi_étroit[Période financière],'Suivi étroit'!$A48),"") | K48: =IF($A48<=Paramètre!$B$2,SUMIFS(SMA_Suivi_étroit[Nb usagers],SMA_Suivi_étroit[Source.Name],'Suivi étroit'!K$10,SMA_Suivi_étroit[CA/Sous-CA],'Suivi étroit'!$A$44,SMA_Suivi_étroit[Période financière],'Suivi étroit'!$A48),"") | L48: =IF($A48<=Paramètre!$B$2,SUMIFS(SMA_Suivi_étroit[Nb interv],SMA_Suivi_étroit[Source.Name],'Suivi étroit'!K$10,SMA_Suivi_étroit[CA/Sous-CA],'Suivi étroit'!$A$44,SMA_Suivi_étroit[Période financière],'Suivi étroit'!$A48),"") | M48: =IF($A48<=Paramètre!$B$2,SUMIFS(SMA_Suivi_étroit[Nb usagers],SMA_Suivi_étroit[Source.Name],'Suivi étroit'!M$10,SMA_Suivi_étroit[CA/Sous-CA],'Suivi étroit'!$A$44,SMA_Suivi_étroit[Période financière],'Suivi étroit'!$A48),"") | N48: =IF($A48<=Paramètre!$B$2,SUMIFS(SMA_Suivi_étroit[Nb interv],SMA_Suivi_étroit[Source.Name],'Suivi étroit'!M$10,SMA_Suivi_étroit[CA/Sous-CA],'Suivi étroit'!$A$44,SMA_Suivi_étroit[Période financière],'Suivi étroit'!$A48),"") | O48: =IF($A48<=Paramètre!$B$2,SUMIFS(SMA_Suivi_étroit[Nb usagers],SMA_Suivi_étroit[Source.Name],'Suivi étroit'!O$10,SMA_Suivi_étroit[CA/Sous-CA],'Suivi étroit'!$A$44,SMA_Suivi_étroit[Période financière],'Suivi étroit'!$A48),"") | P48: =IF($A48<=Paramètre!$B$2,SUMIFS(SMA_Suivi_étroit[Nb interv],SMA_Suivi_étroit[Source.Name],'Suivi étroit'!O$10,SMA_Suivi_étroit[CA/Sous-CA],'Suivi étroit'!$A$44,SMA_Suivi_étroit[Période financière],'Suivi étroit'!$A48),"") | Q48: =IF($A48<=Paramètre!$B$2,SUM(C48,E48,G48,I48,K48,M48,O48),"") | R48: =IF($A48<=Paramètre!$B$2,SUM(D48,F48,H48,J48,L48,N48,P48),"")
A49: 4 | B49: Période 4 | C49: =IF($A49<=Paramètre!$B$2,SUMIFS(SMA_Suivi_étroit[Nb usagers],SMA_Suivi_étroit[Source.Name],'Suivi étroit'!C$10,SMA_Suivi_étroit[CA/Sous-CA],'Suivi étroit'!$A$44,SMA_Suivi_étroit[Période financière],'Suivi étroit'!$A49),"") | D49: =IF($A49<=Paramètre!$B$2,SUMIFS(SMA_Suivi_étroit[Nb interv],SMA_Suivi_étroit[Source.Name],'Suivi étroit'!C$10,SMA_Suivi_étroit[CA/Sous-CA],'Suivi étroit'!$A$44,SMA_Suivi_étroit[Période financière],'Suivi étroit'!$A49),"") | E49: =IF($A49<=Paramètre!$B$2,SUMIFS(SMA_Suivi_étroit[Nb usagers],SMA_Suivi_étroit[Source.Name],'Suivi étroit'!E$10,SMA_Suivi_étroit[CA/Sous-CA],'Suivi étroit'!$A$44,SMA_Suivi_étroit[Période financière],'Suivi étroit'!$A49),"") | F49: =IF($A49<=Paramètre!$B$2,SUMIFS(SMA_Suivi_étroit[Nb interv],SMA_Suivi_étroit[Source.Name],'Suivi étroit'!E$10,SMA_Suivi_étroit[CA/Sous-CA],'Suivi étroit'!$A$44,SMA_Suivi_étroit[Période financière],'Suivi étroit'!$A49),"") | G49: =IF($A49<=Paramètre!$B$2,SUMIFS(SMA_Suivi_étroit[Nb usagers],SMA_Suivi_étroit[Source.Name],'Suivi étroit'!G$10,SMA_Suivi_étroit[CA/Sous-CA],'Suivi étroit'!$A$44,SMA_Suivi_étroit[Période financière],'Suivi étroit'!$A49),"") | H49: =IF($A49<=Paramètre!$B$2,SUMIFS(SMA_Suivi_étroit[Nb interv],SMA_Suivi_étroit[Source.Name],'Suivi étroit'!G$10,SMA_Suivi_étroit[CA/Sous-CA],'Suivi étroit'!$A$44,SMA_Suivi_étroit[Période financière],'Suivi étroit'!$A49),"") | I49: =IF($A49<=Paramètre!$B$2,SUMIFS(SMA_Suivi_étroit[Nb usagers],SMA_Suivi_étroit[Source.Name],'Suivi étroit'!I$10,SMA_Suivi_étroit[CA/Sous-CA],'Suivi étroit'!$A$44,SMA_Suivi_étroit[Période financière],'Suivi étroit'!$A49),"") | J49: =IF($A49<=Paramètre!$B$2,SUMIFS(SMA_Suivi_étroit[Nb interv],SMA_Suivi_étroit[Source.Name],'Suivi étroit'!I$10,SMA_Suivi_étroit[CA/Sous-CA],'Suivi étroit'!$A$44,SMA_Suivi_étroit[Période financière],'Suivi étroit'!$A49),"") | K49: =IF($A49<=Paramètre!$B$2,SUMIFS(SMA_Suivi_étroit[Nb usagers],SMA_Suivi_étroit[Source.Name],'Suivi étroit'!K$10,SMA_Suivi_étroit[CA/Sous-CA],'Suivi étroit'!$A$44,SMA_Suivi_étroit[Période financière],'Suivi étroit'!$A49),"") | L49: =IF($A49<=Paramètre!$B$2,SUMIFS(SMA_Suivi_étroit[Nb interv],SMA_Suivi_étroit[Source.Name],'Suivi étroit'!K$10,SMA_Suivi_étroit[CA/Sous-CA],'Suivi étroit'!$A$44,SMA_Suivi_étroit[Période financière],'Suivi étroit'!$A49),"") | M49: =IF($A49<=Paramètre!$B$2,SUMIFS(SMA_Suivi_étroit[Nb usagers],SMA_Suivi_étroit[Source.Name],'Suivi étroit'!M$10,SMA_Suivi_étroit[CA/Sous-CA],'Suivi étroit'!$A$44,SMA_Suivi_étroit[Période financière],'Suivi étroit'!$A49),"") | N49: =IF($A49<=Paramètre!$B$2,SUMIFS(SMA_Suivi_étroit[Nb interv],SMA_Suivi_étroit[Source.Name],'Suivi étroit'!M$10,SMA_Suivi_étroit[CA/Sous-CA],'Suivi étroit'!$A$44,SMA_Suivi_étroit[Période financière],'Suivi étroit'!$A49),"") | O49: =IF($A49<=Paramètre!$B$2,SUMIFS(SMA_Suivi_étroit[Nb usagers],SMA_Suivi_étroit[Source.Name],'Suivi étroit'!O$10,SMA_Suivi_étroit[CA/Sous-CA],'Suivi étroit'!$A$44,SMA_Suivi_étroit[Période financière],'Suivi étroit'!$A49),"") | P49: =IF($A49<=Paramètre!$B$2,SUMIFS(SMA_Suivi_étroit[Nb interv],SMA_Suivi_étroit[Source.Name],'Suivi étroit'!O$10,SMA_Suivi_étroit[CA/Sous-CA],'Suivi étroit'!$A$44,SMA_Suivi_étroit[Période financière],'Suivi étroit'!$A49),"") | Q49: =IF($A49<=Paramètre!$B$2,SUM(C49,E49,G49,I49,K49,M49,O49),"") | R49: =IF($A49<=Paramètre!$B$2,SUM(D49,F49,H49,J49,L49,N49,P49),"")
A50: 5 | B50: Période 5 | C50: =IF($A50<=Paramètre!$B$2,SUMIFS(SMA_Suivi_étroit[Nb usagers],SMA_Suivi_étroit[Source.Name],'Suivi étroit'!C$10,SMA_Suivi_étroit[CA/Sous-CA],'Suivi étroit'!$A$44,SMA_Suivi_étroit[Période financière],'Suivi étroit'!$A50),"") | D50: =IF($A50<=Paramètre!$B$2,SUMIFS(SMA_Suivi_étroit[Nb interv],SMA_Suivi_étroit[Source.Name],'Suivi étroit'!C$10,SMA_Suivi_étroit[CA/Sous-CA],'Suivi étroit'!$A$44,SMA_Suivi_étroit[Période financière],'Suivi étroit'!$A50),"") | E50: =IF($A50<=Paramètre!$B$2,SUMIFS(SMA_Suivi_étroit[Nb usagers],SMA_Suivi_étroit[Source.Name],'Suivi étroit'!E$10,SMA_Suivi_étroit[CA/Sous-CA],'Suivi étroit'!$A$44,SMA_Suivi_étroit[Période financière],'Suivi étroit'!$A50),"") | F50: =IF($A50<=Paramètre!$B$2,SUMIFS(SMA_Suivi_étroit[Nb interv],SMA_Suivi_étroit[Source.Name],'Suivi étroit'!E$10,SMA_Suivi_étroit[CA/Sous-CA],'Suivi étroit'!$A$44,SMA_Suivi_étroit[Période financière],'Suivi étroit'!$A50),"") | G50: =IF($A50<=Paramètre!$B$2,SUMIFS(SMA_Suivi_étroit[Nb usagers],SMA_Suivi_étroit[Source.Name],'Suivi étroit'!G$10,SMA_Suivi_étroit[CA/Sous-CA],'Suivi étroit'!$A$44,SMA_Suivi_étroit[Période financière],'Suivi étroit'!$A50),"") | H50: =IF($A50<=Paramètre!$B$2,SUMIFS(SMA_Suivi_étroit[Nb interv],SMA_Suivi_étroit[Source.Name],'Suivi étroit'!G$10,SMA_Suivi_étroit[CA/Sous-CA],'Suivi étroit'!$A$44,SMA_Suivi_étroit[Période financière],'Suivi étroit'!$A50),"") | I50: =IF($A50<=Paramètre!$B$2,SUMIFS(SMA_Suivi_étroit[Nb usagers],SMA_Suivi_étroit[Source.Name],'Suivi étroit'!I$10,SMA_Suivi_étroit[CA/Sous-CA],'Suivi étroit'!$A$44,SMA_Suivi_étroit[Période financière],'Suivi étroit'!$A50),"") | J50: =IF($A50<=Paramètre!$B$2,SUMIFS(SMA_Suivi_étroit[Nb interv],SMA_Suivi_étroit[Source.Name],'Suivi étroit'!I$10,SMA_Suivi_étroit[CA/Sous-CA],'Suivi étroit'!$A$44,SMA_Suivi_étroit[Période financière],'Suivi étroit'!$A50),"") | K50: =IF($A50<=Paramètre!$B$2,SUMIFS(SMA_Suivi_étroit[Nb usagers],SMA_Suivi_étroit[Source.Name],'Suivi étroit'!K$10,SMA_Suivi_étroit[CA/Sous-CA],'Suivi étroit'!$A$44,SMA_Suivi_étroit[Période financière],'Suivi étroit'!$A50),"") | L50: =IF($A50<=Paramètre!$B$2,SUMIFS(SMA_Suivi_étroit[Nb interv],SMA_Suivi_étroit[Source.Name],'Suivi étroit'!K$10,SMA_Suivi_étroit[CA/Sous-CA],'Suivi étroit'!$A$44,SMA_Suivi_étroit[Période financière],'Suivi étroit'!$A50),"") | M50: =IF($A50<=Paramètre!$B$2,SUMIFS(SMA_Suivi_étroit[Nb usagers],SMA_Suivi_étroit[Source.Name],'Suivi étroit'!M$10,SMA_Suivi_étroit[CA/Sous-CA],'Suivi étroit'!$A$44,SMA_Suivi_étroit[Période financière],'Suivi étroit'!$A50),"") | N50: =IF($A50<=Paramètre!$B$2,SUMIFS(SMA_Suivi_étroit[Nb interv],SMA_Suivi_étroit[Source.Name],'Suivi étroit'!M$10,SMA_Suivi_étroit[CA/Sous-CA],'Suivi étroit'!$A$44,SMA_Suivi_étroit[Période financière],'Suivi étroit'!$A50),"") | O50: =IF($A50<=Paramètre!$B$2,SUMIFS(SMA_Suivi_étroit[Nb usagers],SMA_Suivi_étroit[Source.Name],'Suivi étroit'!O$10,SMA_Suivi_étroit[CA/Sous-CA],'Suivi étroit'!$A$44,SMA_Suivi_étroit[Période financière],'Suivi étroit'!$A50),"") | P50: =IF($A50<=Paramètre!$B$2,SUMIFS(SMA_Suivi_étroit[Nb interv],SMA_Suivi_étroit[Source.Name],'Suivi étroit'!O$10,SMA_Suivi_étroit[CA/Sous-CA],'Suivi étroit'!$A$44,SMA_Suivi_étroit[Période financière],'Suivi étroit'!$A50),"") | Q50: =IF($A50<=Paramètre!$B$2,SUM(C50,E50,G50,I50,K50,M50,O50),"") | R50: =IF($A50<=Paramètre!$B$2,SUM(D50,F50,H50,J50,L50,N50,P50),"")
A51: 6 | B51: Période 6 | C51: =IF($A51<=Paramètre!$B$2,SUMIFS(SMA_Suivi_étroit[Nb usagers],SMA_Suivi_étroit[Source.Name],'Suivi étroit'!C$10,SMA_Suivi_étroit[CA/Sous-CA],'Suivi étroit'!$A$44,SMA_Suivi_étroit[Période financière],'Suivi étroit'!$A51),"") | D51: =IF($A51<=Paramètre!$B$2,SUMIFS(SMA_Suivi_étroit[Nb interv],SMA_Suivi_étroit[Source.Name],'Suivi étroit'!C$10,SMA_Suivi_étroit[CA/Sous-CA],'Suivi étroit'!$A$44,SMA_Suivi_étroit[Période financière],'Suivi étroit'!$A51),"") | E51: =IF($A51<=Paramètre!$B$2,SUMIFS(SMA_Suivi_étroit[Nb usagers],SMA_Suivi_étroit[Source.Name],'Suivi étroit'!E$10,SMA_Suivi_étroit[CA/Sous-CA],'Suivi étroit'!$A$44,SMA_Suivi_étroit[Période financière],'Suivi étroit'!$A51),"") | F51: =IF($A51<=Paramètre!$B$2,SUMIFS(SMA_Suivi_étroit[Nb interv],SMA_Suivi_étroit[Source.Name],'Suivi étroit'!E$10,SMA_Suivi_étroit[CA/Sous-CA],'Suivi étroit'!$A$44,SMA_Suivi_étroit[Période financière],'Suivi étroit'!$A51),"") | G51: =IF($A51<=Paramètre!$B$2,SUMIFS(SMA_Suivi_étroit[Nb usagers],SMA_Suivi_étroit[Source.Name],'Suivi étroit'!G$10,SMA_Suivi_étroit[CA/Sous-CA],'Suivi étroit'!$A$44,SMA_Suivi_étroit[Période financière],'Suivi étroit'!$A51),"") | H51: =IF($A51<=Paramètre!$B$2,SUMIFS(SMA_Suivi_étroit[Nb interv],SMA_Suivi_étroit[Source.Name],'Suivi étroit'!G$10,SMA_Suivi_étroit[CA/Sous-CA],'Suivi étroit'!$A$44,SMA_Suivi_étroit[Période financière],'Suivi étroit'!$A51),"") | I51: =IF($A51<=Paramètre!$B$2,SUMIFS(SMA_Suivi_étroit[Nb usagers],SMA_Suivi_étroit[Source.Name],'Suivi étroit'!I$10,SMA_Suivi_étroit[CA/Sous-CA],'Suivi étroit'!$A$44,SMA_Suivi_étroit[Période financière],'Suivi étroit'!$A51),"") | J51: =IF($A51<=Paramètre!$B$2,SUMIFS(SMA_Suivi_étroit[Nb interv],SMA_Suivi_étroit[Source.Name],'Suivi étroit'!I$10,SMA_Suivi_étroit[CA/Sous-CA],'Suivi étroit'!$A$44,SMA_Suivi_étroit[Période financière],'Suivi étroit'!$A51),"") | K51: =IF($A51<=Paramètre!$B$2,SUMIFS(SMA_Suivi_étroit[Nb usagers],SMA_Suivi_étroit[Source.Name],'Suivi étroit'!K$10,SMA_Suivi_étroit[CA/Sous-CA],'Suivi étroit'!$A$44,SMA_Suivi_étroit[Période financière],'Suivi étroit'!$A51),"") | L51: =IF($A51<=Paramètre!$B$2,SUMIFS(SMA_Suivi_étroit[Nb interv],SMA_Suivi_étroit[Source.Name],'Suivi étroit'!K$10,SMA_Suivi_étroit[CA/Sous-CA],'Suivi étroit'!$A$44,SMA_Suivi_étroit[Période financière],'Suivi étroit'!$A51),"") | M51: =IF($A51<=Paramètre!$B$2,SUMIFS(SMA_Suivi_étroit[Nb usagers],SMA_Suivi_étroit[Source.Name],'Suivi étroit'!M$10,SMA_Suivi_étroit[CA/Sous-CA],'Suivi étroit'!$A$44,SMA_Suivi_étroit[Période financière],'Suivi étroit'!$A51),"") | N51: =IF($A51<=Paramètre!$B$2,SUMIFS(SMA_Suivi_étroit[Nb interv],SMA_Suivi_étroit[Source.Name],'Suivi étroit'!M$10,SMA_Suivi_étroit[CA/Sous-CA],'Suivi étroit'!$A$44,SMA_Suivi_étroit[Période financière],'Suivi étroit'!$A51),"") | O51: =IF($A51<=Paramètre!$B$2,SUMIFS(SMA_Suivi_étroit[Nb usagers],SMA_Suivi_étroit[Source.Name],'Suivi étroit'!O$10,SMA_Suivi_étroit[CA/Sous-CA],'Suivi étroit'!$A$44,SMA_Suivi_étroit[Période financière],'Suivi étroit'!$A51),"") | P51: =IF($A51<=Paramètre!$B$2,SUMIFS(SMA_Suivi_étroit[Nb interv],SMA_Suivi_étroit[Source.Name],'Suivi étroit'!O$10,SMA_Suivi_étroit[CA/Sous-CA],'Suivi étroit'!$A$44,SMA_Suivi_étroit[Période financière],'Suivi étroit'!$A51),"") | Q51: =IF($A51<=Paramètre!$B$2,SUM(C51,E51,G51,I51,K51,M51,O51),"") | R51: =IF($A51<=Paramètre!$B$2,SUM(D51,F51,H51,J51,L51,N51,P51),"")
A52: 7 | B52: Période 7 | C52: =IF($A52<=Paramètre!$B$2,SUMIFS(SMA_Suivi_étroit[Nb usagers],SMA_Suivi_étroit[Source.Name],'Suivi étroit'!C$10,SMA_Suivi_étroit[CA/Sous-CA],'Suivi étroit'!$A$44,SMA_Suivi_étroit[Période financière],'Suivi étroit'!$A52),"") | D52: =IF($A52<=Paramètre!$B$2,SUMIFS(SMA_Suivi_étroit[Nb interv],SMA_Suivi_étroit[Source.Name],'Suivi étroit'!C$10,SMA_Suivi_étroit[CA/Sous-CA],'Suivi étroit'!$A$44,SMA_Suivi_étroit[Période financière],'Suivi étroit'!$A52),"") | E52: =IF($A52<=Paramètre!$B$2,SUMIFS(SMA_Suivi_étroit[Nb usagers],SMA_Suivi_étroit[Source.Name],'Suivi étroit'!E$10,SMA_Suivi_étroit[CA/Sous-CA],'Suivi étroit'!$A$44,SMA_Suivi_étroit[Période financière],'Suivi étroit'!$A52),"") | F52: =IF($A52<=Paramètre!$B$2,SUMIFS(SMA_Suivi_étroit[Nb interv],SMA_Suivi_étroit[Source.Name],'Suivi étroit'!E$10,SMA_Suivi_étroit[CA/Sous-CA],'Suivi étroit'!$A$44,SMA_Suivi_étroit[Période financière],'Suivi étroit'!$A52),"") | G52: =IF($A52<=Paramètre!$B$2,SUMIFS(SMA_Suivi_étroit[Nb usagers],SMA_Suivi_étroit[Source.Name],'Suivi étroit'!G$10,SMA_Suivi_étroit[CA/Sous-CA],'Suivi étroit'!$A$44,SMA_Suivi_étroit[Période financière],'Suivi étroit'!$A52),"") | H52: =IF($A52<=Paramètre!$B$2,SUMIFS(SMA_Suivi_étroit[Nb interv],SMA_Suivi_étroit[Source.Name],'Suivi étroit'!G$10,SMA_Suivi_étroit[CA/Sous-CA],'Suivi étroit'!$A$44,SMA_Suivi_étroit[Période financière],'Suivi étroit'!$A52),"") | I52: =IF($A52<=Paramètre!$B$2,SUMIFS(SMA_Suivi_étroit[Nb usagers],SMA_Suivi_étroit[Source.Name],'Suivi étroit'!I$10,SMA_Suivi_étroit[CA/Sous-CA],'Suivi étroit'!$A$44,SMA_Suivi_étroit[Période financière],'Suivi étroit'!$A52),"") | J52: =IF($A52<=Paramètre!$B$2,SUMIFS(SMA_Suivi_étroit[Nb interv],SMA_Suivi_étroit[Source.Name],'Suivi étroit'!I$10,SMA_Suivi_étroit[CA/Sous-CA],'Suivi étroit'!$A$44,SMA_Suivi_étroit[Période financière],'Suivi étroit'!$A52),"") | K52: =IF($A52<=Paramètre!$B$2,SUMIFS(SMA_Suivi_étroit[Nb usagers],SMA_Suivi_étroit[Source.Name],'Suivi étroit'!K$10,SMA_Suivi_étroit[CA/Sous-CA],'Suivi étroit'!$A$44,SMA_Suivi_étroit[Période financière],'Suivi étroit'!$A52),"") | L52: =IF($A52<=Paramètre!$B$2,SUMIFS(SMA_Suivi_étroit[Nb interv],SMA_Suivi_étroit[Source.Name],'Suivi étroit'!K$10,SMA_Suivi_étroit[CA/Sous-CA],'Suivi étroit'!$A$44,SMA_Suivi_étroit[Période financière],'Suivi étroit'!$A52),"") | M52: =IF($A52<=Paramètre!$B$2,SUMIFS(SMA_Suivi_étroit[Nb usagers],SMA_Suivi_étroit[Source.Name],'Suivi étroit'!M$10,SMA_Suivi_étroit[CA/Sous-CA],'Suivi étroit'!$A$44,SMA_Suivi_étroit[Période financière],'Suivi étroit'!$A52),"") | N52: =IF($A52<=Paramètre!$B$2,SUMIFS(SMA_Suivi_étroit[Nb interv],SMA_Suivi_étroit[Source.Name],'Suivi étroit'!M$10,SMA_Suivi_étroit[CA/Sous-CA],'Suivi étroit'!$A$44,SMA_Suivi_étroit[Période financière],'Suivi étroit'!$A52),"") | O52: =IF($A52<=Paramètre!$B$2,SUMIFS(SMA_Suivi_étroit[Nb usagers],SMA_Suivi_étroit[Source.Name],'Suivi étroit'!O$10,SMA_Suivi_étroit[CA/Sous-CA],'Suivi étroit'!$A$44,SMA_Suivi_étroit[Période financière],'Suivi étroit'!$A52),"") | P52: =IF($A52<=Paramètre!$B$2,SUMIFS(SMA_Suivi_étroit[Nb interv],SMA_Suivi_étroit[Source.Name],'Suivi étroit'!O$10,SMA_Suivi_étroit[CA/Sous-CA],'Suivi étroit'!$A$44,SMA_Suivi_étroit[Période financière],'Suivi étroit'!$A52),"") | Q52: =IF($A52<=Paramètre!$B$2,SUM(C52,E52,G52,I52,K52,M52,O52),"") | R52: =IF($A52<=Paramètre!$B$2,SUM(D52,F52,H52,J52,L52,N52,P52),"")
A53: 8 | B53: Période 8 | C53: =IF($A53<=Paramètre!$B$2,SUMIFS(SMA_Suivi_étroit[Nb usagers],SMA_Suivi_étroit[Source.Name],'Suivi étroit'!C$10,SMA_Suivi_étroit[CA/Sous-CA],'Suivi étroit'!$A$44,SMA_Suivi_étroit[Période financière],'Suivi étroit'!$A53),"") | D53: =IF($A53<=Paramètre!$B$2,SUMIFS(SMA_Suivi_étroit[Nb interv],SMA_Suivi_étroit[Source.Name],'Suivi étroit'!C$10,SMA_Suivi_étroit[CA/Sous-CA],'Suivi étroit'!$A$44,SMA_Suivi_étroit[Période financière],'Suivi étroit'!$A53),"") | E53: =IF($A53<=Paramètre!$B$2,SUMIFS(SMA_Suivi_étroit[Nb usagers],SMA_Suivi_étroit[Source.Name],'Suivi étroit'!E$10,SMA_Suivi_étroit[CA/Sous-CA],'Suivi étroit'!$A$44,SMA_Suivi_étroit[Période financière],'Suivi étroit'!$A53),"") | F53: =IF($A53<=Paramètre!$B$2,SUMIFS(SMA_Suivi_étroit[Nb interv],SMA_Suivi_étroit[Source.Name],'Suivi étroit'!E$10,SMA_Suivi_étroit[CA/Sous-CA],'Suivi étroit'!$A$44,SMA_Suivi_étroit[Période financière],'Suivi étroit'!$A53),"") | G53: =IF($A53<=Paramètre!$B$2,SUMIFS(SMA_Suivi_étroit[Nb usagers],SMA_Suivi_étroit[Source.Name],'Suivi étroit'!G$10,SMA_Suivi_étroit[CA/Sous-CA],'Suivi étroit'!$A$44,SMA_Suivi_étroit[Période financière],'Suivi étroit'!$A53),"") | H53: =IF($A53<=Paramètre!$B$2,SUMIFS(SMA_Suivi_étroit[Nb interv],SMA_Suivi_étroit[Source.Name],'Suivi étroit'!G$10,SMA_Suivi_étroit[CA/Sous-CA],'Suivi étroit'!$A$44,SMA_Suivi_étroit[Période financière],'Suivi étroit'!$A53),"") | I53: =IF($A53<=Paramètre!$B$2,SUMIFS(SMA_Suivi_étroit[Nb usagers],SMA_Suivi_étroit[Source.Name],'Suivi étroit'!I$10,SMA_Suivi_étroit[CA/Sous-CA],'Suivi étroit'!$A$44,SMA_Suivi_étroit[Période financière],'Suivi étroit'!$A53),"") | J53: =IF($A53<=Paramètre!$B$2,SUMIFS(SMA_Suivi_étroit[Nb interv],SMA_Suivi_étroit[Source.Name],'Suivi étroit'!I$10,SMA_Suivi_étroit[CA/Sous-CA],'Suivi étroit'!$A$44,SMA_Suivi_étroit[Période financière],'Suivi étroit'!$A53),"") | K53: =IF($A53<=Paramètre!$B$2,SUMIFS(SMA_Suivi_étroit[Nb usagers],SMA_Suivi_étroit[Source.Name],'Suivi étroit'!K$10,SMA_Suivi_étroit[CA/Sous-CA],'Suivi étroit'!$A$44,SMA_Suivi_étroit[Période financière],'Suivi étroit'!$A53),"") | L53: =IF($A53<=Paramètre!$B$2,SUMIFS(SMA_Suivi_étroit[Nb interv],SMA_Suivi_étroit[Source.Name],'Suivi étroit'!K$10,SMA_Suivi_étroit[CA/Sous-CA],'Suivi étroit'!$A$44,SMA_Suivi_étroit[Période financière],'Suivi étroit'!$A53),"") | M53: =IF($A53<=Paramètre!$B$2,SUMIFS(SMA_Suivi_étroit[Nb usagers],SMA_Suivi_étroit[Source.Name],'Suivi étroit'!M$10,SMA_Suivi_étroit[CA/Sous-CA],'Suivi étroit'!$A$44,SMA_Suivi_étroit[Période financière],'Suivi étroit'!$A53),"") | N53: =IF($A53<=Paramètre!$B$2,SUMIFS(SMA_Suivi_étroit[Nb interv],SMA_Suivi_étroit[Source.Name],'Suivi étroit'!M$10,SMA_Suivi_étroit[CA/Sous-CA],'Suivi étroit'!$A$44,SMA_Suivi_étroit[Période financière],'Suivi étroit'!$A53),"") | O53: =IF($A53<=Paramètre!$B$2,SUMIFS(SMA_Suivi_étroit[Nb usagers],SMA_Suivi_étroit[Source.Name],'Suivi étroit'!O$10,SMA_Suivi_étroit[CA/Sous-CA],'Suivi étroit'!$A$44,SMA_Suivi_étroit[Période financière],'Suivi étroit'!$A53),"") | P53: =IF($A53<=Paramètre!$B$2,SUMIFS(SMA_Suivi_étroit[Nb interv],SMA_Suivi_étroit[Source.Name],'Suivi étroit'!O$10,SMA_Suivi_étroit[CA/Sous-CA],'Suivi étroit'!$A$44,SMA_Suivi_étroit[Période financière],'Suivi étroit'!$A53),"") | Q53: =IF($A53<=Paramètre!$B$2,SUM(C53,E53,G53,I53,K53,M53,O53),"") | R53: =IF($A53<=Paramètre!$B$2,SUM(D53,F53,H53,J53,L53,N53,P53),"")
A54: 9 | B54: Période 9 | C54: =IF($A54<=Paramètre!$B$2,SUMIFS(SMA_Suivi_étroit[Nb usagers],SMA_Suivi_étroit[Source.Name],'Suivi étroit'!C$10,SMA_Suivi_étroit[CA/Sous-CA],'Suivi étroit'!$A$44,SMA_Suivi_étroit[Période financière],'Suivi étroit'!$A54),"") | D54: =IF($A54<=Paramètre!$B$2,SUMIFS(SMA_Suivi_étroit[Nb interv],SMA_Suivi_étroit[Source.Name],'Suivi étroit'!C$10,SMA_Suivi_étroit[CA/Sous-CA],'Suivi étroit'!$A$44,SMA_Suivi_étroit[Période financière],'Suivi étroit'!$A54),"") | E54: =IF($A54<=Paramètre!$B$2,SUMIFS(SMA_Suivi_étroit[Nb usagers],SMA_Suivi_étroit[Source.Name],'Suivi étroit'!E$10,SMA_Suivi_étroit[CA/Sous-CA],'Suivi étroit'!$A$44,SMA_Suivi_étroit[Période financière],'Suivi étroit'!$A54),"") | F54: =IF($A54<=Paramètre!$B$2,SUMIFS(SMA_Suivi_étroit[Nb interv],SMA_Suivi_étroit[Source.Name],'Suivi étroit'!E$10,SMA_Suivi_étroit[CA/Sous-CA],'Suivi étroit'!$A$44,SMA_Suivi_étroit[Période financière],'Suivi étroit'!$A54),"") | G54: =IF($A54<=Paramètre!$B$2,SUMIFS(SMA_Suivi_étroit[Nb usagers],SMA_Suivi_étroit[Source.Name],'Suivi étroit'!G$10,SMA_Suivi_étroit[CA/Sous-CA],'Suivi étroit'!$A$44,SMA_Suivi_étroit[Période financière],'Suivi étroit'!$A54),"") | H54: =IF($A54<=Paramètre!$B$2,SUMIFS(SMA_Suivi_étroit[Nb interv],SMA_Suivi_étroit[Source.Name],'Suivi étroit'!G$10,SMA_Suivi_étroit[CA/Sous-CA],'Suivi étroit'!$A$44,SMA_Suivi_étroit[Période financière],'Suivi étroit'!$A54),"") | I54: =IF($A54<=Paramètre!$B$2,SUMIFS(SMA_Suivi_étroit[Nb usagers],SMA_Suivi_étroit[Source.Name],'Suivi étroit'!I$10,SMA_Suivi_étroit[CA/Sous-CA],'Suivi étroit'!$A$44,SMA_Suivi_étroit[Période financière],'Suivi étroit'!$A54),"") | J54: =IF($A54<=Paramètre!$B$2,SUMIFS(SMA_Suivi_étroit[Nb interv],SMA_Suivi_étroit[Source.Name],'Suivi étroit'!I$10,SMA_Suivi_étroit[CA/Sous-CA],'Suivi étroit'!$A$44,SMA_Suivi_étroit[Période financière],'Suivi étroit'!$A54),"") | K54: =IF($A54<=Paramètre!$B$2,SUMIFS(SMA_Suivi_étroit[Nb usagers],SMA_Suivi_étroit[Source.Name],'Suivi étroit'!K$10,SMA_Suivi_étroit[CA/Sous-CA],'Suivi étroit'!$A$44,SMA_Suivi_étroit[Période financière],'Suivi étroit'!$A54),"") | L54: =IF($A54<=Paramètre!$B$2,SUMIFS(SMA_Suivi_étroit[Nb interv],SMA_Suivi_étroit[Source.Name],'Suivi étroit'!K$10,SMA_Suivi_étroit[CA/Sous-CA],'Suivi étroit'!$A$44,SMA_Suivi_étroit[Période financière],'Suivi étroit'!$A54),"") | M54: =IF($A54<=Paramètre!$B$2,SUMIFS(SMA_Suivi_étroit[Nb usagers],SMA_Suivi_étroit[Source.Name],'Suivi étroit'!M$10,SMA_Suivi_étroit[CA/Sous-CA],'Suivi étroit'!$A$44,SMA_Suivi_étroit[Période financière],'Suivi étroit'!$A54),"") | N54: =IF($A54<=Paramètre!$B$2,SUMIFS(SMA_Suivi_étroit[Nb interv],SMA_Suivi_étroit[Source.Name],'Suivi étroit'!M$10,SMA_Suivi_étroit[CA/Sous-CA],'Suivi étroit'!$A$44,SMA_Suivi_étroit[Période financière],'Suivi étroit'!$A54),"") | O54: =IF($A54<=Paramètre!$B$2,SUMIFS(SMA_Suivi_étroit[Nb usagers],SMA_Suivi_étroit[Source.Name],'Suivi étroit'!O$10,SMA_Suivi_étroit[CA/Sous-CA],'Suivi étroit'!$A$44,SMA_Suivi_étroit[Période financière],'Suivi étroit'!$A54),"") | P54: =IF($A54<=Paramètre!$B$2,SUMIFS(SMA_Suivi_étroit[Nb interv],SMA_Suivi_étroit[Source.Name],'Suivi étroit'!O$10,SMA_Suivi_étroit[CA/Sous-CA],'Suivi étroit'!$A$44,SMA_Suivi_étroit[Période financière],'Suivi étroit'!$A54),"") | Q54: =IF($A54<=Paramètre!$B$2,SUM(C54,E54,G54,I54,K54,M54,O54),"") | R54: =IF($A54<=Paramètre!$B$2,SUM(D54,F54,H54,J54,L54,N54,P54),"")
A55: 10 | B55: Période 10 | C55: =IF($A55<=Paramètre!$B$2,SUMIFS(SMA_Suivi_étroit[Nb usagers],SMA_Suivi_étroit[Source.Name],'Suivi étroit'!C$10,SMA_Suivi_étroit[CA/Sous-CA],'Suivi étroit'!$A$44,SMA_Suivi_étroit[Période financière],'Suivi étroit'!$A55),"") | D55: =IF($A55<=Paramètre!$B$2,SUMIFS(SMA_Suivi_étroit[Nb interv],SMA_Suivi_étroit[Source.Name],'Suivi étroit'!C$10,SMA_Suivi_étroit[CA/Sous-CA],'Suivi étroit'!$A$44,SMA_Suivi_étroit[Période financière],'Suivi étroit'!$A55),"") | E55: =IF($A55<=Paramètre!$B$2,SUMIFS(SMA_Suivi_étroit[Nb usagers],SMA_Suivi_étroit[Source.Name],'Suivi étroit'!E$10,SMA_Suivi_étroit[CA/Sous-CA],'Suivi étroit'!$A$44,SMA_Suivi_étroit[Période financière],'Suivi étroit'!$A55),"") | F55: =IF($A55<=Paramètre!$B$2,SUMIFS(SMA_Suivi_étroit[Nb interv],SMA_Suivi_étroit[Source.Name],'Suivi étroit'!E$10,SMA_Suivi_étroit[CA/Sous-CA],'Suivi étroit'!$A$44,SMA_Suivi_étroit[Période financière],'Suivi étroit'!$A55),"") | G55: =IF($A55<=Paramètre!$B$2,SUMIFS(SMA_Suivi_étroit[Nb usagers],SMA_Suivi_étroit[Source.Name],'Suivi étroit'!G$10,SMA_Suivi_étroit[CA/Sous-CA],'Suivi étroit'!$A$44,SMA_Suivi_étroit[Période financière],'Suivi étroit'!$A55),"") | H55: =IF($A55<=Paramètre!$B$2,SUMIFS(SMA_Suivi_étroit[Nb interv],SMA_Suivi_étroit[Source.Name],'Suivi étroit'!G$10,SMA_Suivi_étroit[CA/Sous-CA],'Suivi étroit'!$A$44,SMA_Suivi_étroit[Période financière],'Suivi étroit'!$A55),"") | I55: =IF($A55<=Paramètre!$B$2,SUMIFS(SMA_Suivi_étroit[Nb usagers],SMA_Suivi_étroit[Source.Name],'Suivi étroit'!I$10,SMA_Suivi_étroit[CA/Sous-CA],'Suivi étroit'!$A$44,SMA_Suivi_étroit[Période financière],'Suivi étroit'!$A55),"") | J55: =IF($A55<=Paramètre!$B$2,SUMIFS(SMA_Suivi_étroit[Nb interv],SMA_Suivi_étroit[Source.Name],'Suivi étroit'!I$10,SMA_Suivi_étroit[CA/Sous-CA],'Suivi étroit'!$A$44,SMA_Suivi_étroit[Période financière],'Suivi étroit'!$A55),"") | K55: =IF($A55<=Paramètre!$B$2,SUMIFS(SMA_Suivi_étroit[Nb usagers],SMA_Suivi_étroit[Source.Name],'Suivi étroit'!K$10,SMA_Suivi_étroit[CA/Sous-CA],'Suivi étroit'!$A$44,SMA_Suivi_étroit[Période financière],'Suivi étroit'!$A55),"") | L55: =IF($A55<=Paramètre!$B$2,SUMIFS(SMA_Suivi_étroit[Nb interv],SMA_Suivi_étroit[Source.Name],'Suivi étroit'!K$10,SMA_Suivi_étroit[CA/Sous-CA],'Suivi étroit'!$A$44,SMA_Suivi_étroit[Période financière],'Suivi étroit'!$A55),"") | M55: =IF($A55<=Paramètre!$B$2,SUMIFS(SMA_Suivi_étroit[Nb usagers],SMA_Suivi_étroit[Source.Name],'Suivi étroit'!M$10,SMA_Suivi_étroit[CA/Sous-CA],'Suivi étroit'!$A$44,SMA_Suivi_étroit[Période financière],'Suivi étroit'!$A55),"") | N55: =IF($A55<=Paramètre!$B$2,SUMIFS(SMA_Suivi_étroit[Nb interv],SMA_Suivi_étroit[Source.Name],'Suivi étroit'!M$10,SMA_Suivi_étroit[CA/Sous-CA],'Suivi étroit'!$A$44,SMA_Suivi_étroit[Période financière],'Suivi étroit'!$A55),"") | O55: =IF($A55<=Paramètre!$B$2,SUMIFS(SMA_Suivi_étroit[Nb usagers],SMA_Suivi_étroit[Source.Name],'Suivi étroit'!O$10,SMA_Suivi_étroit[CA/Sous-CA],'Suivi étroit'!$A$44,SMA_Suivi_étroit[Période financière],'Suivi étroit'!$A55),"") | P55: =IF($A55<=Paramètre!$B$2,SUMIFS(SMA_Suivi_étroit[Nb interv],SMA_Suivi_étroit[Source.Name],'Suivi étroit'!O$10,SMA_Suivi_étroit[CA/Sous-CA],'Suivi étroit'!$A$44,SMA_Suivi_étroit[Période financière],'Suivi étroit'!$A55),"") | Q55: =IF($A55<=Paramètre!$B$2,SUM(C55,E55,G55,I55,K55,M55,O55),"") | R55: =IF($A55<=Paramètre!$B$2,SUM(D55,F55,H55,J55,L55,N55,P55),"")
A56: 11 | B56: Période 11 | C56: =IF($A56<=Paramètre!$B$2,SUMIFS(SMA_Suivi_étroit[Nb usagers],SMA_Suivi_étroit[Source.Name],'Suivi étroit'!C$10,SMA_Suivi_étroit[CA/Sous-CA],'Suivi étroit'!$A$44,SMA_Suivi_étroit[Période financière],'Suivi étroit'!$A56),"") | D56: =IF($A56<=Paramètre!$B$2,SUMIFS(SMA_Suivi_étroit[Nb interv],SMA_Suivi_étroit[Source.Name],'Suivi étroit'!C$10,SMA_Suivi_étroit[CA/Sous-CA],'Suivi étroit'!$A$44,SMA_Suivi_étroit[Période financière],'Suivi étroit'!$A56),"") | E56: =IF($A56<=Paramètre!$B$2,SUMIFS(SMA_Suivi_étroit[Nb usagers],SMA_Suivi_étroit[Source.Name],'Suivi étroit'!E$10,SMA_Suivi_étroit[CA/Sous-CA],'Suivi étroit'!$A$44,SMA_Suivi_étroit[Période financière],'Suivi étroit'!$A56),"") | F56: =IF($A56<=Paramètre!$B$2,SUMIFS(SMA_Suivi_étroit[Nb interv],SMA_Suivi_étroit[Source.Name],'Suivi étroit'!E$10,SMA_Suivi_étroit[CA/Sous-CA],'Suivi étroit'!$A$44,SMA_Suivi_étroit[Période financière],'Suivi étroit'!$A56),"") | G56: =IF($A56<=Paramètre!$B$2,SUMIFS(SMA_Suivi_étroit[Nb usagers],SMA_Suivi_étroit[Source.Name],'Suivi étroit'!G$10,SMA_Suivi_étroit[CA/Sous-CA],'Suivi étroit'!$A$44,SMA_Suivi_étroit[Période financière],'Suivi étroit'!$A56),"") | H56: =IF($A56<=Paramètre!$B$2,SUMIFS(SMA_Suivi_étroit[Nb interv],SMA_Suivi_étroit[Source.Name],'Suivi étroit'!G$10,SMA_Suivi_étroit[CA/Sous-CA],'Suivi étroit'!$A$44,SMA_Suivi_étroit[Période financière],'Suivi étroit'!$A56),"") | I56: =IF($A56<=Paramètre!$B$2,SUMIFS(SMA_Suivi_étroit[Nb usagers],SMA_Suivi_étroit[Source.Name],'Suivi étroit'!I$10,SMA_Suivi_étroit[CA/Sous-CA],'Suivi étroit'!$A$44,SMA_Suivi_étroit[Période financière],'Suivi étroit'!$A56),"") | J56: =IF($A56<=Paramètre!$B$2,SUMIFS(SMA_Suivi_étroit[Nb interv],SMA_Suivi_étroit[Source.Name],'Suivi étroit'!I$10,SMA_Suivi_étroit[CA/Sous-CA],'Suivi étroit'!$A$44,SMA_Suivi_étroit[Période financière],'Suivi étroit'!$A56),"") | K56: =IF($A56<=Paramètre!$B$2,SUMIFS(SMA_Suivi_étroit[Nb usagers],SMA_Suivi_étroit[Source.Name],'Suivi étroit'!K$10,SMA_Suivi_étroit[CA/Sous-CA],'Suivi étroit'!$A$44,SMA_Suivi_étroit[Période financière],'Suivi étroit'!$A56),"") | L56: =IF($A56<=Paramètre!$B$2,SUMIFS(SMA_Suivi_étroit[Nb interv],SMA_Suivi_étroit[Source.Name],'Suivi étroit'!K$10,SMA_Suivi_étroit[CA/Sous-CA],'Suivi étroit'!$A$44,SMA_Suivi_étroit[Période financière],'Suivi étroit'!$A56),"") | M56: =IF($A56<=Paramètre!$B$2,SUMIFS(SMA_Suivi_étroit[Nb usagers],SMA_Suivi_étroit[Source.Name],'Suivi étroit'!M$10,SMA_Suivi_étroit[CA/Sous-CA],'Suivi étroit'!$A$44,SMA_Suivi_étroit[Période financière],'Suivi étroit'!$A56),"") | N56: =IF($A56<=Paramètre!$B$2,SUMIFS(SMA_Suivi_étroit[Nb interv],SMA_Suivi_étroit[Source.Name],'Suivi étroit'!M$10,SMA_Suivi_étroit[CA/Sous-CA],'Suivi étroit'!$A$44,SMA_Suivi_étroit[Période financière],'Suivi étroit'!$A56),"") | O56: =IF($A56<=Paramètre!$B$2,SUMIFS(SMA_Suivi_étroit[Nb usagers],SMA_Suivi_étroit[Source.Name],'Suivi étroit'!O$10,SMA_Suivi_étroit[CA/Sous-CA],'Suivi étroit'!$A$44,SMA_Suivi_étroit[Période financière],'Suivi étroit'!$A56),"") | P56: =IF($A56<=Paramètre!$B$2,SUMIFS(SMA_Suivi_étroit[Nb interv],SMA_Suivi_étroit[Source.Name],'Suivi étroit'!O$10,SMA_Suivi_étroit[CA/Sous-CA],'Suivi étroit'!$A$44,SMA_Suivi_étroit[Période financière],'Suivi étroit'!$A56),"") | Q56: =IF($A56<=Paramètre!$B$2,SUM(C56,E56,G56,I56,K56,M56,O56),"") | R56: =IF($A56<=Paramètre!$B$2,SUM(D56,F56,H56,J56,L56,N56,P56),"")
A57: 12 | B57: Période 12 | C57: =IF($A57<=Paramètre!$B$2,SUMIFS(SMA_Suivi_étroit[Nb usagers],SMA_Suivi_étroit[Source.Name],'Suivi étroit'!C$10,SMA_Suivi_étroit[CA/Sous-CA],'Suivi étroit'!$A$44,SMA_Suivi_étroit[Période financière],'Suivi étroit'!$A57),"") | D57: =IF($A57<=Paramètre!$B$2,SUMIFS(SMA_Suivi_étroit[Nb interv],SMA_Suivi_étroit[Source.Name],'Suivi étroit'!C$10,SMA_Suivi_étroit[CA/Sous-CA],'Suivi étroit'!$A$44,SMA_Suivi_étroit[Période financière],'Suivi étroit'!$A57),"") | E57: =IF($A57<=Paramètre!$B$2,SUMIFS(SMA_Suivi_étroit[Nb usagers],SMA_Suivi_étroit[Source.Name],'Suivi étroit'!E$10,SMA_Suivi_étroit[CA/Sous-CA],'Suivi étroit'!$A$44,SMA_Suivi_étroit[Période financière],'Suivi étroit'!$A57),"") | F57: =IF($A57<=Paramètre!$B$2,SUMIFS(SMA_Suivi_étroit[Nb interv],SMA_Suivi_étroit[Source.Name],'Suivi étroit'!E$10,SMA_Suivi_étroit[CA/Sous-CA],'Suivi étroit'!$A$44,SMA_Suivi_étroit[Période financière],'Suivi étroit'!$A57),"") | G57: =IF($A57<=Paramètre!$B$2,SUMIFS(SMA_Suivi_étroit[Nb usagers],SMA_Suivi_étroit[Source.Name],'Suivi étroit'!G$10,SMA_Suivi_étroit[CA/Sous-CA],'Suivi étroit'!$A$44,SMA_Suivi_étroit[Période financière],'Suivi étroit'!$A57),"") | H57: =IF($A57<=Paramètre!$B$2,SUMIFS(SMA_Suivi_étroit[Nb interv],SMA_Suivi_étroit[Source.Name],'Suivi étroit'!G$10,SMA_Suivi_étroit[CA/Sous-CA],'Suivi étroit'!$A$44,SMA_Suivi_étroit[Période financière],'Suivi étroit'!$A57),"") | I57: =IF($A57<=Paramètre!$B$2,SUMIFS(SMA_Suivi_étroit[Nb usagers],SMA_Suivi_étroit[Source.Name],'Suivi étroit'!I$10,SMA_Suivi_étroit[CA/Sous-CA],'Suivi étroit'!$A$44,SMA_Suivi_étroit[Période financière],'Suivi étroit'!$A57),"") | J57: =IF($A57<=Paramètre!$B$2,SUMIFS(SMA_Suivi_étroit[Nb interv],SMA_Suivi_étroit[Source.Name],'Suivi étroit'!I$10,SMA_Suivi_étroit[CA/Sous-CA],'Suivi étroit'!$A$44,SMA_Suivi_étroit[Période financière],'Suivi étroit'!$A57),"") | K57: =IF($A57<=Paramètre!$B$2,SUMIFS(SMA_Suivi_étroit[Nb usagers],SMA_Suivi_étroit[Source.Name],'Suivi étroit'!K$10,SMA_Suivi_étroit[CA/Sous-CA],'Suivi étroit'!$A$44,SMA_Suivi_étroit[Période financière],'Suivi étroit'!$A57),"") | L57: =IF($A57<=Paramètre!$B$2,SUMIFS(SMA_Suivi_étroit[Nb interv],SMA_Suivi_étroit[Source.Name],'Suivi étroit'!K$10,SMA_Suivi_étroit[CA/Sous-CA],'Suivi étroit'!$A$44,SMA_Suivi_étroit[Période financière],'Suivi étroit'!$A57),"") | M57: =IF($A57<=Paramètre!$B$2,SUMIFS(SMA_Suivi_étroit[Nb usagers],SMA_Suivi_étroit[Source.Name],'Suivi étroit'!M$10,SMA_Suivi_étroit[CA/Sous-CA],'Suivi étroit'!$A$44,SMA_Suivi_étroit[Période financière],'Suivi étroit'!$A57),"") | N57: =IF($A57<=Paramètre!$B$2,SUMIFS(SMA_Suivi_étroit[Nb interv],SMA_Suivi_étroit[Source.Name],'Suivi étroit'!M$10,SMA_Suivi_étroit[CA/Sous-CA],'Suivi étroit'!$A$44,SMA_Suivi_étroit[Période financière],'Suivi étroit'!$A57),"") | O57: =IF($A57<=Paramètre!$B$2,SUMIFS(SMA_Suivi_étroit[Nb usagers],SMA_Suivi_étroit[Source.Name],'Suivi étroit'!O$10,SMA_Suivi_étroit[CA/Sous-CA],'Suivi étroit'!$A$44,SMA_Suivi_étroit[Période financière],'Suivi étroit'!$A57),"") | P57: =IF($A57<=Paramètre!$B$2,SUMIFS(SMA_Suivi_étroit[Nb interv],SMA_Suivi_étroit[Source.Name],'Suivi étroit'!O$10,SMA_Suivi_étroit[CA/Sous-CA],'Suivi étroit'!$A$44,SMA_Suivi_étroit[Période financière],'Suivi étroit'!$A57),"") | Q57: =IF($A57<=Paramètre!$B$2,SUM(C57,E57,G57,I57,K57,M57,O57),"") | R57: =IF($A57<=Paramètre!$B$2,SUM(D57,F57,H57,J57,L57,N57,P57),"")
A58: 13 | B58: Période 13 | C58: =IF($A58<=Paramètre!$B$2,SUMIFS(SMA_Suivi_étroit[Nb usagers],SMA_Suivi_étroit[Source.Name],'Suivi étroit'!C$10,SMA_Suivi_étroit[CA/Sous-CA],'Suivi étroit'!$A$44,SMA_Suivi_étroit[Période financière],'Suivi étroit'!$A58),"") | D58: =IF($A58<=Paramètre!$B$2,SUMIFS(SMA_Suivi_étroit[Nb interv],SMA_Suivi_étroit[Source.Name],'Suivi étroit'!C$10,SMA_Suivi_étroit[CA/Sous-CA],'Suivi étroit'!$A$44,SMA_Suivi_étroit[Période financière],'Suivi étroit'!$A58),"") | E58: =IF($A58<=Paramètre!$B$2,SUMIFS(SMA_Suivi_étroit[Nb usagers],SMA_Suivi_étroit[Source.Name],'Suivi étroit'!E$10,SMA_Suivi_étroit[CA/Sous-CA],'Suivi étroit'!$A$44,SMA_Suivi_étroit[Période financière],'Suivi étroit'!$A58),"") | F58: =IF($A58<=Paramètre!$B$2,SUMIFS(SMA_Suivi_étroit[Nb interv],SMA_Suivi_étroit[Source.Name],'Suivi étroit'!E$10,SMA_Suivi_étroit[CA/Sous-CA],'Suivi étroit'!$A$44,SMA_Suivi_étroit[Période financière],'Suivi étroit'!$A58),"") | G58: =IF($A58<=Paramètre!$B$2,SUMIFS(SMA_Suivi_étroit[Nb usagers],SMA_Suivi_étroit[Source.Name],'Suivi étroit'!G$10,SMA_Suivi_étroit[CA/Sous-CA],'Suivi étroit'!$A$44,SMA_Suivi_étroit[Période financière],'Suivi étroit'!$A58),"") | H58: =IF($A58<=Paramètre!$B$2,SUMIFS(SMA_Suivi_étroit[Nb interv],SMA_Suivi_étroit[Source.Name],'Suivi étroit'!G$10,SMA_Suivi_étroit[CA/Sous-CA],'Suivi étroit'!$A$44,SMA_Suivi_étroit[Période financière],'Suivi étroit'!$A58),"") | I58: =IF($A58<=Paramètre!$B$2,SUMIFS(SMA_Suivi_étroit[Nb usagers],SMA_Suivi_étroit[Source.Name],'Suivi étroit'!I$10,SMA_Suivi_étroit[CA/Sous-CA],'Suivi étroit'!$A$44,SMA_Suivi_étroit[Période financière],'Suivi étroit'!$A58),"") | J58: =IF($A58<=Paramètre!$B$2,SUMIFS(SMA_Suivi_étroit[Nb interv],SMA_Suivi_étroit[Source.Name],'Suivi étroit'!I$10,SMA_Suivi_étroit[CA/Sous-CA],'Suivi étroit'!$A$44,SMA_Suivi_étroit[Période financière],'Suivi étroit'!$A58),"") | K58: =IF($A58<=Paramètre!$B$2,SUMIFS(SMA_Suivi_étroit[Nb usagers],SMA_Suivi_étroit[Source.Name],'Suivi étroit'!K$10,SMA_Suivi_étroit[CA/Sous-CA],'Suivi étroit'!$A$44,SMA_Suivi_étroit[Période financière],'Suivi étroit'!$A58),"") | L58: =IF($A58<=Paramètre!$B$2,SUMIFS(SMA_Suivi_étroit[Nb interv],SMA_Suivi_étroit[Source.Name],'Suivi étroit'!K$10,SMA_Suivi_étroit[CA/Sous-CA],'Suivi étroit'!$A$44,SMA_Suivi_étroit[Période financière],'Suivi étroit'!$A58),"") | M58: =IF($A58<=Paramètre!$B$2,SUMIFS(SMA_Suivi_étroit[Nb usagers],SMA_Suivi_étroit[Source.Name],'Suivi étroit'!M$10,SMA_Suivi_étroit[CA/Sous-CA],'Suivi étroit'!$A$44,SMA_Suivi_étroit[Période financière],'Suivi étroit'!$A58),"") | N58: =IF($A58<=Paramètre!$B$2,SUMIFS(SMA_Suivi_étroit[Nb interv],SMA_Suivi_étroit[Source.Name],'Suivi étroit'!M$10,SMA_Suivi_étroit[CA/Sous-CA],'Suivi étroit'!$A$44,SMA_Suivi_étroit[Période financière],'Suivi étroit'!$A58),"") | O58: =IF($A58<=Paramètre!$B$2,SUMIFS(SMA_Suivi_étroit[Nb usagers],SMA_Suivi_étroit[Source.Name],'Suivi étroit'!O$10,SMA_Suivi_étroit[CA/Sous-CA],'Suivi étroit'!$A$44,SMA_Suivi_étroit[Période financière],'Suivi étroit'!$A58),"") | P58: =IF($A58<=Paramètre!$B$2,SUMIFS(SMA_Suivi_étroit[Nb interv],SMA_Suivi_étroit[Source.Name],'Suivi étroit'!O$10,SMA_Suivi_étroit[CA/Sous-CA],'Suivi étroit'!$A$44,SMA_Suivi_étroit[Période financière],'Suivi étroit'!$A58),"") | Q58: =IF($A58<=Paramètre!$B$2,SUM(C58,E58,G58,I58,K58,M58,O58),"") | R58: =IF($A58<=Paramètre!$B$2,SUM(D58,F58,H58,J58,L58,N58,P58),"")
B59: Cumulatif | C59: =SUMIFS(SMA_Suivi_étroit[Nb distinct usagers / SCA],SMA_Suivi_étroit[Sous-centre activités code],$A44,SMA_Suivi_étroit[Source.Name],C$27) -> 0 | D59: =SUM(D46:D58) -> 0 | E59: =SUMIFS(SMA_Suivi_étroit[Nb distinct usagers / SCA],SMA_Suivi_étroit[Sous-centre activités code],$A44,SMA_Suivi_étroit[Source.Name],E$27) -> 0 | F59: =SUM(F46:F58) -> 0 | G59: =SUMIFS(SMA_Suivi_étroit[Nb distinct usagers / SCA],SMA_Suivi_étroit[Sous-centre activités code],$A44,SMA_Suivi_étroit[Source.Name],G$27) -> 0 | H59: =SUM(H46:H58) -> 0 | I59: =SUMIFS(SMA_Suivi_étroit[Nb distinct usagers / SCA],SMA_Suivi_étroit[Sous-centre activités code],$A44,SMA_Suivi_étroit[Source.Name],I$27) -> 0 | J59: =SUM(J46:J58) -> 0 | K59: =SUMIFS(SMA_Suivi_étroit[Nb distinct usagers / SCA],SMA_Suivi_étroit[Sous-centre activités code],$A44,SMA_Suivi_étroit[Source.Name],K$27) -> 0 | L59: =SUM(L46:L58) -> 0 | M59: =SUMIFS(SMA_Suivi_étroit[Nb distinct usagers / SCA],SMA_Suivi_étroit[Sous-centre activités code],$A44,SMA_Suivi_étroit[Source.Name],M$27) -> 0 | N59: =SUM(N46:N58) -> 0 | O59: =SUMIFS(SMA_Suivi_étroit[Nb distinct usagers / SCA],SMA_Suivi_étroit[Sous-centre activités code],$A44,SMA_Suivi_étroit[Source.Name],O$27) -> 0 | P59: =SUM(P46:P58) -> 0 | Q59: =SUM(C59,E59,G59,I59,K59,M59,O59) -> 0 | R59: =SUM(R46:R58) -> 0
A61: 5934 | B61: Services spécifiques SMA | C61: AL | E61: ARG | G61: SOM | I61: LDDM | K61: PDH | M61: STJ | O61: TDB | Q61: CISSS
C62: Us diff. | D62: Interv. | E62: Us diff. | F62: Interv. | G62: Us diff. | H62: Interv. | I62: Us diff. | J62: Interv. | K62: Us diff. | L62: Interv. | M62: Us diff. | N62: Interv. | O62: Us diff. | P62: Interv. | Q62: Us diff. | R62: Interv.
A63: 1 | B63: Période 1 | C63: =IF($A63<=Paramètre!$B$2,SUMIFS(SMA_Suivi_étroit[Nb usagers],SMA_Suivi_étroit[Source.Name],'Suivi étroit'!C$10,SMA_Suivi_étroit[CA/Sous-CA],'Suivi étroit'!$A$61,SMA_Suivi_étroit[Période financière],'Suivi étroit'!$A63),"") -> 0 | D63: =IF($A63<=Paramètre!$B$2,SUMIFS(SMA_Suivi_étroit[Nb distinct usagers / SCA],SMA_Suivi_étroit[Source.Name],'Suivi étroit'!C$10,SMA_Suivi_étroit[CA/Sous-CA],'Suivi étroit'!$A$61,SMA_Suivi_étroit[Période financière],'Suivi étroit'!$A63),"") -> 0 | E63: =IF($A63<=Paramètre!$B$2,SUMIFS(SMA_Suivi_étroit[Nb usagers],SMA_Suivi_étroit[Source.Name],'Suivi étroit'!E$10,SMA_Suivi_étroit[CA/Sous-CA],'Suivi étroit'!$A$61,SMA_Suivi_étroit[Période financière],'Suivi étroit'!$A63),"") -> 0 | F63: =IF($A63<=Paramètre!$B$2,SUMIFS(SMA_Suivi_étroit[Nb distinct usagers / SCA],SMA_Suivi_étroit[Source.Name],'Suivi étroit'!E$10,SMA_Suivi_étroit[CA/Sous-CA],'Suivi étroit'!$A$61,SMA_Suivi_étroit[Période financière],'Suivi étroit'!$A63),"") -> 0 | G63: =IF($A63<=Paramètre!$B$2,SUMIFS(SMA_Suivi_étroit[Nb usagers],SMA_Suivi_étroit[Source.Name],'Suivi étroit'!G$10,SMA_Suivi_étroit[CA/Sous-CA],'Suivi étroit'!$A$61,SMA_Suivi_étroit[Période financière],'Suivi étroit'!$A63),"") -> 0 | H63: =IF($A63<=Paramètre!$B$2,SUMIFS(SMA_Suivi_étroit[Nb distinct usagers / SCA],SMA_Suivi_étroit[Source.Name],'Suivi étroit'!G$10,SMA_Suivi_étroit[CA/Sous-CA],'Suivi étroit'!$A$61,SMA_Suivi_étroit[Période financière],'Suivi étroit'!$A63),"") -> 0 | I63: =IF($A63<=Paramètre!$B$2,SUMIFS(SMA_Suivi_étroit[Nb usagers],SMA_Suivi_étroit[Source.Name],'Suivi étroit'!I$10,SMA_Suivi_étroit[CA/Sous-CA],'Suivi étroit'!$A$61,SMA_Suivi_étroit[Période financière],'Suivi étroit'!$A63),"") -> 0 | J63: =IF($A63<=Paramètre!$B$2,SUMIFS(SMA_Suivi_étroit[Nb distinct usagers / SCA],SMA_Suivi_étroit[Source.Name],'Suivi étroit'!I$10,SMA_Suivi_étroit[CA/Sous-CA],'Suivi étroit'!$A$61,SMA_Suivi_étroit[Période financière],'Suivi étroit'!$A63),"") -> 0 | K63: =IF($A63<=Paramètre!$B$2,SUMIFS(SMA_Suivi_étroit[Nb usagers],SMA_Suivi_étroit[Source.Name],'Suivi étroit'!K$10,SMA_Suivi_étroit[CA/Sous-CA],'Suivi étroit'!$A$61,SMA_Suivi_étroit[Période financière],'Suivi étroit'!$A63),"") -> 0 | L63: =IF($A63<=Paramètre!$B$2,SUMIFS(SMA_Suivi_étroit[Nb distinct usagers / SCA],SMA_Suivi_étroit[Source.Name],'Suivi étroit'!K$10,SMA_Suivi_étroit[CA/Sous-CA],'Suivi étroit'!$A$61,SMA_Suivi_étroit[Période financière],'Suivi étroit'!$A63),"") -> 0 | M63: =IF($A63<=Paramètre!$B$2,SUMIFS(SMA_Suivi_étroit[Nb usagers],SMA_Suivi_étroit[Source.Name],'Suivi étroit'!M$10,SMA_Suivi_étroit[CA/Sous-CA],'Suivi étroit'!$A$61,SMA_Suivi_étroit[Période financière],'Suivi étroit'!$A63),"") -> 0 | N63: =IF($A63<=Paramètre!$B$2,SUMIFS(SMA_Suivi_étroit[Nb distinct usagers / SCA],SMA_Suivi_étroit[Source.Name],'Suivi étroit'!M$10,SMA_Suivi_étroit[CA/Sous-CA],'Suivi étroit'!$A$61,SMA_Suivi_étroit[Période financière],'Suivi étroit'!$A63),"") -> 0 | O63: =IF($A63<=Paramètre!$B$2,SUMIFS(SMA_Suivi_étroit[Nb usagers],SMA_Suivi_étroit[Source.Name],'Suivi étroit'!O$10,SMA_Suivi_étroit[CA/Sous-CA],'Suivi étroit'!$A$61,SMA_Suivi_étroit[Période financière],'Suivi étroit'!$A63),"") -> 0 | P63: =IF($A63<=Paramètre!$B$2,SUMIFS(SMA_Suivi_étroit[Nb distinct usagers / SCA],SMA_Suivi_étroit[Source.Name],'Suivi étroit'!O$10,SMA_Suivi_étroit[CA/Sous-CA],'Suivi étroit'!$A$61,SMA_Suivi_étroit[Période financière],'Suivi étroit'!$A63),"") -> 0 | Q63: =IF($A63<=Paramètre!$B$2,SUM(C63,E63,G63,I63,K63,M63,O63),"") -> 0 | R63: =IF($A63<=Paramètre!$B$2,SUM(D63,F63,H63,J63,L63,N63,P63),"") -> 0
A64: 2 | B64: Période 2 | C64: =IF($A64<=Paramètre!$B$2,SUMIFS(SMA_Suivi_étroit[Nb usagers],SMA_Suivi_étroit[Source.Name],'Suivi étroit'!C$10,SMA_Suivi_étroit[CA/Sous-CA],'Suivi étroit'!$A$61,SMA_Suivi_étroit[Période financière],'Suivi étroit'!$A64),"") | D64: =IF($A64<=Paramètre!$B$2,SUMIFS(SMA_Suivi_étroit[Nb distinct usagers / SCA],SMA_Suivi_étroit[Source.Name],'Suivi étroit'!C$10,SMA_Suivi_étroit[CA/Sous-CA],'Suivi étroit'!$A$61,SMA_Suivi_étroit[Période financière],'Suivi étroit'!$A64),"") | E64: =IF($A64<=Paramètre!$B$2,SUMIFS(SMA_Suivi_étroit[Nb usagers],SMA_Suivi_étroit[Source.Name],'Suivi étroit'!E$10,SMA_Suivi_étroit[CA/Sous-CA],'Suivi étroit'!$A$61,SMA_Suivi_étroit[Période financière],'Suivi étroit'!$A64),"") | F64: =IF($A64<=Paramètre!$B$2,SUMIFS(SMA_Suivi_étroit[Nb distinct usagers / SCA],SMA_Suivi_étroit[Source.Name],'Suivi étroit'!E$10,SMA_Suivi_étroit[CA/Sous-CA],'Suivi étroit'!$A$61,SMA_Suivi_étroit[Période financière],'Suivi étroit'!$A64),"") | G64: =IF($A64<=Paramètre!$B$2,SUMIFS(SMA_Suivi_étroit[Nb usagers],SMA_Suivi_étroit[Source.Name],'Suivi étroit'!G$10,SMA_Suivi_étroit[CA/Sous-CA],'Suivi étroit'!$A$61,SMA_Suivi_étroit[Période financière],'Suivi étroit'!$A64),"") | H64: =IF($A64<=Paramètre!$B$2,SUMIFS(SMA_Suivi_étroit[Nb distinct usagers / SCA],SMA_Suivi_étroit[Source.Name],'Suivi étroit'!G$10,SMA_Suivi_étroit[CA/Sous-CA],'Suivi étroit'!$A$61,SMA_Suivi_étroit[Période financière],'Suivi étroit'!$A64),"") | I64: =IF($A64<=Paramètre!$B$2,SUMIFS(SMA_Suivi_étroit[Nb usagers],SMA_Suivi_étroit[Source.Name],'Suivi étroit'!I$10,SMA_Suivi_étroit[CA/Sous-CA],'Suivi étroit'!$A$61,SMA_Suivi_étroit[Période financière],'Suivi étroit'!$A64),"") | J64: =IF($A64<=Paramètre!$B$2,SUMIFS(SMA_Suivi_étroit[Nb distinct usagers / SCA],SMA_Suivi_étroit[Source.Name],'Suivi étroit'!I$10,SMA_Suivi_étroit[CA/Sous-CA],'Suivi étroit'!$A$61,SMA_Suivi_étroit[Période financière],'Suivi étroit'!$A64),"") | K64: =IF($A64<=Paramètre!$B$2,SUMIFS(SMA_Suivi_étroit[Nb usagers],SMA_Suivi_étroit[Source.Name],'Suivi étroit'!K$10,SMA_Suivi_étroit[CA/Sous-CA],'Suivi étroit'!$A$61,SMA_Suivi_étroit[Période financière],'Suivi étroit'!$A64),"") | L64: =IF($A64<=Paramètre!$B$2,SUMIFS(SMA_Suivi_étroit[Nb distinct usagers / SCA],SMA_Suivi_étroit[Source.Name],'Suivi étroit'!K$10,SMA_Suivi_étroit[CA/Sous-CA],'Suivi étroit'!$A$61,SMA_Suivi_étroit[Période financière],'Suivi étroit'!$A64),"") | M64: =IF($A64<=Paramètre!$B$2,SUMIFS(SMA_Suivi_étroit[Nb usagers],SMA_Suivi_étroit[Source.Name],'Suivi étroit'!M$10,SMA_Suivi_étroit[CA/Sous-CA],'Suivi étroit'!$A$61,SMA_Suivi_étroit[Période financière],'Suivi étroit'!$A64),"") | N64: =IF($A64<=Paramètre!$B$2,SUMIFS(SMA_Suivi_étroit[Nb distinct usagers / SCA],SMA_Suivi_étroit[Source.Name],'Suivi étroit'!M$10,SMA_Suivi_étroit[CA/Sous-CA],'Suivi étroit'!$A$61,SMA_Suivi_étroit[Période financière],'Suivi étroit'!$A64),"") | O64: =IF($A64<=Paramètre!$B$2,SUMIFS(SMA_Suivi_étroit[Nb usagers],SMA_Suivi_étroit[Source.Name],'Suivi étroit'!O$10,SMA_Suivi_étroit[CA/Sous-CA],'Suivi étroit'!$A$61,SMA_Suivi_étroit[Période financière],'Suivi étroit'!$A64),"") | P64: =IF($A64<=Paramètre!$B$2,SUMIFS(SMA_Suivi_étroit[Nb distinct usagers / SCA],SMA_Suivi_étroit[Source.Name],'Suivi étroit'!O$10,SMA_Suivi_étroit[CA/Sous-CA],'Suivi étroit'!$A$61,SMA_Suivi_étroit[Période financière],'Suivi étroit'!$A64),"") | Q64: =IF($A64<=Paramètre!$B$2,SUM(C64,E64,G64,I64,K64,M64,O64),"") | R64: =IF($A64<=Paramètre!$B$2,SUM(D64,F64,H64,J64,L64,N64,P64),"")
A65: 3 | B65: Période 3 | C65: =IF($A65<=Paramètre!$B$2,SUMIFS(SMA_Suivi_étroit[Nb usagers],SMA_Suivi_étroit[Source.Name],'Suivi étroit'!C$10,SMA_Suivi_étroit[CA/Sous-CA],'Suivi étroit'!$A$61,SMA_Suivi_étroit[Période financière],'Suivi étroit'!$A65),"") | D65: =IF($A65<=Paramètre!$B$2,SUMIFS(SMA_Suivi_étroit[Nb distinct usagers / SCA],SMA_Suivi_étroit[Source.Name],'Suivi étroit'!C$10,SMA_Suivi_étroit[CA/Sous-CA],'Suivi étroit'!$A$61,SMA_Suivi_étroit[Période financière],'Suivi étroit'!$A65),"") | E65: =IF($A65<=Paramètre!$B$2,SUMIFS(SMA_Suivi_étroit[Nb usagers],SMA_Suivi_étroit[Source.Name],'Suivi étroit'!E$10,SMA_Suivi_étroit[CA/Sous-CA],'Suivi étroit'!$A$61,SMA_Suivi_étroit[Période financière],'Suivi étroit'!$A65),"") | F65: =IF($A65<=Paramètre!$B$2,SUMIFS(SMA_Suivi_étroit[Nb distinct usagers / SCA],SMA_Suivi_étroit[Source.Name],'Suivi étroit'!E$10,SMA_Suivi_étroit[CA/Sous-CA],'Suivi étroit'!$A$61,SMA_Suivi_étroit[Période financière],'Suivi étroit'!$A65),"") | G65: =IF($A65<=Paramètre!$B$2,SUMIFS(SMA_Suivi_étroit[Nb usagers],SMA_Suivi_étroit[Source.Name],'Suivi étroit'!G$10,SMA_Suivi_étroit[CA/Sous-CA],'Suivi étroit'!$A$61,SMA_Suivi_étroit[Période financière],'Suivi étroit'!$A65),"") | H65: =IF($A65<=Paramètre!$B$2,SUMIFS(SMA_Suivi_étroit[Nb distinct usagers / SCA],SMA_Suivi_étroit[Source.Name],'Suivi étroit'!G$10,SMA_Suivi_étroit[CA/Sous-CA],'Suivi étroit'!$A$61,SMA_Suivi_étroit[Période financière],'Suivi étroit'!$A65),"") | I65: =IF($A65<=Paramètre!$B$2,SUMIFS(SMA_Suivi_étroit[Nb usagers],SMA_Suivi_étroit[Source.Name],'Suivi étroit'!I$10,SMA_Suivi_étroit[CA/Sous-CA],'Suivi étroit'!$A$61,SMA_Suivi_étroit[Période financière],'Suivi étroit'!$A65),"") | J65: =IF($A65<=Paramètre!$B$2,SUMIFS(SMA_Suivi_étroit[Nb distinct usagers / SCA],SMA_Suivi_étroit[Source.Name],'Suivi étroit'!I$10,SMA_Suivi_étroit[CA/Sous-CA],'Suivi étroit'!$A$61,SMA_Suivi_étroit[Période financière],'Suivi étroit'!$A65),"") | K65: =IF($A65<=Paramètre!$B$2,SUMIFS(SMA_Suivi_étroit[Nb usagers],SMA_Suivi_étroit[Source.Name],'Suivi étroit'!K$10,SMA_Suivi_étroit[CA/Sous-CA],'Suivi étroit'!$A$61,SMA_Suivi_étroit[Période financière],'Suivi étroit'!$A65),"") | L65: =IF($A65<=Paramètre!$B$2,SUMIFS(SMA_Suivi_étroit[Nb distinct usagers / SCA],SMA_Suivi_étroit[Source.Name],'Suivi étroit'!K$10,SMA_Suivi_étroit[CA/Sous-CA],'Suivi étroit'!$A$61,SMA_Suivi_étroit[Période financière],'Suivi étroit'!$A65),"") | M65: =IF($A65<=Paramètre!$B$2,SUMIFS(SMA_Suivi_étroit[Nb usagers],SMA_Suivi_étroit[Source.Name],'Suivi étroit'!M$10,SMA_Suivi_étroit[CA/Sous-CA],'Suivi étroit'!$A$61,SMA_Suivi_étroit[Période financière],'Suivi étroit'!$A65),"") | N65: =IF($A65<=Paramètre!$B$2,SUMIFS(SMA_Suivi_étroit[Nb distinct usagers / SCA],SMA_Suivi_étroit[Source.Name],'Suivi étroit'!M$10,SMA_Suivi_étroit[CA/Sous-CA],'Suivi étroit'!$A$61,SMA_Suivi_étroit[Période financière],'Suivi étroit'!$A65),"") | O65: =IF($A65<=Paramètre!$B$2,SUMIFS(SMA_Suivi_étroit[Nb usagers],SMA_Suivi_étroit[Source.Name],'Suivi étroit'!O$10,SMA_Suivi_étroit[CA/Sous-CA],'Suivi étroit'!$A$61,SMA_Suivi_étroit[Période financière],'Suivi étroit'!$A65),"") | P65: =IF($A65<=Paramètre!$B$2,SUMIFS(SMA_Suivi_étroit[Nb distinct usagers / SCA],SMA_Suivi_étroit[Source.Name],'Suivi étroit'!O$10,SMA_Suivi_étroit[CA/Sous-CA],'Suivi étroit'!$A$61,SMA_Suivi_étroit[Période financière],'Suivi étroit'!$A65),"") | Q65: =IF($A65<=Paramètre!$B$2,SUM(C65,E65,G65,I65,K65,M65,O65),"") | R65: =IF($A65<=Paramètre!$B$2,SUM(D65,F65,H65,J65,L65,N65,P65),"")
A66: 4 | B66: Période 4 | C66: =IF($A66<=Paramètre!$B$2,SUMIFS(SMA_Suivi_étroit[Nb usagers],SMA_Suivi_étroit[Source.Name],'Suivi étroit'!C$10,SMA_Suivi_étroit[CA/Sous-CA],'Suivi étroit'!$A$61,SMA_Suivi_étroit[Période financière],'Suivi étroit'!$A66),"") | D66: =IF($A66<=Paramètre!$B$2,SUMIFS(SMA_Suivi_étroit[Nb distinct usagers / SCA],SMA_Suivi_étroit[Source.Name],'Suivi étroit'!C$10,SMA_Suivi_étroit[CA/Sous-CA],'Suivi étroit'!$A$61,SMA_Suivi_étroit[Période financière],'Suivi étroit'!$A66),"") | E66: =IF($A66<=Paramètre!$B$2,SUMIFS(SMA_Suivi_étroit[Nb usagers],SMA_Suivi_étroit[Source.Name],'Suivi étroit'!E$10,SMA_Suivi_étroit[CA/Sous-CA],'Suivi étroit'!$A$61,SMA_Suivi_étroit[Période financière],'Suivi étroit'!$A66),"") | F66: =IF($A66<=Paramètre!$B$2,SUMIFS(SMA_Suivi_étroit[Nb distinct usagers / SCA],SMA_Suivi_étroit[Source.Name],'Suivi étroit'!E$10,SMA_Suivi_étroit[CA/Sous-CA],'Suivi étroit'!$A$61,SMA_Suivi_étroit[Période financière],'Suivi étroit'!$A66),"") | G66: =IF($A66<=Paramètre!$B$2,SUMIFS(SMA_Suivi_étroit[Nb usagers],SMA_Suivi_étroit[Source.Name],'Suivi étroit'!G$10,SMA_Suivi_étroit[CA/Sous-CA],'Suivi étroit'!$A$61,SMA_Suivi_étroit[Période financière],'Suivi étroit'!$A66),"") | H66: =IF($A66<=Paramètre!$B$2,SUMIFS(SMA_Suivi_étroit[Nb distinct usagers / SCA],SMA_Suivi_étroit[Source.Name],'Suivi étroit'!G$10,SMA_Suivi_étroit[CA/Sous-CA],'Suivi étroit'!$A$61,SMA_Suivi_étroit[Période financière],'Suivi étroit'!$A66),"") | I66: =IF($A66<=Paramètre!$B$2,SUMIFS(SMA_Suivi_étroit[Nb usagers],SMA_Suivi_étroit[Source.Name],'Suivi étroit'!I$10,SMA_Suivi_étroit[CA/Sous-CA],'Suivi étroit'!$A$61,SMA_Suivi_étroit[Période financière],'Suivi étroit'!$A66),"") | J66: =IF($A66<=Paramètre!$B$2,SUMIFS(SMA_Suivi_étroit[Nb distinct usagers / SCA],SMA_Suivi_étroit[Source.Name],'Suivi étroit'!I$10,SMA_Suivi_étroit[CA/Sous-CA],'Suivi étroit'!$A$61,SMA_Suivi_étroit[Période financière],'Suivi étroit'!$A66),"") | K66: =IF($A66<=Paramètre!$B$2,SUMIFS(SMA_Suivi_étroit[Nb usagers],SMA_Suivi_étroit[Source.Name],'Suivi étroit'!K$10,SMA_Suivi_étroit[CA/Sous-CA],'Suivi étroit'!$A$61,SMA_Suivi_étroit[Période financière],'Suivi étroit'!$A66),"") | L66: =IF($A66<=Paramètre!$B$2,SUMIFS(SMA_Suivi_étroit[Nb distinct usagers / SCA],SMA_Suivi_étroit[Source.Name],'Suivi étroit'!K$10,SMA_Suivi_étroit[CA/Sous-CA],'Suivi étroit'!$A$61,SMA_Suivi_étroit[Période financière],'Suivi étroit'!$A66),"") | M66: =IF($A66<=Paramètre!$B$2,SUMIFS(SMA_Suivi_étroit[Nb usagers],SMA_Suivi_étroit[Source.Name],'Suivi étroit'!M$10,SMA_Suivi_étroit[CA/Sous-CA],'Suivi étroit'!$A$61,SMA_Suivi_étroit[Période financière],'Suivi étroit'!$A66),"") | N66: =IF($A66<=Paramètre!$B$2,SUMIFS(SMA_Suivi_étroit[Nb distinct usagers / SCA],SMA_Suivi_étroit[Source.Name],'Suivi étroit'!M$10,SMA_Suivi_étroit[CA/Sous-CA],'Suivi étroit'!$A$61,SMA_Suivi_étroit[Période financière],'Suivi étroit'!$A66),"") | O66: =IF($A66<=Paramètre!$B$2,SUMIFS(SMA_Suivi_étroit[Nb usagers],SMA_Suivi_étroit[Source.Name],'Suivi étroit'!O$10,SMA_Suivi_étroit[CA/Sous-CA],'Suivi étroit'!$A$61,SMA_Suivi_étroit[Période financière],'Suivi étroit'!$A66),"") | P66: =IF($A66<=Paramètre!$B$2,SUMIFS(SMA_Suivi_étroit[Nb distinct usagers / SCA],SMA_Suivi_étroit[Source.Name],'Suivi étroit'!O$10,SMA_Suivi_étroit[CA/Sous-CA],'Suivi étroit'!$A$61,SMA_Suivi_étroit[Période financière],'Suivi étroit'!$A66),"") | Q66: =IF($A66<=Paramètre!$B$2,SUM(C66,E66,G66,I66,K66,M66,O66),"") | R66: =IF($A66<=Paramètre!$B$2,SUM(D66,F66,H66,J66,L66,N66,P66),"")
A67: 5 | B67: Période 5 | C67: =IF($A67<=Paramètre!$B$2,SUMIFS(SMA_Suivi_étroit[Nb usagers],SMA_Suivi_étroit[Source.Name],'Suivi étroit'!C$10,SMA_Suivi_étroit[CA/Sous-CA],'Suivi étroit'!$A$61,SMA_Suivi_étroit[Période financière],'Suivi étroit'!$A67),"") | D67: =IF($A67<=Paramètre!$B$2,SUMIFS(SMA_Suivi_étroit[Nb distinct usagers / SCA],SMA_Suivi_étroit[Source.Name],'Suivi étroit'!C$10,SMA_Suivi_étroit[CA/Sous-CA],'Suivi étroit'!$A$61,SMA_Suivi_étroit[Période financière],'Suivi étroit'!$A67),"") | E67: =IF($A67<=Paramètre!$B$2,SUMIFS(SMA_Suivi_étroit[Nb usagers],SMA_Suivi_étroit[Source.Name],'Suivi étroit'!E$10,SMA_Suivi_étroit[CA/Sous-CA],'Suivi étroit'!$A$61,SMA_Suivi_étroit[Période financière],'Suivi étroit'!$A67),"") | F67: =IF($A67<=Paramètre!$B$2,SUMIFS(SMA_Suivi_étroit[Nb distinct usagers / SCA],SMA_Suivi_étroit[Source.Name],'Suivi étroit'!E$10,SMA_Suivi_étroit[CA/Sous-CA],'Suivi étroit'!$A$61,SMA_Suivi_étroit[Période financière],'Suivi étroit'!$A67),"") | G67: =IF($A67<=Paramètre!$B$2,SUMIFS(SMA_Suivi_étroit[Nb usagers],SMA_Suivi_étroit[Source.Name],'Suivi étroit'!G$10,SMA_Suivi_étroit[CA/Sous-CA],'Suivi étroit'!$A$61,SMA_Suivi_étroit[Période financière],'Suivi étroit'!$A67),"") | H67: =IF($A67<=Paramètre!$B$2,SUMIFS(SMA_Suivi_étroit[Nb distinct usagers / SCA],SMA_Suivi_étroit[Source.Name],'Suivi étroit'!G$10,SMA_Suivi_étroit[CA/Sous-CA],'Suivi étroit'!$A$61,SMA_Suivi_étroit[Période financière],'Suivi étroit'!$A67),"") | I67: =IF($A67<=Paramètre!$B$2,SUMIFS(SMA_Suivi_étroit[Nb usagers],SMA_Suivi_étroit[Source.Name],'Suivi étroit'!I$10,SMA_Suivi_étroit[CA/Sous-CA],'Suivi étroit'!$A$61,SMA_Suivi_étroit[Période financière],'Suivi étroit'!$A67),"") | J67: =IF($A67<=Paramètre!$B$2,SUMIFS(SMA_Suivi_étroit[Nb distinct usagers / SCA],SMA_Suivi_étroit[Source.Name],'Suivi étroit'!I$10,SMA_Suivi_étroit[CA/Sous-CA],'Suivi étroit'!$A$61,SMA_Suivi_étroit[Période financière],'Suivi étroit'!$A67),"") | K67: =IF($A67<=Paramètre!$B$2,SUMIFS(SMA_Suivi_étroit[Nb usagers],SMA_Suivi_étroit[Source.Name],'Suivi étroit'!K$10,SMA_Suivi_étroit[CA/Sous-CA],'Suivi étroit'!$A$61,SMA_Suivi_étroit[Période financière],'Suivi étroit'!$A67),"") | L67: =IF($A67<=Paramètre!$B$2,SUMIFS(SMA_Suivi_étroit[Nb distinct usagers / SCA],SMA_Suivi_étroit[Source.Name],'Suivi étroit'!K$10,SMA_Suivi_étroit[CA/Sous-CA],'Suivi étroit'!$A$61,SMA_Suivi_étroit[Période financière],'Suivi étroit'!$A67),"") | M67: =IF($A67<=Paramètre!$B$2,SUMIFS(SMA_Suivi_étroit[Nb usagers],SMA_Suivi_étroit[Source.Name],'Suivi étroit'!M$10,SMA_Suivi_étroit[CA/Sous-CA],'Suivi étroit'!$A$61,SMA_Suivi_étroit[Période financière],'Suivi étroit'!$A67),"") | N67: =IF($A67<=Paramètre!$B$2,SUMIFS(SMA_Suivi_étroit[Nb distinct usagers / SCA],SMA_Suivi_étroit[Source.Name],'Suivi étroit'!M$10,SMA_Suivi_étroit[CA/Sous-CA],'Suivi étroit'!$A$61,SMA_Suivi_étroit[Période financière],'Suivi étroit'!$A67),"") | O67: =IF($A67<=Paramètre!$B$2,SUMIFS(SMA_Suivi_étroit[Nb usagers],SMA_Suivi_étroit[Source.Name],'Suivi étroit'!O$10,SMA_Suivi_étroit[CA/Sous-CA],'Suivi étroit'!$A$61,SMA_Suivi_étroit[Période financière],'Suivi étroit'!$A67),"") | P67: =IF($A67<=Paramètre!$B$2,SUMIFS(SMA_Suivi_étroit[Nb distinct usagers / SCA],SMA_Suivi_étroit[Source.Name],'Suivi étroit'!O$10,SMA_Suivi_étroit[CA/Sous-CA],'Suivi étroit'!$A$61,SMA_Suivi_étroit[Période financière],'Suivi étroit'!$A67),"") | Q67: =IF($A67<=Paramètre!$B$2,SUM(C67,E67,G67,I67,K67,M67,O67),"") | R67: =IF($A67<=Paramètre!$B$2,SUM(D67,F67,H67,J67,L67,N67,P67),"")
A68: 6 | B68: Période 6 | C68: =IF($A68<=Paramètre!$B$2,SUMIFS(SMA_Suivi_étroit[Nb usagers],SMA_Suivi_étroit[Source.Name],'Suivi étroit'!C$10,SMA_Suivi_étroit[CA/Sous-CA],'Suivi étroit'!$A$61,SMA_Suivi_étroit[Période financière],'Suivi étroit'!$A68),"") | D68: =IF($A68<=Paramètre!$B$2,SUMIFS(SMA_Suivi_étroit[Nb distinct usagers / SCA],SMA_Suivi_étroit[Source.Name],'Suivi étroit'!C$10,SMA_Suivi_étroit[CA/Sous-CA],'Suivi étroit'!$A$61,SMA_Suivi_étroit[Période financière],'Suivi étroit'!$A68),"") | E68: =IF($A68<=Paramètre!$B$2,SUMIFS(SMA_Suivi_étroit[Nb usagers],SMA_Suivi_étroit[Source.Name],'Suivi étroit'!E$10,SMA_Suivi_étroit[CA/Sous-CA],'Suivi étroit'!$A$61,SMA_Suivi_étroit[Période financière],'Suivi étroit'!$A68),"") | F68: =IF($A68<=Paramètre!$B$2,SUMIFS(SMA_Suivi_étroit[Nb distinct usagers / SCA],SMA_Suivi_étroit[Source.Name],'Suivi étroit'!E$10,SMA_Suivi_étroit[CA/Sous-CA],'Suivi étroit'!$A$61,SMA_Suivi_étroit[Période financière],'Suivi étroit'!$A68),"") | G68: =IF($A68<=Paramètre!$B$2,SUMIFS(SMA_Suivi_étroit[Nb usagers],SMA_Suivi_étroit[Source.Name],'Suivi étroit'!G$10,SMA_Suivi_étroit[CA/Sous-CA],'Suivi étroit'!$A$61,SMA_Suivi_étroit[Période financière],'Suivi étroit'!$A68),"") | H68: =IF($A68<=Paramètre!$B$2,SUMIFS(SMA_Suivi_étroit[Nb distinct usagers / SCA],SMA_Suivi_étroit[Source.Name],'Suivi étroit'!G$10,SMA_Suivi_étroit[CA/Sous-CA],'Suivi étroit'!$A$61,SMA_Suivi_étroit[Période financière],'Suivi étroit'!$A68),"") | I68: =IF($A68<=Paramètre!$B$2,SUMIFS(SMA_Suivi_étroit[Nb usagers],SMA_Suivi_étroit[Source.Name],'Suivi étroit'!I$10,SMA_Suivi_étroit[CA/Sous-CA],'Suivi étroit'!$A$61,SMA_Suivi_étroit[Période financière],'Suivi étroit'!$A68),"") | J68: =IF($A68<=Paramètre!$B$2,SUMIFS(SMA_Suivi_étroit[Nb distinct usagers / SCA],SMA_Suivi_étroit[Source.Name],'Suivi étroit'!I$10,SMA_Suivi_étroit[CA/Sous-CA],'Suivi étroit'!$A$61,SMA_Suivi_étroit[Période financière],'Suivi étroit'!$A68),"") | K68: =IF($A68<=Paramètre!$B$2,SUMIFS(SMA_Suivi_étroit[Nb usagers],SMA_Suivi_étroit[Source.Name],'Suivi étroit'!K$10,SMA_Suivi_étroit[CA/Sous-CA],'Suivi étroit'!$A$61,SMA_Suivi_étroit[Période financière],'Suivi étroit'!$A68),"") | L68: =IF($A68<=Paramètre!$B$2,SUMIFS(SMA_Suivi_étroit[Nb distinct usagers / SCA],SMA_Suivi_étroit[Source.Name],'Suivi étroit'!K$10,SMA_Suivi_étroit[CA/Sous-CA],'Suivi étroit'!$A$61,SMA_Suivi_étroit[Période financière],'Suivi étroit'!$A68),"") | M68: =IF($A68<=Paramètre!$B$2,SUMIFS(SMA_Suivi_étroit[Nb usagers],SMA_Suivi_étroit[Source.Name],'Suivi étroit'!M$10,SMA_Suivi_étroit[CA/Sous-CA],'Suivi étroit'!$A$61,SMA_Suivi_étroit[Période financière],'Suivi étroit'!$A68),"") | N68: =IF($A68<=Paramètre!$B$2,SUMIFS(SMA_Suivi_étroit[Nb distinct usagers / SCA],SMA_Suivi_étroit[Source.Name],'Suivi étroit'!M$10,SMA_Suivi_étroit[CA/Sous-CA],'Suivi étroit'!$A$61,SMA_Suivi_étroit[Période financière],'Suivi étroit'!$A68),"") | O68: =IF($A68<=Paramètre!$B$2,SUMIFS(SMA_Suivi_étroit[Nb usagers],SMA_Suivi_étroit[Source.Name],'Suivi étroit'!O$10,SMA_Suivi_étroit[CA/Sous-CA],'Suivi étroit'!$A$61,SMA_Suivi_étroit[Période financière],'Suivi étroit'!$A68),"") | P68: =IF($A68<=Paramètre!$B$2,SUMIFS(SMA_Suivi_étroit[Nb distinct usagers / SCA],SMA_Suivi_étroit[Source.Name],'Suivi étroit'!O$10,SMA_Suivi_étroit[CA/Sous-CA],'Suivi étroit'!$A$61,SMA_Suivi_étroit[Période financière],'Suivi étroit'!$A68),"") | Q68: =IF($A68<=Paramètre!$B$2,SUM(C68,E68,G68,I68,K68,M68,O68),"") | R68: =IF($A68<=Paramètre!$B$2,SUM(D68,F68,H68,J68,L68,N68,P68),"")
A69: 7 | B69: Période 7 | C69: =IF($A69<=Paramètre!$B$2,SUMIFS(SMA_Suivi_étroit[Nb usagers],SMA_Suivi_étroit[Source.Name],'Suivi étroit'!C$10,SMA_Suivi_étroit[CA/Sous-CA],'Suivi étroit'!$A$61,SMA_Suivi_étroit[Période financière],'Suivi étroit'!$A69),"") | D69: =IF($A69<=Paramètre!$B$2,SUMIFS(SMA_Suivi_étroit[Nb distinct usagers / SCA],SMA_Suivi_étroit[Source.Name],'Suivi étroit'!C$10,SMA_Suivi_étroit[CA/Sous-CA],'Suivi étroit'!$A$61,SMA_Suivi_étroit[Période financière],'Suivi étroit'!$A69),"") | E69: =IF($A69<=Paramètre!$B$2,SUMIFS(SMA_Suivi_étroit[Nb usagers],SMA_Suivi_étroit[Source.Name],'Suivi étroit'!E$10,SMA_Suivi_étroit[CA/Sous-CA],'Suivi étroit'!$A$61,SMA_Suivi_étroit[Période financière],'Suivi étroit'!$A69),"") | F69: =IF($A69<=Paramètre!$B$2,SUMIFS(SMA_Suivi_étroit[Nb distinct usagers / SCA],SMA_Suivi_étroit[Source.Name],'Suivi étroit'!E$10,SMA_Suivi_étroit[CA/Sous-CA],'Suivi étroit'!$A$61,SMA_Suivi_étroit[Période financière],'Suivi étroit'!$A69),"") | G69: =IF($A69<=Paramètre!$B$2,SUMIFS(SMA_Suivi_étroit[Nb usagers],SMA_Suivi_étroit[Source.Name],'Suivi étroit'!G$10,SMA_Suivi_étroit[CA/Sous-CA],'Suivi étroit'!$A$61,SMA_Suivi_étroit[Période financière],'Suivi étroit'!$A69),"") | H69: =IF($A69<=Paramètre!$B$2,SUMIFS(SMA_Suivi_étroit[Nb distinct usagers / SCA],SMA_Suivi_étroit[Source.Name],'Suivi étroit'!G$10,SMA_Suivi_étroit[CA/Sous-CA],'Suivi étroit'!$A$61,SMA_Suivi_étroit[Période financière],'Suivi étroit'!$A69),"") | I69: =IF($A69<=Paramètre!$B$2,SUMIFS(SMA_Suivi_étroit[Nb usagers],SMA_Suivi_étroit[Source.Name],'Suivi étroit'!I$10,SMA_Suivi_étroit[CA/Sous-CA],'Suivi étroit'!$A$61,SMA_Suivi_étroit[Période financière],'Suivi étroit'!$A69),"") | J69: =IF($A69<=Paramètre!$B$2,SUMIFS(SMA_Suivi_étroit[Nb distinct usagers / SCA],SMA_Suivi_étroit[Source.Name],'Suivi étroit'!I$10,SMA_Suivi_étroit[CA/Sous-CA],'Suivi étroit'!$A$61,SMA_Suivi_étroit[Période financière],'Suivi étroit'!$A69),"") | K69: =IF($A69<=Paramètre!$B$2,SUMIFS(SMA_Suivi_étroit[Nb usagers],SMA_Suivi_étroit[Source.Name],'Suivi étroit'!K$10,SMA_Suivi_étroit[CA/Sous-CA],'Suivi étroit'!$A$61,SMA_Suivi_étroit[Période financière],'Suivi étroit'!$A69),"") | L69: =IF($A69<=Paramètre!$B$2,SUMIFS(SMA_Suivi_étroit[Nb distinct usagers / SCA],SMA_Suivi_étroit[Source.Name],'Suivi étroit'!K$10,SMA_Suivi_étroit[CA/Sous-CA],'Suivi étroit'!$A$61,SMA_Suivi_étroit[Période financière],'Suivi étroit'!$A69),"") | M69: =IF($A69<=Paramètre!$B$2,SUMIFS(SMA_Suivi_étroit[Nb usagers],SMA_Suivi_étroit[Source.Name],'Suivi étroit'!M$10,SMA_Suivi_étroit[CA/Sous-CA],'Suivi étroit'!$A$61,SMA_Suivi_étroit[Période financière],'Suivi étroit'!$A69),"") | N69: =IF($A69<=Paramètre!$B$2,SUMIFS(SMA_Suivi_étroit[Nb distinct usagers / SCA],SMA_Suivi_étroit[Source.Name],'Suivi étroit'!M$10,SMA_Suivi_étroit[CA/Sous-CA],'Suivi étroit'!$A$61,SMA_Suivi_étroit[Période financière],'Suivi étroit'!$A69),"") | O69: =IF($A69<=Paramètre!$B$2,SUMIFS(SMA_Suivi_étroit[Nb usagers],SMA_Suivi_étroit[Source.Name],'Suivi étroit'!O$10,SMA_Suivi_étroit[CA/Sous-CA],'Suivi étroit'!$A$61,SMA_Suivi_étroit[Période financière],'Suivi étroit'!$A69),"") | P69: =IF($A69<=Paramètre!$B$2,SUMIFS(SMA_Suivi_étroit[Nb distinct usagers / SCA],SMA_Suivi_étroit[Source.Name],'Suivi étroit'!O$10,SMA_Suivi_étroit[CA/Sous-CA],'Suivi étroit'!$A$61,SMA_Suivi_étroit[Période financière],'Suivi étroit'!$A69),"") | Q69: =IF($A69<=Paramètre!$B$2,SUM(C69,E69,G69,I69,K69,M69,O69),"") | R69: =IF($A69<=Paramètre!$B$2,SUM(D69,F69,H69,J69,L69,N69,P69),"")
A70: 8 | B70: Période 8 | C70: =IF($A70<=Paramètre!$B$2,SUMIFS(SMA_Suivi_étroit[Nb usagers],SMA_Suivi_étroit[Source.Name],'Suivi étroit'!C$10,SMA_Suivi_étroit[CA/Sous-CA],'Suivi étroit'!$A$61,SMA_Suivi_étroit[Période financière],'Suivi étroit'!$A70),"") | D70: =IF($A70<=Paramètre!$B$2,SUMIFS(SMA_Suivi_étroit[Nb distinct usagers / SCA],SMA_Suivi_étroit[Source.Name],'Suivi étroit'!C$10,SMA_Suivi_étroit[CA/Sous-CA],'Suivi étroit'!$A$61,SMA_Suivi_étroit[Période financière],'Suivi étroit'!$A70),"") | E70: =IF($A70<=Paramètre!$B$2,SUMIFS(SMA_Suivi_étroit[Nb usagers],SMA_Suivi_étroit[Source.Name],'Suivi étroit'!E$10,SMA_Suivi_étroit[CA/Sous-CA],'Suivi étroit'!$A$61,SMA_Suivi_étroit[Période financière],'Suivi étroit'!$A70),"") | F70: =IF($A70<=Paramètre!$B$2,SUMIFS(SMA_Suivi_étroit[Nb distinct usagers / SCA],SMA_Suivi_étroit[Source.Name],'Suivi étroit'!E$10,SMA_Suivi_étroit[CA/Sous-CA],'Suivi étroit'!$A$61,SMA_Suivi_étroit[Période financière],'Suivi étroit'!$A70),"") | G70: =IF($A70<=Paramètre!$B$2,SUMIFS(SMA_Suivi_étroit[Nb usagers],SMA_Suivi_étroit[Source.Name],'Suivi étroit'!G$10,SMA_Suivi_étroit[CA/Sous-CA],'Suivi étroit'!$A$61,SMA_Suivi_étroit[Période financière],'Suivi étroit'!$A70),"") | H70: =IF($A70<=Paramètre!$B$2,SUMIFS(SMA_Suivi_étroit[Nb distinct usagers / SCA],SMA_Suivi_étroit[Source.Name],'Suivi étroit'!G$10,SMA_Suivi_étroit[CA/Sous-CA],'Suivi étroit'!$A$61,SMA_Suivi_étroit[Période financière],'Suivi étroit'!$A70),"") | I70: =IF($A70<=Paramètre!$B$2,SUMIFS(SMA_Suivi_étroit[Nb usagers],SMA_Suivi_étroit[Source.Name],'Suivi étroit'!I$10,SMA_Suivi_étroit[CA/Sous-CA],'Suivi étroit'!$A$61,SMA_Suivi_étroit[Période financière],'Suivi étroit'!$A70),"") | J70: =IF($A70<=Paramètre!$B$2,SUMIFS(SMA_Suivi_étroit[Nb distinct usagers / SCA],SMA_Suivi_étroit[Source.Name],'Suivi étroit'!I$10,SMA_Suivi_étroit[CA/Sous-CA],'Suivi étroit'!$A$61,SMA_Suivi_étroit[Période financière],'Suivi étroit'!$A70),"") | K70: =IF($A70<=Paramètre!$B$2,SUMIFS(SMA_Suivi_étroit[Nb usagers],SMA_Suivi_étroit[Source.Name],'Suivi étroit'!K$10,SMA_Suivi_étroit[CA/Sous-CA],'Suivi étroit'!$A$61,SMA_Suivi_étroit[Période financière],'Suivi étroit'!$A70),"") | L70: =IF($A70<=Paramètre!$B$2,SUMIFS(SMA_Suivi_étroit[Nb distinct usagers / SCA],SMA_Suivi_étroit[Source.Name],'Suivi étroit'!K$10,SMA_Suivi_étroit[CA/Sous-CA],'Suivi étroit'!$A$61,SMA_Suivi_étroit[Période financière],'Suivi étroit'!$A70),"") | M70: =IF($A70<=Paramètre!$B$2,SUMIFS(SMA_Suivi_étroit[Nb usagers],SMA_Suivi_étroit[Source.Name],'Suivi étroit'!M$10,SMA_Suivi_étroit[CA/Sous-CA],'Suivi étroit'!$A$61,SMA_Suivi_étroit[Période financière],'Suivi étroit'!$A70),"") | N70: =IF($A70<=Paramètre!$B$2,SUMIFS(SMA_Suivi_étroit[Nb distinct usagers / SCA],SMA_Suivi_étroit[Source.Name],'Suivi étroit'!M$10,SMA_Suivi_étroit[CA/Sous-CA],'Suivi étroit'!$A$61,SMA_Suivi_étroit[Période financière],'Suivi étroit'!$A70),"") | O70: =IF($A70<=Paramètre!$B$2,SUMIFS(SMA_Suivi_étroit[Nb usagers],SMA_Suivi_étroit[Source.Name],'Suivi étroit'!O$10,SMA_Suivi_étroit[CA/Sous-CA],'Suivi étroit'!$A$61,SMA_Suivi_étroit[Période financière],'Suivi étroit'!$A70),"") | P70: =IF($A70<=Paramètre!$B$2,SUMIFS(SMA_Suivi_étroit[Nb distinct usagers / SCA],SMA_Suivi_étroit[Source.Name],'Suivi étroit'!O$10,SMA_Suivi_étroit[CA/Sous-CA],'Suivi étroit'!$A$61,SMA_Suivi_étroit[Période financière],'Suivi étroit'!$A70),"") | Q70: =IF($A70<=Paramètre!$B$2,SUM(C70,E70,G70,I70,K70,M70,O70),"") | R70: =IF($A70<=Paramètre!$B$2,SUM(D70,F70,H70,J70,L70,N70,P70),"")
A71: 9 | B71: Période 9 | C71: =IF($A71<=Paramètre!$B$2,SUMIFS(SMA_Suivi_étroit[Nb usagers],SMA_Suivi_étroit[Source.Name],'Suivi étroit'!C$10,SMA_Suivi_étroit[CA/Sous-CA],'Suivi étroit'!$A$61,SMA_Suivi_étroit[Période financière],'Suivi étroit'!$A71),"") | D71: =IF($A71<=Paramètre!$B$2,SUMIFS(SMA_Suivi_étroit[Nb distinct usagers / SCA],SMA_Suivi_étroit[Source.Name],'Suivi étroit'!C$10,SMA_Suivi_étroit[CA/Sous-CA],'Suivi étroit'!$A$61,SMA_Suivi_étroit[Période financière],'Suivi étroit'!$A71),"") | E71: =IF($A71<=Paramètre!$B$2,SUMIFS(SMA_Suivi_étroit[Nb usagers],SMA_Suivi_étroit[Source.Name],'Suivi étroit'!E$10,SMA_Suivi_étroit[CA/Sous-CA],'Suivi étroit'!$A$61,SMA_Suivi_étroit[Période financière],'Suivi étroit'!$A71),"") | F71: =IF($A71<=Paramètre!$B$2,SUMIFS(SMA_Suivi_étroit[Nb distinct usagers / SCA],SMA_Suivi_étroit[Source.Name],'Suivi étroit'!E$10,SMA_Suivi_étroit[CA/Sous-CA],'Suivi étroit'!$A$61,SMA_Suivi_étroit[Période financière],'Suivi étroit'!$A71),"") | G71: =IF($A71<=Paramètre!$B$2,SUMIFS(SMA_Suivi_étroit[Nb usagers],SMA_Suivi_étroit[Source.Name],'Suivi étroit'!G$10,SMA_Suivi_étroit[CA/Sous-CA],'Suivi étroit'!$A$61,SMA_Suivi_étroit[Période financière],'Suivi étroit'!$A71),"") | H71: =IF($A71<=Paramètre!$B$2,SUMIFS(SMA_Suivi_étroit[Nb distinct usagers / SCA],SMA_Suivi_étroit[Source.Name],'Suivi étroit'!G$10,SMA_Suivi_étroit[CA/Sous-CA],'Suivi étroit'!$A$61,SMA_Suivi_étroit[Période financière],'Suivi étroit'!$A71),"") | I71: =IF($A71<=Paramètre!$B$2,SUMIFS(SMA_Suivi_étroit[Nb usagers],SMA_Suivi_étroit[Source.Name],'Suivi étroit'!I$10,SMA_Suivi_étroit[CA/Sous-CA],'Suivi étroit'!$A$61,SMA_Suivi_étroit[Période financière],'Suivi étroit'!$A71),"") | J71: =IF($A71<=Paramètre!$B$2,SUMIFS(SMA_Suivi_étroit[Nb distinct usagers / SCA],SMA_Suivi_étroit[Source.Name],'Suivi étroit'!I$10,SMA_Suivi_étroit[CA/Sous-CA],'Suivi étroit'!$A$61,SMA_Suivi_étroit[Période financière],'Suivi étroit'!$A71),"") | K71: =IF($A71<=Paramètre!$B$2,SUMIFS(SMA_Suivi_étroit[Nb usagers],SMA_Suivi_étroit[Source.Name],'Suivi étroit'!K$10,SMA_Suivi_étroit[CA/Sous-CA],'Suivi étroit'!$A$61,SMA_Suivi_étroit[Période financière],'Suivi étroit'!$A71),"") | L71: =IF($A71<=Paramètre!$B$2,SUMIFS(SMA_Suivi_étroit[Nb distinct usagers / SCA],SMA_Suivi_étroit[Source.Name],'Suivi étroit'!K$10,SMA_Suivi_étroit[CA/Sous-CA],'Suivi étroit'!$A$61,SMA_Suivi_étroit[Période financière],'Suivi étroit'!$A71),"") | M71: =IF($A71<=Paramètre!$B$2,SUMIFS(SMA_Suivi_étroit[Nb usagers],SMA_Suivi_étroit[Source.Name],'Suivi étroit'!M$10,SMA_Suivi_étroit[CA/Sous-CA],'Suivi étroit'!$A$61,SMA_Suivi_étroit[Période financière],'Suivi étroit'!$A71),"") | N71: =IF($A71<=Paramètre!$B$2,SUMIFS(SMA_Suivi_étroit[Nb distinct usagers / SCA],SMA_Suivi_étroit[Source.Name],'Suivi étroit'!M$10,SMA_Suivi_étroit[CA/Sous-CA],'Suivi étroit'!$A$61,SMA_Suivi_étroit[Période financière],'Suivi étroit'!$A71),"") | O71: =IF($A71<=Paramètre!$B$2,SUMIFS(SMA_Suivi_étroit[Nb usagers],SMA_Suivi_étroit[Source.Name],'Suivi étroit'!O$10,SMA_Suivi_étroit[CA/Sous-CA],'Suivi étroit'!$A$61,SMA_Suivi_étroit[Période financière],'Suivi étroit'!$A71),"") | P71: =IF($A71<=Paramètre!$B$2,SUMIFS(SMA_Suivi_étroit[Nb distinct usagers / SCA],SMA_Suivi_étroit[Source.Name],'Suivi étroit'!O$10,SMA_Suivi_étroit[CA/Sous-CA],'Suivi étroit'!$A$61,SMA_Suivi_étroit[Période financière],'Suivi étroit'!$A71),"") | Q71: =IF($A71<=Paramètre!$B$2,SUM(C71,E71,G71,I71,K71,M71,O71),"") | R71: =IF($A71<=Paramètre!$B$2,SUM(D71,F71,H71,J71,L71,N71,P71),"")
A72: 10 | B72: Période 10 | C72: =IF($A72<=Paramètre!$B$2,SUMIFS(SMA_Suivi_étroit[Nb usagers],SMA_Suivi_étroit[Source.Name],'Suivi étroit'!C$10,SMA_Suivi_étroit[CA/Sous-CA],'Suivi étroit'!$A$61,SMA_Suivi_étroit[Période financière],'Suivi étroit'!$A72),"") | D72: =IF($A72<=Paramètre!$B$2,SUMIFS(SMA_Suivi_étroit[Nb distinct usagers / SCA],SMA_Suivi_étroit[Source.Name],'Suivi étroit'!C$10,SMA_Suivi_étroit[CA/Sous-CA],'Suivi étroit'!$A$61,SMA_Suivi_étroit[Période financière],'Suivi étroit'!$A72),"") | E72: =IF($A72<=Paramètre!$B$2,SUMIFS(SMA_Suivi_étroit[Nb usagers],SMA_Suivi_étroit[Source.Name],'Suivi étroit'!E$10,SMA_Suivi_étroit[CA/Sous-CA],'Suivi étroit'!$A$61,SMA_Suivi_étroit[Période financière],'Suivi étroit'!$A72),"") | F72: =IF($A72<=Paramètre!$B$2,SUMIFS(SMA_Suivi_étroit[Nb distinct usagers / SCA],SMA_Suivi_étroit[Source.Name],'Suivi étroit'!E$10,SMA_Suivi_étroit[CA/Sous-CA],'Suivi étroit'!$A$61,SMA_Suivi_étroit[Période financière],'Suivi étroit'!$A72),"") | G72: =IF($A72<=Paramètre!$B$2,SUMIFS(SMA_Suivi_étroit[Nb usagers],SMA_Suivi_étroit[Source.Name],'Suivi étroit'!G$10,SMA_Suivi_étroit[CA/Sous-CA],'Suivi étroit'!$A$61,SMA_Suivi_étroit[Période financière],'Suivi étroit'!$A72),"") | H72: =IF($A72<=Paramètre!$B$2,SUMIFS(SMA_Suivi_étroit[Nb distinct usagers / SCA],SMA_Suivi_étroit[Source.Name],'Suivi étroit'!G$10,SMA_Suivi_étroit[CA/Sous-CA],'Suivi étroit'!$A$61,SMA_Suivi_étroit[Période financière],'Suivi étroit'!$A72),"") | I72: =IF($A72<=Paramètre!$B$2,SUMIFS(SMA_Suivi_étroit[Nb usagers],SMA_Suivi_étroit[Source.Name],'Suivi étroit'!I$10,SMA_Suivi_étroit[CA/Sous-CA],'Suivi étroit'!$A$61,SMA_Suivi_étroit[Période financière],'Suivi étroit'!$A72),"") | J72: =IF($A72<=Paramètre!$B$2,SUMIFS(SMA_Suivi_étroit[Nb distinct usagers / SCA],SMA_Suivi_étroit[Source.Name],'Suivi étroit'!I$10,SMA_Suivi_étroit[CA/Sous-CA],'Suivi étroit'!$A$61,SMA_Suivi_étroit[Période financière],'Suivi étroit'!$A72),"") | K72: =IF($A72<=Paramètre!$B$2,SUMIFS(SMA_Suivi_étroit[Nb usagers],SMA_Suivi_étroit[Source.Name],'Suivi étroit'!K$10,SMA_Suivi_étroit[CA/Sous-CA],'Suivi étroit'!$A$61,SMA_Suivi_étroit[Période financière],'Suivi étroit'!$A72),"") | L72: =IF($A72<=Paramètre!$B$2,SUMIFS(SMA_Suivi_étroit[Nb distinct usagers / SCA],SMA_Suivi_étroit[Source.Name],'Suivi étroit'!K$10,SMA_Suivi_étroit[CA/Sous-CA],'Suivi étroit'!$A$61,SMA_Suivi_étroit[Période financière],'Suivi étroit'!$A72),"") | M72: =IF($A72<=Paramètre!$B$2,SUMIFS(SMA_Suivi_étroit[Nb usagers],SMA_Suivi_étroit[Source.Name],'Suivi étroit'!M$10,SMA_Suivi_étroit[CA/Sous-CA],'Suivi étroit'!$A$61,SMA_Suivi_étroit[Période financière],'Suivi étroit'!$A72),"") | N72: =IF($A72<=Paramètre!$B$2,SUMIFS(SMA_Suivi_étroit[Nb distinct usagers / SCA],SMA_Suivi_étroit[Source.Name],'Suivi étroit'!M$10,SMA_Suivi_étroit[CA/Sous-CA],'Suivi étroit'!$A$61,SMA_Suivi_étroit[Période financière],'Suivi étroit'!$A72),"") | O72: =IF($A72<=Paramètre!$B$2,SUMIFS(SMA_Suivi_étroit[Nb usagers],SMA_Suivi_étroit[Source.Name],'Suivi étroit'!O$10,SMA_Suivi_étroit[CA/Sous-CA],'Suivi étroit'!$A$61,SMA_Suivi_étroit[Période financière],'Suivi étroit'!$A72),"") | P72: =IF($A72<=Paramètre!$B$2,SUMIFS(SMA_Suivi_étroit[Nb distinct usagers / SCA],SMA_Suivi_étroit[Source.Name],'Suivi étroit'!O$10,SMA_Suivi_étroit[CA/Sous-CA],'Suivi étroit'!$A$61,SMA_Suivi_étroit[Période financière],'Suivi étroit'!$A72),"") | Q72: =IF($A72<=Paramètre!$B$2,SUM(C72,E72,G72,I72,K72,M72,O72),"") | R72: =IF($A72<=Paramètre!$B$2,SUM(D72,F72,H72,J72,L72,N72,P72),"")
A73: 11 | B73: Période 11 | C73: =IF($A73<=Paramètre!$B$2,SUMIFS(SMA_Suivi_étroit[Nb usagers],SMA_Suivi_étroit[Source.Name],'Suivi étroit'!C$10,SMA_Suivi_étroit[CA/Sous-CA],'Suivi étroit'!$A$61,SMA_Suivi_étroit[Période financière],'Suivi étroit'!$A73),"") | D73: =IF($A73<=Paramètre!$B$2,SUMIFS(SMA_Suivi_étroit[Nb distinct usagers / SCA],SMA_Suivi_étroit[Source.Name],'Suivi étroit'!C$10,SMA_Suivi_étroit[CA/Sous-CA],'Suivi étroit'!$A$61,SMA_Suivi_étroit[Période financière],'Suivi étroit'!$A73),"") | E73: =IF($A73<=Paramètre!$B$2,SUMIFS(SMA_Suivi_étroit[Nb usagers],SMA_Suivi_étroit[Source.Name],'Suivi étroit'!E$10,SMA_Suivi_étroit[CA/Sous-CA],'Suivi étroit'!$A$61,SMA_Suivi_étroit[Période financière],'Suivi étroit'!$A73),"") | F73: =IF($A73<=Paramètre!$B$2,SUMIFS(SMA_Suivi_étroit[Nb distinct usagers / SCA],SMA_Suivi_étroit[Source.Name],'Suivi étroit'!E$10,SMA_Suivi_étroit[CA/Sous-CA],'Suivi étroit'!$A$61,SMA_Suivi_étroit[Période financière],'Suivi étroit'!$A73),"") | G73: =IF($A73<=Paramètre!$B$2,SUMIFS(SMA_Suivi_étroit[Nb usagers],SMA_Suivi_étroit[Source.Name],'Suivi étroit'!G$10,SMA_Suivi_étroit[CA/Sous-CA],'Suivi étroit'!$A$61,SMA_Suivi_étroit[Période financière],'Suivi étroit'!$A73),"") | H73: =IF($A73<=Paramètre!$B$2,SUMIFS(SMA_Suivi_étroit[Nb distinct usagers / SCA],SMA_Suivi_étroit[Source.Name],'Suivi étroit'!G$10,SMA_Suivi_étroit[CA/Sous-CA],'Suivi étroit'!$A$61,SMA_Suivi_étroit[Période financière],'Suivi étroit'!$A73),"") | I73: =IF($A73<=Paramètre!$B$2,SUMIFS(SMA_Suivi_étroit[Nb usagers],SMA_Suivi_étroit[Source.Name],'Suivi étroit'!I$10,SMA_Suivi_étroit[CA/Sous-CA],'Suivi étroit'!$A$61,SMA_Suivi_étroit[Période financière],'Suivi étroit'!$A73),"") | J73: =IF($A73<=Paramètre!$B$2,SUMIFS(SMA_Suivi_étroit[Nb distinct usagers / SCA],SMA_Suivi_étroit[Source.Name],'Suivi étroit'!I$10,SMA_Suivi_étroit[CA/Sous-CA],'Suivi étroit'!$A$61,SMA_Suivi_étroit[Période financière],'Suivi étroit'!$A73),"") | K73: =IF($A73<=Paramètre!$B$2,SUMIFS(SMA_Suivi_étroit[Nb usagers],SMA_Suivi_étroit[Source.Name],'Suivi étroit'!K$10,SMA_Suivi_étroit[CA/Sous-CA],'Suivi étroit'!$A$61,SMA_Suivi_étroit[Période financière],'Suivi étroit'!$A73),"") | L73: =IF($A73<=Paramètre!$B$2,SUMIFS(SMA_Suivi_étroit[Nb distinct usagers / SCA],SMA_Suivi_étroit[Source.Name],'Suivi étroit'!K$10,SMA_Suivi_étroit[CA/Sous-CA],'Suivi étroit'!$A$61,SMA_Suivi_étroit[Période financière],'Suivi étroit'!$A73),"") | M73: =IF($A73<=Paramètre!$B$2,SUMIFS(SMA_Suivi_étroit[Nb usagers],SMA_Suivi_étroit[Source.Name],'Suivi étroit'!M$10,SMA_Suivi_étroit[CA/Sous-CA],'Suivi étroit'!$A$61,SMA_Suivi_étroit[Période financière],'Suivi étroit'!$A73),"") | N73: =IF($A73<=Paramètre!$B$2,SUMIFS(SMA_Suivi_étroit[Nb distinct usagers / SCA],SMA_Suivi_étroit[Source.Name],'Suivi étroit'!M$10,SMA_Suivi_étroit[CA/Sous-CA],'Suivi étroit'!$A$61,SMA_Suivi_étroit[Période financière],'Suivi étroit'!$A73),"") | O73: =IF($A73<=Paramètre!$B$2,SUMIFS(SMA_Suivi_étroit[Nb usagers],SMA_Suivi_étroit[Source.Name],'Suivi étroit'!O$10,SMA_Suivi_étroit[CA/Sous-CA],'Suivi étroit'!$A$61,SMA_Suivi_étroit[Période financière],'Suivi étroit'!$A73),"") | P73: =IF($A73<=Paramètre!$B$2,SUMIFS(SMA_Suivi_étroit[Nb distinct usagers / SCA],SMA_Suivi_étroit[Source.Name],'Suivi étroit'!O$10,SMA_Suivi_étroit[CA/Sous-CA],'Suivi étroit'!$A$61,SMA_Suivi_étroit[Période financière],'Suivi étroit'!$A73),"") | Q73: =IF($A73<=Paramètre!$B$2,SUM(C73,E73,G73,I73,K73,M73,O73),"") | R73: =IF($A73<=Paramètre!$B$2,SUM(D73,F73,H73,J73,L73,N73,P73),"")
A74: 12 | B74: Période 12 | C74: =IF($A74<=Paramètre!$B$2,SUMIFS(SMA_Suivi_étroit[Nb usagers],SMA_Suivi_étroit[Source.Name],'Suivi étroit'!C$10,SMA_Suivi_étroit[CA/Sous-CA],'Suivi étroit'!$A$61,SMA_Suivi_étroit[Période financière],'Suivi étroit'!$A74),"") | D74: =IF($A74<=Paramètre!$B$2,SUMIFS(SMA_Suivi_étroit[Nb distinct usagers / SCA],SMA_Suivi_étroit[Source.Name],'Suivi étroit'!C$10,SMA_Suivi_étroit[CA/Sous-CA],'Suivi étroit'!$A$61,SMA_Suivi_étroit[Période financière],'Suivi étroit'!$A74),"") | E74: =IF($A74<=Paramètre!$B$2,SUMIFS(SMA_Suivi_étroit[Nb usagers],SMA_Suivi_étroit[Source.Name],'Suivi étroit'!E$10,SMA_Suivi_étroit[CA/Sous-CA],'Suivi étroit'!$A$61,SMA_Suivi_étroit[Période financière],'Suivi étroit'!$A74),"") | F74: =IF($A74<=Paramètre!$B$2,SUMIFS(SMA_Suivi_étroit[Nb distinct usagers / SCA],SMA_Suivi_étroit[Source.Name],'Suivi étroit'!E$10,SMA_Suivi_étroit[CA/Sous-CA],'Suivi étroit'!$A$61,SMA_Suivi_étroit[Période financière],'Suivi étroit'!$A74),"") | G74: =IF($A74<=Paramètre!$B$2,SUMIFS(SMA_Suivi_étroit[Nb usagers],SMA_Suivi_étroit[Source.Name],'Suivi étroit'!G$10,SMA_Suivi_étroit[CA/Sous-CA],'Suivi étroit'!$A$61,SMA_Suivi_étroit[Période financière],'Suivi étroit'!$A74),"") | H74: =IF($A74<=Paramètre!$B$2,SUMIFS(SMA_Suivi_étroit[Nb distinct usagers / SCA],SMA_Suivi_étroit[Source.Name],'Suivi étroit'!G$10,SMA_Suivi_étroit[CA/Sous-CA],'Suivi étroit'!$A$61,SMA_Suivi_étroit[Période financière],'Suivi étroit'!$A74),"") | I74: =IF($A74<=Paramètre!$B$2,SUMIFS(SMA_Suivi_étroit[Nb usagers],SMA_Suivi_étroit[Source.Name],'Suivi étroit'!I$10,SMA_Suivi_étroit[CA/Sous-CA],'Suivi étroit'!$A$61,SMA_Suivi_étroit[Période financière],'Suivi étroit'!$A74),"") | J74: =IF($A74<=Paramètre!$B$2,SUMIFS(SMA_Suivi_étroit[Nb distinct usagers / SCA],SMA_Suivi_étroit[Source.Name],'Suivi étroit'!I$10,SMA_Suivi_étroit[CA/Sous-CA],'Suivi étroit'!$A$61,SMA_Suivi_étroit[Période financière],'Suivi étroit'!$A74),"") | K74: =IF($A74<=Paramètre!$B$2,SUMIFS(SMA_Suivi_étroit[Nb usagers],SMA_Suivi_étroit[Source.Name],'Suivi étroit'!K$10,SMA_Suivi_étroit[CA/Sous-CA],'Suivi étroit'!$A$61,SMA_Suivi_étroit[Période financière],'Suivi étroit'!$A74),"") | L74: =IF($A74<=Paramètre!$B$2,SUMIFS(SMA_Suivi_étroit[Nb distinct usagers / SCA],SMA_Suivi_étroit[Source.Name],'Suivi étroit'!K$10,SMA_Suivi_étroit[CA/Sous-CA],'Suivi étroit'!$A$61,SMA_Suivi_étroit[Période financière],'Suivi étroit'!$A74),"") | M74: =IF($A74<=Paramètre!$B$2,SUMIFS(SMA_Suivi_étroit[Nb usagers],SMA_Suivi_étroit[Source.Name],'Suivi étroit'!M$10,SMA_Suivi_étroit[CA/Sous-CA],'Suivi étroit'!$A$61,SMA_Suivi_étroit[Période financière],'Suivi étroit'!$A74),"") | N74: =IF($A74<=Paramètre!$B$2,SUMIFS(SMA_Suivi_étroit[Nb distinct usagers / SCA],SMA_Suivi_étroit[Source.Name],'Suivi étroit'!M$10,SMA_Suivi_étroit[CA/Sous-CA],'Suivi étroit'!$A$61,SMA_Suivi_étroit[Période financière],'Suivi étroit'!$A74),"") | O74: =IF($A74<=Paramètre!$B$2,SUMIFS(SMA_Suivi_étroit[Nb usagers],SMA_Suivi_étroit[Source.Name],'Suivi étroit'!O$10,SMA_Suivi_étroit[CA/Sous-CA],'Suivi étroit'!$A$61,SMA_Suivi_étroit[Période financière],'Suivi étroit'!$A74),"") | P74: =IF($A74<=Paramètre!$B$2,SUMIFS(SMA_Suivi_étroit[Nb distinct usagers / SCA],SMA_Suivi_étroit[Source.Name],'Suivi étroit'!O$10,SMA_Suivi_étroit[CA/Sous-CA],'Suivi étroit'!$A$61,SMA_Suivi_étroit[Période financière],'Suivi étroit'!$A74),"") | Q74: =IF($A74<=Paramètre!$B$2,SUM(C74,E74,G74,I74,K74,M74,O74),"") | R74: =IF($A74<=Paramètre!$B$2,SUM(D74,F74,H74,J74,L74,N74,P74),"")
A75: 13 | B75: Période 13 | C75: =IF($A75<=Paramètre!$B$2,SUMIFS(SMA_Suivi_étroit[Nb usagers],SMA_Suivi_étroit[Source.Name],'Suivi étroit'!C$10,SMA_Suivi_étroit[CA/Sous-CA],'Suivi étroit'!$A$61,SMA_Suivi_étroit[Période financière],'Suivi étroit'!$A75),"") | D75: =IF($A75<=Paramètre!$B$2,SUMIFS(SMA_Suivi_étroit[Nb distinct usagers / SCA],SMA_Suivi_étroit[Source.Name],'Suivi étroit'!C$10,SMA_Suivi_étroit[CA/Sous-CA],'Suivi étroit'!$A$61,SMA_Suivi_étroit[Période financière],'Suivi étroit'!$A75),"") | E75: =IF($A75<=Paramètre!$B$2,SUMIFS(SMA_Suivi_étroit[Nb usagers],SMA_Suivi_étroit[Source.Name],'Suivi étroit'!E$10,SMA_Suivi_étroit[CA/Sous-CA],'Suivi étroit'!$A$61,SMA_Suivi_étroit[Période financière],'Suivi étroit'!$A75),"") | F75: =IF($A75<=Paramètre!$B$2,SUMIFS(SMA_Suivi_étroit[Nb distinct usagers / SCA],SMA_Suivi_étroit[Source.Name],'Suivi étroit'!E$10,SMA_Suivi_étroit[CA/Sous-CA],'Suivi étroit'!$A$61,SMA_Suivi_étroit[Période financière],'Suivi étroit'!$A75),"") | G75: =IF($A75<=Paramètre!$B$2,SUMIFS(SMA_Suivi_étroit[Nb usagers],SMA_Suivi_étroit[Source.Name],'Suivi étroit'!G$10,SMA_Suivi_étroit[CA/Sous-CA],'Suivi étroit'!$A$61,SMA_Suivi_étroit[Période financière],'Suivi étroit'!$A75),"") | H75: =IF($A75<=Paramètre!$B$2,SUMIFS(SMA_Suivi_étroit[Nb distinct usagers / SCA],SMA_Suivi_étroit[Source.Name],'Suivi étroit'!G$10,SMA_Suivi_étroit[CA/Sous-CA],'Suivi étroit'!$A$61,SMA_Suivi_étroit[Période financière],'Suivi étroit'!$A75),"") | I75: =IF($A75<=Paramètre!$B$2,SUMIFS(SMA_Suivi_étroit[Nb usagers],SMA_Suivi_étroit[Source.Name],'Suivi étroit'!I$10,SMA_Suivi_étroit[CA/Sous-CA],'Suivi étroit'!$A$61,SMA_Suivi_étroit[Période financière],'Suivi étroit'!$A75),"") | J75: =IF($A75<=Paramètre!$B$2,SUMIFS(SMA_Suivi_étroit[Nb distinct usagers / SCA],SMA_Suivi_étroit[Source.Name],'Suivi étroit'!I$10,SMA_Suivi_étroit[CA/Sous-CA],'Suivi étroit'!$A$61,SMA_Suivi_étroit[Période financière],'Suivi étroit'!$A75),"") | K75: =IF($A75<=Paramètre!$B$2,SUMIFS(SMA_Suivi_étroit[Nb usagers],SMA_Suivi_étroit[Source.Name],'Suivi étroit'!K$10,SMA_Suivi_étroit[CA/Sous-CA],'Suivi étroit'!$A$61,SMA_Suivi_étroit[Période financière],'Suivi étroit'!$A75),"") | L75: =IF($A75<=Paramètre!$B$2,SUMIFS(SMA_Suivi_étroit[Nb distinct usagers / SCA],SMA_Suivi_étroit[Source.Name],'Suivi étroit'!K$10,SMA_Suivi_étroit[CA/Sous-CA],'Suivi étroit'!$A$61,SMA_Suivi_étroit[Période financière],'Suivi étroit'!$A75),"") | M75: =IF($A75<=Paramètre!$B$2,SUMIFS(SMA_Suivi_étroit[Nb usagers],SMA_Suivi_étroit[Source.Name],'Suivi étroit'!M$10,SMA_Suivi_étroit[CA/Sous-CA],'Suivi étroit'!$A$61,SMA_Suivi_étroit[Période financière],'Suivi étroit'!$A75),"") | N75: =IF($A75<=Paramètre!$B$2,SUMIFS(SMA_Suivi_étroit[Nb distinct usagers / SCA],SMA_Suivi_étroit[Source.Name],'Suivi étroit'!M$10,SMA_Suivi_étroit[CA/Sous-CA],'Suivi étroit'!$A$61,SMA_Suivi_étroit[Période financière],'Suivi étroit'!$A75),"") | O75: =IF($A75<=Paramètre!$B$2,SUMIFS(SMA_Suivi_étroit[Nb usagers],SMA_Suivi_étroit[Source.Name],'Suivi étroit'!O$10,SMA_Suivi_étroit[CA/Sous-CA],'Suivi étroit'!$A$61,SMA_Suivi_étroit[Période financière],'Suivi étroit'!$A75),"") | P75: =IF($A75<=Paramètre!$B$2,SUMIFS(SMA_Suivi_étroit[Nb distinct usagers / SCA],SMA_Suivi_étroit[Source.Name],'Suivi étroit'!O$10,SMA_Suivi_étroit[CA/Sous-CA],'Suivi étroit'!$A$61,SMA_Suivi_étroit[Période financière],'Suivi étroit'!$A75),"") | Q75: =IF($A75<=Paramètre!$B$2,SUM(C75,E75,G75,I75,K75,M75,O75),"") | R75: =IF($A75<=Paramètre!$B$2,SUM(D75,F75,H75,J75,L75,N75,P75),"")
B76: Cumulatif | C76: =SUM(C63:C75) -> 0 | D76: =SUM(D63:D75) -> 0 | E76: =SUM(E63:E75) -> 0 | F76: =SUM(F63:F75) -> 0 | G76: =SUM(G63:G75) -> 0 | H76: =SUM(H63:H75) -> 0 | I76: =SUM(I63:I75) -> 0 | J76: =SUM(J63:J75) -> 0 | ... R76: =SUM(R63:R75) -> 0
A79: 6731 | B79: Consultation sociale de courte durée | C79: AL | E79: ARG | G79: SOM | I79: LDDM | K79: PDH | M79: STJ | O79: TDB | Q79: CISSS
C80: Us diff. | D80: Interv. | E80: Us diff. | F80: Interv. | G80: Us diff. | H80: Interv. | I80: Us diff. | J80: Interv. | K80: Us diff. | L80: Interv. | M80: Us diff. | N80: Interv. | O80: Us diff. | P80: Interv. | Q80: Us diff. | R80: Interv.
A81: 1 | B81: Période 1 | C81: =IF($A81<=Paramètre!$B$2,SUMIFS(SMA_Suivi_étroit[Nb usagers],SMA_Suivi_étroit[Source.Name],'Suivi étroit'!C$10,SMA_Suivi_étroit[CA/Sous-CA],'Suivi étroit'!$A$79,SMA_Suivi_étroit[Période financière],'Suivi étroit'!$A81),"") -> 0 | D81: =IF($A12<=Paramètre!$B$2,SUMIFS(SMA_Suivi_étroit[Nb distinct usagers / SCA],SMA_Suivi_étroit[Source.Name],'Suivi étroit'!C$10,SMA_Suivi_étroit[CA/Sous-CA],'Suivi étroit'!$A$79,SMA_Suivi_étroit[Période financière],'Suivi étroit'!$A81),"") -> 0 | E81: =IF($A81<=Paramètre!$B$2,SUMIFS(SMA_Suivi_étroit[Nb usagers],SMA_Suivi_étroit[Source.Name],'Suivi étroit'!E$10,SMA_Suivi_étroit[CA/Sous-CA],'Suivi étroit'!$A$79,SMA_Suivi_étroit[Période financière],'Suivi étroit'!$A81),"") -> 0 | F81: =IF($A12<=Paramètre!$B$2,SUMIFS(SMA_Suivi_étroit[Nb distinct usagers / SCA],SMA_Suivi_étroit[Source.Name],'Suivi étroit'!E$10,SMA_Suivi_étroit[CA/Sous-CA],'Suivi étroit'!$A$79,SMA_Suivi_étroit[Période financière],'Suivi étroit'!$A81),"") -> 0 | G81: =IF($A81<=Paramètre!$B$2,SUMIFS(SMA_Suivi_étroit[Nb usagers],SMA_Suivi_étroit[Source.Name],'Suivi étroit'!G$10,SMA_Suivi_étroit[CA/Sous-CA],'Suivi étroit'!$A$79,SMA_Suivi_étroit[Période financière],'Suivi étroit'!$A81),"") -> 0 | H81: =IF($A12<=Paramètre!$B$2,SUMIFS(SMA_Suivi_étroit[Nb distinct usagers / SCA],SMA_Suivi_étroit[Source.Name],'Suivi étroit'!G$10,SMA_Suivi_étroit[CA/Sous-CA],'Suivi étroit'!$A$79,SMA_Suivi_étroit[Période financière],'Suivi étroit'!$A81),"") -> 0 | I81: =IF($A81<=Paramètre!$B$2,SUMIFS(SMA_Suivi_étroit[Nb usagers],SMA_Suivi_étroit[Source.Name],'Suivi étroit'!I$10,SMA_Suivi_étroit[CA/Sous-CA],'Suivi étroit'!$A$79,SMA_Suivi_étroit[Période financière],'Suivi étroit'!$A81),"") -> 0 | J81: =IF($A12<=Paramètre!$B$2,SUMIFS(SMA_Suivi_étroit[Nb distinct usagers / SCA],SMA_Suivi_étroit[Source.Name],'Suivi étroit'!I$10,SMA_Suivi_étroit[CA/Sous-CA],'Suivi étroit'!$A$79,SMA_Suivi_étroit[Période financière],'Suivi étroit'!$A81),"") -> 0 | K81: =IF($A81<=Paramètre!$B$2,SUMIFS(SMA_Suivi_étroit[Nb usagers],SMA_Suivi_étroit[Source.Name],'Suivi étroit'!K$10,SMA_Suivi_étroit[CA/Sous-CA],'Suivi étroit'!$A$79,SMA_Suivi_étroit[Période financière],'Suivi étroit'!$A81),"") -> 0 | L81: =IF($A12<=Paramètre!$B$2,SUMIFS(SMA_Suivi_étroit[Nb distinct usagers / SCA],SMA_Suivi_étroit[Source.Name],'Suivi étroit'!K$10,SMA_Suivi_étroit[CA/Sous-CA],'Suivi étroit'!$A$79,SMA_Suivi_étroit[Période financière],'Suivi étroit'!$A81),"") -> 0 | M81: =IF($A81<=Paramètre!$B$2,SUMIFS(SMA_Suivi_étroit[Nb usagers],SMA_Suivi_étroit[Source.Name],'Suivi étroit'!M$10,SMA_Suivi_étroit[CA/Sous-CA],'Suivi étroit'!$A$79,SMA_Suivi_étroit[Période financière],'Suivi étroit'!$A81),"") -> 0 | N81: =IF($A12<=Paramètre!$B$2,SUMIFS(SMA_Suivi_étroit[Nb distinct usagers / SCA],SMA_Suivi_étroit[Source.Name],'Suivi étroit'!M$10,SMA_Suivi_étroit[CA/Sous-CA],'Suivi étroit'!$A$79,SMA_Suivi_étroit[Période financière],'Suivi étroit'!$A81),"") -> 0 | O81: =IF($A81<=Paramètre!$B$2,SUMIFS(SMA_Suivi_étroit[Nb usagers],SMA_Suivi_étroit[Source.Name],'Suivi étroit'!O$10,SMA_Suivi_étroit[CA/Sous-CA],'Suivi étroit'!$A$79,SMA_Suivi_étroit[Période financière],'Suivi étroit'!$A81),"") -> 0 | P81: =IF($A12<=Paramètre!$B$2,SUMIFS(SMA_Suivi_étroit[Nb distinct usagers / SCA],SMA_Suivi_étroit[Source.Name],'Suivi étroit'!O$10,SMA_Suivi_étroit[CA/Sous-CA],'Suivi étroit'!$A$79,SMA_Suivi_étroit[Période financière],'Suivi étroit'!$A81),"") -> 0 | Q81: =IF($A81<=Paramètre!$B$2,SUM(C81,E81,G81,I81,K81,M81,O81),"") -> 0 | R81: =IF($A81<=Paramètre!$B$2,SUM(D81,F81,H81,J81,L81,N81,P81),"") -> 0
A82: 2 | B82: Période 2 | C82: =IF($A82<=Paramètre!$B$2,SUMIFS(SMA_Suivi_étroit[Nb usagers],SMA_Suivi_étroit[Source.Name],'Suivi étroit'!C$10,SMA_Suivi_étroit[CA/Sous-CA],'Suivi étroit'!$A$79,SMA_Suivi_étroit[Période financière],'Suivi étroit'!$A82),"") | D82: =IF($A13<=Paramètre!$B$2,SUMIFS(SMA_Suivi_étroit[Nb distinct usagers / SCA],SMA_Suivi_étroit[Source.Name],'Suivi étroit'!C$10,SMA_Suivi_étroit[CA/Sous-CA],'Suivi étroit'!$A$79,SMA_Suivi_étroit[Période financière],'Suivi étroit'!$A82),"") | E82: =IF($A82<=Paramètre!$B$2,SUMIFS(SMA_Suivi_étroit[Nb usagers],SMA_Suivi_étroit[Source.Name],'Suivi étroit'!E$10,SMA_Suivi_étroit[CA/Sous-CA],'Suivi étroit'!$A$79,SMA_Suivi_étroit[Période financière],'Suivi étroit'!$A82),"") | F82: =IF($A13<=Paramètre!$B$2,SUMIFS(SMA_Suivi_étroit[Nb distinct usagers / SCA],SMA_Suivi_étroit[Source.Name],'Suivi étroit'!E$10,SMA_Suivi_étroit[CA/Sous-CA],'Suivi étroit'!$A$79,SMA_Suivi_étroit[Période financière],'Suivi étroit'!$A82),"") | G82: =IF($A82<=Paramètre!$B$2,SUMIFS(SMA_Suivi_étroit[Nb usagers],SMA_Suivi_étroit[Source.Name],'Suivi étroit'!G$10,SMA_Suivi_étroit[CA/Sous-CA],'Suivi étroit'!$A$79,SMA_Suivi_étroit[Période financière],'Suivi étroit'!$A82),"") | H82: =IF($A13<=Paramètre!$B$2,SUMIFS(SMA_Suivi_étroit[Nb distinct usagers / SCA],SMA_Suivi_étroit[Source.Name],'Suivi étroit'!G$10,SMA_Suivi_étroit[CA/Sous-CA],'Suivi étroit'!$A$79,SMA_Suivi_étroit[Période financière],'Suivi étroit'!$A82),"") | I82: =IF($A82<=Paramètre!$B$2,SUMIFS(SMA_Suivi_étroit[Nb usagers],SMA_Suivi_étroit[Source.Name],'Suivi étroit'!I$10,SMA_Suivi_étroit[CA/Sous-CA],'Suivi étroit'!$A$79,SMA_Suivi_étroit[Période financière],'Suivi étroit'!$A82),"") | J82: =IF($A13<=Paramètre!$B$2,SUMIFS(SMA_Suivi_étroit[Nb distinct usagers / SCA],SMA_Suivi_étroit[Source.Name],'Suivi étroit'!I$10,SMA_Suivi_étroit[CA/Sous-CA],'Suivi étroit'!$A$79,SMA_Suivi_étroit[Période financière],'Suivi étroit'!$A82),"") | K82: =IF($A82<=Paramètre!$B$2,SUMIFS(SMA_Suivi_étroit[Nb usagers],SMA_Suivi_étroit[Source.Name],'Suivi étroit'!K$10,SMA_Suivi_étroit[CA/Sous-CA],'Suivi étroit'!$A$79,SMA_Suivi_étroit[Période financière],'Suivi étroit'!$A82),"") | L82: =IF($A13<=Paramètre!$B$2,SUMIFS(SMA_Suivi_étroit[Nb distinct usagers / SCA],SMA_Suivi_étroit[Source.Name],'Suivi étroit'!K$10,SMA_Suivi_étroit[CA/Sous-CA],'Suivi étroit'!$A$79,SMA_Suivi_étroit[Période financière],'Suivi étroit'!$A82),"") | M82: =IF($A82<=Paramètre!$B$2,SUMIFS(SMA_Suivi_étroit[Nb usagers],SMA_Suivi_étroit[Source.Name],'Suivi étroit'!M$10,SMA_Suivi_étroit[CA/Sous-CA],'Suivi étroit'!$A$79,SMA_Suivi_étroit[Période financière],'Suivi étroit'!$A82),"") | N82: =IF($A13<=Paramètre!$B$2,SUMIFS(SMA_Suivi_étroit[Nb distinct usagers / SCA],SMA_Suivi_étroit[Source.Name],'Suivi étroit'!M$10,SMA_Suivi_étroit[CA/Sous-CA],'Suivi étroit'!$A$79,SMA_Suivi_étroit[Période financière],'Suivi étroit'!$A82),"") | O82: =IF($A82<=Paramètre!$B$2,SUMIFS(SMA_Suivi_étroit[Nb usagers],SMA_Suivi_étroit[Source.Name],'Suivi étroit'!O$10,SMA_Suivi_étroit[CA/Sous-CA],'Suivi étroit'!$A$79,SMA_Suivi_étroit[Période financière],'Suivi étroit'!$A82),"") | P82: =IF($A13<=Paramètre!$B$2,SUMIFS(SMA_Suivi_étroit[Nb distinct usagers / SCA],SMA_Suivi_étroit[Source.Name],'Suivi étroit'!O$10,SMA_Suivi_étroit[CA/Sous-CA],'Suivi étroit'!$A$79,SMA_Suivi_étroit[Période financière],'Suivi étroit'!$A82),"") | Q82: =IF($A82<=Paramètre!$B$2,SUM(C82,E82,G82,I82,K82,M82,O82),"") | R82: =IF($A82<=Paramètre!$B$2,SUM(D82,F82,H82,J82,L82,N82,P82),"")
