Workbook

Sheet Paramètre
A2: Période | B2: 1
A3: Date | B3: 45040

Sheet UDM Stratégique
H2: FICHE SYNTHÈSE - CONTINUUM JEUNESSE SERVICES SPÉCIFIQUES (1re LIGNE)
A7: =CONCATENATE("PORTRAIT STRATÉGIQUE DES UNITÉS DE MESURE PAR CA ou SCA - ANNÉE 2023-2024, PÉRIODES 1 À ",Paramètre!B2," (CUMULATIF)") -> PORTRAIT STRATÉGIQUE DES UNITÉS DE MESURE PAR CA ou SCA - ANNÉE 2023-2024, PÉRIODES 1 À 1 (CUMULATIF)
A9: CA ou SCA | B9: AL | D9: ARG | F9: SOM | H9: LDDM | J9: PDH | L9: STJ | N9: TDB | P9: CISSS
B10: Us diff. | C10: Interv. | D10: Us diff. | E10: Interv. | F10: Us diff. | G10: Interv. | H10: Us diff. | I10: Interv. | J10: Us diff. | K10: Interv. | L10: Us diff. | M10: Interv. | N10: Us diff. | O10: Interv. | P10: Us diff. | Q10: Interv.
A11: Développement, adaptation et intégration sociale enfants (0-5 ans) et leur famille
A12: Serv psychosociaux pour les jeunes en difficulté et leur famille JED 0-5 ans
A13: Serv psychosociaux pour les jeunes en difficulté et leur famille JED 6-12 ans
A14: Serv psychosociaux pour les jeunes en difficulté et leur famille JED 13-18 ans
A15: Serv psychosociaux pour les jeunes en difficulté et leur famille Autres 1
A16: Mécanisme d'accès SMJ
A17: Services spécifiques SMJ
A18: Sage-femme
A19: Réfugiés social
A20: Réfugiés santé
A21: Santé parentale et infantile - CLSC
A22: Aire ouverte
... A24: 1 Autres = JED Groupe(s), JED Intervention brève, JED ASSS Généraux, JED ASSS SIPPE, JED Crise Jeunesse, Groupe Semer l'avenir, Semer l'avenir (individuel), Sous-Programme(s) du programme Agir tôt, Hors-Piste
B27: =MATCH("Jeunesse",[1]Liste_1!$B:$B,0) -> 40 | C27: =MATCH("DI-TSA-DP",[1]Liste_1!$B:$B,0) -> 78 | D27: =MATCH("Jeunesse",[2]Liste_1!$B:$B,0) -> 41 | E27: =MATCH("DI-TSA-DP",[2]Liste_1!$B:$B,0) -> 81 | F27: =MATCH("Jeunesse",[3]Liste_1!$B:$B,0) -> 41 | G27: =MATCH("DI-TSA-DP",[3]Liste_1!$B:$B,0) -> 83 | H27: =MATCH("Jeunesse",[4]Liste_1!$B:$B,0) -> 43 | I27: =MATCH("DI-TSA-DP",[4]Liste_1!$B:$B,0) -> 86 | J27: =MATCH("Jeunesse",[5]Liste_1!$B:$B,0) -> 42 | K27: =MATCH("DI-TSA-DP",[5]Liste_1!$B:$B,0) -> 81 | L27: =MATCH("Jeunesse",[6]Liste_1!$B:$B,0) -> 56 | M27: =MATCH("DI-TSA-DP",[6]Liste_1!$B:$B,0) -> 108 | N27: =MATCH("Jeunesse",[7]Liste_1!$B:$B,0) -> 50 | O27: =MATCH("DI-TSA-DP",[7]Liste_1!$B:$B,0) -> 100

Sheet Attente Stratégique
K2: FICHE SYNTHÈSE - CONTINUUM JEUNESSE SERVICES SPÉCIFIQUES (1re LIGNE)
A8: =CONCATENATE("PORTRAIT STRATÉGIQUE DE LA LISTE D'ATTENTE PAR CA OU SCA - ANNÉE 2024-2025, EN DATE DU ",UPPER(TEXT(Paramètre!B3,"jj mmmm aaaa"))) -> PORTRAIT STRATÉGIQUE DE LA LISTE D'ATTENTE PAR CA OU SCA - ANNÉE 2024-2025, EN DATE DU 24 AVRIL 2023
A10: CA ou SCA | B10: AL | F10: ARG | J10: SOM | N10: LDDM | R10: PDH | V10: STJ | Z10: TDB | AD10: CISSS
B11: Pér. Préc. | C11: Pér. Courante | F11: Pér. Préc. | G11: Pér. Courante | J11: Pér. Préc. | K11: Pér. Courante | N11: Pér. Préc. | O11: Pér. Courante | R11: Pér. Préc. | S11: Pér. Courante | V11: Pér. Préc. | W11: Pér. Courante | Z11: Pér. Préc. | AA11: Pér. Courante | AD11: Pér. Préc. | AE11: Pér. Cour.
B12: Us tot. 1 | C12: Us tot. 1 | D12: Délai le + court (jrs) | E12: Délai le + long (jrs) | F12: Us tot. 1 | G12: Us tot. 1 | H12: Délai le + court (jrs) | I12: Délai le + long (jrs) | J12: Us tot. 1 | K12: Us tot. 1 | L12: Délai le + court (jrs) | M12: Délai le + long (jrs) | N12: Us tot. 1 | O12: Us tot. 1 | P12: Délai le + court (jrs) | Q12: Délai le + long (jrs) | R12: Us tot. 1 | S12: Us tot. 1 | T12: Délai le + court (jrs) | U12: Délai le + long (jrs) | V12: Us tot. 1 | W12: Us tot. 1 | X12: Délai le + court (jrs) | Y12: Délai le + long (jrs) | Z12: Us tot. 1 | AA12: Us tot. 1 | AB12: Délai le + court (jrs) | AC12: Délai le + long (jrs) | AD12: Us tot. 1 | AE12: Us tot. 1
A13: Développement, adaptation et intégration sociale enfants (0-5 ans) et leur famille
A14: Serv psychosociaux pour les jeunes en difficulté et leur famille JED 0-5 ans
A15: Serv psychosociaux pour les jeunes en difficulté et leur famille JED 6-12 ans
A16: Serv psychosociaux pour les jeunes en difficulté et leur famille JED 13-18 ans
A17: Serv psychosociaux pour les jeunes en difficulté et leur famille Autres 2
A18: Mécanisme d'accès SMJ
A19: Services spécifiques SMJ
A20: Sage-femme
A21: Réfugiés social
A22: Réfugiés santé
A23: Santé parentale et infantile - CLSC
A24: Aire ouverte
... A28: N.B. La liste d'attente représente les usagers non-assignés seulement à un intervenant.
B30: =MATCH("Continuum Jeunesse",[8]Liste_1!$B:$B,0) -> 29 | C30: =MATCH("Continuum SAPA (à valider)",[8]Liste_1!$B:$B,0) -> 49 | D30: =MATCH("5910",[15]Liste_1!$A:$A,0)-1 -> 5 | F30: =MATCH("Continuum Jeunesse",[9]Liste_1!$B:$B,0) -> 21 | G30: =MATCH("Continuum SAPA (à valider)",[9]Liste_1!$B:$B,0) -> #N/A | H30: =MATCH("5910",[16]Liste_1!$A:$A,0)-1 -> 5 | J30: =MATCH("Continuum Jeunesse",[10]Liste_1!$B:$B,0) -> 31 | K30: =MATCH("Continuum SAPA (à valider)",[10]Liste_1!$B:$B,0) -> 56 | L30: =MATCH("5910",[17]Liste_1!$A:$A,0)-1 -> 5 | N30: =MATCH("Continuum Jeunesse",[11]Liste_1!$B:$B,0) -> 38 | O30: =MATCH("Continuum SAPA (à valider)",[11]Liste_1!$B:$B,0) -> 71 | P30: =MATCH("5910",[18]Liste_1!$A:$A,0)-1 -> 5 | R30: =MATCH("Continuum Jeunesse",[12]Liste_1!$B:$B,0) -> 28 | S30: =MATCH("Continuum SAPA (à valider)",[12]Liste_1!$B:$B,0) -> 51 | T30: =MATCH("5910",[19]Liste_1!$A:$A,0)-1 -> 4 | V30: =MATCH("Continuum Jeunesse",[13]Liste_1!$B:$B,0) -> 46 | W30: =MATCH("Continuum SAPA (à valider)",[13]Liste_1!$B:$B,0) -> 78 | X30: =MATCH("5910",[20]Liste_1!$A:$A,0)-1 -> 5 | Z30: =MATCH("Continuum Jeunesse",[14]Liste_1!$B:$B,0) -> 36 | AA30: =MATCH("Continuum SAPA (à valider)",[14]Liste_1!$B:$B,0) -> 67 | AB30: =MATCH("5910",[21]Liste_1!$A:$A,0)-1 -> 5

Sheet % <30 jours
F2: FICHE SYNTHÈSE - CONTINUUM JEUNESSE SERVICES SPÉCIFIQUES (1re LIGNE)
A8: =CONCATENATE("PORTRAIT DES USAGERS PRIS EN CHARGE PAR UN INTERVENANT - ANNÉE 2024-2025, PÉRIODES 1 À ",Paramètre!B2," (CUMULATIF)") -> PORTRAIT DES USAGERS PRIS EN CHARGE PAR UN INTERVENANT - ANNÉE 2024-2025, PÉRIODES 1 À 1 (CUMULATIF)
A10: Sous-programme | C10: AL | D10: ARG | E10: SOM | F10: LDDM | G10: PDH | H10: STJ | I10: TDB
C11: < 30 jrs | D11: < 30 jrs | E11: < 30 jrs | F11: < 30 jrs | G11: < 30 jrs | H11: < 30 jrs | I11: < 30 jrs
B12: JED Interv. brève
B13: Dépistage Agir tôt
B14: Intervention précoce individue
B15: Interv précoce surveillance
B16: JED Social Obst./ Péd.
B17: Groupe Semer l'avenir
B18: JED Groupe Équipe Enfants
B19: JED Groupe Anxiété Réadap.
B20: Groupe intervention précoce
B21: JED Groupe Équipe Ado
B22: JED Groupe Anxiété-Enfants
B23: JED Groupe Anxiété-Adolescents
... B57: Note 1: Le calcul du délai de prise en charge s'effectue entre la date de première intervention sous-programme et la date d'assignation à ce même sous-programme. L'intervention doit avoir été saisie APRÈS la saisie de l'assignation au sous-programme.

Sheet Demandes
F2: FICHE SYNTHÈSE - CONTINUUM JEUNESSE SERVICES SPÉCIFIQUES (1re LIGNE)
B8: NOMBRE DE DEMANDES DE SERVICE TRAITÉES PAR LE GUICHET JEUNESSE
B9: =CONCATENATE("ANNÉE 2024-2025, PÉRIODES 1 À ",Paramètre!B2," (CUMULATIF)") -> ANNÉE 2024-2025, PÉRIODES 1 À 1 (CUMULATIF)
B12: Demandes "Acceptée" | C12: AL | D12: ARG | E12: SOM | F12: LDDM | G12: PDH | H12: STJ | I12: TDB | J12: CISSS
B13: Acceptée JED
B14: Acceptée DP
B15: Acceptée DI
B16: Acceptée Pandémie
B17: Acceptée TSA
B18: Acceptée Éval Dx Tr neurodév
B19: Acceptée SM
B20: Acceptée Priorisation SM Famille-Entourage
B21: Acceptée Sphysique
B22: Acceptée Spub
B23: Acceptée Santé gén.
B24: Acceptée Serv Psy Gén
... B34: Total de demandes "Acceptée" et "En attente de décision" (Guichet jeunesse uniquement)

Sheet Query_Demande_Objet
A1: Source.Name | B1: Sous-prog. dem. ind. desc. | C1: Nb demande / Guichet | D1: Décision | E1: Nb demandes / Guichet / Décision | F1: Objet dem. ind. code norm. | G1: Nb demande par objet | H1: Objet dem. ind. desc. | I1: Nb demande / Guichet / Objet / Décision
B2: Guichet DI-TSA-DP | H2: 200 Déficience physique
B3: Guichet DI-TSA-DP | H3: 310 Déficience intellectuelle
B4: Guichet DI-TSA-DP | H4: 320 Trouble spectre autisme
B5: Guichet DI-TSA-DP | H5: 321 Éval dx tr neurodéveloppem
B6: Guichet DI-TSA-DP | H6: 310 Déficience intellectuelle
B7: Guichet DI-TSA-DP | H7: 320 Trouble spectre autisme
B8: Guichet DI-TSA-DP | H8: 800 Jeunes en difficulté
B9: Guichet Jeunesse | H9: 150 Services de santé généraux
B10: Guichet Jeunesse | H10: 410 Services de santé mentale
B11: Guichet Jeunesse | H11: 510 Services prénataux
B12: Guichet Jeunesse | H12: 520 Soins postnataux
B13: Guichet Jeunesse | H13: 600 Dépendances
... B116: Guichet Jeunesse | H116: 800 Jeunes en difficultés

Sheet Suivi étroit
I2: FICHE SYNTHÈSE - CONTINUUM SANTÉ MENTALE, DÉPENDANCE ET SERVICES GÉNÉRAUX SERVICES SPÉCIFIQUES (1re LIGNE)
B8: PORTRAIT SUIVI ÉTROIT CRISE SUICIDAIRE PAR CA OU SCA - 2024-2025
A10: 5931 | B10: Mécanisme d'accès SMJ | C10: AL | E10: ARG | G10: SOM | I10: LDDM | K10: PDH | M10: STJ | O10: TDB | Q10: CISSS
C11: Us diff. | D11: Interv. | E11: Us diff. | F11: Interv. | G11: Us diff. | H11: Interv. | I11: Us diff. | J11: Interv. | K11: Us diff. | L11: Interv. | M11: Us diff. | N11: Interv. | O11: Us diff. | P11: Interv. | Q11: Us diff. | R11: Interv.
A12: 1 | B12: Période 1 | C12: =IF($A12<=Paramètre!$B$2,SUMIFS(SMA_Suivi_étroit[Nb usagers],SMA_Suivi_étroit[Source.Name],'Suivi étroit'!C$10,SMA_Suivi_étroit[CA/Sous-CA],'Suivi étroit'!$A$10,SMA_Suivi_étroit[Période financière],'Suivi étroit'!$A12),"") -> 0 | D12: =IF($A12<=Paramètre!$B$2,SUMIFS(SMA_Suivi_étroit[Nb interv],SMA_Suivi_étroit[Source.Name],'Suivi étroit'!C$10,SMA_Suivi_étroit[CA/Sous-CA],'Suivi étroit'!$A$10,SMA_Suivi_étroit[Période financière],'Suivi étroit'!$A12),"") -> 0 | E12: =IF($A12<=Paramètre!$B$2,SUMIFS(SMA_Suivi_étroit[Nb usagers],SMA_Suivi_étroit[Source.Name],'Suivi étroit'!E$10,SMA_Suivi_étroit[CA/Sous-CA],'Suivi étroit'!$A$10,SMA_Suivi_étroit[Période financière],'Suivi étroit'!$A12),"") -> 0 | F12: =IF($A12<=Paramètre!$B$2,SUMIFS(SMA_Suivi_étroit[Nb interv],SMA_Suivi_étroit[Source.Name],'Suivi étroit'!E$10,SMA_Suivi_étroit[CA/Sous-CA],'Suivi étroit'!$A$10,SMA_Suivi_étroit[Période financière],'Suivi étroit'!$A12),"") -> 0 | G12: =IF($A12<=Paramètre!$B$2,SUMIFS(SMA_Suivi_étroit[Nb usagers],SMA_Suivi_étroit[Source.Name],'Suivi étroit'!G$10,SMA_Suivi_étroit[CA/Sous-CA],'Suivi étroit'!$A$10,SMA_Suivi_étroit[Période financière],'Suivi étroit'!$A12),"") -> 0 | H12: =IF($A12<=Paramètre!$B$2,SUMIFS(SMA_Suivi_étroit[Nb interv],SMA_Suivi_étroit[Source.Name],'Suivi étroit'!G$10,SMA_Suivi_étroit[CA/Sous-CA],'Suivi étroit'!$A$10,SMA_Suivi_étroit[Période financière],'Suivi étroit'!$A12),"") -> 0 | I12: =IF($A12<=Paramètre!$B$2,SUMIFS(SMA_Suivi_étroit[Nb usagers],SMA_Suivi_étroit[Source.Name],'Suivi étroit'!I$10,SMA_Suivi_étroit[CA/Sous-CA],'Suivi étroit'!$A$10,SMA_Suivi_étroit[Période financière],'Suivi étroit'!$A12),"") -> 0 | J12: =IF($A12<=Paramètre!$B$2,SUMIFS(SMA_Suivi_étroit[Nb interv],SMA_Suivi_étroit[Source.Name],'Suivi étroit'!I$10,SMA_Suivi_étroit[CA/Sous-CA],'Suivi étroit'!$A$10,SMA_Suivi_étroit[Période financière],'Suivi étroit'!$A12),"") -> 0 | K12: =IF($A12<=Paramètre!$B$2,SUMIFS(SMA_Suivi_étroit[Nb usagers],SMA_Suivi_étroit[Source.Name],'Suivi étroit'!K$10,SMA_Suivi_étroit[CA/Sous-CA],'Suivi étroit'!$A$10,SMA_Suivi_étroit[Période financière],'Suivi étroit'!$A12),"") -> 0 | L12: =IF($A12<=Paramètre!$B$2,SUMIFS(SMA_Suivi_étroit[Nb interv],SMA_Suivi_étroit[Source.Name],'Suivi étroit'!K$10,SMA_Suivi_étroit[CA/Sous-CA],'Suivi étroit'!$A$10,SMA_Suivi_étroit[Période financière],'Suivi étroit'!$A12),"") -> 0 | M12: =IF($A12<=Paramètre!$B$2,SUMIFS(SMA_Suivi_étroit[Nb usagers],SMA_Suivi_étroit[Source.Name],'Suivi étroit'!M$10,SMA_Suivi_étroit[CA/Sous-CA],'Suivi étroit'!$A$10,SMA_Suivi_étroit[Période financière],'Suivi étroit'!$A12),"") -> 0 | N12: =IF($A12<=Paramètre!$B$2,SUMIFS(SMA_Suivi_étroit[Nb interv],SMA_Suivi_étroit[Source.Name],'Suivi étroit'!M$10,SMA_Suivi_étroit[CA/Sous-CA],'Suivi étroit'!$A$10,SMA_Suivi_étroit[Période financière],'Suivi étroit'!$A12),"") -> 0 | O12: =IF($A12<=Paramètre!$B$2,SUMIFS(SMA_Suivi_étroit[Nb usagers],SMA_Suivi_étroit[Source.Name],'Suivi étroit'!O$10,SMA_Suivi_étroit[CA/Sous-CA],'Suivi étroit'!$A$10,SMA_Suivi_étroit[Période financière],'Suivi étroit'!$A12),"") -> 0 | P12: =IF($A12<=Paramètre!$B$2,SUMIFS(SMA_Suivi_étroit[Nb interv],SMA_Suivi_étroit[Source.Name],'Suivi étroit'!O$10,SMA_Suivi_étroit[CA/Sous-CA],'Suivi étroit'!$A$10,SMA_Suivi_étroit[Période financière],'Suivi étroit'!$A12),"") -> 0 | Q12: =IF($A12<=Paramètre!$B$2,SUM(C12,E12,G12,I12,K12,M12,O12),"") -> 0 | R12: =IF($A12<=Paramètre!$B$2,SUM(D12,F12,H12,J12,L12,N12,P12),"") -> 0
A13: 2 | B13: Période 2 | C13: =IF($A13<=Paramètre!$B$2,SUMIFS(SMA_Suivi_étroit[Nb usagers],SMA_Suivi_étroit[Source.Name],'Suivi étroit'!C$10,SMA_Suivi_étroit[CA/Sous-CA],'Suivi étroit'!$A$10,SMA_Suivi_étroit[Période financière],'Suivi étroit'!$A13),"") | D13: =IF($A13<=Paramètre!$B$2,SUMIFS(SMA_Suivi_étroit[Nb interv],SMA_Suivi_étroit[Source.Name],'Suivi étroit'!C$10,SMA_Suivi_étroit[CA/Sous-CA],'Suivi étroit'!$A$10,SMA_Suivi_étroit[Période financière],'Suivi étroit'!$A13),"") | E13: =IF($A13<=Paramètre!$B$2,SUMIFS(SMA_Suivi_étroit[Nb usagers],SMA_Suivi_étroit[Source.Name],'Suivi étroit'!E$10,SMA_Suivi_étroit[CA/Sous-CA],'Suivi étroit'!$A$10,SMA_Suivi_étroit[Période financière],'Suivi étroit'!$A13),"") | F13: =IF($A13<=Paramètre!$B$2,SUMIFS(SMA_Suivi_étroit[Nb interv],SMA_Suivi_étroit[Source.Name],'Suivi étroit'!E$10,SMA_Suivi_étroit[CA/Sous-CA],'Suivi étroit'!$A$10,SMA_Suivi_étroit[Période financière],'Suivi étroit'!$A13),"") | G13: =IF($A13<=Paramètre!$B$2,SUMIFS(SMA_Suivi_étroit[Nb usagers],SMA_Suivi_étroit[Source.Name],'Suivi étroit'!G$10,SMA_Suivi_étroit[CA/Sous-CA],'Suivi étroit'!$A$10,SMA_Suivi_étroit[Période financière],'Suivi étroit'!$A13),"") | H13: =IF($A13<=Paramètre!$B$2,SUMIFS(SMA_Suivi_étroit[Nb interv],SMA_Suivi_étroit[Source.Name],'Suivi étroit'!G$10,SMA_Suivi_étroit[CA/Sous-CA],'Suivi étroit'!$A$10,SMA_Suivi_étroit[Période financière],'Suivi étroit'!$A13),"") | I13: =IF($A13<=Paramètre!$B$2,SUMIFS(SMA_Suivi_étroit[Nb usagers],SMA_Suivi_étroit[Source.Name],'Suivi étroit'!I$10,SMA_Suivi_étroit[CA/Sous-CA],'Suivi étroit'!$A$10,SMA_Suivi_étroit[Période financière],'Suivi étroit'!$A13),"") | J13: =IF($A13<=Paramètre!$B$2,SUMIFS(SMA_Suivi_étroit[Nb interv],SMA_Suivi_étroit[Source.Name],'Suivi étroit'!I$10,SMA_Suivi_étroit[CA/Sous-CA],'Suivi étroit'!$A$10,SMA_Suivi_étroit[Période financière],'Suivi étroit'!$A13),"") | K13: =IF($A13<=Paramètre!$B$2,SUMIFS(SMA_Suivi_étroit[Nb usagers],SMA_Suivi_étroit[Source.Name],'Suivi étroit'!K$10,SMA_Suivi_étroit[CA/Sous-CA],'Suivi étroit'!$A$10,SMA_Suivi_étroit[Période financière],'Suivi étroit'!$A13),"") | L13: =IF($A13<=Paramètre!$B$2,SUMIFS(SMA_Suivi_étroit[Nb interv],SMA_Suivi_étroit[Source.Name],'Suivi étroit'!K$10,SMA_Suivi_étroit[CA/Sous-CA],'Suivi étroit'!$A$10,SMA_Suivi_étroit[Période financière],'Suivi étroit'!$A13),"") | M13: =IF($A13<=Paramètre!$B$2,SUMIFS(SMA_Suivi_étroit[Nb usagers],SMA_Suivi_étroit[Source.Name],'Suivi étroit'!M$10,SMA_Suivi_étroit[CA/Sous-CA],'Suivi étroit'!$A$10,SMA_Suivi_étroit[Période financière],'Suivi étroit'!$A13),"") | N13: =IF($A13<=Paramètre!$B$2,SUMIFS(SMA_Suivi_étroit[Nb interv],SMA_Suivi_étroit[Source.Name],'Suivi étroit'!M$10,SMA_Suivi_étroit[CA/Sous-CA],'Suivi étroit'!$A$10,SMA_Suivi_étroit[Période financière],'Suivi étroit'!$A13),"") | O13: =IF($A13<=Paramètre!$B$2,SUMIFS(SMA_Suivi_étroit[Nb usagers],SMA_Suivi_étroit[Source.Name],'Suivi étroit'!O$10,SMA_Suivi_étroit[CA/Sous-CA],'Suivi étroit'!$A$10,SMA_Suivi_étroit[Période financière],'Suivi étroit'!$A13),"") | P13: =IF($A13<=Paramètre!$B$2,SUMIFS(SMA_Suivi_étroit[Nb interv],SMA_Suivi_étroit[Source.Name],'Suivi étroit'!O$10,SMA_Suivi_étroit[CA/Sous-CA],'Suivi étroit'!$A$10,SMA_Suivi_étroit[Période financière],'Suivi étroit'!$A13),"") | Q13: =IF($A13<=Paramètre!$B$2,SUM(C13,E13,G13,I13,K13,M13,O13),"") | R13: =IF($A13<=Paramètre!$B$2,SUM(D13,F13,H13,J13,L13,N13,P13),"")
A14: 3 | B14: Période 3 | C14: =IF($A14<=Paramètre!$B$2,SUMIFS(SMA_Suivi_étroit[Nb usagers],SMA_Suivi_étroit[Source.Name],'Suivi étroit'!C$10,SMA_Suivi_étroit[CA/Sous-CA],'Suivi étroit'!$A$10,SMA_Suivi_étroit[Période financière],'Suivi étroit'!$A14),"") | D14: =IF($A14<=Paramètre!$B$2,SUMIFS(SMA_Suivi_étroit[Nb interv],SMA_Suivi_étroit[Source.Name],'Suivi étroit'!C$10,SMA_Suivi_étroit[CA/Sous-CA],'Suivi étroit'!$A$10,SMA_Suivi_étroit[Période financière],'Suivi étroit'!$A14),"") | E14: =IF($A14<=Paramètre!$B$2,SUMIFS(SMA_Suivi_étroit[Nb usagers],SMA_Suivi_étroit[Source.Name],'Suivi étroit'!E$10,SMA_Suivi_étroit[CA/Sous-CA],'Suivi étroit'!$A$10,SMA_Suivi_étroit[Période financière],'Suivi étroit'!$A14),"") | F14: =IF($A14<=Paramètre!$B$2,SUMIFS(SMA_Suivi_étroit[Nb interv],SMA_Suivi_étroit[Source.Name],'Suivi étroit'!E$10,SMA_Suivi_étroit[CA/Sous-CA],'Suivi étroit'!$A$10,SMA_Suivi_étroit[Période financière],'Suivi étroit'!$A14),"") | G14: =IF($A14<=Paramètre!$B$2,SUMIFS(SMA_Suivi_étroit[Nb usagers],SMA_Suivi_étroit[Source.Name],'Suivi étroit'!G$10,SMA_Suivi_étroit[CA/Sous-CA],'Suivi étroit'!$A$10,SMA_Suivi_étroit[Période financière],'Suivi étroit'!$A14),"") | H14: =IF($A14<=Paramètre!$B$2,SUMIFS(SMA_Suivi_étroit[Nb interv],SMA_Suivi_étroit[Source.Name],'Suivi étroit'!G$10,SMA_Suivi_étroit[CA/Sous-CA],'Suivi étroit'!$A$10,SMA_Suivi_étroit[Période financière],'Suivi étroit'!$A14),"") | I14: =IF($A14<=Paramètre!$B$2,SUMIFS(SMA_Suivi_étroit[Nb usagers],SMA_Suivi_étroit[Source.Name],'Suivi étroit'!I$10,SMA_Suivi_étroit[CA/Sous-CA],'Suivi étroit'!$A$10,SMA_Suivi_étroit[Période financière],'Suivi étroit'!$A14),"") | J14: =IF($A14<=Paramètre!$B$2,SUMIFS(SMA_Suivi_étroit[Nb interv],SMA_Suivi_étroit[Source.Name],'Suivi étroit'!I$10,SMA_Suivi_étroit[CA/Sous-CA],'Suivi étroit'!$A$10,SMA_Suivi_étroit[Période financière],'Suivi étroit'!$A14),"") | K14: =IF($A14<=Paramètre!$B$2,SUMIFS(SMA_Suivi_étroit[Nb usagers],SMA_Suivi_étroit[Source.Name],'Suivi étroit'!K$10,SMA_Suivi_étroit[CA/Sous-CA],'Suivi étroit'!$A$10,SMA_Suivi_étroit[Période financière],'Suivi étroit'!$A14),"") | L14: =IF($A14<=Paramètre!$B$2,SUMIFS(SMA_Suivi_étroit[Nb interv],SMA_Suivi_étroit[Source.Name],'Suivi étroit'!K$10,SMA_Suivi_étroit[CA/Sous-CA],'Suivi étroit'!$A$10,SMA_Suivi_étroit[Période financière],'Suivi étroit'!$A14),"") | M14: =IF($A14<=Paramètre!$B$2,SUMIFS(SMA_Suivi_étroit[Nb usagers],SMA_Suivi_étroit[Source.Name],'Suivi étroit'!M$10,SMA_Suivi_étroit[CA/Sous-CA],'Suivi étroit'!$A$10,SMA_Suivi_étroit[Période financière],'Suivi étroit'!$A14),"") | N14: =IF($A14<=Paramètre!$B$2,SUMIFS(SMA_Suivi_étroit[Nb interv],SMA_Suivi_étroit[Source.Name],'Suivi étroit'!M$10,SMA_Suivi_étroit[CA/Sous-CA],'Suivi étroit'!$A$10,SMA_Suivi_étroit[Période financière],'Suivi étroit'!$A14),"") | O14: =IF($A14<=Paramètre!$B$2,SUMIFS(SMA_Suivi_étroit[Nb usagers],SMA_Suivi_étroit[Source.Name],'Suivi étroit'!O$10,SMA_Suivi_étroit[CA/Sous-CA],'Suivi étroit'!$A$10,SMA_Suivi_étroit[Période financière],'Suivi étroit'!$A14),"") | P14: =IF($A14<=Paramètre!$B$2,SUMIFS(SMA_Suivi_étroit[Nb interv],SMA_Suivi_étroit[Source.Name],'Suivi étroit'!O$10,SMA_Suivi_étroit[CA/Sous-CA],'Suivi étroit'!$A$10,SMA_Suivi_étroit[Période financière],'Suivi étroit'!$A14),"") | Q14: =IF($A14<=Paramètre!$B$2,SUM(C14,E14,G14,I14,K14,M14,O14),"") | R14: =IF($A14<=Paramètre!$B$2,SUM(D14,F14,H14,J14,L14,N14,P14),"")
A15: 4 | B15: Période 4 | C15: =IF($A15<=Paramètre!$B$2,SUMIFS(SMA_Suivi_étroit[Nb usagers],SMA_Suivi_étroit[Source.Name],'Suivi étroit'!C$10,SMA_Suivi_étroit[CA/Sous-CA],'Suivi étroit'!$A$10,SMA_Suivi_étroit[Période financière],'Suivi étroit'!$A15),"") | D15: =IF($A15<=Paramètre!$B$2,SUMIFS(SMA_Suivi_étroit[Nb interv],SMA_Suivi_étroit[Source.Name],'Suivi étroit'!C$10,SMA_Suivi_étroit[CA/Sous-CA],'Suivi étroit'!$A$10,SMA_Suivi_étroit[Période financière],'Suivi étroit'!$A15),"") | E15: =IF($A15<=Paramètre!$B$2,SUMIFS(SMA_Suivi_étroit[Nb usagers],SMA_Suivi_étroit[Source.Name],'Suivi étroit'!E$10,SMA_Suivi_étroit[CA/Sous-CA],'Suivi étroit'!$A$10,SMA_Suivi_étroit[Période financière],'Suivi étroit'!$A15),"") | F15: =IF($A15<=Paramètre!$B$2,SUMIFS(SMA_Suivi_étroit[Nb interv],SMA_Suivi_étroit[Source.Name],'Suivi étroit'!E$10,SMA_Suivi_étroit[CA/Sous-CA],'Suivi étroit'!$A$10,SMA_Suivi_étroit[Période financière],'Suivi étroit'!$A15),"") | G15: =IF($A15<=Paramètre!$B$2,SUMIFS(SMA_Suivi_étroit[Nb usagers],SMA_Suivi_étroit[Source.Name],'Suivi étroit'!G$10,SMA_Suivi_étroit[CA/Sous-CA],'Suivi étroit'!$A$10,SMA_Suivi_étroit[Période financière],'Suivi étroit'!$A15),"") | H15: =IF($A15<=Paramètre!$B$2,SUMIFS(SMA_Suivi_étroit[Nb interv],SMA_Suivi_étroit[Source.Name],'Suivi étroit'!G$10,SMA_Suivi_étroit[CA/Sous-CA],'Suivi étroit'!$A$10,SMA_Suivi_étroit[Période financière],'Suivi étroit'!$A15),"") | I15: =IF($A15<=Paramètre!$B$2,SUMIFS(SMA_Suivi_étroit[Nb usagers],SMA_Suivi_étroit[Source.Name],'Suivi étroit'!I$10,SMA_Suivi_étroit[CA/Sous-CA],'Suivi étroit'!$A$10,SMA_Suivi_étroit[Période financière],'Suivi étroit'!$A15),"") | J15: =IF($A15<=Paramètre!$B$2,SUMIFS(SMA_Suivi_étroit[Nb interv],SMA_Suivi_étroit[Source.Name],'Suivi étroit'!I$10,SMA_Suivi_étroit[CA/Sous-CA],'Suivi étroit'!$A$10,SMA_Suivi_étroit[Période financière],'Suivi étroit'!$A15),"") | K15: =IF($A15<=Paramètre!$B$2,SUMIFS(SMA_Suivi_étroit[Nb usagers],SMA_Suivi_étroit[Source.Name],'Suivi étroit'!K$10,SMA_Suivi_étroit[CA/Sous-CA],'Suivi étroit'!$A$10,SMA_Suivi_étroit[Période financière],'Suivi étroit'!$A15),"") | L15: =IF($A15<=Paramètre!$B$2,SUMIFS(SMA_Suivi_étroit[Nb interv],SMA_Suivi_étroit[Source.Name],'Suivi étroit'!K$10,SMA_Suivi_étroit[CA/Sous-CA],'Suivi étroit'!$A$10,SMA_Suivi_étroit[Période financière],'Suivi étroit'!$A15),"") | M15: =IF($A15<=Paramètre!$B$2,SUMIFS(SMA_Suivi_étroit[Nb usagers],SMA_Suivi_étroit[Source.Name],'Suivi étroit'!M$10,SMA_Suivi_étroit[CA/Sous-CA],'Suivi étroit'!$A$10,SMA_Suivi_étroit[Période financière],'Suivi étroit'!$A15),"") | N15: =IF($A15<=Paramètre!$B$2,SUMIFS(SMA_Suivi_étroit[Nb interv],SMA_Suivi_étroit[Source.Name],'Suivi étroit'!M$10,SMA_Suivi_étroit[CA/Sous-CA],'Suivi étroit'!$A$10,SMA_Suivi_étroit[Période financière],'Suivi étroit'!$A15),"") | O15: =IF($A15<=Paramètre!$B$2,SUMIFS(SMA_Suivi_étroit[Nb usagers],SMA_Suivi_étroit[Source.Name],'Suivi étroit'!O$10,SMA_Suivi_étroit[CA/Sous-CA],'Suivi étroit'!$A$10,SMA_Suivi_étroit[Période financière],'Suivi étroit'!$A15),"") | P15: =IF($A15<=Paramètre!$B$2,SUMIFS(SMA_Suivi_étroit[Nb interv],SMA_Suivi_étroit[Source.Name],'Suivi étroit'!O$10,SMA_Suivi_étroit[CA/Sous-CA],'Suivi étroit'!$A$10,SMA_Suivi_étroit[Période financière],'Suivi étroit'!$A15),"") | Q15: =IF($A15<=Paramètre!$B$2,SUM(C15,E15,G15,I15,K15,M15,O15),"") | R15: =IF($A15<=Paramètre!$B$2,SUM(D15,F15,H15,J15,L15,N15,P15),"")
A16: 5 | B16: Période 5 | C16: =IF($A16<=Paramètre!$B$2,SUMIFS(SMA_Suivi_étroit[Nb usagers],SMA_Suivi_étroit[Source.Name],'Suivi étroit'!C$10,SMA_Suivi_étroit[CA/Sous-CA],'Suivi étroit'!$A$10,SMA_Suivi_étroit[Période financière],'Suivi étroit'!$A16),"") | D16: =IF($A16<=Paramètre!$B$2,SUMIFS(SMA_Suivi_étroit[Nb interv],SMA_Suivi_étroit[Source.Name],'Suivi étroit'!C$10,SMA_Suivi_étroit[CA/Sous-CA],'Suivi étroit'!$A$10,SMA_Suivi_étroit[Période financière],'Suivi étroit'!$A16),"") | E16: =IF($A16<=Paramètre!$B$2,SUMIFS(SMA_Suivi_étroit[Nb usagers],SMA_Suivi_étroit[Source.Name],'Suivi étroit'!E$10,SMA_Suivi_étroit[CA/Sous-CA],'Suivi étroit'!$A$10,SMA_Suivi_étroit[Période financière],'Suivi étroit'!$A16),"") | F16: =IF($A16<=Paramètre!$B$2,SUMIFS(SMA_Suivi_étroit[Nb interv],SMA_Suivi_étroit[Source.Name],'Suivi étroit'!E$10,SMA_Suivi_étroit[CA/Sous-CA],'Suivi étroit'!$A$10,SMA_Suivi_étroit[Période financière],'Suivi étroit'!$A16),"") | G16: =IF($A16<=Paramètre!$B$2,SUMIFS(SMA_Suivi_étroit[Nb usagers],SMA_Suivi_étroit[Source.Name],'Suivi étroit'!G$10,SMA_Suivi_étroit[CA/Sous-CA],'Suivi étroit'!$A$10,SMA_Suivi_étroit[Période financière],'Suivi étroit'!$A16),"") | H16: =IF($A16<=Paramètre!$B$2,SUMIFS(SMA_Suivi_étroit[Nb interv],SMA_Suivi_étroit[Source.Name],'Suivi étroit'!G$10,SMA_Suivi_étroit[CA/Sous-CA],'Suivi étroit'!$A$10,SMA_Suivi_étroit[Période financière],'Suivi étroit'!$A16),"") | I16: =IF($A16<=Paramètre!$B$2,SUMIFS(SMA_Suivi_étroit[Nb usagers],SMA_Suivi_étroit[Source.Name],'Suivi étroit'!I$10,SMA_Suivi_étroit[CA/Sous-CA],'Suivi étroit'!$A$10,SMA_Suivi_étroit[Période financière],'Suivi étroit'!$A16),"") | J16: =IF($A16<=Paramètre!$B$2,SUMIFS(SMA_Suivi_étroit[Nb interv],SMA_Suivi_étroit[Source.Name],'Suivi étroit'!I$10,SMA_Suivi_étroit[CA/Sous-CA],'Suivi étroit'!$A$10,SMA_Suivi_étroit[Période financière],'Suivi étroit'!$A16),"") | K16: =IF($A16<=Paramètre!$B$2,SUMIFS(SMA_Suivi_étroit[Nb usagers],SMA_Suivi_étroit[Source.Name],'Suivi étroit'!K$10,SMA_Suivi_étroit[CA/Sous-CA],'Suivi étroit'!$A$10,SMA_Suivi_étroit[Période financière],'Suivi étroit'!$A16),"") | L16: =IF($A16<=Paramètre!$B$2,SUMIFS(SMA_Suivi_étroit[Nb interv],SMA_Suivi_étroit[Source.Name],'Suivi étroit'!K$10,SMA_Suivi_étroit[CA/Sous-CA],'Suivi étroit'!$A$10,SMA_Suivi_étroit[Période financière],'Suivi étroit'!$A16),"") | M16: =IF($A16<=Paramètre!$B$2,SUMIFS(SMA_Suivi_étroit[Nb usagers],SMA_Suivi_étroit[Source.Name],'Suivi étroit'!M$10,SMA_Suivi_étroit[CA/Sous-CA],'Suivi étroit'!$A$10,SMA_Suivi_étroit[Période financière],'Suivi étroit'!$A16),"") | N16: =IF($A16<=Paramètre!$B$2,SUMIFS(SMA_Suivi_étroit[Nb interv],SMA_Suivi_étroit[Source.Name],'Suivi étroit'!M$10,SMA_Suivi_étroit[CA/Sous-CA],'Suivi étroit'!$A$10,SMA_Suivi_étroit[Période financière],'Suivi étroit'!$A16),"") | O16: =IF($A16<=Paramètre!$B$2,SUMIFS(SMA_Suivi_étroit[Nb usagers],SMA_Suivi_étroit[Source.Name],'Suivi étroit'!O$10,SMA_Suivi_étroit[CA/Sous-CA],'Suivi étroit'!$A$10,SMA_Suivi_étroit[Période financière],'Suivi étroit'!$A16),"") | P16: =IF($A16<=Paramètre!$B$2,SUMIFS(SMA_Suivi_étroit[Nb interv],SMA_Suivi_étroit[Source.Name],'Suivi étroit'!O$10,SMA_Suivi_étroit[CA/Sous-CA],'Suivi étroit'!$A$10,SMA_Suivi_étroit[Période financière],'Suivi étroit'!$A16),"") | Q16: =IF($A16<=Paramètre!$B$2,SUM(C16,E16,G16,I16,K16,M16,O16),"") | R16: =IF($A16<=Paramètre!$B$2,SUM(D16,F16,H16,J16,L16,N16,P16),"")
A17: 6 | B17: Période 6 | C17: =IF($A17<=Paramètre!$B$2,SUMIFS(SMA_Suivi_étroit[Nb usagers],SMA_Suivi_étroit[Source.Name],'Suivi étroit'!C$10,SMA_Suivi_étroit[CA/Sous-CA],'Suivi étroit'!$A$10,SMA_Suivi_étroit[Période financière],'Suivi étroit'!$A17),"") | D17: =IF($A17<=Paramètre!$B$2,SUMIFS(SMA_Suivi_étroit[Nb interv],SMA_Suivi_étroit[Source.Name],'Suivi étroit'!C$10,SMA_Suivi_étroit[CA/Sous-CA],'Suivi étroit'!$A$10,SMA_Suivi_étroit[Période financière],'Suivi étroit'!$A17),"") | E17: =IF($A17<=Paramètre!$B$2,SUMIFS(SMA_Suivi_étroit[Nb usagers],SMA_Suivi_étroit[Source.Name],'Suivi étroit'!E$10,SMA_Suivi_étroit[CA/Sous-CA],'Suivi étroit'!$A$10,SMA_Suivi_étroit[Période financière],'Suivi étroit'!$A17),"") | F17: =IF($A17<=Paramètre!$B$2,SUMIFS(SMA_Suivi_étroit[Nb interv],SMA_Suivi_étroit[Source.Name],'Suivi étroit'!E$10,SMA_Suivi_étroit[CA/Sous-CA],'Suivi étroit'!$A$10,SMA_Suivi_étroit[Période financière],'Suivi étroit'!$A17),"") | G17: =IF($A17<=Paramètre!$B$2,SUMIFS(SMA_Suivi_étroit[Nb usagers],SMA_Suivi_étroit[Source.Name],'Suivi étroit'!G$10,SMA_Suivi_étroit[CA/Sous-CA],'Suivi étroit'!$A$10,SMA_Suivi_étroit[Période financière],'Suivi étroit'!$A17),"") | H17: =IF($A17<=Paramètre!$B$2,SUMIFS(SMA_Suivi_étroit[Nb interv],SMA_Suivi_étroit[Source.Name],'Suivi étroit'!G$10,SMA_Suivi_étroit[CA/Sous-CA],'Suivi étroit'!$A$10,SMA_Suivi_étroit[Période financière],'Suivi étroit'!$A17),"") | I17: =IF($A17<=Paramètre!$B$2,SUMIFS(SMA_Suivi_étroit[Nb usagers],SMA_Suivi_étroit[Source.Name],'Suivi étroit'!I$10,SMA_Suivi_étroit[CA/Sous-CA],'Suivi étroit'!$A$10,SMA_Suivi_étroit[Période financière],'Suivi étroit'!$A17),"") | J17: =IF($A17<=Paramètre!$B$2,SUMIFS(SMA_Suivi_étroit[Nb interv],SMA_Suivi_étroit[Source.Name],'Suivi étroit'!I$10,SMA_Suivi_étroit[CA/Sous-CA],'Suivi étroit'!$A$10,SMA_Suivi_étroit[Période financière],'Suivi étroit'!$A17),"") | K17: =IF($A17<=Paramètre!$B$2,SUMIFS(SMA_Suivi_étroit[Nb usagers],SMA_Suivi_étroit[Source.Name],'Suivi étroit'!K$10,SMA_Suivi_étroit[CA/Sous-CA],'Suivi étroit'!$A$10,SMA_Suivi_étroit[Période financière],'Suivi étroit'!$A17),"") | L17: =IF($A17<=Paramètre!$B$2,SUMIFS(SMA_Suivi_étroit[Nb interv],SMA_Suivi_étroit[Source.Name],'Suivi étroit'!K$10,SMA_Suivi_étroit[CA/Sous-CA],'Suivi étroit'!$A$10,SMA_Suivi_étroit[Période financière],'Suivi étroit'!$A17),"") | M17: =IF($A17<=Paramètre!$B$2,SUMIFS(SMA_Suivi_étroit[Nb usagers],SMA_Suivi_étroit[Source.Name],'Suivi étroit'!M$10,SMA_Suivi_étroit[CA/Sous-CA],'Suivi étroit'!$A$10,SMA_Suivi_étroit[Période financière],'Suivi étroit'!$A17),"") | N17: =IF($A17<=Paramètre!$B$2,SUMIFS(SMA_Suivi_étroit[Nb interv],SMA_Suivi_étroit[Source.Name],'Suivi étroit'!M$10,SMA_Suivi_étroit[CA/Sous-CA],'Suivi étroit'!$A$10,SMA_Suivi_étroit[Période financière],'Suivi étroit'!$A17),"") | O17: =IF($A17<=Paramètre!$B$2,SUMIFS(SMA_Suivi_étroit[Nb usagers],SMA_Suivi_étroit[Source.Name],'Suivi étroit'!O$10,SMA_Suivi_étroit[CA/Sous-CA],'Suivi étroit'!$A$10,SMA_Suivi_étroit[Période financière],'Suivi étroit'!$A17),"") | P17: =IF($A17<=Paramètre!$B$2,SUMIFS(SMA_Suivi_étroit[Nb interv],SMA_Suivi_étroit[Source.Name],'Suivi étroit'!O$10,SMA_Suivi_étroit[CA/Sous-CA],'Suivi étroit'!$A$10,SMA_Suivi_étroit[Période financière],'Suivi étroit'!$A17),"") | Q17: =IF($A17<=Paramètre!$B$2,SUM(C17,E17,G17,I17,K17,M17,O17),"") | R17: =IF($A17<=Paramètre!$B$2,SUM(D17,F17,H17,J17,L17,N17,P17),"")
A18: 7 | B18: Période 7 | C18: =IF($A18<=Paramètre!$B$2,SUMIFS(SMA_Suivi_étroit[Nb usagers],SMA_Suivi_étroit[Source.Name],'Suivi étroit'!C$10,SMA_Suivi_étroit[CA/Sous-CA],'Suivi étroit'!$A$10,SMA_Suivi_étroit[Période financière],'Suivi étroit'!$A18),"") | D18: =IF($A18<=Paramètre!$B$2,SUMIFS(SMA_Suivi_étroit[Nb interv],SMA_Suivi_étroit[Source.Name],'Suivi étroit'!C$10,SMA_Suivi_étroit[CA/Sous-CA],'Suivi étroit'!$A$10,SMA_Suivi_étroit[Période financière],'Suivi étroit'!$A18),"") | E18: =IF($A18<=Paramètre!$B$2,SUMIFS(SMA_Suivi_étroit[Nb usagers],SMA_Suivi_étroit[Source.Name],'Suivi étroit'!E$10,SMA_Suivi_étroit[CA/Sous-CA],'Suivi étroit'!$A$10,SMA_Suivi_étroit[Période financière],'Suivi étroit'!$A18),"") | F18: =IF($A18<=Paramètre!$B$2,SUMIFS(SMA_Suivi_étroit[Nb interv],SMA_Suivi_étroit[Source.Name],'Suivi étroit'!E$10,SMA_Suivi_étroit[CA/Sous-CA],'Suivi étroit'!$A$10,SMA_Suivi_étroit[Période financière],'Suivi étroit'!$A18),"") | G18: =IF($A18<=Paramètre!$B$2,SUMIFS(SMA_Suivi_étroit[Nb usagers],SMA_Suivi_étroit[Source.Name],'Suivi étroit'!G$10,SMA_Suivi_étroit[CA/Sous-CA],'Suivi étroit'!$A$10,SMA_Suivi_étroit[Période financière],'Suivi étroit'!$A18),"") | H18: =IF($A18<=Paramètre!$B$2,SUMIFS(SMA_Suivi_étroit[Nb interv],SMA_Suivi_étroit[Source.Name],'Suivi étroit'!G$10,SMA_Suivi_étroit[CA/Sous-CA],'Suivi étroit'!$A$10,SMA_Suivi_étroit[Période financière],'Suivi étroit'!$A18),"") | I18: =IF($A18<=Paramètre!$B$2,SUMIFS(SMA_Suivi_étroit[Nb usagers],SMA_Suivi_étroit[Source.Name],'Suivi étroit'!I$10,SMA_Suivi_étroit[CA/Sous-CA],'Suivi étroit'!$A$10,SMA_Suivi_étroit[Période financière],'Suivi étroit'!$A18),"") | J18: =IF($A18<=Paramètre!$B$2,SUMIFS(SMA_Suivi_étroit[Nb interv],SMA_Suivi_étroit[Source.Name],'Suivi étroit'!I$10,SMA_Suivi_étroit[CA/Sous-CA],'Suivi étroit'!$A$10,SMA_Suivi_étroit[Période financière],'Suivi étroit'!$A18),"") | K18: =IF($A18<=Paramètre!$B$2,SUMIFS(SMA_Suivi_étroit[Nb usagers],SMA_Suivi_étroit[Source.Name],'Suivi étroit'!K$10,SMA_Suivi_étroit[CA/Sous-CA],'Suivi étroit'!$A$10,SMA_Suivi_étroit[Période financière],'Suivi étroit'!$A18),"") | L18: =IF($A18<=Paramètre!$B$2,SUMIFS(SMA_Suivi_étroit[Nb interv],SMA_Suivi_étroit[Source.Name],'Suivi étroit'!K$10,SMA_Suivi_étroit[CA/Sous-CA],'Suivi étroit'!$A$10,SMA_Suivi_étroit[Période financière],'Suivi étroit'!$A18),"") | M18: =IF($A18<=Paramètre!$B$2,SUMIFS(SMA_Suivi_étroit[Nb usagers],SMA_Suivi_étroit[Source.Name],'Suivi étroit'!M$10,SMA_Suivi_étroit[CA/Sous-CA],'Suivi étroit'!$A$10,SMA_Suivi_étroit[Période financière],'Suivi étroit'!$A18),"") | N18: =IF($A18<=Paramètre!$B$2,SUMIFS(SMA_Suivi_étroit[Nb interv],SMA_Suivi_étroit[Source.Name],'Suivi étroit'!M$10,SMA_Suivi_étroit[CA/Sous-CA],'Suivi étroit'!$A$10,SMA_Suivi_étroit[Période financière],'Suivi étroit'!$A18),"") | O18: =IF($A18<=Paramètre!$B$2,SUMIFS(SMA_Suivi_étroit[Nb usagers],SMA_Suivi_étroit[Source.Name],'Suivi étroit'!O$10,SMA_Suivi_étroit[CA/Sous-CA],'Suivi étroit'!$A$10,SMA_Suivi_étroit[Période financière],'Suivi étroit'!$A18),"") | P18: =IF($A18<=Paramètre!$B$2,SUMIFS(SMA_Suivi_étroit[Nb interv],SMA_Suivi_étroit[Source.Name],'Suivi étroit'!O$10,SMA_Suivi_étroit[CA/Sous-CA],'Suivi étroit'!$A$10,SMA_Suivi_étroit[Période financière],'Suivi étroit'!$A18),"") | Q18: =IF($A18<=Paramètre!$B$2,SUM(C18,E18,G18,I18,K18,M18,O18),"") | R18: =IF($A18<=Paramètre!$B$2,SUM(D18,F18,H18,J18,L18,N18,P18),"")
A19: 8 | B19: Période 8 | C19: =IF($A19<=Paramètre!$B$2,SUMIFS(SMA_Suivi_étroit[Nb usagers],SMA_Suivi_étroit[Source.Name],'Suivi étroit'!C$10,SMA_Suivi_étroit[CA/Sous-CA],'Suivi étroit'!$A$10,SMA_Suivi_étroit[Période financière],'Suivi étroit'!$A19),"") | D19: =IF($A19<=Paramètre!$B$2,SUMIFS(SMA_Suivi_étroit[Nb interv],SMA_Suivi_étroit[Source.Name],'Suivi étroit'!C$10,SMA_Suivi_étroit[CA/Sous-CA],'Suivi étroit'!$A$10,SMA_Suivi_étroit[Période financière],'Suivi étroit'!$A19),"") | E19: =IF($A19<=Paramètre!$B$2,SUMIFS(SMA_Suivi_étroit[Nb usagers],SMA_Suivi_étroit[Source.Name],'Suivi étroit'!E$10,SMA_Suivi_étroit[CA/Sous-CA],'Suivi étroit'!$A$10,SMA_Suivi_étroit[Période financière],'Suivi étroit'!$A19),"") | F19: =IF($A19<=Paramètre!$B$2,SUMIFS(SMA_Suivi_étroit[Nb interv],SMA_Suivi_étroit[Source.Name],'Suivi étroit'!E$10,SMA_Suivi_étroit[CA/Sous-CA],'Suivi étroit'!$A$10,SMA_Suivi_étroit[Période financière],'Suivi étroit'!$A19),"") | G19: =IF($A19<=Paramètre!$B$2,SUMIFS(SMA_Suivi_étroit[Nb usagers],SMA_Suivi_étroit[Source.Name],'Suivi étroit'!G$10,SMA_Suivi_étroit[CA/Sous-CA],'Suivi étroit'!$A$10,SMA_Suivi_étroit[Période financière],'Suivi étroit'!$A19),"") | H19: =IF($A19<=Paramètre!$B$2,SUMIFS(SMA_Suivi_étroit[Nb interv],SMA_Suivi_étroit[Source.Name],'Suivi étroit'!G$10,SMA_Suivi_étroit[CA/Sous-CA],'Suivi étroit'!$A$10,SMA_Suivi_étroit[Période financière],'Suivi étroit'!$A19),"") | I19: =IF($A19<=Paramètre!$B$2,SUMIFS(SMA_Suivi_étroit[Nb usagers],SMA_Suivi_étroit[Source.Name],'Suivi étroit'!I$10,SMA_Suivi_étroit[CA/Sous-CA],'Suivi étroit'!$A$10,SMA_Suivi_étroit[Période financière],'Suivi étroit'!$A19),"") | J19: =IF($A19<=Paramètre!$B$2,SUMIFS(SMA_Suivi_étroit[Nb interv],SMA_Suivi_étroit[Source.Name],'Suivi étroit'!I$10,SMA_Suivi_étroit[CA/Sous-CA],'Suivi étroit'!$A$10,SMA_Suivi_étroit[Période financière],'Suivi étroit'!$A19),"") | K19: =IF($A19<=Paramètre!$B$2,SUMIFS(SMA_Suivi_étroit[Nb usagers],SMA_Suivi_étroit[Source.Name],'Suivi étroit'!K$10,SMA_Suivi_étroit[CA/Sous-CA],'Suivi étroit'!$A$10,SMA_Suivi_étroit[Période financière],'Suivi étroit'!$A19),"") | L19: =IF($A19<=Paramètre!$B$2,SUMIFS(SMA_Suivi_étroit[Nb interv],SMA_Suivi_étroit[Source.Name],'Suivi étroit'!K$10,SMA_Suivi_étroit[CA/Sous-CA],'Suivi étroit'!$A$10,SMA_Suivi_étroit[Période financière],'Suivi étroit'!$A19),"") | M19: =IF($A19<=Paramètre!$B$2,SUMIFS(SMA_Suivi_étroit[Nb usagers],SMA_Suivi_étroit[Source.Name],'Suivi étroit'!M$10,SMA_Suivi_étroit[CA/Sous-CA],'Suivi étroit'!$A$10,SMA_Suivi_étroit[Période financière],'Suivi étroit'!$A19),"") | N19: =IF($A19<=Paramètre!$B$2,SUMIFS(SMA_Suivi_étroit[Nb interv],SMA_Suivi_étroit[Source.Name],'Suivi étroit'!M$10,SMA_Suivi_étroit[CA/Sous-CA],'Suivi étroit'!$A$10,SMA_Suivi_étroit[Période financière],'Suivi étroit'!$A19),"") | O19: =IF($A19<=Paramètre!$B$2,SUMIFS(SMA_Suivi_étroit[Nb usagers],SMA_Suivi_étroit[Source.Name],'Suivi étroit'!O$10,SMA_Suivi_étroit[CA/Sous-CA],'Suivi étroit'!$A$10,SMA_Suivi_étroit[Période financière],'Suivi étroit'!$A19),"") | P19: =IF($A19<=Paramètre!$B$2,SUMIFS(SMA_Suivi_étroit[Nb interv],SMA_Suivi_étroit[Source.Name],'Suivi étroit'!O$10,SMA_Suivi_étroit[CA/Sous-CA],'Suivi étroit'!$A$10,SMA_Suivi_étroit[Période financière],'Suivi étroit'!$A19),"") | Q19: =IF($A19<=Paramètre!$B$2,SUM(C19,E19,G19,I19,K19,M19,O19),"") | R19: =IF($A19<=Paramètre!$B$2,SUM(D19,F19,H19,J19,L19,N19,P19),"")
A20: 9 | B20: Période 9 | C20: =IF($A20<=Paramètre!$B$2,SUMIFS(SMA_Suivi_étroit[Nb usagers],SMA_Suivi_étroit[Source.Name],'Suivi étroit'!C$10,SMA_Suivi_étroit[CA/Sous-CA],'Suivi étroit'!$A$10,SMA_Suivi_étroit[Période financière],'Suivi étroit'!$A20),"") | D20: =IF($A20<=Paramètre!$B$2,SUMIFS(SMA_Suivi_étroit[Nb interv],SMA_Suivi_étroit[Source.Name],'Suivi étroit'!C$10,SMA_Suivi_étroit[CA/Sous-CA],'Suivi étroit'!$A$10,SMA_Suivi_étroit[Période financière],'Suivi étroit'!$A20),"") | E20: =IF($A20<=Paramètre!$B$2,SUMIFS(SMA_Suivi_étroit[Nb usagers],SMA_Suivi_étroit[Source.Name],'Suivi étroit'!E$10,SMA_Suivi_étroit[CA/Sous-CA],'Suivi étroit'!$A$10,SMA_Suivi_étroit[Période financière],'Suivi étroit'!$A20),"") | F20: =IF($A20<=Paramètre!$B$2,SUMIFS(SMA_Suivi_étroit[Nb interv],SMA_Suivi_étroit[Source.Name],'Suivi étroit'!E$10,SMA_Suivi_étroit[CA/Sous-CA],'Suivi étroit'!$A$10,SMA_Suivi_étroit[Période financière],'Suivi étroit'!$A20),"") | G20: =IF($A20<=Paramètre!$B$2,SUMIFS(SMA_Suivi_étroit[Nb usagers],SMA_Suivi_étroit[Source.Name],'Suivi étroit'!G$10,SMA_Suivi_étroit[CA/Sous-CA],'Suivi étroit'!$A$10,SMA_Suivi_étroit[Période financière],'Suivi étroit'!$A20),"") | H20: =IF($A20<=Paramètre!$B$2,SUMIFS(SMA_Suivi_étroit[Nb interv],SMA_Suivi_étroit[Source.Name],'Suivi étroit'!G$10,SMA_Suivi_étroit[CA/Sous-CA],'Suivi étroit'!$A$10,SMA_Suivi_étroit[Période financière],'Suivi étroit'!$A20),"") | I20: =IF($A20<=Paramètre!$B$2,SUMIFS(SMA_Suivi_étroit[Nb usagers],SMA_Suivi_étroit[Source.Name],'Suivi étroit'!I$10,SMA_Suivi_étroit[CA/Sous-CA],'Suivi étroit'!$A$10,SMA_Suivi_étroit[Période financière],'Suivi étroit'!$A20),"") | J20: =IF($A20<=Paramètre!$B$2,SUMIFS(SMA_Suivi_étroit[Nb interv],SMA_Suivi_étroit[Source.Name],'Suivi étroit'!I$10,SMA_Suivi_étroit[CA/Sous-CA],'Suivi étroit'!$A$10,SMA_Suivi_étroit[Période financière],'Suivi étroit'!$A20),"") | K20: =IF($A20<=Paramètre!$B$2,SUMIFS(SMA_Suivi_étroit[Nb usagers],SMA_Suivi_étroit[Source.Name],'Suivi étroit'!K$10,SMA_Suivi_étroit[CA/Sous-CA],'Suivi étroit'!$A$10,SMA_Suivi_étroit[Période financière],'Suivi étroit'!$A20),"") | L20: =IF($A20<=Paramètre!$B$2,SUMIFS(SMA_Suivi_étroit[Nb interv],SMA_Suivi_étroit[Source.Name],'Suivi étroit'!K$10,SMA_Suivi_étroit[CA/Sous-CA],'Suivi étroit'!$A$10,SMA_Suivi_étroit[Période financière],'Suivi étroit'!$A20),"") | M20: =IF($A20<=Paramètre!$B$2,SUMIFS(SMA_Suivi_étroit[Nb usagers],SMA_Suivi_étroit[Source.Name],'Suivi étroit'!M$10,SMA_Suivi_étroit[CA/Sous-CA],'Suivi étroit'!$A$10,SMA_Suivi_étroit[Période financière],'Suivi étroit'!$A20),"") | N20: =IF($A20<=Paramètre!$B$2,SUMIFS(SMA_Suivi_étroit[Nb interv],SMA_Suivi_étroit[Source.Name],'Suivi étroit'!M$10,SMA_Suivi_étroit[CA/Sous-CA],'Suivi étroit'!$A$10,SMA_Suivi_étroit[Période financière],'Suivi étroit'!$A20),"") | O20: =IF($A20<=Paramètre!$B$2,SUMIFS(SMA_Suivi_étroit[Nb usagers],SMA_Suivi_étroit[Source.Name],'Suivi étroit'!O$10,SMA_Suivi_étroit[CA/Sous-CA],'Suivi étroit'!$A$10,SMA_Suivi_étroit[Période financière],'Suivi étroit'!$A20),"") | P20: =IF($A20<=Paramètre!$B$2,SUMIFS(SMA_Suivi_étroit[Nb interv],SMA_Suivi_étroit[Source.Name],'Suivi étroit'!O$10,SMA_Suivi_étroit[CA/Sous-CA],'Suivi étroit'!$A$10,SMA_Suivi_étroit[Période financière],'Suivi étroit'!$A20),"") | Q20: =IF($A20<=Paramètre!$B$2,SUM(C20,E20,G20,I20,K20,M20,O20),"") | R20: =IF($A20<=Paramètre!$B$2,SUM(D20,F20,H20,J20,L20,N20,P20),"")
A21: 10 | B21: Période 10 | C21: =IF($A21<=Paramètre!$B$2,SUMIFS(SMA_Suivi_étroit[Nb usagers],SMA_Suivi_étroit[Source.Name],'Suivi étroit'!C$10,SMA_Suivi_étroit[CA/Sous-CA],'Suivi étroit'!$A$10,SMA_Suivi_étroit[Période financière],'Suivi étroit'!$A21),"") | D21: =IF($A21<=Paramètre!$B$2,SUMIFS(SMA_Suivi_étroit[Nb interv],SMA_Suivi_étroit[Source.Name],'Suivi étroit'!C$10,SMA_Suivi_étroit[CA/Sous-CA],'Suivi étroit'!$A$10,SMA_Suivi_étroit[Période financière],'Suivi étroit'!$A21),"") | E21: =IF($A21<=Paramètre!$B$2,SUMIFS(SMA_Suivi_étroit[Nb usagers],SMA_Suivi_étroit[Source.Name],'Suivi étroit'!E$10,SMA_Suivi_étroit[CA/Sous-CA],'Suivi étroit'!$A$10,SMA_Suivi_étroit[Période financière],'Suivi étroit'!$A21),"") | F21: =IF($A21<=Paramètre!$B$2,SUMIFS(SMA_Suivi_étroit[Nb interv],SMA_Suivi_étroit[Source.Name],'Suivi étroit'!E$10,SMA_Suivi_étroit[CA/Sous-CA],'Suivi étroit'!$A$10,SMA_Suivi_étroit[Période financière],'Suivi étroit'!$A21),"") | G21: =IF($A21<=Paramètre!$B$2,SUMIFS(SMA_Suivi_étroit[Nb usagers],SMA_Suivi_étroit[Source.Name],'Suivi étroit'!G$10,SMA_Suivi_étroit[CA/Sous-CA],'Suivi étroit'!$A$10,SMA_Suivi_étroit[Période financière],'Suivi étroit'!$A21),"") | H21: =IF($A21<=Paramètre!$B$2,SUMIFS(SMA_Suivi_étroit[Nb interv],SMA_Suivi_étroit[Source.Name],'Suivi étroit'!G$10,SMA_Suivi_étroit[CA/Sous-CA],'Suivi étroit'!$A$10,SMA_Suivi_étroit[Période financière],'Suivi étroit'!$A21),"") | I21: =IF($A21<=Paramètre!$B$2,SUMIFS(SMA_Suivi_étroit[Nb usagers],SMA_Suivi_étroit[Source.Name],'Suivi étroit'!I$10,SMA_Suivi_étroit[CA/Sous-CA],'Suivi étroit'!$A$10,SMA_Suivi_étroit[Période financière],'Suivi étroit'!$A21),"") | J21: =IF($A21<=Paramètre!$B$2,SUMIFS(SMA_Suivi_étroit[Nb interv],SMA_Suivi_étroit[Source.Name],'Suivi étroit'!I$10,SMA_Suivi_étroit[CA/Sous-CA],'Suivi étroit'!$A$10,SMA_Suivi_étroit[Période financière],'Suivi étroit'!$A21),"") | K21: =IF($A21<=Paramètre!$B$2,SUMIFS(SMA_Suivi_étroit[Nb usagers],SMA_Suivi_étroit[Source.Name],'Suivi étroit'!K$10,SMA_Suivi_étroit[CA/Sous-CA],'Suivi étroit'!$A$10,SMA_Suivi_étroit[Période financière],'Suivi étroit'!$A21),"") | L21: =IF($A21<=Paramètre!$B$2,SUMIFS(SMA_Suivi_étroit[Nb interv],SMA_Suivi_étroit[Source.Name],'Suivi étroit'!K$10,SMA_Suivi_étroit[CA/Sous-CA],'Suivi étroit'!$A$10,SMA_Suivi_étroit[Période financière],'Suivi étroit'!$A21),"") | M21: =IF($A21<=Paramètre!$B$2,SUMIFS(SMA_Suivi_étroit[Nb usagers],SMA_Suivi_étroit[Source.Name],'Suivi étroit'!M$10,SMA_Suivi_étroit[CA/Sous-CA],'Suivi étroit'!$A$10,SMA_Suivi_étroit[Période financière],'Suivi étroit'!$A21),"") | N21: =IF($A21<=Paramètre!$B$2,SUMIFS(SMA_Suivi_étroit[Nb interv],SMA_Suivi_étroit[Source.Name],'Suivi étroit'!M$10,SMA_Suivi_étroit[CA/Sous-CA],'Suivi étroit'!$A$10,SMA_Suivi_étroit[Période financière],'Suivi étroit'!$A21),"") | O21: =IF($A21<=Paramètre!$B$2,SUMIFS(SMA_Suivi_étroit[Nb usagers],SMA_Suivi_étroit[Source.Name],'Suivi étroit'!O$10,SMA_Suivi_étroit[CA/Sous-CA],'Suivi étroit'!$A$10,SMA_Suivi_étroit[Période financière],'Suivi étroit'!$A21),"") | P21: =IF($A21<=Paramètre!$B$2,SUMIFS(SMA_Suivi_étroit[Nb interv],SMA_Suivi_étroit[Source.Name],'Suivi étroit'!O$10,SMA_Suivi_étroit[CA/Sous-CA],'Suivi étroit'!$A$10,SMA_Suivi_étroit[Période financière],'Suivi étroit'!$A21),"") | Q21: =IF($A21<=Paramètre!$B$2,SUM(C21,E21,G21,I21,K21,M21,O21),"") | R21: =IF($A21<=Paramètre!$B$2,SUM(D21,F21,H21,J21,L21,N21,P21),"")
A22: 11 | B22: Période 11 | C22: =IF($A22<=Paramètre!$B$2,SUMIFS(SMA_Suivi_étroit[Nb usagers],SMA_Suivi_étroit[Source.Name],'Suivi étroit'!C$10,SMA_Suivi_étroit[CA/Sous-CA],'Suivi étroit'!$A$10,SMA_Suivi_étroit[Période financière],'Suivi étroit'!$A22),"") | D22: =IF($A22<=Paramètre!$B$2,SUMIFS(SMA_Suivi_étroit[Nb interv],SMA_Suivi_étroit[Source.Name],'Suivi étroit'!C$10,SMA_Suivi_étroit[CA/Sous-CA],'Suivi étroit'!$A$10,SMA_Suivi_étroit[Période financière],'Suivi étroit'!$A22),"") | E22: =IF($A22<=Paramètre!$B$2,SUMIFS(SMA_Suivi_étroit[Nb usagers],SMA_Suivi_étroit[Source.Name],'Suivi étroit'!E$10,SMA_Suivi_étroit[CA/Sous-CA],'Suivi étroit'!$A$10,SMA_Suivi_étroit[Période financière],'Suivi étroit'!$A22),"") | F22: =IF($A22<=Paramètre!$B$2,SUMIFS(SMA_Suivi_étroit[Nb interv],SMA_Suivi_étroit[Source.Name],'Suivi étroit'!E$10,SMA_Suivi_étroit[CA/Sous-CA],'Suivi étroit'!$A$10,SMA_Suivi_étroit[Période financière],'Suivi étroit'!$A22),"") | G22: =IF($A22<=Paramètre!$B$2,SUMIFS(SMA_Suivi_étroit[Nb usagers],SMA_Suivi_étroit[Source.Name],'Suivi étroit'!G$10,SMA_Suivi_étroit[CA/Sous-CA],'Suivi étroit'!$A$10,SMA_Suivi_étroit[Période financière],'Suivi étroit'!$A22),"") | H22: =IF($A22<=Paramètre!$B$2,SUMIFS(SMA_Suivi_étroit[Nb interv],SMA_Suivi_étroit[Source.Name],'Suivi étroit'!G$10,SMA_Suivi_étroit[CA/Sous-CA],'Suivi étroit'!$A$10,SMA_Suivi_étroit[Période financière],'Suivi étroit'!$A22),"") | I22: =IF($A22<=Paramètre!$B$2,SUMIFS(SMA_Suivi_étroit[Nb usagers],SMA_Suivi_étroit[Source.Name],'Suivi étroit'!I$10,SMA_Suivi_étroit[CA/Sous-CA],'Suivi étroit'!$A$10,SMA_Suivi_étroit[Période financière],'Suivi étroit'!$A22),"") | J22: =IF($A22<=Paramètre!$B$2,SUMIFS(SMA_Suivi_étroit[Nb interv],SMA_Suivi_étroit[Source.Name],'Suivi étroit'!I$10,SMA_Suivi_étroit[CA/Sous-CA],'Suivi étroit'!$A$10,SMA_Suivi_étroit[Période financière],'Suivi étroit'!$A22),"") | K22: =IF($A22<=Paramètre!$B$2,SUMIFS(SMA_Suivi_étroit[Nb usagers],SMA_Suivi_étroit[Source.Name],'Suivi étroit'!K$10,SMA_Suivi_étroit[CA/Sous-CA],'Suivi étroit'!$A$10,SMA_Suivi_étroit[Période financière],'Suivi étroit'!$A22),"") | L22: =IF($A22<=Paramètre!$B$2,SUMIFS(SMA_Suivi_étroit[Nb interv],SMA_Suivi_étroit[Source.Name],'Suivi étroit'!K$10,SMA_Suivi_étroit[CA/Sous-CA],'Suivi étroit'!$A$10,SMA_Suivi_étroit[Période financière],'Suivi étroit'!$A22),"") | M22: =IF($A22<=Paramètre!$B$2,SUMIFS(SMA_Suivi_étroit[Nb usagers],SMA_Suivi_étroit[Source.Name],'Suivi étroit'!M$10,SMA_Suivi_étroit[CA/Sous-CA],'Suivi étroit'!$A$10,SMA_Suivi_étroit[Période financière],'Suivi étroit'!$A22),"") | N22: =IF($A22<=Paramètre!$B$2,SUMIFS(SMA_Suivi_étroit[Nb interv],SMA_Suivi_étroit[Source.Name],'Suivi étroit'!M$10,SMA_Suivi_étroit[CA/Sous-CA],'Suivi étroit'!$A$10,SMA_Suivi_étroit[Période financière],'Suivi étroit'!$A22),"") | O22: =IF($A22<=Paramètre!$B$2,SUMIFS(SMA_Suivi_étroit[Nb usagers],SMA_Suivi_étroit[Source.Name],'Suivi étroit'!O$10,SMA_Suivi_étroit[CA/Sous-CA],'Suivi étroit'!$A$10,SMA_Suivi_étroit[Période financière],'Suivi étroit'!$A22),"") | P22: =IF($A22<=Paramètre!$B$2,SUMIFS(SMA_Suivi_étroit[Nb interv],SMA_Suivi_étroit[Source.Name],'Suivi étroit'!O$10,SMA_Suivi_étroit[CA/Sous-CA],'Suivi étroit'!$A$10,SMA_Suivi_étroit[Période financière],'Suivi étroit'!$A22),"") | Q22: =IF($A22<=Paramètre!$B$2,SUM(C22,E22,G22,I22,K22,M22,O22),"") | R22: =IF($A22<=Paramètre!$B$2,SUM(D22,F22,H22,J22,L22,N22,P22),"")
A23: 12 | B23: Période 12 | C23: =IF($A23<=Paramètre!$B$2,SUMIFS(SMA_Suivi_étroit[Nb usagers],SMA_Suivi_étroit[Source.Name],'Suivi étroit'!C$10,SMA_Suivi_étroit[CA/Sous-CA],'Suivi étroit'!$A$10,SMA_Suivi_étroit[Période financière],'Suivi étroit'!$A23),"") | D23: =IF($A23<=Paramètre!$B$2,SUMIFS(SMA_Suivi_étroit[Nb interv],SMA_Suivi_étroit[Source.Name],'Suivi étroit'!C$10,SMA_Suivi_étroit[CA/Sous-CA],'Suivi étroit'!$A$10,SMA_Suivi_étroit[Période financière],'Suivi étroit'!$A23),"") | E23: =IF($A23<=Paramètre!$B$2,SUMIFS(SMA_Suivi_étroit[Nb usagers],SMA_Suivi_étroit[Source.Name],'Suivi étroit'!E$10,SMA_Suivi_étroit[CA/Sous-CA],'Suivi étroit'!$A$10,SMA_Suivi_étroit[Période financière],'Suivi étroit'!$A23),"") | F23: =IF($A23<=Paramètre!$B$2,SUMIFS(SMA_Suivi_étroit[Nb interv],SMA_Suivi_étroit[Source.Name],'Suivi étroit'!E$10,SMA_Suivi_étroit[CA/Sous-CA],'Suivi étroit'!$A$10,SMA_Suivi_étroit[Période financière],'Suivi étroit'!$A23),"") | G23: =IF($A23<=Paramètre!$B$2,SUMIFS(SMA_Suivi_étroit[Nb usagers],SMA_Suivi_étroit[Source.Name],'Suivi étroit'!G$10,SMA_Suivi_étroit[CA/Sous-CA],'Suivi étroit'!$A$10,SMA_Suivi_étroit[Période financière],'Suivi étroit'!$A23),"") | H23: =IF($A23<=Paramètre!$B$2,SUMIFS(SMA_Suivi_étroit[Nb interv],SMA_Suivi_étroit[Source.Name],'Suivi étroit'!G$10,SMA_Suivi_étroit[CA/Sous-CA],'Suivi étroit'!$A$10,SMA_Suivi_étroit[Période financière],'Suivi étroit'!$A23),"") | I23: =IF($A23<=Paramètre!$B$2,SUMIFS(SMA_Suivi_étroit[Nb usagers],SMA_Suivi_étroit[Source.Name],'Suivi étroit'!I$10,SMA_Suivi_étroit[CA/Sous-CA],'Suivi étroit'!$A$10,SMA_Suivi_étroit[Période financière],'Suivi étroit'!$A23),"") | J23: =IF($A23<=Paramètre!$B$2,SUMIFS(SMA_Suivi_étroit[Nb interv],SMA_Suivi_étroit[Source.Name],'Suivi étroit'!I$10,SMA_Suivi_étroit[CA/Sous-CA],'Suivi étroit'!$A$10,SMA_Suivi_étroit[Période financière],'Suivi étroit'!$A23),"") | K23: =IF($A23<=Paramètre!$B$2,SUMIFS(SMA_Suivi_étroit[Nb usagers],SMA_Suivi_étroit[Source.Name],'Suivi étroit'!K$10,SMA_Suivi_étroit[CA/Sous-CA],'Suivi étroit'!$A$10,SMA_Suivi_étroit[Période financière],'Suivi étroit'!$A23),"") | L23: =IF($A23<=Paramètre!$B$2,SUMIFS(SMA_Suivi_étroit[Nb interv],SMA_Suivi_étroit[Source.Name],'Suivi étroit'!K$10,SMA_Suivi_étroit[CA/Sous-CA],'Suivi étroit'!$A$10,SMA_Suivi_étroit[Période financière],'Suivi étroit'!$A23),"") | M23: =IF($A23<=Paramètre!$B$2,SUMIFS(SMA_Suivi_étroit[Nb usagers],SMA_Suivi_étroit[Source.Name],'Suivi étroit'!M$10,SMA_Suivi_étroit[CA/Sous-CA],'Suivi étroit'!$A$10,SMA_Suivi_étroit[Période financière],'Suivi étroit'!$A23),"") | N23: =IF($A23<=Paramètre!$B$2,SUMIFS(SMA_Suivi_étroit[Nb interv],SMA_Suivi_étroit[Source.Name],'Suivi étroit'!M$10,SMA_Suivi_étroit[CA/Sous-CA],'Suivi étroit'!$A$10,SMA_Suivi_étroit[Période financière],'Suivi étroit'!$A23),"") | O23: =IF($A23<=Paramètre!$B$2,SUMIFS(SMA_Suivi_étroit[Nb usagers],SMA_Suivi_étroit[Source.Name],'Suivi étroit'!O$10,SMA_Suivi_étroit[CA/Sous-CA],'Suivi étroit'!$A$10,SMA_Suivi_étroit[Période financière],'Suivi étroit'!$A23),"") | P23: =IF($A23<=Paramètre!$B$2,SUMIFS(SMA_Suivi_étroit[Nb interv],SMA_Suivi_étroit[Source.Name],'Suivi étroit'!O$10,SMA_Suivi_étroit[CA/Sous-CA],'Suivi étroit'!$A$10,SMA_Suivi_étroit[Période financière],'Suivi étroit'!$A23),"") | Q23: =IF($A23<=Paramètre!$B$2,SUM(C23,E23,G23,I23,K23,M23,O23),"") | R23: =IF($A23<=Paramètre!$B$2,SUM(D23,F23,H23,J23,L23,N23,P23),"")
A24: 13 | B24: Période 13 | C24: =IF($A24<=Paramètre!$B$2,SUMIFS(SMA_Suivi_étroit[Nb usagers],SMA_Suivi_étroit[Source.Name],'Suivi étroit'!C$10,SMA_Suivi_étroit[CA/Sous-CA],'Suivi étroit'!$A$10,SMA_Suivi_étroit[Période financière],'Suivi étroit'!$A24),"") | D24: =IF($A24<=Paramètre!$B$2,SUMIFS(SMA_Suivi_étroit[Nb interv],SMA_Suivi_étroit[Source.Name],'Suivi étroit'!C$10,SMA_Suivi_étroit[CA/Sous-CA],'Suivi étroit'!$A$10,SMA_Suivi_étroit[Période financière],'Suivi étroit'!$A24),"") | E24: =IF($A24<=Paramètre!$B$2,SUMIFS(SMA_Suivi_étroit[Nb usagers],SMA_Suivi_étroit[Source.Name],'Suivi étroit'!E$10,SMA_Suivi_étroit[CA/Sous-CA],'Suivi étroit'!$A$10,SMA_Suivi_étroit[Période financière],'Suivi étroit'!$A24),"") | F24: =IF($A24<=Paramètre!$B$2,SUMIFS(SMA_Suivi_étroit[Nb interv],SMA_Suivi_étroit[Source.Name],'Suivi étroit'!E$10,SMA_Suivi_étroit[CA/Sous-CA],'Suivi étroit'!$A$10,SMA_Suivi_étroit[Période financière],'Suivi étroit'!$A24),"") | G24: =IF($A24<=Paramètre!$B$2,SUMIFS(SMA_Suivi_étroit[Nb usagers],SMA_Suivi_étroit[Source.Name],'Suivi étroit'!G$10,SMA_Suivi_étroit[CA/Sous-CA],'Suivi étroit'!$A$10,SMA_Suivi_étroit[Période financière],'Suivi étroit'!$A24),"") | H24: =IF($A24<=Paramètre!$B$2,SUMIFS(SMA_Suivi_étroit[Nb interv],SMA_Suivi_étroit[Source.Name],'Suivi étroit'!G$10,SMA_Suivi_étroit[CA/Sous-CA],'Suivi étroit'!$A$10,SMA_Suivi_étroit[Période financière],'Suivi étroit'!$A24),"") | I24: =IF($A24<=Paramètre!$B$2,SUMIFS(SMA_Suivi_étroit[Nb usagers],SMA_Suivi_étroit[Source.Name],'Suivi étroit'!I$10,SMA_Suivi_étroit[CA/Sous-CA],'Suivi étroit'!$A$10,SMA_Suivi_étroit[Période financière],'Suivi étroit'!$A24),"") | J24: =IF($A24<=Paramètre!$B$2,SUMIFS(SMA_Suivi_étroit[Nb interv],SMA_Suivi_étroit[Source.Name],'Suivi étroit'!I$10,SMA_Suivi_étroit[CA/Sous-CA],'Suivi étroit'!$A$10,SMA_Suivi_étroit[Période financière],'Suivi étroit'!$A24),"") | K24: =IF($A24<=Paramètre!$B$2,SUMIFS(SMA_Suivi_étroit[Nb usagers],SMA_Suivi_étroit[Source.Name],'Suivi étroit'!K$10,SMA_Suivi_étroit[CA/Sous-CA],'Suivi étroit'!$A$10,SMA_Suivi_étroit[Période financière],'Suivi étroit'!$A24),"") | L24: =IF($A24<=Paramètre!$B$2,SUMIFS(SMA_Suivi_étroit[Nb interv],SMA_Suivi_étroit[Source.Name],'Suivi étroit'!K$10,SMA_Suivi_étroit[CA/Sous-CA],'Suivi étroit'!$A$10,SMA_Suivi_étroit[Période financière],'Suivi étroit'!$A24),"") | M24: =IF($A24<=Paramètre!$B$2,SUMIFS(SMA_Suivi_étroit[Nb usagers],SMA_Suivi_étroit[Source.Name],'Suivi étroit'!M$10,SMA_Suivi_étroit[CA/Sous-CA],'Suivi étroit'!$A$10,SMA_Suivi_étroit[Période financière],'Suivi étroit'!$A24),"") | N24: =IF($A24<=Paramètre!$B$2,SUMIFS(SMA_Suivi_étroit[Nb interv],SMA_Suivi_étroit[Source.Name],'Suivi étroit'!M$10,SMA_Suivi_étroit[CA/Sous-CA],'Suivi étroit'!$A$10,SMA_Suivi_étroit[Période financière],'Suivi étroit'!$A24),"") | O24: =IF($A24<=Paramètre!$B$2,SUMIFS(SMA_Suivi_étroit[Nb usagers],SMA_Suivi_étroit[Source.Name],'Suivi étroit'!O$10,SMA_Suivi_étroit[CA/Sous-CA],'Suivi étroit'!$A$10,SMA_Suivi_étroit[Période financière],'Suivi étroit'!$A24),"") | P24: =IF($A24<=Paramètre!$B$2,SUMIFS(SMA_Suivi_étroit[Nb interv],SMA_Suivi_étroit[Source.Name],'Suivi étroit'!O$10,SMA_Suivi_étroit[CA/Sous-CA],'Suivi étroit'!$A$10,SMA_Suivi_étroit[Période financière],'Suivi étroit'!$A24),"") | Q24: =IF($A24<=Paramètre!$B$2,SUM(C24,E24,G24,I24,K24,M24,O24),"") | R24: =IF($A24<=Paramètre!$B$2,SUM(D24,F24,H24,J24,L24,N24,P24),"")
B25: Cumulatif | C25: =SUMIFS(SMA_Suivi_étroit[Nb distinct usagers / SCA],SMA_Suivi_étroit[Sous-centre activités code],$A10,SMA_Suivi_étroit[Source.Name],C$27) -> 0 | D25: =SUM(D12:D24) -> 0 | E25: =SUMIFS(SMA_Suivi_étroit[Nb distinct usagers / SCA],SMA_Suivi_étroit[Sous-centre activités code],$A10,SMA_Suivi_étroit[Source.Name],E$27) -> 0 | F25: =SUM(F12:F24) -> 0 | G25: =SUMIFS(SMA_Suivi_étroit[Nb distinct usagers / SCA],SMA_Suivi_étroit[Sous-centre activités code],$A10,SMA_Suivi_étroit[Source.Name],G$27) -> 0 | H25: =SUM(H12:H24) -> 0 | I25: =SUMIFS(SMA_Suivi_étroit[Nb distinct usagers / SCA],SMA_Suivi_étroit[Sous-centre activités code],$A10,SMA_Suivi_étroit[Source.Name],I$27) -> 0 | J25: =SUM(J12:J24) -> 0 | K25: =SUMIFS(SMA_Suivi_étroit[Nb distinct usagers / SCA],SMA_Suivi_étroit[Sous-centre activités code],$A10,SMA_Suivi_étroit[Source.Name],K$27) -> 0 | L25: =SUM(L12:L24) -> 0 | M25: =SUMIFS(SMA_Suivi_étroit[Nb distinct usagers / SCA],SMA_Suivi_étroit[Sous-centre activités code],$A10,SMA_Suivi_étroit[Source.Name],M$27) -> 0 | N25: =SUM(N12:N24) -> 0 | O25: =SUMIFS(SMA_Suivi_étroit[Nb distinct usagers / SCA],SMA_Suivi_étroit[Sous-centre activités code],$A10,SMA_Suivi_étroit[Source.Name],O$27) -> 0 | P25: =SUM(P12:P24) -> 0 | Q25: =SUM(C25,E25,G25,I25,K25,M25,O25) -> 0 | R25: =SUM(R12:R24) -> 0
A27: 5932 | B27: Mécanisme d'accès SMA | C27: AL | E27: ARG | G27: SOM | I27: LDDM | K27: PDH | M27: STJ | O27: TDB | Q27: CISSS
C28: Us diff. | D28: Interv. | E28: Us diff. | F28: Interv. | G28: Us diff. | H28: Interv. | I28: Us diff. | J28: Interv. | K28: Us diff. | L28: Interv. | M28: Us diff. | N28: Interv. | O28: Us diff. | P28: Interv. | Q28: Us diff. | R28: Interv.
A29: 1 | B29: Période 1 | C29: =IF($A29<=Paramètre!$B$2,SUMIFS(SMA_Suivi_étroit[Nb usagers],SMA_Suivi_étroit[Source.Name],'Suivi étroit'!C$10,SMA_Suivi_étroit[CA/Sous-CA],'Suivi étroit'!$A$27,SMA_Suivi_étroit[Période financière],'Suivi étroit'!$A29),"") -> 0 | D29: =IF($A29<=Paramètre!$B$2,SUMIFS(SMA_Suivi_étroit[Nb distinct usagers / SCA],SMA_Suivi_étroit[Source.Name],'Suivi étroit'!C$10,SMA_Suivi_étroit[CA/Sous-CA],'Suivi étroit'!$A$27,SMA_Suivi_étroit[Période financière],'Suivi étroit'!$A29),"") -> 0 | E29: =IF($A29<=Paramètre!$B$2,SUMIFS(SMA_Suivi_étroit[Nb usagers],SMA_Suivi_étroit[Source.Name],'Suivi étroit'!E$10,SMA_Suivi_étroit[CA/Sous-CA],'Suivi étroit'!$A$27,SMA_Suivi_étroit[Période financière],'Suivi étroit'!$A29),"") -> 0 | F29: =IF($A29<=Paramètre!$B$2,SUMIFS(SMA_Suivi_étroit[Nb distinct usagers / SCA],SMA_Suivi_étroit[Source.Name],'Suivi étroit'!E$10,SMA_Suivi_étroit[CA/Sous-CA],'Suivi étroit'!$A$27,SMA_Suivi_étroit[Période financière],'Suivi étroit'!$A29),"") -> 0 | G29: =IF($A29<=Paramètre!$B$2,SUMIFS(SMA_Suivi_étroit[Nb usagers],SMA_Suivi_étroit[Source.Name],'Suivi étroit'!G$10,SMA_Suivi_étroit[CA/Sous-CA],'Suivi étroit'!$A$27,SMA_Suivi_étroit[Période financière],'Suivi étroit'!$A29),"") -> 0 | H29: =IF($A29<=Paramètre!$B$2,SUMIFS(SMA_Suivi_étroit[Nb distinct usagers / SCA],SMA_Suivi_étroit[Source.Name],'Suivi étroit'!G$10,SMA_Suivi_étroit[CA/Sous-CA],'Suivi étroit'!$A$27,SMA_Suivi_étroit[Période financière],'Suivi étroit'!$A29),"") -> 0 | I29: =IF($A29<=Paramètre!$B$2,SUMIFS(SMA_Suivi_étroit[Nb usagers],SMA_Suivi_étroit[Source.Name],'Suivi étroit'!I$10,SMA_Suivi_étroit[CA/Sous-CA],'Suivi étroit'!$A$27,SMA_Suivi_étroit[Période financière],'Suivi étroit'!$A29),"") -> 0 | J29: =IF($A29<=Paramètre!$B$2,SUMIFS(SMA_Suivi_étroit[Nb distinct usagers / SCA],SMA_Suivi_étroit[Source.Name],'Suivi étroit'!I$10,SMA_Suivi_étroit[CA/Sous-CA],'Suivi étroit'!$A$27,SMA_Suivi_étroit[Période financière],'Suivi étroit'!$A29),"") -> 0 | K29: =IF($A29<=Paramètre!$B$2,SUMIFS(SMA_Suivi_étroit[Nb usagers],SMA_Suivi_étroit[Source.Name],'Suivi étroit'!K$10,SMA_Suivi_étroit[CA/Sous-CA],'Suivi étroit'!$A$27,SMA_Suivi_étroit[Période financière],'Suivi étroit'!$A29),"") -> 0 | L29: =IF($A29<=Paramètre!$B$2,SUMIFS(SMA_Suivi_étroit[Nb distinct usagers / SCA],SMA_Suivi_étroit[Source.Name],'Suivi étroit'!K$10,SMA_Suivi_étroit[CA/Sous-CA],'Suivi étroit'!$A$27,SMA_Suivi_étroit[Période financière],'Suivi étroit'!$A29),"") -> 0 | M29: =IF($A29<=Paramètre!$B$2,SUMIFS(SMA_Suivi_étroit[Nb usagers],SMA_Suivi_étroit[Source.Name],'Suivi étroit'!M$10,SMA_Suivi_étroit[CA/Sous-CA],'Suivi étroit'!$A$27,SMA_Suivi_étroit[Période financière],'Suivi étroit'!$A29),"") -> 0 | N29: =IF($A29<=Paramètre!$B$2,SUMIFS(SMA_Suivi_étroit[Nb distinct usagers / SCA],SMA_Suivi_étroit[Source.Name],'Suivi étroit'!M$10,SMA_Suivi_étroit[CA/Sous-CA],'Suivi étroit'!$A$27,SMA_Suivi_étroit[Période financière],'Suivi étroit'!$A29),"") -> 0 | O29: =IF($A29<=Paramètre!$B$2,SUMIFS(SMA_Suivi_étroit[Nb usagers],SMA_Suivi_étroit[Source.Name],'Suivi étroit'!O$10,SMA_Suivi_étroit[CA/Sous-CA],'Suivi étroit'!$A$27,SMA_Suivi_étroit[Période financière],'Suivi étroit'!$A29),"") -> 0 | P29: =IF($A29<=Paramètre!$B$2,SUMIFS(SMA_Suivi_étroit[Nb distinct usagers / SCA],SMA_Suivi_étroit[Source.Name],'Suivi étroit'!O$10,SMA_Suivi_étroit[CA/Sous-CA],'Suivi étroit'!$A$27,SMA_Suivi_étroit[Période financière],'Suivi étroit'!$A29),"") -> 0 | Q29: =IF($A29<=Paramètre!$B$2,SUM(C29,E29,G29,I29,K29,M29,O29),"") -> 0 | R29: =IF($A29<=Paramètre!$B$2,SUM(D29,F29,H29,J29,L29,N29,P29),"") -> 0
