Workbook
Name Cost_Investment: IFERROR(OFFSET(calculationstable[[#Headers],[Cost of Investment]],1,0,COUNT(calculationstable[[#All],[Cost of Investment]]),1),"")
Name Current_Value: IFERROR(OFFSET(calculationstable[[#Headers],[Current Value]],1,0,COUNT(calculationstable[[#All],[Current Value]]),1),"")
Name No_sales: IFERROR(OFFSET(calculationstable[[#Headers],[No of Sales]],1,0,COUNT(calculationstable[[#All],[No of Sales]]),1),"")
Name return_inv: IFERROR(OFFSET(calculationstable[[#Headers],[ROI]],1,0,COUNT(calculationstable[ROI])),"")
Name ticker_range: IFERROR(OFFSET(calculationstable[[#Headers],[ticker]],1,0,COUNTA(calculationstable[[#All],[ticker]])-1,1),"")

Sheet Transaction Entry
E1: Capital ($USD) Invested | F1: 78276 | G1: $CAD Invested | H1: 98315 | I1: Capital ($USD) Withdrawn | L1: Other Income
E4: Actions | F4: Extra coins list | G4: Exit strategy | H4: Dashboard
B6: Purcahses | I6: Sales
B7: Purchase date | C7: Coin | D7: No. of coins | E7: Total Cost $ | F7: $ per coin | I7: Sales Date | J7: Coin | K7: Sell Point | L7: No. of coins | M7: Total Income | N7: $ per coin | O7: cost | P7: Profit
B8: 44612 | C8: AAVE | D8: 2.83 | E8: 807 | F8: =IFERROR(Purchases[[#This Row],[Total Cost $]]/Purchases[[#This Row],[No. of coins]],"") -> 285.15901 | I8: 44617 | J8: LUNA | K8: Tokens sold | L8: =IFERROR(INDEX(CO_entry[#All],MATCH(Sales[[#This Row],[Coin]],CO_entry[[#All],[ticker]],0),MATCH(Sales[[#This Row],[Sell Point]],CO_entry[#Headers],0)),"") -> 5.808 | M8: 529.81 | N8: =IFERROR(Sales[[#This Row],[Total Income]]/Sales[[#This Row],[No. of coins]],"") -> 91.22073 | O8: =IFERROR(AVERAGEIF(Purchases[Coin],Sales[[#This Row],[Coin]],Purchases[$ per coin])*Sales[[#This Row],[No. of coins]],"") -> 279 | P8: =IFERROR(Sales[[#This Row],[Total Income]]-Sales[[#This Row],[cost]],"") -> 250.81
B9: 44612 | C9: ADA | D9: 1029.61 | E9: 1867 | F9: =IFERROR(Purchases[[#This Row],[Total Cost $]]/Purchases[[#This Row],[No. of coins]],"") -> 1.813308 | I9: 44621 | J9: CREAM | K9: Tokens sold | L9: 3.56 | M9: 209.2 | N9: =IFERROR(Sales[[#This Row],[Total Income]]/Sales[[#This Row],[No. of coins]],"") -> 58.764045 | O9: =IFERROR(AVERAGEIF(Purchases[Coin],Sales[[#This Row],[Coin]],Purchases[$ per coin])*Sales[[#This Row],[No. of coins]],"") -> 199.43978 | P9: =IFERROR(Sales[[#This Row],[Total Income]]-Sales[[#This Row],[cost]],"") -> 9.7602241
B10: 44612 | C10: ALGO | D10: 199.76 | E10: 340 | F10: =IFERROR(Purchases[[#This Row],[Total Cost $]]/Purchases[[#This Row],[No. of coins]],"") -> 1.7020425 | L10: =IFERROR(INDEX(CO_entry[#All],MATCH(Sales[[#This Row],[Coin]],CO_entry[[#All],[ticker]],0),MATCH(Sales[[#This Row],[Sell Point]],CO_entry[#Headers],0)),"") | N10: =IFERROR(Sales[[#This Row],[Total Income]]/Sales[[#This Row],[No. of coins]],"") | O10: =IFERROR(AVERAGEIF(Purchases[Coin],Sales[[#This Row],[Coin]],Purchases[$ per coin])*Sales[[#This Row],[No. of coins]],"") | P10: =IFERROR(Sales[[#This Row],[Total Income]]-Sales[[#This Row],[cost]],"")
B11: 44612 | C11: ARC | D11: 1688.83 | E11: 330 | F11: =IFERROR(Purchases[[#This Row],[Total Cost $]]/Purchases[[#This Row],[No. of coins]],"") -> 0.19540155 | L11: =IFERROR(INDEX(CO_entry[#All],MATCH(Sales[[#This Row],[Coin]],CO_entry[[#All],[ticker]],0),MATCH(Sales[[#This Row],[Sell Point]],CO_entry[#Headers],0)),"") | N11: =IFERROR(Sales[[#This Row],[Total Income]]/Sales[[#This Row],[No. of coins]],"") | O11: =IFERROR(AVERAGEIF(Purchases[Coin],Sales[[#This Row],[Coin]],Purchases[$ per coin])*Sales[[#This Row],[No. of coins]],"") | P11: =IFERROR(Sales[[#This Row],[Total Income]]-Sales[[#This Row],[cost]],"")
B12: 44612 | C12: ATLAS | D12: 1387.18 | E12: 140 | F12: =IFERROR(Purchases[[#This Row],[Total Cost $]]/Purchases[[#This Row],[No. of coins]],"") -> 0.10092418 | L12: =IFERROR(INDEX(CO_entry[#All],MATCH(Sales[[#This Row],[Coin]],CO_entry[[#All],[ticker]],0),MATCH(Sales[[#This Row],[Sell Point]],CO_entry[#Headers],0)),"") | N12: =IFERROR(Sales[[#This Row],[Total Income]]/Sales[[#This Row],[No. of coins]],"") | O12: =IFERROR(AVERAGEIF(Purchases[Coin],Sales[[#This Row],[Coin]],Purchases[$ per coin])*Sales[[#This Row],[No. of coins]],"") | P12: =IFERROR(Sales[[#This Row],[Total Income]]-Sales[[#This Row],[cost]],"")
B13: 44612 | C13: ATOM | D13: 26.76 | E13: 564 | F13: =IFERROR(Purchases[[#This Row],[Total Cost $]]/Purchases[[#This Row],[No. of coins]],"") -> 21.076233 | L13: =IFERROR(INDEX(CO_entry[#All],MATCH(Sales[[#This Row],[Coin]],CO_entry[[#All],[ticker]],0),MATCH(Sales[[#This Row],[Sell Point]],CO_entry[#Headers],0)),"") | N13: =IFERROR(Sales[[#This Row],[Total Income]]/Sales[[#This Row],[No. of coins]],"") | O13: =IFERROR(AVERAGEIF(Purchases[Coin],Sales[[#This Row],[Coin]],Purchases[$ per coin])*Sales[[#This Row],[No. of coins]],"") | P13: =IFERROR(Sales[[#This Row],[Total Income]]-Sales[[#This Row],[cost]],"")
B14: 44612 | C14: AUCTION | D14: 2.28 | E14: 75 | F14: =IFERROR(Purchases[[#This Row],[Total Cost $]]/Purchases[[#This Row],[No. of coins]],"") -> 32.894737 | L14: =IFERROR(INDEX(CO_entry[#All],MATCH(Sales[[#This Row],[Coin]],CO_entry[[#All],[ticker]],0),MATCH(Sales[[#This Row],[Sell Point]],CO_entry[#Headers],0)),"") | N14: =IFERROR(Sales[[#This Row],[Total Income]]/Sales[[#This Row],[No. of coins]],"") | O14: =IFERROR(AVERAGEIF(Purchases[Coin],Sales[[#This Row],[Coin]],Purchases[$ per coin])*Sales[[#This Row],[No. of coins]],"") | P14: =IFERROR(Sales[[#This Row],[Total Income]]-Sales[[#This Row],[cost]],"")
B15: 44612 | C15: AUST | D15: 7033.39 | E15: 8429 | F15: =IFERROR(Purchases[[#This Row],[Total Cost $]]/Purchases[[#This Row],[No. of coins]],"") -> 1.1984264 | L15: =IFERROR(INDEX(CO_entry[#All],MATCH(Sales[[#This Row],[Coin]],CO_entry[[#All],[ticker]],0),MATCH(Sales[[#This Row],[Sell Point]],CO_entry[#Headers],0)),"") | N15: =IFERROR(Sales[[#This Row],[Total Income]]/Sales[[#This Row],[No. of coins]],"") | O15: =IFERROR(AVERAGEIF(Purchases[Coin],Sales[[#This Row],[Coin]],Purchases[$ per coin])*Sales[[#This Row],[No. of coins]],"") | P15: =IFERROR(Sales[[#This Row],[Total Income]]-Sales[[#This Row],[cost]],"")
B16: 44612 | C16: AVAX | D16: 26.29 | E16: 1982 | F16: =IFERROR(Purchases[[#This Row],[Total Cost $]]/Purchases[[#This Row],[No. of coins]],"") -> 75.389882 | L16: =IFERROR(INDEX(CO_entry[#All],MATCH(Sales[[#This Row],[Coin]],CO_entry[[#All],[ticker]],0),MATCH(Sales[[#This Row],[Sell Point]],CO_entry[#Headers],0)),"") | M16: =Sales[[#This Row],[No. of coins]]*'Sale points'!L37 -> #VALUE! | N16: =IFERROR(Sales[[#This Row],[Total Income]]/Sales[[#This Row],[No. of coins]],"") | O16: =IFERROR(AVERAGEIF(Purchases[Coin],Sales[[#This Row],[Coin]],Purchases[$ per coin])*Sales[[#This Row],[No. of coins]],"") | P16: =IFERROR(Sales[[#This Row],[Total Income]]-Sales[[#This Row],[cost]],"")
B17: 44612 | C17: BNB | D17: 0.89 | E17: 411 | F17: =IFERROR(Purchases[[#This Row],[Total Cost $]]/Purchases[[#This Row],[No. of coins]],"") -> 461.79775 | L17: =IFERROR(INDEX(CO_entry[#All],MATCH(Sales[[#This Row],[Coin]],CO_entry[[#All],[ticker]],0),MATCH(Sales[[#This Row],[Sell Point]],CO_entry[#Headers],0)),"") | N17: =IFERROR(Sales[[#This Row],[Total Income]]/Sales[[#This Row],[No. of coins]],"") | O17: =IFERROR(AVERAGEIF(Purchases[Coin],Sales[[#This Row],[Coin]],Purchases[$ per coin])*Sales[[#This Row],[No. of coins]],"") | P17: =IFERROR(Sales[[#This Row],[Total Income]]-Sales[[#This Row],[cost]],"")
B18: 44612 | C18: BPRO | D18: 45.5 | E18: 331 | F18: =IFERROR(Purchases[[#This Row],[Total Cost $]]/Purchases[[#This Row],[No. of coins]],"") -> 7.2747253 | L18: =IFERROR(INDEX(CO_entry[#All],MATCH(Sales[[#This Row],[Coin]],CO_entry[[#All],[ticker]],0),MATCH(Sales[[#This Row],[Sell Point]],CO_entry[#Headers],0)),"") | N18: =IFERROR(Sales[[#This Row],[Total Income]]/Sales[[#This Row],[No. of coins]],"") | O18: =IFERROR(AVERAGEIF(Purchases[Coin],Sales[[#This Row],[Coin]],Purchases[$ per coin])*Sales[[#This Row],[No. of coins]],"") | P18: =IFERROR(Sales[[#This Row],[Total Income]]-Sales[[#This Row],[cost]],"")
B19: 44612 | C19: BTC | D19: 0.48589446 | E19: 23023 | F19: =IFERROR(Purchases[[#This Row],[Total Cost $]]/Purchases[[#This Row],[No. of coins]],"") -> 47382.718
B20: 44612 | C20: BUND | D20: 9.4 | E20: 300 | F20: =IFERROR(Purchases[[#This Row],[Total Cost $]]/Purchases[[#This Row],[No. of coins]],"") -> 31.914894
B21: 44612 | C21: CAKE | D21: 8.91 | E21: 200 | F21: =IFERROR(Purchases[[#This Row],[Total Cost $]]/Purchases[[#This Row],[No. of coins]],"") -> 22.446689
B22: 44612 | C22: CLIQ | D22: 4220.42 | E22: 101 | F22: =IFERROR(Purchases[[#This Row],[Total Cost $]]/Purchases[[#This Row],[No. of coins]],"") -> 0.023931268
B23: 44612 | C23: CREAM | D23: 3.57 | E23: 200 | F23: =IFERROR(Purchases[[#This Row],[Total Cost $]]/Purchases[[#This Row],[No. of coins]],"") -> 56.022409
B24: 44612 | C24: CRO | D24: 767.09 | E24: 111 | F24: =IFERROR(Purchases[[#This Row],[Total Cost $]]/Purchases[[#This Row],[No. of coins]],"") -> 0.14470271
B25: 44612 | C25: DOT | D25: 64.5977 | E25: 1310 | F25: =IFERROR(Purchases[[#This Row],[Total Cost $]]/Purchases[[#This Row],[No. of coins]],"") -> 20.27936
B26: 44612 | C26: EFI | D26: 49.56 | E26: 80 | F26: =IFERROR(Purchases[[#This Row],[Total Cost $]]/Purchases[[#This Row],[No. of coins]],"") -> 1.614205
B27: 44612 | C27: ENJ | D27: 27.77 | E27: 100 | F27: =IFERROR(Purchases[[#This Row],[Total Cost $]]/Purchases[[#This Row],[No. of coins]],"") -> 3.6010083
B28: 44612 | C28: ENS | D28: 19.1 | E28: 705 | F28: =IFERROR(Purchases[[#This Row],[Total Cost $]]/Purchases[[#This Row],[No. of coins]],"") -> 36.910995
B29: 44612 | C29: ERG | D29: 6.6 | E29: 97 | F29: =IFERROR(Purchases[[#This Row],[Total Cost $]]/Purchases[[#This Row],[No. of coins]],"") -> 14.69697
B30: 44612 | C30: ETH | D30: 6.7643 | E30: 22067 | F30: =IFERROR(Purchases[[#This Row],[Total Cost $]]/Purchases[[#This Row],[No. of coins]],"") -> 3262.274
... B70: 44612 | C70: XAVA | D70: 65.89 | E70: 578 | F70: =IFERROR(Purchases[[#This Row],[Total Cost $]]/Purchases[[#This Row],[No. of coins]],"") -> 8.7721961

Sheet Sale points
A1: Joe's Crypto Tracker & Exit Strategy Sheet | M1: Dashboard | N1: Actions | O1: Enter Transactions | Q1: Add Extra Coins | R1: Exit Strategy V2
M3: % Taken Out | P3: Total Profit | R3: % Taken Out | U3: Total Profit | W3: % Taken Out | Z3: Total Profit | AB3: % Taken Out | AE3: Total Profit | AG3: % Taken Out | AJ3: Total Profit | AL3: % Taken Out | AO3: Total Profit | AQ3: % Taken Out | AU3: Portfolio Profit | AW3: Total value left
M4: 0.2 | P4: =SUBTOTAL(9,P7:P99) -> 16103.065 | R4: 0.2 | U4: =SUBTOTAL(9,U7:U99) -> 32442.171 | W4: 0.2 | Z4: =SUBTOTAL(9,Z7:Z99) -> 36340.915 | AB4: 0.2 | AE4: =SUBTOTAL(9,AE7:AE99) -> 41514.613 | AG4: 0.25 | AJ4: =SUBTOTAL(9,AJ7:AJ99) -> 58099.999 | AL4: 0.35 | AO4: =SUBTOTAL(9,AO7:AO99) -> 78419.655 | AQ4: 0.5 | AT4: =SUBTOTAL(9,AT7:AT99) -> 89000.084 | AU4: =SUBTOTAL(9,AU7:AU99) -> 351920.5 | AW4: =SUBTOTAL(9,AW7:AW99) -> 97091.001
A6: name | B6: ticker | C6: Initial Holding | D6: average per coin | E6: Acquisition Cost | F6: Current Price | G6: Market Value | H6: Portfolio % | J6: ticker | K6: Current price (Refresh Price sheet) | L6: Selling point 1 | M6: Tokens Sold | N6: Tokens Over | O6: Money Out | P6: Profit | Q6: Selling point 2 | R6: Tokens Sold2 | S6: Tokens Over2 | T6: Money Out2 | U6: Profit2 | V6: Selling point 3 | W6: Tokens Sold3 | X6: Tokens Over3 | Y6: Money Out3 | Z6: Profit3 | AA6: Selling point 4 | AB6: Tokens Sold4 | AC6: Tokens Over4 | AD6: Money Out4 | AE6: Profit4 | AF6: Selling point 5 | AG6: Tokens Sold5 | AH6: Tokens Over5 | AI6: Money Out5 | AJ6: Profit5 | AK6: Selling point 6 | AL6: Tokens Sold6 | AM6: Tokens Over6 | AN6: Money Out6 | AO6: Profit6 | AP6: Selling point 7 | AQ6: Tokens Sold7 | AR6: Tokens Over7 | AS6: Money Out7 | AT6: Profit7 | AU6: Total Profit | AV6: Total Tokens Over | AW6: Value of tokens over
A7: Bitcoin | B7: BTC | C7: 0.48589446 | D7: 47382.718 | E7: 23023 | F7: 41302 | G7: 20068.413 | H7: 0.29314562 | J7: AAVE | K7: =IFERROR(VLOOKUP(J7,price_feed[[symbol]:[current_price]],3,FALSE),"") -> 151.07 | L7: =IFERROR(VLOOKUP(J7,Portfolio_Overview[[#All],[ticker]:[average per coin]],3,FALSE)*2,"") -> 570.318 | M7: =IFERROR(VLOOKUP(J7,Portfolio_Overview[[#All],[ticker]:[average per coin]],2,FALSE)*M$4,"") -> 0.566 | N7: =IFERROR(VLOOKUP(CO_entry[[#This Row],[ticker]],Portfolio_Overview[[#All],[ticker]:[average per coin]],2,FALSE)-CO_entry[[#This Row],[Tokens Sold]],"") -> 2.264 | O7: =IFERROR(CO_entry[[#This Row],[Tokens Sold]]*CO_entry[[#This Row],[Selling point 1]],"") -> 322.79999 | P7: =IFERROR((L7*M7)-(VLOOKUP(J7,Portfolio_Overview[[#All],[ticker]:[average per coin]],3,FALSE)*M7),"") -> 161.39999 | Q7: =IFERROR(VLOOKUP(J7,Portfolio_Overview[[#All],[ticker]:[average per coin]],3,FALSE)*3.5,"") -> 998.0565 | R7: =IFERROR(N7*R$4,"") -> 0.4528 | S7: =IFERROR(N7-R7,"") -> 1.8112 | T7: =IFERROR(CO_entry[[#This Row],[Tokens Sold2]]*CO_entry[[#This Row],[Selling point 2]],"") -> 451.91998 | U7: =IFERROR((Q7*R7)-(VLOOKUP(J7,Portfolio_Overview[[#All],[ticker]:[average per coin]],3,FALSE)*R7),"") -> 322.79999 | V7: =IFERROR(VLOOKUP(J7,Portfolio_Overview[[#All],[ticker]:[average per coin]],3,FALSE)*4.5,"") -> 1283.2155 | W7: =IFERROR(S7*W$4,"") -> 0.36224 | X7: =IFERROR(S7-W7,"") -> 1.44896 | Y7: =IFERROR(CO_entry[[#This Row],[Tokens Sold3]]*CO_entry[[#This Row],[Selling point 3]],"") -> 464.83198 | Z7: =IFERROR((V7*W7)-(VLOOKUP(J7,Portfolio_Overview[[#All],[ticker]:[average per coin]],3,FALSE)*W7),"") -> 361.53599 | AA7: =IFERROR(VLOOKUP(J7,Portfolio_Overview[[#All],[ticker]:[average per coin]],3,FALSE)*6,"") -> 1710.954 | AB7: =IFERROR(X7*AB$4,"") -> 0.289792 | AC7: =IFERROR(X7-AB7,"") -> 1.159168 | AD7: =IFERROR(CO_entry[[#This Row],[Tokens Sold4]]*CO_entry[[#This Row],[Selling point 4]],"") -> 495.82078 | AE7: =IFERROR((AA7*AB7)-(VLOOKUP(J7,Portfolio_Overview[[#All],[ticker]:[average per coin]],3,FALSE)*AB7),"") -> 413.18398 | AF7: =IFERROR(VLOOKUP(J7,Portfolio_Overview[[#All],[ticker]:[average per coin]],3,FALSE)*8,"") -> 2281.272 | AG7: =IFERROR(AC7*AG$4,"") -> 0.289792 | AH7: =IFERROR(AC7-AG7,"") -> 0.869376 | AI7: =IFERROR(CO_entry[[#This Row],[Tokens Sold5]]*CO_entry[[#This Row],[Selling point 5]],"") -> 661.09438 | AJ7: =IFERROR((AF7*AG7)-(VLOOKUP(J7,Portfolio_Overview[[#All],[ticker]:[average per coin]],3,FALSE)*AG7),"") -> 578.45758 | AK7: =IFERROR(VLOOKUP(J7,Portfolio_Overview[[#All],[ticker]:[average per coin]],3,FALSE)*10,"") -> 2851.59 | AL7: =IFERROR(AH7*AL$4,"") -> 0.3042816 | AM7: =IFERROR(AH7-AL7,"") -> 0.5650944 | AN7: =IFERROR(CO_entry[[#This Row],[Tokens Sold6]]*CO_entry[[#This Row],[Selling point 6]],"") -> 867.68637 | AO7: =IFERROR((AK7*AL7)-(VLOOKUP(J7,Portfolio_Overview[[#All],[ticker]:[average per coin]],3,FALSE)*AL7),"") -> 780.91773 | AP7: =IFERROR(VLOOKUP(J7,Portfolio_Overview[[#All],[ticker]:[average per coin]],3,FALSE)*12,"") -> 3421.908 | AQ7: =IFERROR(AM7*AQ$4,"") -> 0.2825472 | AR7: =IFERROR(AM7-AQ7,"") -> 0.2825472 | AS7: =IFERROR(CO_entry[[#This Row],[Tokens Sold7]]*CO_entry[[#This Row],[Selling point 7]],"") -> 966.85052 | AT7: =IFERROR((AP7*AQ7)-(VLOOKUP(J7,Portfolio_Overview[[#All],[ticker]:[average per coin]],3,FALSE)*AQ7),"") -> 886.27965 | AU7: =IFERROR(P7+U7+Z7+AE7+AJ7+AO7+AT7,"") -> 3504.5749 | AV7: =AR7 -> 0.2825472 | AW7: =IFERROR(AV7*AP7,"") -> 966.85052
A8: Ethereum | B8: ETH | C8: 6.7643 | D8: 3262.274 | E8: 22067 | F8: 2858.56 | G8: 19336.157 | H8: 0.28244934 | J8: ADA | K8: =IFERROR(VLOOKUP(J8,price_feed[[symbol]:[current_price]],3,FALSE),"") -> 0.878883 | L8: =IFERROR(VLOOKUP(J8,Portfolio_Overview[[#All],[ticker]:[average per coin]],3,FALSE)*2,"") -> 3.6266 | M8: =IFERROR(VLOOKUP(J8,Portfolio_Overview[[#All],[ticker]:[average per coin]],2,FALSE)*M$4,"") -> 205.922 | N8: =IFERROR(VLOOKUP(CO_entry[[#This Row],[ticker]],Portfolio_Overview[[#All],[ticker]:[average per coin]],2,FALSE)-CO_entry[[#This Row],[Tokens Sold]],"") -> 823.688 | O8: =IFERROR(CO_entry[[#This Row],[Tokens Sold]]*CO_entry[[#This Row],[Selling point 1]],"") -> 746.79673 | P8: =IFERROR((L8*M8)-(VLOOKUP(J8,Portfolio_Overview[[#All],[ticker]:[average per coin]],3,FALSE)*M8),"") -> 373.39836 | Q8: =IFERROR(VLOOKUP(J8,Portfolio_Overview[[#All],[ticker]:[average per coin]],3,FALSE)*3.5,"") -> 6.34655 | R8: =IFERROR(N8*R$4,"") -> 164.7376 | S8: =IFERROR(N8-R8,"") -> 658.9504 | T8: =IFERROR(CO_entry[[#This Row],[Tokens Sold2]]*CO_entry[[#This Row],[Selling point 2]],"") -> 1045.5154 | U8: =IFERROR((Q8*R8)-(VLOOKUP(J8,Portfolio_Overview[[#All],[ticker]:[average per coin]],3,FALSE)*R8),"") -> 746.79673 | V8: =IFERROR(VLOOKUP(J8,Portfolio_Overview[[#All],[ticker]:[average per coin]],3,FALSE)*4.5,"") -> 8.15985 | W8: =IFERROR(S8*W$4,"") -> 131.79008 | X8: =IFERROR(S8-W8,"") -> 527.16032 | Y8: =IFERROR(CO_entry[[#This Row],[Tokens Sold3]]*CO_entry[[#This Row],[Selling point 3]],"") -> 1075.3873 | Z8: =IFERROR((V8*W8)-(VLOOKUP(J8,Portfolio_Overview[[#All],[ticker]:[average per coin]],3,FALSE)*W8),"") -> 836.41233 | AA8: =IFERROR(VLOOKUP(J8,Portfolio_Overview[[#All],[ticker]:[average per coin]],3,FALSE)*6,"") -> 10.8798 | AB8: =IFERROR(X8*AB$4,"") -> 105.43206 | AC8: =IFERROR(X8-AB8,"") -> 421.72826 | AD8: =IFERROR(CO_entry[[#This Row],[Tokens Sold4]]*CO_entry[[#This Row],[Selling point 4]],"") -> 1147.0798 | AE8: =IFERROR((AA8*AB8)-(VLOOKUP(J8,Portfolio_Overview[[#All],[ticker]:[average per coin]],3,FALSE)*AB8),"") -> 955.89981 | AF8: =IFERROR(VLOOKUP(J8,Portfolio_Overview[[#All],[ticker]:[average per coin]],3,FALSE)*8,"") -> 14.5064 | AG8: =IFERROR(AC8*AG$4,"") -> 105.43206 | AH8: =IFERROR(AC8-AG8,"") -> 316.29619 | AI8: =IFERROR(CO_entry[[#This Row],[Tokens Sold5]]*CO_entry[[#This Row],[Selling point 5]],"") -> 1529.4397 | AJ8: =IFERROR((AF8*AG8)-(VLOOKUP(J8,Portfolio_Overview[[#All],[ticker]:[average per coin]],3,FALSE)*AG8),"") -> 1338.2597 | AK8: =IFERROR(VLOOKUP(J8,Portfolio_Overview[[#All],[ticker]:[average per coin]],3,FALSE)*10,"") -> 18.133 | AL8: =IFERROR(AH8*AL$4,"") -> 110.70367 | AM8: =IFERROR(AH8-AL8,"") -> 205.59252 | AN8: =IFERROR(CO_entry[[#This Row],[Tokens Sold6]]*CO_entry[[#This Row],[Selling point 6]],"") -> 2007.3896 | AO8: =IFERROR((AK8*AL8)-(VLOOKUP(J8,Portfolio_Overview[[#All],[ticker]:[average per coin]],3,FALSE)*AL8),"") -> 1806.6506 | AP8: =IFERROR(VLOOKUP(J8,Portfolio_Overview[[#All],[ticker]:[average per coin]],3,FALSE)*12,"") -> 21.7596 | AQ8: =IFERROR(AM8*AQ$4,"") -> 102.79626 | AR8: =IFERROR(AM8-AQ8,"") -> 102.79626 | AS8: =IFERROR(CO_entry[[#This Row],[Tokens Sold7]]*CO_entry[[#This Row],[Selling point 7]],"") -> 2236.8056 | AT8: =IFERROR((AP8*AQ8)-(VLOOKUP(J8,Portfolio_Overview[[#All],[ticker]:[average per coin]],3,FALSE)*AQ8),"") -> 2050.4051 | AU8: =IFERROR(P8+U8+Z8+AE8+AJ8+AO8+AT8,"") -> 8107.8227 | AV8: =AR8 -> 102.79626 | AW8: =IFERROR(AV8*AP8,"") -> 2236.8056
A9: AnchorUST | B9: AUST | C9: 7033.39 | D9: 1.1984 | E9: 8428.8146 | F9: 1.22 | G9: 8580.7358 | H9: 0.12534151 | J9: ALGO | K9: =IFERROR(VLOOKUP(J9,price_feed[[symbol]:[current_price]],3,FALSE),"") -> 0.738475 | L9: =IFERROR(VLOOKUP(J9,Portfolio_Overview[[#All],[ticker]:[average per coin]],3,FALSE)*2,"") -> 3.404 | M9: =IFERROR(VLOOKUP(J9,Portfolio_Overview[[#All],[ticker]:[average per coin]],2,FALSE)*M$4,"") -> 39.952 | N9: =IFERROR(VLOOKUP(CO_entry[[#This Row],[ticker]],Portfolio_Overview[[#All],[ticker]:[average per coin]],2,FALSE)-CO_entry[[#This Row],[Tokens Sold]],"") -> 159.808 | O9: =IFERROR(CO_entry[[#This Row],[Tokens Sold]]*CO_entry[[#This Row],[Selling point 1]],"") -> 135.99661 | P9: =IFERROR((L9*M9)-(VLOOKUP(J9,Portfolio_Overview[[#All],[ticker]:[average per coin]],3,FALSE)*M9),"") -> 67.998304 | Q9: =IFERROR(VLOOKUP(J9,Portfolio_Overview[[#All],[ticker]:[average per coin]],3,FALSE)*3.5,"") -> 5.957 | R9: =IFERROR(N9*R$4,"") -> 31.9616 | S9: =IFERROR(N9-R9,"") -> 127.8464 | T9: =IFERROR(CO_entry[[#This Row],[Tokens Sold2]]*CO_entry[[#This Row],[Selling point 2]],"") -> 190.39525 | U9: =IFERROR((Q9*R9)-(VLOOKUP(J9,Portfolio_Overview[[#All],[ticker]:[average per coin]],3,FALSE)*R9),"") -> 135.99661 | V9: =IFERROR(VLOOKUP(J9,Portfolio_Overview[[#All],[ticker]:[average per coin]],3,FALSE)*4.5,"") -> 7.659 | W9: =IFERROR(S9*W$4,"") -> 25.56928 | X9: =IFERROR(S9-W9,"") -> 102.27712 | Y9: =IFERROR(CO_entry[[#This Row],[Tokens Sold3]]*CO_entry[[#This Row],[Selling point 3]],"") -> 195.83512 | Z9: =IFERROR((V9*W9)-(VLOOKUP(J9,Portfolio_Overview[[#All],[ticker]:[average per coin]],3,FALSE)*W9),"") -> 152.3162 | AA9: =IFERROR(VLOOKUP(J9,Portfolio_Overview[[#All],[ticker]:[average per coin]],3,FALSE)*6,"") -> 10.212 | AB9: =IFERROR(X9*AB$4,"") -> 20.455424 | AC9: =IFERROR(X9-AB9,"") -> 81.821696 | AD9: =IFERROR(CO_entry[[#This Row],[Tokens Sold4]]*CO_entry[[#This Row],[Selling point 4]],"") -> 208.89079 | AE9: =IFERROR((AA9*AB9)-(VLOOKUP(J9,Portfolio_Overview[[#All],[ticker]:[average per coin]],3,FALSE)*AB9),"") -> 174.07566 | AF9: =IFERROR(VLOOKUP(J9,Portfolio_Overview[[#All],[ticker]:[average per coin]],3,FALSE)*8,"") -> 13.616 | AG9: =IFERROR(AC9*AG$4,"") -> 20.455424 | AH9: =IFERROR(AC9-AG9,"") -> 61.366272 | AI9: =IFERROR(CO_entry[[#This Row],[Tokens Sold5]]*CO_entry[[#This Row],[Selling point 5]],"") -> 278.52105 | AJ9: =IFERROR((AF9*AG9)-(VLOOKUP(J9,Portfolio_Overview[[#All],[ticker]:[average per coin]],3,FALSE)*AG9),"") -> 243.70592 | AK9: =IFERROR(VLOOKUP(J9,Portfolio_Overview[[#All],[ticker]:[average per coin]],3,FALSE)*10,"") -> 17.02 | AL9: =IFERROR(AH9*AL$4,"") -> 21.478195 | AM9: =IFERROR(AH9-AL9,"") -> 39.888077 | AN9: =IFERROR(CO_entry[[#This Row],[Tokens Sold6]]*CO_entry[[#This Row],[Selling point 6]],"") -> 365.55888 | AO9: =IFERROR((AK9*AL9)-(VLOOKUP(J9,Portfolio_Overview[[#All],[ticker]:[average per coin]],3,FALSE)*AL9),"") -> 329.00299 | AP9: =IFERROR(VLOOKUP(J9,Portfolio_Overview[[#All],[ticker]:[average per coin]],3,FALSE)*12,"") -> 20.424 | AQ9: =IFERROR(AM9*AQ$4,"") -> 19.944038 | AR9: =IFERROR(AM9-AQ9,"") -> 19.944038 | AS9: =IFERROR(CO_entry[[#This Row],[Tokens Sold7]]*CO_entry[[#This Row],[Selling point 7]],"") -> 407.33704 | AT9: =IFERROR((AP9*AQ9)-(VLOOKUP(J9,Portfolio_Overview[[#All],[ticker]:[average per coin]],3,FALSE)*AQ9),"") -> 373.39229 | AU9: =IFERROR(P9+U9+Z9+AE9+AJ9+AO9+AT9,"") -> 1476.488 | AV9: =AR9 -> 19.944038 | AW9: =IFERROR(AV9*AP9,"") -> 407.33704
A10: Solana | B10: SOL | C10: 49 | D10: 117.1459 | E10: 5740.1491 | F10: 88.33 | G10: 4328.17 | H10: 0.063222941 | J10: ARC | K10: =IFERROR(VLOOKUP(J10,price_feed[[symbol]:[current_price]],3,FALSE),"") -> 0.04254171 | L10: =IFERROR(VLOOKUP(J10,Portfolio_Overview[[#All],[ticker]:[average per coin]],3,FALSE)*2,"") -> 0.3908 | M10: =IFERROR(VLOOKUP(J10,Portfolio_Overview[[#All],[ticker]:[average per coin]],2,FALSE)*M$4,"") -> 337.766 | N10: =IFERROR(VLOOKUP(CO_entry[[#This Row],[ticker]],Portfolio_Overview[[#All],[ticker]:[average per coin]],2,FALSE)-CO_entry[[#This Row],[Tokens Sold]],"") -> 1351.064 | O10: =IFERROR(CO_entry[[#This Row],[Tokens Sold]]*CO_entry[[#This Row],[Selling point 1]],"") -> 131.99895 | P10: =IFERROR((L10*M10)-(VLOOKUP(J10,Portfolio_Overview[[#All],[ticker]:[average per coin]],3,FALSE)*M10),"") -> 65.999476 | Q10: =IFERROR(VLOOKUP(J10,Portfolio_Overview[[#All],[ticker]:[average per coin]],3,FALSE)*3.5,"") -> 0.6839 | R10: =IFERROR(N10*R$4,"") -> 270.2128 | S10: =IFERROR(N10-R10,"") -> 1080.8512 | T10: =IFERROR(CO_entry[[#This Row],[Tokens Sold2]]*CO_entry[[#This Row],[Selling point 2]],"") -> 184.79853 | U10: =IFERROR((Q10*R10)-(VLOOKUP(J10,Portfolio_Overview[[#All],[ticker]:[average per coin]],3,FALSE)*R10),"") -> 131.99895 | V10: =IFERROR(VLOOKUP(J10,Portfolio_Overview[[#All],[ticker]:[average per coin]],3,FALSE)*4.5,"") -> 0.8793 | W10: =IFERROR(S10*W$4,"") -> 216.17024 | X10: =IFERROR(S10-W10,"") -> 864.68096 | Y10: =IFERROR(CO_entry[[#This Row],[Tokens Sold3]]*CO_entry[[#This Row],[Selling point 3]],"") -> 190.07849 | Z10: =IFERROR((V10*W10)-(VLOOKUP(J10,Portfolio_Overview[[#All],[ticker]:[average per coin]],3,FALSE)*W10),"") -> 147.83883 | AA10: =IFERROR(VLOOKUP(J10,Portfolio_Overview[[#All],[ticker]:[average per coin]],3,FALSE)*6,"") -> 1.1724 | AB10: =IFERROR(X10*AB$4,"") -> 172.93619 | AC10: =IFERROR(X10-AB10,"") -> 691.74477 | AD10: =IFERROR(CO_entry[[#This Row],[Tokens Sold4]]*CO_entry[[#This Row],[Selling point 4]],"") -> 202.75039 | AE10: =IFERROR((AA10*AB10)-(VLOOKUP(J10,Portfolio_Overview[[#All],[ticker]:[average per coin]],3,FALSE)*AB10),"") -> 168.95866 | AF10: =IFERROR(VLOOKUP(J10,Portfolio_Overview[[#All],[ticker]:[average per coin]],3,FALSE)*8,"") -> 1.5632 | AG10: =IFERROR(AC10*AG$4,"") -> 172.93619 | AH10: =IFERROR(AC10-AG10,"") -> 518.80858 | AI10: =IFERROR(CO_entry[[#This Row],[Tokens Sold5]]*CO_entry[[#This Row],[Selling point 5]],"") -> 270.33386 | AJ10: =IFERROR((AF10*AG10)-(VLOOKUP(J10,Portfolio_Overview[[#All],[ticker]:[average per coin]],3,FALSE)*AG10),"") -> 236.54212 | AK10: =IFERROR(VLOOKUP(J10,Portfolio_Overview[[#All],[ticker]:[average per coin]],3,FALSE)*10,"") -> 1.954 | AL10: =IFERROR(AH10*AL$4,"") -> 181.583 | AM10: =IFERROR(AH10-AL10,"") -> 337.22557 | AN10: =IFERROR(CO_entry[[#This Row],[Tokens Sold6]]*CO_entry[[#This Row],[Selling point 6]],"") -> 354.81319 | AO10: =IFERROR((AK10*AL10)-(VLOOKUP(J10,Portfolio_Overview[[#All],[ticker]:[average per coin]],3,FALSE)*AL10),"") -> 319.33187 | AP10: =IFERROR(VLOOKUP(J10,Portfolio_Overview[[#All],[ticker]:[average per coin]],3,FALSE)*12,"") -> 2.3448 | AQ10: =IFERROR(AM10*AQ$4,"") -> 168.61279 | AR10: =IFERROR(AM10-AQ10,"") -> 168.61279 | AS10: =IFERROR(CO_entry[[#This Row],[Tokens Sold7]]*CO_entry[[#This Row],[Selling point 7]],"") -> 395.36326 | AT10: =IFERROR((AP10*AQ10)-(VLOOKUP(J10,Portfolio_Overview[[#All],[ticker]:[average per coin]],3,FALSE)*AQ10),"") -> 362.41632 | AU10: =IFERROR(P10+U10+Z10+AE10+AJ10+AO10+AT10,"") -> 1433.0862 | AV10: =AR10 -> 168.61279 | AW10: =IFERROR(AV10*AP10,"") -> 395.36326
A11: Terra | B11: LUNA | C11: 29.04 | D11: 48.0372 | E11: 1395.0003 | F11: 90.78 | G11: 2636.2512 | H11: 0.038508551 | J11: ATLAS | K11: =IFERROR(VLOOKUP(J11,price_feed[[symbol]:[current_price]],3,FALSE),"") -> 0.02542778 | L11: =IFERROR(VLOOKUP(J11,Portfolio_Overview[[#All],[ticker]:[average per coin]],3,FALSE)*2,"") -> 0.2018 | M11: =IFERROR(VLOOKUP(J11,Portfolio_Overview[[#All],[ticker]:[average per coin]],2,FALSE)*M$4,"") -> 277.436 | N11: =IFERROR(VLOOKUP(CO_entry[[#This Row],[ticker]],Portfolio_Overview[[#All],[ticker]:[average per coin]],2,FALSE)-CO_entry[[#This Row],[Tokens Sold]],"") -> 1109.744 | O11: =IFERROR(CO_entry[[#This Row],[Tokens Sold]]*CO_entry[[#This Row],[Selling point 1]],"") -> 55.986585 | P11: =IFERROR((L11*M11)-(VLOOKUP(J11,Portfolio_Overview[[#All],[ticker]:[average per coin]],3,FALSE)*M11),"") -> 27.993292 | Q11: =IFERROR(VLOOKUP(J11,Portfolio_Overview[[#All],[ticker]:[average per coin]],3,FALSE)*3.5,"") -> 0.35315 | R11: =IFERROR(N11*R$4,"") -> 221.9488 | S11: =IFERROR(N11-R11,"") -> 887.7952 | T11: =IFERROR(CO_entry[[#This Row],[Tokens Sold2]]*CO_entry[[#This Row],[Selling point 2]],"") -> 78.381219 | U11: =IFERROR((Q11*R11)-(VLOOKUP(J11,Portfolio_Overview[[#All],[ticker]:[average per coin]],3,FALSE)*R11),"") -> 55.986585 | V11: =IFERROR(VLOOKUP(J11,Portfolio_Overview[[#All],[ticker]:[average per coin]],3,FALSE)*4.5,"") -> 0.45405 | W11: =IFERROR(S11*W$4,"") -> 177.55904 | X11: =IFERROR(S11-W11,"") -> 710.23616 | Y11: =IFERROR(CO_entry[[#This Row],[Tokens Sold3]]*CO_entry[[#This Row],[Selling point 3]],"") -> 80.620682 | Z11: =IFERROR((V11*W11)-(VLOOKUP(J11,Portfolio_Overview[[#All],[ticker]:[average per coin]],3,FALSE)*W11),"") -> 62.704975 | AA11: =IFERROR(VLOOKUP(J11,Portfolio_Overview[[#All],[ticker]:[average per coin]],3,FALSE)*6,"") -> 0.6054 | AB11: =IFERROR(X11*AB$4,"") -> 142.04723 | AC11: =IFERROR(X11-AB11,"") -> 568.18893 | AD11: =IFERROR(CO_entry[[#This Row],[Tokens Sold4]]*CO_entry[[#This Row],[Selling point 4]],"") -> 85.995394 | AE11: =IFERROR((AA11*AB11)-(VLOOKUP(J11,Portfolio_Overview[[#All],[ticker]:[average per coin]],3,FALSE)*AB11),"") -> 71.662829 | AF11: =IFERROR(VLOOKUP(J11,Portfolio_Overview[[#All],[ticker]:[average per coin]],3,FALSE)*8,"") -> 0.8072 | AG11: =IFERROR(AC11*AG$4,"") -> 142.04723 | AH11: =IFERROR(AC11-AG11,"") -> 426.1417 | AI11: =IFERROR(CO_entry[[#This Row],[Tokens Sold5]]*CO_entry[[#This Row],[Selling point 5]],"") -> 114.66053 | AJ11: =IFERROR((AF11*AG11)-(VLOOKUP(J11,Portfolio_Overview[[#All],[ticker]:[average per coin]],3,FALSE)*AG11),"") -> 100.32796 | AK11: =IFERROR(VLOOKUP(J11,Portfolio_Overview[[#All],[ticker]:[average per coin]],3,FALSE)*10,"") -> 1.009 | AL11: =IFERROR(AH11*AL$4,"") -> 149.14959 | AM11: =IFERROR(AH11-AL11,"") -> 276.9921 | AN11: =IFERROR(CO_entry[[#This Row],[Tokens Sold6]]*CO_entry[[#This Row],[Selling point 6]],"") -> 150.49194 | AO11: =IFERROR((AK11*AL11)-(VLOOKUP(J11,Portfolio_Overview[[#All],[ticker]:[average per coin]],3,FALSE)*AL11),"") -> 135.44275 | AP11: =IFERROR(VLOOKUP(J11,Portfolio_Overview[[#All],[ticker]:[average per coin]],3,FALSE)*12,"") -> 1.2108 | AQ11: =IFERROR(AM11*AQ$4,"") -> 138.49605 | AR11: =IFERROR(AM11-AQ11,"") -> 138.49605 | AS11: =IFERROR(CO_entry[[#This Row],[Tokens Sold7]]*CO_entry[[#This Row],[Selling point 7]],"") -> 167.69102 | AT11: =IFERROR((AP11*AQ11)-(VLOOKUP(J11,Portfolio_Overview[[#All],[ticker]:[average per coin]],3,FALSE)*AQ11),"") -> 153.71677 | AU11: =IFERROR(P11+U11+Z11+AE11+AJ11+AO11+AT11,"") -> 607.83515 | AV11: =AR11 -> 138.49605 | AW11: =IFERROR(AV11*AP11,"") -> 167.69102
A12: Avalanche | B12: AVAX | C12: 26.29 | D12: 75.3899 | E12: 1982.0005 | F12: 84.12 | G12: 2211.5148 | H12: 0.032304293 | J12: ATOM | K12: =IFERROR(VLOOKUP(J12,price_feed[[symbol]:[current_price]],3,FALSE),"") -> 27.81 | L12: =IFERROR(VLOOKUP(J12,Portfolio_Overview[[#All],[ticker]:[average per coin]],3,FALSE)*2,"") -> 42.1524 | M12: =IFERROR(VLOOKUP(J12,Portfolio_Overview[[#All],[ticker]:[average per coin]],2,FALSE)*M$4,"") -> 5.352 | N12: =IFERROR(VLOOKUP(CO_entry[[#This Row],[ticker]],Portfolio_Overview[[#All],[ticker]:[average per coin]],2,FALSE)-CO_entry[[#This Row],[Tokens Sold]],"") -> 21.408 | O12: =IFERROR(CO_entry[[#This Row],[Tokens Sold]]*CO_entry[[#This Row],[Selling point 1]],"") -> 225.59964 | P12: =IFERROR((L12*M12)-(VLOOKUP(J12,Portfolio_Overview[[#All],[ticker]:[average per coin]],3,FALSE)*M12),"") -> 112.79982 | Q12: =IFERROR(VLOOKUP(J12,Portfolio_Overview[[#All],[ticker]:[average per coin]],3,FALSE)*3.5,"") -> 73.7667 | R12: =IFERROR(N12*R$4,"") -> 4.2816 | S12: =IFERROR(N12-R12,"") -> 17.1264 | T12: =IFERROR(CO_entry[[#This Row],[Tokens Sold2]]*CO_entry[[#This Row],[Selling point 2]],"") -> 315.8395 | U12: =IFERROR((Q12*R12)-(VLOOKUP(J12,Portfolio_Overview[[#All],[ticker]:[average per coin]],3,FALSE)*R12),"") -> 225.59964 | V12: =IFERROR(VLOOKUP(J12,Portfolio_Overview[[#All],[ticker]:[average per coin]],3,FALSE)*4.5,"") -> 94.8429 | W12: =IFERROR(S12*W$4,"") -> 3.42528 | X12: =IFERROR(S12-W12,"") -> 13.70112 | Y12: =IFERROR(CO_entry[[#This Row],[Tokens Sold3]]*CO_entry[[#This Row],[Selling point 3]],"") -> 324.86349 | Z12: =IFERROR((V12*W12)-(VLOOKUP(J12,Portfolio_Overview[[#All],[ticker]:[average per coin]],3,FALSE)*W12),"") -> 252.6716 | AA12: =IFERROR(VLOOKUP(J12,Portfolio_Overview[[#All],[ticker]:[average per coin]],3,FALSE)*6,"") -> 126.4572 | AB12: =IFERROR(X12*AB$4,"") -> 2.740224 | AC12: =IFERROR(X12-AB12,"") -> 10.960896 | AD12: =IFERROR(CO_entry[[#This Row],[Tokens Sold4]]*CO_entry[[#This Row],[Selling point 4]],"") -> 346.52105 | AE12: =IFERROR((AA12*AB12)-(VLOOKUP(J12,Portfolio_Overview[[#All],[ticker]:[average per coin]],3,FALSE)*AB12),"") -> 288.76755 | AF12: =IFERROR(VLOOKUP(J12,Portfolio_Overview[[#All],[ticker]:[average per coin]],3,FALSE)*8,"") -> 168.6096 | AG12: =IFERROR(AC12*AG$4,"") -> 2.740224 | AH12: =IFERROR(AC12-AG12,"") -> 8.220672 | AI12: =IFERROR(CO_entry[[#This Row],[Tokens Sold5]]*CO_entry[[#This Row],[Selling point 5]],"") -> 462.02807 | AJ12: =IFERROR((AF12*AG12)-(VLOOKUP(J12,Portfolio_Overview[[#All],[ticker]:[average per coin]],3,FALSE)*AG12),"") -> 404.27456 | AK12: =IFERROR(VLOOKUP(J12,Portfolio_Overview[[#All],[ticker]:[average per coin]],3,FALSE)*10,"") -> 210.762 | AL12: =IFERROR(AH12*AL$4,"") -> 2.8772352 | AM12: =IFERROR(AH12-AL12,"") -> 5.3434368 | AN12: =IFERROR(CO_entry[[#This Row],[Tokens Sold6]]*CO_entry[[#This Row],[Selling point 6]],"") -> 606.41185 | AO12: =IFERROR((AK12*AL12)-(VLOOKUP(J12,Portfolio_Overview[[#All],[ticker]:[average per coin]],3,FALSE)*AL12),"") -> 545.77066 | AP12: =IFERROR(VLOOKUP(J12,Portfolio_Overview[[#All],[ticker]:[average per coin]],3,FALSE)*12,"") -> 252.9144 | AQ12: =IFERROR(AM12*AQ$4,"") -> 2.6717184 | AR12: =IFERROR(AM12-AQ12,"") -> 2.6717184 | AS12: =IFERROR(CO_entry[[#This Row],[Tokens Sold7]]*CO_entry[[#This Row],[Selling point 7]],"") -> 675.71606 | AT12: =IFERROR((AP12*AQ12)-(VLOOKUP(J12,Portfolio_Overview[[#All],[ticker]:[average per coin]],3,FALSE)*AQ12),"") -> 619.40638 | AU12: =IFERROR(P12+U12+Z12+AE12+AJ12+AO12+AT12,"") -> 2449.2902 | AV12: =AR12 -> 2.6717184 | AW12: =IFERROR(AV12*AP12,"") -> 675.71606
A13: Tether | B13: USDT | C13: 1212 | D13: 1 | E13: 1212 | F13: 1 | G13: 1212 | H13: 0.017704065 | J13: AUCTION | K13: =IFERROR(VLOOKUP(J13,price_feed[[symbol]:[current_price]],3,FALSE),"") -> 16.9 | L13: =IFERROR(VLOOKUP(J13,Portfolio_Overview[[#All],[ticker]:[average per coin]],3,FALSE)*2,"") -> 65.7894 | M13: =IFERROR(VLOOKUP(J13,Portfolio_Overview[[#All],[ticker]:[average per coin]],2,FALSE)*M$4,"") -> 0.456 | N13: =IFERROR(VLOOKUP(CO_entry[[#This Row],[ticker]],Portfolio_Overview[[#All],[ticker]:[average per coin]],2,FALSE)-CO_entry[[#This Row],[Tokens Sold]],"") -> 1.824 | O13: =IFERROR(CO_entry[[#This Row],[Tokens Sold]]*CO_entry[[#This Row],[Selling point 1]],"") -> 29.999966 | P13: =IFERROR((L13*M13)-(VLOOKUP(J13,Portfolio_Overview[[#All],[ticker]:[average per coin]],3,FALSE)*M13),"") -> 14.999983 | Q13: =IFERROR(VLOOKUP(J13,Portfolio_Overview[[#All],[ticker]:[average per coin]],3,FALSE)*3.5,"") -> 115.13145 | R13: =IFERROR(N13*R$4,"") -> 0.3648 | S13: =IFERROR(N13-R13,"") -> 1.4592 | T13: =IFERROR(CO_entry[[#This Row],[Tokens Sold2]]*CO_entry[[#This Row],[Selling point 2]],"") -> 41.999953 | U13: =IFERROR((Q13*R13)-(VLOOKUP(J13,Portfolio_Overview[[#All],[ticker]:[average per coin]],3,FALSE)*R13),"") -> 29.999966 | V13: =IFERROR(VLOOKUP(J13,Portfolio_Overview[[#All],[ticker]:[average per coin]],3,FALSE)*4.5,"") -> 148.02615 | W13: =IFERROR(S13*W$4,"") -> 0.29184 | X13: =IFERROR(S13-W13,"") -> 1.16736 | Y13: =IFERROR(CO_entry[[#This Row],[Tokens Sold3]]*CO_entry[[#This Row],[Selling point 3]],"") -> 43.199952 | Z13: =IFERROR((V13*W13)-(VLOOKUP(J13,Portfolio_Overview[[#All],[ticker]:[average per coin]],3,FALSE)*W13),"") -> 33.599962 | AA13: =IFERROR(VLOOKUP(J13,Portfolio_Overview[[#All],[ticker]:[average per coin]],3,FALSE)*6,"") -> 197.3682 | AB13: =IFERROR(X13*AB$4,"") -> 0.233472 | AC13: =IFERROR(X13-AB13,"") -> 0.933888 | AD13: =IFERROR(CO_entry[[#This Row],[Tokens Sold4]]*CO_entry[[#This Row],[Selling point 4]],"") -> 46.079948 | AE13: =IFERROR((AA13*AB13)-(VLOOKUP(J13,Portfolio_Overview[[#All],[ticker]:[average per coin]],3,FALSE)*AB13),"") -> 38.399957 | AF13: =IFERROR(VLOOKUP(J13,Portfolio_Overview[[#All],[ticker]:[average per coin]],3,FALSE)*8,"") -> 263.1576 | AG13: =IFERROR(AC13*AG$4,"") -> 0.233472 | AH13: =IFERROR(AC13-AG13,"") -> 0.700416 | AI13: =IFERROR(CO_entry[[#This Row],[Tokens Sold5]]*CO_entry[[#This Row],[Selling point 5]],"") -> 61.439931 | AJ13: =IFERROR((AF13*AG13)-(VLOOKUP(J13,Portfolio_Overview[[#All],[ticker]:[average per coin]],3,FALSE)*AG13),"") -> 53.75994 | AK13: =IFERROR(VLOOKUP(J13,Portfolio_Overview[[#All],[ticker]:[average per coin]],3,FALSE)*10,"") -> 328.947 | AL13: =IFERROR(AH13*AL$4,"") -> 0.2451456 | AM13: =IFERROR(AH13-AL13,"") -> 0.4552704 | AN13: =IFERROR(CO_entry[[#This Row],[Tokens Sold6]]*CO_entry[[#This Row],[Selling point 6]],"") -> 80.63991 | AO13: =IFERROR((AK13*AL13)-(VLOOKUP(J13,Portfolio_Overview[[#All],[ticker]:[average per coin]],3,FALSE)*AL13),"") -> 72.575919 | AP13: =IFERROR(VLOOKUP(J13,Portfolio_Overview[[#All],[ticker]:[average per coin]],3,FALSE)*12,"") -> 394.7364 | AQ13: =IFERROR(AM13*AQ$4,"") -> 0.2276352 | AR13: =IFERROR(AM13-AQ13,"") -> 0.2276352 | AS13: =IFERROR(CO_entry[[#This Row],[Tokens Sold7]]*CO_entry[[#This Row],[Selling point 7]],"") -> 89.855899 | AT13: =IFERROR((AP13*AQ13)-(VLOOKUP(J13,Portfolio_Overview[[#All],[ticker]:[average per coin]],3,FALSE)*AQ13),"") -> 82.367908 | AU13: =IFERROR(P13+U13+Z13+AE13+AJ13+AO13+AT13,"") -> 325.70364 | AV13: =AR13 -> 0.2276352 | AW13: =IFERROR(AV13*AP13,"") -> 89.855899
A14: Polkadot | B14: DOT | C14: 64.5977 | D14: 20.2794 | E14: 1310.0026 | F14: 18.72 | G14: 1209.2689 | H14: 0.017664171 | J14: AUST | K14: =IFERROR(VLOOKUP(J14,price_feed[[symbol]:[current_price]],3,FALSE),"") -> 1.22 | L14: =IFERROR(VLOOKUP(J14,Portfolio_Overview[[#All],[ticker]:[average per coin]],3,FALSE)*2,"") -> 2.3968 | M14: =IFERROR(VLOOKUP(J14,Portfolio_Overview[[#All],[ticker]:[average per coin]],2,FALSE)*M$4,"") -> 1406.678 | N14: =IFERROR(VLOOKUP(CO_entry[[#This Row],[ticker]],Portfolio_Overview[[#All],[ticker]:[average per coin]],2,FALSE)-CO_entry[[#This Row],[Tokens Sold]],"") -> 5626.712 | O14: =IFERROR(CO_entry[[#This Row],[Tokens Sold]]*CO_entry[[#This Row],[Selling point 1]],"") -> 3371.5258 | P14: =IFERROR((L14*M14)-(VLOOKUP(J14,Portfolio_Overview[[#All],[ticker]:[average per coin]],3,FALSE)*M14),"") -> 1685.7629 | Q14: =IFERROR(VLOOKUP(J14,Portfolio_Overview[[#All],[ticker]:[average per coin]],3,FALSE)*3.5,"") -> 4.1944 | R14: =IFERROR(N14*R$4,"") -> 1125.3424 | S14: =IFERROR(N14-R14,"") -> 4501.3696 | T14: =IFERROR(CO_entry[[#This Row],[Tokens Sold2]]*CO_entry[[#This Row],[Selling point 2]],"") -> 4720.1362 | U14: =IFERROR((Q14*R14)-(VLOOKUP(J14,Portfolio_Overview[[#All],[ticker]:[average per coin]],3,FALSE)*R14),"") -> 3371.5258 | V14: =IFERROR(VLOOKUP(J14,Portfolio_Overview[[#All],[ticker]:[average per coin]],3,FALSE)*4.5,"") -> 5.3928 | W14: =IFERROR(S14*W$4,"") -> 900.27392 | X14: =IFERROR(S14-W14,"") -> 3601.0957 | Y14: =IFERROR(CO_entry[[#This Row],[Tokens Sold3]]*CO_entry[[#This Row],[Selling point 3]],"") -> 4854.9972 | Z14: =IFERROR((V14*W14)-(VLOOKUP(J14,Portfolio_Overview[[#All],[ticker]:[average per coin]],3,FALSE)*W14),"") -> 3776.1089 | AA14: =IFERROR(VLOOKUP(J14,Portfolio_Overview[[#All],[ticker]:[average per coin]],3,FALSE)*6,"") -> 7.1904 | AB14: =IFERROR(X14*AB$4,"") -> 720.21914 | AC14: =IFERROR(X14-AB14,"") -> 2880.8765 | AD14: =IFERROR(CO_entry[[#This Row],[Tokens Sold4]]*CO_entry[[#This Row],[Selling point 4]],"") -> 5178.6637 | AE14: =IFERROR((AA14*AB14)-(VLOOKUP(J14,Portfolio_Overview[[#All],[ticker]:[average per coin]],3,FALSE)*AB14),"") -> 4315.5531 | AF14: =IFERROR(VLOOKUP(J14,Portfolio_Overview[[#All],[ticker]:[average per coin]],3,FALSE)*8,"") -> 9.5872 | AG14: =IFERROR(AC14*AG$4,"") -> 720.21914 | AH14: =IFERROR(AC14-AG14,"") -> 2160.6574 | AI14: =IFERROR(CO_entry[[#This Row],[Tokens Sold5]]*CO_entry[[#This Row],[Selling point 5]],"") -> 6904.8849 | AJ14: =IFERROR((AF14*AG14)-(VLOOKUP(J14,Portfolio_Overview[[#All],[ticker]:[average per coin]],3,FALSE)*AG14),"") -> 6041.7743 | AK14: =IFERROR(VLOOKUP(J14,Portfolio_Overview[[#All],[ticker]:[average per coin]],3,FALSE)*10,"") -> 11.984 | AL14: =IFERROR(AH14*AL$4,"") -> 756.23009 | AM14: =IFERROR(AH14-AL14,"") -> 1404.4273 | AN14: =IFERROR(CO_entry[[#This Row],[Tokens Sold6]]*CO_entry[[#This Row],[Selling point 6]],"") -> 9062.6614 | AO14: =IFERROR((AK14*AL14)-(VLOOKUP(J14,Portfolio_Overview[[#All],[ticker]:[average per coin]],3,FALSE)*AL14),"") -> 8156.3953 | AP14: =IFERROR(VLOOKUP(J14,Portfolio_Overview[[#All],[ticker]:[average per coin]],3,FALSE)*12,"") -> 14.3808 | AQ14: =IFERROR(AM14*AQ$4,"") -> 702.21366 | AR14: =IFERROR(AM14-AQ14,"") -> 702.21366 | AS14: =IFERROR(CO_entry[[#This Row],[Tokens Sold7]]*CO_entry[[#This Row],[Selling point 7]],"") -> 10098.394 | AT14: =IFERROR((AP14*AQ14)-(VLOOKUP(J14,Portfolio_Overview[[#All],[ticker]:[average per coin]],3,FALSE)*AQ14),"") -> 9256.8613 | AU14: =IFERROR(P14+U14+Z14+AE14+AJ14+AO14+AT14,"") -> 36603.982 | AV14: =AR14 -> 702.21366 | AW14: =IFERROR(AV14*AP14,"") -> 10098.394
A15: FTX Token | B15: FTT | C15: 25.16 | D15: 62.9571 | E15: 1584.0006 | F15: 44.02 | G15: 1107.5432 | H15: 0.016178232 | J15: AVAX | K15: =IFERROR(VLOOKUP(J15,price_feed[[symbol]:[current_price]],3,FALSE),"") -> 84.12 | L15: =IFERROR(VLOOKUP(J15,Portfolio_Overview[[#All],[ticker]:[average per coin]],3,FALSE)*2,"") -> 150.7798 | M15: =IFERROR(VLOOKUP(J15,Portfolio_Overview[[#All],[ticker]:[average per coin]],2,FALSE)*M$4,"") -> 5.258 | N15: =IFERROR(VLOOKUP(CO_entry[[#This Row],[ticker]],Portfolio_Overview[[#All],[ticker]:[average per coin]],2,FALSE)-CO_entry[[#This Row],[Tokens Sold]],"") -> 21.032 | O15: =IFERROR(CO_entry[[#This Row],[Tokens Sold]]*CO_entry[[#This Row],[Selling point 1]],"") -> 792.80019 | P15: =IFERROR((L15*M15)-(VLOOKUP(J15,Portfolio_Overview[[#All],[ticker]:[average per coin]],3,FALSE)*M15),"") -> 396.40009 | Q15: =IFERROR(VLOOKUP(J15,Portfolio_Overview[[#All],[ticker]:[average per coin]],3,FALSE)*3.5,"") -> 263.86465 | R15: =IFERROR(N15*R$4,"") -> 4.2064 | S15: =IFERROR(N15-R15,"") -> 16.8256 | T15: =IFERROR(CO_entry[[#This Row],[Tokens Sold2]]*CO_entry[[#This Row],[Selling point 2]],"") -> 1109.9203 | U15: =IFERROR((Q15*R15)-(VLOOKUP(J15,Portfolio_Overview[[#All],[ticker]:[average per coin]],3,FALSE)*R15),"") -> 792.80019 | V15: =IFERROR(VLOOKUP(J15,Portfolio_Overview[[#All],[ticker]:[average per coin]],3,FALSE)*4.5,"") -> 339.25455 | W15: =IFERROR(S15*W$4,"") -> 3.36512 | X15: =IFERROR(S15-W15,"") -> 13.46048 | Y15: =IFERROR(CO_entry[[#This Row],[Tokens Sold3]]*CO_entry[[#This Row],[Selling point 3]],"") -> 1141.6323 | Z15: =IFERROR((V15*W15)-(VLOOKUP(J15,Portfolio_Overview[[#All],[ticker]:[average per coin]],3,FALSE)*W15),"") -> 887.93621 | AA15: =IFERROR(VLOOKUP(J15,Portfolio_Overview[[#All],[ticker]:[average per coin]],3,FALSE)*6,"") -> 452.3394 | AB15: =IFERROR(X15*AB$4,"") -> 2.692096 | AC15: =IFERROR(X15-AB15,"") -> 10.768384 | AD15: =IFERROR(CO_entry[[#This Row],[Tokens Sold4]]*CO_entry[[#This Row],[Selling point 4]],"") -> 1217.7411 | AE15: =IFERROR((AA15*AB15)-(VLOOKUP(J15,Portfolio_Overview[[#All],[ticker]:[average per coin]],3,FALSE)*AB15),"") -> 1014.7842 | AF15: =IFERROR(VLOOKUP(J15,Portfolio_Overview[[#All],[ticker]:[average per coin]],3,FALSE)*8,"") -> 603.1192 | AG15: =IFERROR(AC15*AG$4,"") -> 2.692096 | AH15: =IFERROR(AC15-AG15,"") -> 8.076288 | AI15: =IFERROR(CO_entry[[#This Row],[Tokens Sold5]]*CO_entry[[#This Row],[Selling point 5]],"") -> 1623.6548 | AJ15: =IFERROR((AF15*AG15)-(VLOOKUP(J15,Portfolio_Overview[[#All],[ticker]:[average per coin]],3,FALSE)*AG15),"") -> 1420.6979 | AK15: =IFERROR(VLOOKUP(J15,Portfolio_Overview[[#All],[ticker]:[average per coin]],3,FALSE)*10,"") -> 753.899 | AL15: =IFERROR(AH15*AL$4,"") -> 2.8267008 | AM15: =IFERROR(AH15-AL15,"") -> 5.2495872 | AN15: =IFERROR(CO_entry[[#This Row],[Tokens Sold6]]*CO_entry[[#This Row],[Selling point 6]],"") -> 2131.0469 | AO15: =IFERROR((AK15*AL15)-(VLOOKUP(J15,Portfolio_Overview[[#All],[ticker]:[average per coin]],3,FALSE)*AL15),"") -> 1917.9422 | AP15: =IFERROR(VLOOKUP(J15,Portfolio_Overview[[#All],[ticker]:[average per coin]],3,FALSE)*12,"") -> 904.6788 | AQ15: =IFERROR(AM15*AQ$4,"") -> 2.6247936 | AR15: =IFERROR(AM15-AQ15,"") -> 2.6247936 | AS15: =IFERROR(CO_entry[[#This Row],[Tokens Sold7]]*CO_entry[[#This Row],[Selling point 7]],"") -> 2374.5951 | AT15: =IFERROR((AP15*AQ15)-(VLOOKUP(J15,Portfolio_Overview[[#All],[ticker]:[average per coin]],3,FALSE)*AQ15),"") -> 2176.7122 | AU15: =IFERROR(P15+U15+Z15+AE15+AJ15+AO15+AT15,"") -> 8607.2731 | AV15: =AR15 -> 2.6247936 | AW15: =IFERROR(AV15*AP15,"") -> 2374.5951
A16: Cardano | B16: ADA | C16: 1029.61 | D16: 1.8133 | E16: 1866.9918 | F16: 0.8789 | G16: 904.9242 | H16: 0.013218513 | J16: BNB | K16: =IFERROR(VLOOKUP(J16,price_feed[[symbol]:[current_price]],3,FALSE),"") -> 389.89 | L16: =IFERROR(VLOOKUP(J16,Portfolio_Overview[[#All],[ticker]:[average per coin]],3,FALSE)*2,"") -> 923.5956 | M16: =IFERROR(VLOOKUP(J16,Portfolio_Overview[[#All],[ticker]:[average per coin]],2,FALSE)*M$4,"") -> 0.178 | N16: =IFERROR(VLOOKUP(CO_entry[[#This Row],[ticker]],Portfolio_Overview[[#All],[ticker]:[average per coin]],2,FALSE)-CO_entry[[#This Row],[Tokens Sold]],"") -> 0.712 | O16: =IFERROR(CO_entry[[#This Row],[Tokens Sold]]*CO_entry[[#This Row],[Selling point 1]],"") -> 164.40002 | P16: =IFERROR((L16*M16)-(VLOOKUP(J16,Portfolio_Overview[[#All],[ticker]:[average per coin]],3,FALSE)*M16),"") -> 82.200008 | Q16: =IFERROR(VLOOKUP(J16,Portfolio_Overview[[#All],[ticker]:[average per coin]],3,FALSE)*3.5,"") -> 1616.2923 | R16: =IFERROR(N16*R$4,"") -> 0.1424 | S16: =IFERROR(N16-R16,"") -> 0.5696 | T16: =IFERROR(CO_entry[[#This Row],[Tokens Sold2]]*CO_entry[[#This Row],[Selling point 2]],"") -> 230.16002 | U16: =IFERROR((Q16*R16)-(VLOOKUP(J16,Portfolio_Overview[[#All],[ticker]:[average per coin]],3,FALSE)*R16),"") -> 164.40002 | V16: =IFERROR(VLOOKUP(J16,Portfolio_Overview[[#All],[ticker]:[average per coin]],3,FALSE)*4.5,"") -> 2078.0901 | W16: =IFERROR(S16*W$4,"") -> 0.11392 | X16: =IFERROR(S16-W16,"") -> 0.45568 | Y16: =IFERROR(CO_entry[[#This Row],[Tokens Sold3]]*CO_entry[[#This Row],[Selling point 3]],"") -> 236.73602 | Z16: =IFERROR((V16*W16)-(VLOOKUP(J16,Portfolio_Overview[[#All],[ticker]:[average per coin]],3,FALSE)*W16),"") -> 184.12802 | AA16: =IFERROR(VLOOKUP(J16,Portfolio_Overview[[#All],[ticker]:[average per coin]],3,FALSE)*6,"") -> 2770.7868 | AB16: =IFERROR(X16*AB$4,"") -> 0.091136 | AC16: =IFERROR(X16-AB16,"") -> 0.364544 | AD16: =IFERROR(CO_entry[[#This Row],[Tokens Sold4]]*CO_entry[[#This Row],[Selling point 4]],"") -> 252.51843 | AE16: =IFERROR((AA16*AB16)-(VLOOKUP(J16,Portfolio_Overview[[#All],[ticker]:[average per coin]],3,FALSE)*AB16),"") -> 210.43202 | AF16: =IFERROR(VLOOKUP(J16,Portfolio_Overview[[#All],[ticker]:[average per coin]],3,FALSE)*8,"") -> 3694.3824 | AG16: =IFERROR(AC16*AG$4,"") -> 0.091136 | AH16: =IFERROR(AC16-AG16,"") -> 0.273408 | AI16: =IFERROR(CO_entry[[#This Row],[Tokens Sold5]]*CO_entry[[#This Row],[Selling point 5]],"") -> 336.69123 | AJ16: =IFERROR((AF16*AG16)-(VLOOKUP(J16,Portfolio_Overview[[#All],[ticker]:[average per coin]],3,FALSE)*AG16),"") -> 294.60483 | AK16: =IFERROR(VLOOKUP(J16,Portfolio_Overview[[#All],[ticker]:[average per coin]],3,FALSE)*10,"") -> 4617.978 | AL16: =IFERROR(AH16*AL$4,"") -> 0.0956928 | AM16: =IFERROR(AH16-AL16,"") -> 0.1777152 | AN16: =IFERROR(CO_entry[[#This Row],[Tokens Sold6]]*CO_entry[[#This Row],[Selling point 6]],"") -> 441.90725 | AO16: =IFERROR((AK16*AL16)-(VLOOKUP(J16,Portfolio_Overview[[#All],[ticker]:[average per coin]],3,FALSE)*AL16),"") -> 397.71652 | AP16: =IFERROR(VLOOKUP(J16,Portfolio_Overview[[#All],[ticker]:[average per coin]],3,FALSE)*12,"") -> 5541.5736 | AQ16: =IFERROR(AM16*AQ$4,"") -> 0.0888576 | AR16: =IFERROR(AM16-AQ16,"") -> 0.0888576 | AS16: =IFERROR(CO_entry[[#This Row],[Tokens Sold7]]*CO_entry[[#This Row],[Selling point 7]],"") -> 492.41093 | AT16: =IFERROR((AP16*AQ16)-(VLOOKUP(J16,Portfolio_Overview[[#All],[ticker]:[average per coin]],3,FALSE)*AQ16),"") -> 451.37669 | AU16: =IFERROR(P16+U16+Z16+AE16+AJ16+AO16+AT16,"") -> 1784.8581 | AV16: =AR16 -> 0.0888576 | AW16: =IFERROR(AV16*AP16,"") -> 492.41093
A17: Cosmos Hub | B17: ATOM | C17: 26.76 | D17: 21.0762 | E17: 563.9991 | F17: 27.81 | G17: 744.1956 | H17: 0.010870699 | J17: BPRO | K17: =IFERROR(VLOOKUP(J17,price_feed[[symbol]:[current_price]],3,FALSE),"") -> 3.97 | L17: =IFERROR(VLOOKUP(J17,Portfolio_Overview[[#All],[ticker]:[average per coin]],3,FALSE)*2,"") -> 14.5494 | M17: =IFERROR(VLOOKUP(J17,Portfolio_Overview[[#All],[ticker]:[average per coin]],2,FALSE)*M$4,"") -> 9.1 | N17: =IFERROR(VLOOKUP(CO_entry[[#This Row],[ticker]],Portfolio_Overview[[#All],[ticker]:[average per coin]],2,FALSE)-CO_entry[[#This Row],[Tokens Sold]],"") -> 36.4 | O17: =IFERROR(CO_entry[[#This Row],[Tokens Sold]]*CO_entry[[#This Row],[Selling point 1]],"") -> 132.39954 | P17: =IFERROR((L17*M17)-(VLOOKUP(J17,Portfolio_Overview[[#All],[ticker]:[average per coin]],3,FALSE)*M17),"") -> 66.19977 | Q17: =IFERROR(VLOOKUP(J17,Portfolio_Overview[[#All],[ticker]:[average per coin]],3,FALSE)*3.5,"") -> 25.46145 | R17: =IFERROR(N17*R$4,"") -> 7.28 | S17: =IFERROR(N17-R17,"") -> 29.12 | T17: =IFERROR(CO_entry[[#This Row],[Tokens Sold2]]*CO_entry[[#This Row],[Selling point 2]],"") -> 185.35936 | U17: =IFERROR((Q17*R17)-(VLOOKUP(J17,Portfolio_Overview[[#All],[ticker]:[average per coin]],3,FALSE)*R17),"") -> 132.39954 | V17: =IFERROR(VLOOKUP(J17,Portfolio_Overview[[#All],[ticker]:[average per coin]],3,FALSE)*4.5,"") -> 32.73615 | W17: =IFERROR(S17*W$4,"") -> 5.824 | X17: =IFERROR(S17-W17,"") -> 23.296 | Y17: =IFERROR(CO_entry[[#This Row],[Tokens Sold3]]*CO_entry[[#This Row],[Selling point 3]],"") -> 190.65534 | Z17: =IFERROR((V17*W17)-(VLOOKUP(J17,Portfolio_Overview[[#All],[ticker]:[average per coin]],3,FALSE)*W17),"") -> 148.28748 | AA17: =IFERROR(VLOOKUP(J17,Portfolio_Overview[[#All],[ticker]:[average per coin]],3,FALSE)*6,"") -> 43.6482 | AB17: =IFERROR(X17*AB$4,"") -> 4.6592 | AC17: =IFERROR(X17-AB17,"") -> 18.6368 | AD17: =IFERROR(CO_entry[[#This Row],[Tokens Sold4]]*CO_entry[[#This Row],[Selling point 4]],"") -> 203.36569 | AE17: =IFERROR((AA17*AB17)-(VLOOKUP(J17,Portfolio_Overview[[#All],[ticker]:[average per coin]],3,FALSE)*AB17),"") -> 169.47141 | AF17: =IFERROR(VLOOKUP(J17,Portfolio_Overview[[#All],[ticker]:[average per coin]],3,FALSE)*8,"") -> 58.1976 | AG17: =IFERROR(AC17*AG$4,"") -> 4.6592 | AH17: =IFERROR(AC17-AG17,"") -> 13.9776 | AI17: =IFERROR(CO_entry[[#This Row],[Tokens Sold5]]*CO_entry[[#This Row],[Selling point 5]],"") -> 271.15426 | AJ17: =IFERROR((AF17*AG17)-(VLOOKUP(J17,Portfolio_Overview[[#All],[ticker]:[average per coin]],3,FALSE)*AG17),"") -> 237.25998 | AK17: =IFERROR(VLOOKUP(J17,Portfolio_Overview[[#All],[ticker]:[average per coin]],3,FALSE)*10,"") -> 72.747 | AL17: =IFERROR(AH17*AL$4,"") -> 4.89216 | AM17: =IFERROR(AH17-AL17,"") -> 9.08544 | AN17: =IFERROR(CO_entry[[#This Row],[Tokens Sold6]]*CO_entry[[#This Row],[Selling point 6]],"") -> 355.88996 | AO17: =IFERROR((AK17*AL17)-(VLOOKUP(J17,Portfolio_Overview[[#All],[ticker]:[average per coin]],3,FALSE)*AL17),"") -> 320.30097 | AP17: =IFERROR(VLOOKUP(J17,Portfolio_Overview[[#All],[ticker]:[average per coin]],3,FALSE)*12,"") -> 87.2964 | AQ17: =IFERROR(AM17*AQ$4,"") -> 4.54272 | AR17: =IFERROR(AM17-AQ17,"") -> 4.54272 | AS17: =IFERROR(CO_entry[[#This Row],[Tokens Sold7]]*CO_entry[[#This Row],[Selling point 7]],"") -> 396.5631 | AT17: =IFERROR((AP17*AQ17)-(VLOOKUP(J17,Portfolio_Overview[[#All],[ticker]:[average per coin]],3,FALSE)*AQ17),"") -> 363.51618 | AU17: =IFERROR(P17+U17+Z17+AE17+AJ17+AO17+AT17,"") -> 1437.4353 | AV17: =AR17 -> 4.54272 | AW17: =IFERROR(AV17*AP17,"") -> 396.5631
A18: Render Token | B18: RNDR | C18: 254.51 | D18: 3.0411 | E18: 773.9904 | F18: 2.6 | G18: 661.726 | H18: 0.0096660399 | J18: BTC | K18: =IFERROR(VLOOKUP(J18,price_feed[[symbol]:[current_price]],3,FALSE),"") -> 41302 | L18: =IFERROR(VLOOKUP(J18,Portfolio_Overview[[#All],[ticker]:[average per coin]],3,FALSE)*2,"") -> 94765.435 | M18: =IFERROR(VLOOKUP(J18,Portfolio_Overview[[#All],[ticker]:[average per coin]],2,FALSE)*M$4,"") -> 0.097178892 | N18: =IFERROR(VLOOKUP(CO_entry[[#This Row],[ticker]],Portfolio_Overview[[#All],[ticker]:[average per coin]],2,FALSE)-CO_entry[[#This Row],[Tokens Sold]],"") -> 0.38871557 | O18: =IFERROR(CO_entry[[#This Row],[Tokens Sold]]*CO_entry[[#This Row],[Selling point 1]],"") -> 9209.2 | P18: =IFERROR((L18*M18)-(VLOOKUP(J18,Portfolio_Overview[[#All],[ticker]:[average per coin]],3,FALSE)*M18),"") -> 4604.6 | Q18: =IFERROR(VLOOKUP(J18,Portfolio_Overview[[#All],[ticker]:[average per coin]],3,FALSE)*3.5,"") -> 165839.51 | R18: =IFERROR(N18*R$4,"") -> 0.077743114 | S18: =IFERROR(N18-R18,"") -> 0.31097245 | T18: =IFERROR(CO_entry[[#This Row],[Tokens Sold2]]*CO_entry[[#This Row],[Selling point 2]],"") -> 12892.88 | U18: =IFERROR((Q18*R18)-(VLOOKUP(J18,Portfolio_Overview[[#All],[ticker]:[average per coin]],3,FALSE)*R18),"") -> 9209.2 | V18: =IFERROR(VLOOKUP(J18,Portfolio_Overview[[#All],[ticker]:[average per coin]],3,FALSE)*4.5,"") -> 213222.23 | W18: =IFERROR(S18*W$4,"") -> 0.062194491 | X18: =IFERROR(S18-W18,"") -> 0.24877796 | Y18: =IFERROR(CO_entry[[#This Row],[Tokens Sold3]]*CO_entry[[#This Row],[Selling point 3]],"") -> 13261.248 | Z18: =IFERROR((V18*W18)-(VLOOKUP(J18,Portfolio_Overview[[#All],[ticker]:[average per coin]],3,FALSE)*W18),"") -> 10314.304 | AA18: =IFERROR(VLOOKUP(J18,Portfolio_Overview[[#All],[ticker]:[average per coin]],3,FALSE)*6,"") -> 284296.31 | AB18: =IFERROR(X18*AB$4,"") -> 0.049755593 | AC18: =IFERROR(X18-AB18,"") -> 0.19902237 | AD18: =IFERROR(CO_entry[[#This Row],[Tokens Sold4]]*CO_entry[[#This Row],[Selling point 4]],"") -> 14145.331 | AE18: =IFERROR((AA18*AB18)-(VLOOKUP(J18,Portfolio_Overview[[#All],[ticker]:[average per coin]],3,FALSE)*AB18),"") -> 11787.776 | AF18: =IFERROR(VLOOKUP(J18,Portfolio_Overview[[#All],[ticker]:[average per coin]],3,FALSE)*8,"") -> 379061.74 | AG18: =IFERROR(AC18*AG$4,"") -> 0.049755593 | AH18: =IFERROR(AC18-AG18,"") -> 0.14926678 | AI18: =IFERROR(CO_entry[[#This Row],[Tokens Sold5]]*CO_entry[[#This Row],[Selling point 5]],"") -> 18860.442 | AJ18: =IFERROR((AF18*AG18)-(VLOOKUP(J18,Portfolio_Overview[[#All],[ticker]:[average per coin]],3,FALSE)*AG18),"") -> 16502.886 | AK18: =IFERROR(VLOOKUP(J18,Portfolio_Overview[[#All],[ticker]:[average per coin]],3,FALSE)*10,"") -> 473827.18 | AL18: =IFERROR(AH18*AL$4,"") -> 0.052243372 | AM18: =IFERROR(AH18-AL18,"") -> 0.097023406 | AN18: =IFERROR(CO_entry[[#This Row],[Tokens Sold6]]*CO_entry[[#This Row],[Selling point 6]],"") -> 24754.33 | AO18: =IFERROR((AK18*AL18)-(VLOOKUP(J18,Portfolio_Overview[[#All],[ticker]:[average per coin]],3,FALSE)*AL18),"") -> 22278.897 | AP18: =IFERROR(VLOOKUP(J18,Portfolio_Overview[[#All],[ticker]:[average per coin]],3,FALSE)*12,"") -> 568592.61 | AQ18: =IFERROR(AM18*AQ$4,"") -> 0.048511703 | AR18: =IFERROR(AM18-AQ18,"") -> 0.048511703 | AS18: =IFERROR(CO_entry[[#This Row],[Tokens Sold7]]*CO_entry[[#This Row],[Selling point 7]],"") -> 27583.396 | AT18: =IFERROR((AP18*AQ18)-(VLOOKUP(J18,Portfolio_Overview[[#All],[ticker]:[average per coin]],3,FALSE)*AQ18),"") -> 25284.779 | AU18: =IFERROR(P18+U18+Z18+AE18+AJ18+AO18+AT18,"") -> 99982.442 | AV18: =AR18 -> 0.048511703 | AW18: =IFERROR(AV18*AP18,"") -> 27583.396
... A22: Ethereum Name Service | B22: ENS | C22: 19.1 | D22: 36.911 | E22: 705.0001 | F22: 15.93 | G22: 304.263 | H22: 0.0044444654 | J22: CREAM | K22: =IFERROR(VLOOKUP(J22,price_feed[[symbol]:[current_price]],3,FALSE),"") -> 45.64 | L22: =IFERROR(VLOOKUP(J22,Portfolio_Overview[[#All],[ticker]:[average per coin]],3,FALSE)*2,"") -> 112.0448 | M22: =IFERROR(VLOOKUP(J22,Portfolio_Overview[[#All],[ticker]:[average per coin]],2,FALSE)*M$4,"") -> 0.714 | N22: =IFERROR(VLOOKUP(CO_entry[[#This Row],[ticker]],Portfolio_Overview[[#All],[ticker]:[average per coin]],2,FALSE)-CO_entry[[#This Row],[Tokens Sold]],"") -> 2.856 | O22: =IFERROR(CO_entry[[#This Row],[Tokens Sold]]*CO_entry[[#This Row],[Selling point 1]],"") -> 79.999987 | P22: =IFERROR((L22*M22)-(VLOOKUP(J22,Portfolio_Overview[[#All],[ticker]:[average per coin]],3,FALSE)*M22),"") -> 39.999994 | Q22: =IFERROR(VLOOKUP(J22,Portfolio_Overview[[#All],[ticker]:[average per coin]],3,FALSE)*3.5,"") -> 196.0784 | R22: =IFERROR(N22*R$4,"") -> 0.5712 | S22: =IFERROR(N22-R22,"") -> 2.2848 | T22: =IFERROR(CO_entry[[#This Row],[Tokens Sold2]]*CO_entry[[#This Row],[Selling point 2]],"") -> 111.99998 | U22: =IFERROR((Q22*R22)-(VLOOKUP(J22,Portfolio_Overview[[#All],[ticker]:[average per coin]],3,FALSE)*R22),"") -> 79.999987 | V22: =IFERROR(VLOOKUP(J22,Portfolio_Overview[[#All],[ticker]:[average per coin]],3,FALSE)*4.5,"") -> 252.1008 | W22: =IFERROR(S22*W$4,"") -> 0.45696 | X22: =IFERROR(S22-W22,"") -> 1.82784 | Y22: =IFERROR(CO_entry[[#This Row],[Tokens Sold3]]*CO_entry[[#This Row],[Selling point 3]],"") -> 115.19998 | Z22: =IFERROR((V22*W22)-(VLOOKUP(J22,Portfolio_Overview[[#All],[ticker]:[average per coin]],3,FALSE)*W22),"") -> 89.599986 | AA22: =IFERROR(VLOOKUP(J22,Portfolio_Overview[[#All],[ticker]:[average per coin]],3,FALSE)*6,"") -> 336.1344 | AB22: =IFERROR(X22*AB$4,"") -> 0.365568 | AC22: =IFERROR(X22-AB22,"") -> 1.462272 | AD22: =IFERROR(CO_entry[[#This Row],[Tokens Sold4]]*CO_entry[[#This Row],[Selling point 4]],"") -> 122.87998 | AE22: =IFERROR((AA22*AB22)-(VLOOKUP(J22,Portfolio_Overview[[#All],[ticker]:[average per coin]],3,FALSE)*AB22),"") -> 102.39998 | AF22: =IFERROR(VLOOKUP(J22,Portfolio_Overview[[#All],[ticker]:[average per coin]],3,FALSE)*8,"") -> 448.1792 | AG22: =IFERROR(AC22*AG$4,"") -> 0.365568 | AH22: =IFERROR(AC22-AG22,"") -> 1.096704 | AI22: =IFERROR(CO_entry[[#This Row],[Tokens Sold5]]*CO_entry[[#This Row],[Selling point 5]],"") -> 163.83997 | AJ22: =IFERROR((AF22*AG22)-(VLOOKUP(J22,Portfolio_Overview[[#All],[ticker]:[average per coin]],3,FALSE)*AG22),"") -> 143.35998 | AK22: =IFERROR(VLOOKUP(J22,Portfolio_Overview[[#All],[ticker]:[average per coin]],3,FALSE)*10,"") -> 560.224 | AL22: =IFERROR(AH22*AL$4,"") -> 0.3838464 | AM22: =IFERROR(AH22-AL22,"") -> 0.7128576 | AN22: =IFERROR(CO_entry[[#This Row],[Tokens Sold6]]*CO_entry[[#This Row],[Selling point 6]],"") -> 215.03997 | AO22: =IFERROR((AK22*AL22)-(VLOOKUP(J22,Portfolio_Overview[[#All],[ticker]:[average per coin]],3,FALSE)*AL22),"") -> 193.53597 | AP22: =IFERROR(VLOOKUP(J22,Portfolio_Overview[[#All],[ticker]:[average per coin]],3,FALSE)*12,"") -> 672.2688 | AQ22: =IFERROR(AM22*AQ$4,"") -> 0.3564288 | AR22: =IFERROR(AM22-AQ22,"") -> 0.3564288 | AS22: =IFERROR(CO_entry[[#This Row],[Tokens Sold7]]*CO_entry[[#This Row],[Selling point 7]],"") -> 239.61596 | AT22: =IFERROR((AP22*AQ22)-(VLOOKUP(J22,Portfolio_Overview[[#All],[ticker]:[average per coin]],3,FALSE)*AQ22),"") -> 219.64796 | AU22: =IFERROR(P22+U22+Z22+AE22+AJ22+AO22+AT22,"") -> 868.54386 | AV22: =AR22 -> 0.3564288 | AW22: =IFERROR(AV22*AP22,"") -> 239.61596
