Workbook

Sheet CLIENTS
A1: Code client | B1: Civilité | C1: Nom | D1: Prénom | E1: Adresse 1 | F1: Adresse 2 | G1: Code Postal | H1: Ville | I1: E-mail | J1: Tél. Fixe | K1: Portable | L1: Fax
A2: 1 | B2: M. | C2: Dupont | D2: Jean-Louis | E2: 3 rue bidule | G2: 26000 | H2: Valence | I2: jld@exemple.fr | K2: 06 89 56 88 63
A3: 2 | B3: Mlle | C3: Jolie | D3: Angelina | E3: 1 ave des stars | F3: Beverly Hills | G3: 75001 | H3: Paris | I3: star@jolie.fr | J3: 01 82 65 88 36
A4: 3 | B4: Mme | C4: Party | D4: Marie | E4: 5 rue bidon | F4: appt 2 | G4: 59000 | H4: Lille | K4: 06 89 56 88 65
A5: 4 | B5: M. | C5: Vandamme | D5: Jean-Claude | E5: 5 rue Aware | G5: 75005 | H5: Paris | I5: aware@jcvd.com | J5: 01 85 66 88 65
A6: 5
A7: 6
A8: 7
A9: 8
A10: 9

Sheet GENERATEUR DE DEVIS
H5: Zone non imprimable où je rentre mes infos
D9: =INDEX(CLIENTS!1:1048576,MATCH(H9,CLIENTS!A:A,0),2)&" "&INDEX(CLIENTS!1:1048576,MATCH(H9,CLIENTS!A:A,0),3)&" "&INDEX(CLIENTS!1:1048576,MATCH(H9,CLIENTS!A:A,0),4) -> M. Vandamme Jean-Claude | H9: 4 | I9: < rentrer le code client ici
D10: =INDEX(CLIENTS!1:1048576,MATCH(H9,CLIENTS!A:A,0),5) -> 5 rue Aware
D11: =IF(INDEX(CLIENTS!1:1048576,MATCH(H9,CLIENTS!A:A,0),6)<>0,INDEX(CLIENTS!1:1048576,MATCH(H9,CLIENTS!A:A,0),6),INDEX(CLIENTS!1:1048576,MATCH(H9,CLIENTS!A:A,0),7)&" "&INDEX(CLIENTS!1:1048576,MATCH(H9,CLIENTS!A:A,0),8)) -> 75005 Paris | H11: 52 | I11: < rentrer le numéro du devis ici
B12: ="DEVIS N°"&H11 -> DEVIS N°52 | D12: =IF(INDEX(CLIENTS!1:1048576,MATCH(H9,CLIENTS!A:A,0),6)<>0,INDEX(CLIENTS!1:1048576,MATCH(H9,CLIENTS!A:A,0),7)&" "&INDEX(CLIENTS!1:1048576,MATCH(H9,CLIENTS!A:A,0),8),"")
B13: à Lille, le | C13: =TODAY() -> 40232
B17: Description :
B19: création de logo | E19: 300
B20: creation de carte de visite | E20: 100
B21: impression 1000 cartes de visite sur papier créa ref. 5846F | E21: 600
D41: Total HT | E41: 1000
D42: TVA 19,6 % | E42: =E41*0.196 -> 196
D43: TOTAL TTC | E43: =SUM(E41:E42) -> 1196

Sheet LISTE DEVIS
A1: N° DEVIS | B1: CODE CLIENT | C1: CLIENT | D1: DATE | E1: VALIDE JUSQU'AU | F1: STATUT | G1: DATE DEVIS ACCEPTE | H1: TOTAL HT | I1: DESCRIPTION
A3: ='GENERATEUR DE DEVIS'!H11 -> 52 | B3: ='GENERATEUR DE DEVIS'!H9 -> 4 | C3: =INDEX(CLIENTS!$1:$1048576,MATCH(B3,CLIENTS!A:A,0),2)&" "&INDEX(CLIENTS!$1:$1048576,MATCH(B3,CLIENTS!A:A,0),3)&" "&INDEX(CLIENTS!$1:$1048576,MATCH(B3,CLIENTS!A:A,0),4) -> M. Vandamme Jean-Claude | D3: ='GENERATEUR DE DEVIS'!C13 -> 40232 | E3: =IF(D3<>0,D3+30,"") -> 40262 | H3: ='GENERATEUR DE DEVIS'!E41 -> 1000 | I3: ='GENERATEUR DE DEVIS'!B19&'GENERATEUR DE DEVIS'!B20&'GENERATEUR DE DEVIS'!B21&'GENERATEUR DE DEVIS'!B22&'GENERATEUR DE DEVIS'!B23&'GENERATEUR DE DEVIS'!B24&'GENERATEUR DE DEVIS'!B25&'GENERATEUR DE DEVIS'!B26 -> création de logocreation de carte de visiteimpression 1000 cartes de visite sur papier créa ref. 5846F
A4: 25 | B4: 1 | C4: =INDEX(CLIENTS!$1:$1048576,MATCH(B4,CLIENTS!A:A,0),2)&" "&INDEX(CLIENTS!$1:$1048576,MATCH(B4,CLIENTS!A:A,0),3)&" "&INDEX(CLIENTS!$1:$1048576,MATCH(B4,CLIENTS!A:A,0),4) -> M. Dupont Jean-Louis | D4: 36906 | E4: =IF(D4<>0,D4+30,"") -> 36936 | F4: en attente | H4: 50 | I4: creation d'un site internet
A5: 23 | B5: 2 | C5: =INDEX(CLIENTS!$1:$1048576,MATCH(B5,CLIENTS!A:A,0),2)&" "&INDEX(CLIENTS!$1:$1048576,MATCH(B5,CLIENTS!A:A,0),3)&" "&INDEX(CLIENTS!$1:$1048576,MATCH(B5,CLIENTS!A:A,0),4) -> Mlle Jolie Angelina | D5: 40157 | E5: =IF(D5<>0,D5+30,"") -> 40187 | F5: accepté | G5: 40193 | H5: 150 | I5: création d'un t-shirt personnalisé XXXL | M5: < VOILA A QUOI J'AIMERAIS BIEN QUE CA RESSEMBLE…
A6: 12 | B6: 3 | C6: =INDEX(CLIENTS!$1:$1048576,MATCH(B6,CLIENTS!A:A,0),2)&" "&INDEX(CLIENTS!$1:$1048576,MATCH(B6,CLIENTS!A:A,0),3)&" "&INDEX(CLIENTS!$1:$1048576,MATCH(B6,CLIENTS!A:A,0),4) -> Mme Party Marie | D6: 40132 | E6: =IF(D6<>0,D6+30,"") -> 40162 | F6: accepté | G6: 40166 | H6: 1000 | I6: création et impression de 1000 flyers "viendez à ma fete"
E7: =IF(D7<>0,D7+30,"")
E8: =IF(D8<>0,D8+30,"")
E9: =IF(D9<>0,D9+30,"")
E10: =IF(D10<>0,D10+30,"")
E11: =IF(D11<>0,D11+30,"")
E12: =IF(D12<>0,D12+30,"")
E13: =IF(D13<>0,D13+30,"")
E14: =IF(D14<>0,D14+30,"")
E15: =IF(D15<>0,D15+30,"")
E16: =IF(D16<>0,D16+30,"")
