Workbook

Sheet VAL
E1: TTC MATIERE EN VERT / TRANSPORT EN BLEU | M1: TTC - PRIX SAC LIVRE PAR NOMBRE PALETTE
A2: DEPARTEMENT ARRIVEE | B2: ENTREPOT DEPART | C2: PRIX LIVRE TTC | E2: MATIERE (SAC) | F2: 1 | G2: 2 | H2: 3 | I2: 4 | J2: 5 | K2: 6 | M2: 1 | N2: 2 | O2: 3 | P2: 4 | Q2: 5 | R2: 6
A3: 01 - Ain | B3: ='[1]OUTPUT PS'!H4 -> 60 TENARD BAILLEUL | C3: ='[1]OUTPUT PS'!I4 -> 512 | E3: =(C3-F3)/65 -> 5.6461538 | F3: {=(_xlfn.IFS($B3='[1]60 Bailleul - TENART pour PS'!$I$1,_xlfn.XLOOKUP($A3,'[1]60 Bailleul - TENART pour PS'!$A:$A,'[1]60 Bailleul - TENART pour PS'!C:C,""),$B3='[1]00 Brillon - GEFCO PS'!$I$1,_xlfn.XLOOKUP($A3,'[1]00 Brillon - GEFCO PS'!$A:$A,'[1]00 Brillon - GEFCO PS'!C:C,""),$B3='[1]00 Brillon - Regional PS'!$I$1,_xlfn.XLOOKUP($A3,'[1]00 Brillon - Regional PS'!$A:$A,'[1]00 Brillon - Regional PS'!C:C,""),$B3='[1]00 Brillon - TDN PS'!$I$1,_xlfn.XLOOKUP($A3,'[1]00 Brillon - TDN PS'!$A:$A,'[1]00 Brillon - TDN PS'!C:C,""),$B3='[1]00 BRILLON - XPO PS'!$I$1,_xlfn.XLOOKUP($A3,'[1]00 BRILLON - XPO PS'!$A:$A,'[1]00 BRILLON - XPO PS'!C:C,""),$B3='[1]69 Irigny - Rodis PS'!$H$1,_xlfn.XLOOKUP($A3,'[1]69 Irigny - Rodis PS'!$A:$A,'[1]69 Irigny - Rodis PS'!C:C,""),$B3='[1]54 Champigneulles - MMD PS'!$I$1,_xlfn.XLOOKUP('[1]BRAZECO VAL BO'!$A3,'[1]54 Champigneulles - MMD PS'!$A:$A,'[1]54 Champigneulles - MMD PS'!C:C,"")))*1.1+IF((_xlfn.IFS($B3='[1]60 Bailleul - TENART pour PS'!$I$1,_xlfn.XLOOKUP($A3,'[1]60 Bailleul - TENART pour PS'!$A:$A,'[1]60 Bailleul - TENART pour PS'!C:C,""),$B3='[1]00 Brillon - GEFCO PS'!$I$1,_xlfn.XLOOKUP($A3,'[1]00 Brillon - GEFCO PS'!$A:$A,'[1]00 Brillon - GEFCO PS'!C:C,""),$B3='[1]00 Brillon - Regional PS'!$I$1,_xlfn.XLOOKUP($A3,'[1]00 Brillon - Regional PS'!$A:$A,'[1]00 Brillon - Regional PS'!C:C,""),$B3='[1]00 Brillon - TDN PS'!$I$1,_xlfn.XLOOKUP($A3,'[1]00 Brillon - TDN PS'!$A:$A,'[1]00 Brillon - TDN PS'!C:C,""),$B3='[1]00 BRILLON - XPO PS'!$I$1,_xlfn.XLOOKUP($A3,'[1]00 BRILLON - XPO PS'!$A:$A,'[1]00 BRILLON - XPO PS'!C:C,""),$B3='[1]69 Irigny - Rodis PS'!$H$1,_xlfn.XLOOKUP($A3,'[1]69 Irigny - Rodis PS'!$A:$A,'[1]69 Irigny - Rodis PS'!C:C,""),$B3='[1]54 Champigneulles - MMD PS'!$I$1,_xlfn.XLOOKUP('[1]BRAZECO VAL BO'!$A3,'[1]54 Champigneulles - MMD PS'!$A:$A,'[1]54 Champigneulles - MMD PS'!C:C,"")))*1.1>0,_xlfn.XLOOKUP($B3,'[1]SAISIE PS '!$B$30:$B$37,'[1]SAISIE PS '!$D$30:$D$37,0)*1.1*'[1]BRAZECO VAL BO'!F$2,0)} -> 145 | G3: {=(_xlfn.IFS($B3='[1]60 Bailleul - TENART pour PS'!$I$1,_xlfn.XLOOKUP($A3,'[1]60 Bailleul - TENART pour PS'!$A:$A,'[1]60 Bailleul - TENART pour PS'!D:D,""),$B3='[1]00 Brillon - GEFCO PS'!$I$1,_xlfn.XLOOKUP($A3,'[1]00 Brillon - GEFCO PS'!$A:$A,'[1]00 Brillon - GEFCO PS'!D:D,""),$B3='[1]00 Brillon - Regional PS'!$I$1,_xlfn.XLOOKUP($A3,'[1]00 Brillon - Regional PS'!$A:$A,'[1]00 Brillon - Regional PS'!D:D,""),$B3='[1]00 Brillon - TDN PS'!$I$1,_xlfn.XLOOKUP($A3,'[1]00 Brillon - TDN PS'!$A:$A,'[1]00 Brillon - TDN PS'!D:D,""),$B3='[1]00 BRILLON - XPO PS'!$I$1,_xlfn.XLOOKUP($A3,'[1]00 BRILLON - XPO PS'!$A:$A,'[1]00 BRILLON - XPO PS'!D:D,""),$B3='[1]69 Irigny - Rodis PS'!$H$1,_xlfn.XLOOKUP($A3,'[1]69 Irigny - Rodis PS'!$A:$A,'[1]69 Irigny - Rodis PS'!D:D,""),$B3='[1]54 Champigneulles - MMD PS'!$I$1,_xlfn.XLOOKUP('[1]BRAZECO VAL BO'!$A3,'[1]54 Champigneulles - MMD PS'!$A:$A,'[1]54 Champigneulles - MMD PS'!D:D,"")))*1.1+IF((_xlfn.IFS($B3='[1]60 Bailleul - TENART pour PS'!$I$1,_xlfn.XLOOKUP($A3,'[1]60 Bailleul - TENART pour PS'!$A:$A,'[1]60 Bailleul - TENART pour PS'!D:D,""),$B3='[1]00 Brillon - GEFCO PS'!$I$1,_xlfn.XLOOKUP($A3,'[1]00 Brillon - GEFCO PS'!$A:$A,'[1]00 Brillon - GEFCO PS'!D:D,""),$B3='[1]00 Brillon - Regional PS'!$I$1,_xlfn.XLOOKUP($A3,'[1]00 Brillon - Regional PS'!$A:$A,'[1]00 Brillon - Regional PS'!D:D,""),$B3='[1]00 Brillon - TDN PS'!$I$1,_xlfn.XLOOKUP($A3,'[1]00 Brillon - TDN PS'!$A:$A,'[1]00 Brillon - TDN PS'!D:D,""),$B3='[1]00 BRILLON - XPO PS'!$I$1,_xlfn.XLOOKUP($A3,'[1]00 BRILLON - XPO PS'!$A:$A,'[1]00 BRILLON - XPO PS'!D:D,""),$B3='[1]69 Irigny - Rodis PS'!$H$1,_xlfn.XLOOKUP($A3,'[1]69 Irigny - Rodis PS'!$A:$A,'[1]69 Irigny - Rodis PS'!D:D,""),$B3='[1]54 Champigneulles - MMD PS'!$I$1,_xlfn.XLOOKUP('[1]BRAZECO VAL BO'!$A3,'[1]54 Champigneulles - MMD PS'!$A:$A,'[1]54 Champigneulles - MMD PS'!D:D,"")))*1.1>0,_xlfn.XLOOKUP($B3,'[1]SAISIE PS '!$B$30:$B$37,'[1]SAISIE PS '!$D$30:$D$37,0)*1.1*'[1]BRAZECO VAL BO'!G$2,0)} -> 230 | H3: {=(_xlfn.IFS($B3='[1]60 Bailleul - TENART pour PS'!$I$1,_xlfn.XLOOKUP($A3,'[1]60 Bailleul - TENART pour PS'!$A:$A,'[1]60 Bailleul - TENART pour PS'!E:E,""),$B3='[1]00 Brillon - GEFCO PS'!$I$1,_xlfn.XLOOKUP($A3,'[1]00 Brillon - GEFCO PS'!$A:$A,'[1]00 Brillon - GEFCO PS'!E:E,""),$B3='[1]00 Brillon - Regional PS'!$I$1,_xlfn.XLOOKUP($A3,'[1]00 Brillon - Regional PS'!$A:$A,'[1]00 Brillon - Regional PS'!E:E,""),$B3='[1]00 Brillon - TDN PS'!$I$1,_xlfn.XLOOKUP($A3,'[1]00 Brillon - TDN PS'!$A:$A,'[1]00 Brillon - TDN PS'!E:E,""),$B3='[1]00 BRILLON - XPO PS'!$I$1,_xlfn.XLOOKUP($A3,'[1]00 BRILLON - XPO PS'!$A:$A,'[1]00 BRILLON - XPO PS'!E:E,""),$B3='[1]69 Irigny - Rodis PS'!$H$1,_xlfn.XLOOKUP($A3,'[1]69 Irigny - Rodis PS'!$A:$A,'[1]69 Irigny - Rodis PS'!E:E,""),$B3='[1]54 Champigneulles - MMD PS'!$I$1,_xlfn.XLOOKUP('[1]BRAZECO VAL BO'!$A3,'[1]54 Champigneulles - MMD PS'!$A:$A,'[1]54 Champigneulles - MMD PS'!E:E,"")))*1.1+IF((_xlfn.IFS($B3='[1]60 Bailleul - TENART pour PS'!$I$1,_xlfn.XLOOKUP($A3,'[1]60 Bailleul - TENART pour PS'!$A:$A,'[1]60 Bailleul - TENART pour PS'!E:E,""),$B3='[1]00 Brillon - GEFCO PS'!$I$1,_xlfn.XLOOKUP($A3,'[1]00 Brillon - GEFCO PS'!$A:$A,'[1]00 Brillon - GEFCO PS'!E:E,""),$B3='[1]00 Brillon - Regional PS'!$I$1,_xlfn.XLOOKUP($A3,'[1]00 Brillon - Regional PS'!$A:$A,'[1]00 Brillon - Regional PS'!E:E,""),$B3='[1]00 Brillon - TDN PS'!$I$1,_xlfn.XLOOKUP($A3,'[1]00 Brillon - TDN PS'!$A:$A,'[1]00 Brillon - TDN PS'!E:E,""),$B3='[1]00 BRILLON - XPO PS'!$I$1,_xlfn.XLOOKUP($A3,'[1]00 BRILLON - XPO PS'!$A:$A,'[1]00 BRILLON - XPO PS'!E:E,""),$B3='[1]69 Irigny - Rodis PS'!$H$1,_xlfn.XLOOKUP($A3,'[1]69 Irigny - Rodis PS'!$A:$A,'[1]69 Irigny - Rodis PS'!E:E,""),$B3='[1]54 Champigneulles - MMD PS'!$I$1,_xlfn.XLOOKUP('[1]BRAZECO VAL BO'!$A3,'[1]54 Champigneulles - MMD PS'!$A:$A,'[1]54 Champigneulles - MMD PS'!E:E,"")))*1.1>0,_xlfn.XLOOKUP($B3,'[1]SAISIE PS '!$B$30:$B$37,'[1]SAISIE PS '!$D$30:$D$37,0)*1.1*'[1]BRAZECO VAL BO'!H$2,0)} -> 283 | I3: {=(_xlfn.IFS($B3='[1]60 Bailleul - TENART pour PS'!$I$1,_xlfn.XLOOKUP($A3,'[1]60 Bailleul - TENART pour PS'!$A:$A,'[1]60 Bailleul - TENART pour PS'!F:F,""),$B3='[1]00 Brillon - GEFCO PS'!$I$1,_xlfn.XLOOKUP($A3,'[1]00 Brillon - GEFCO PS'!$A:$A,'[1]00 Brillon - GEFCO PS'!F:F,""),$B3='[1]00 Brillon - Regional PS'!$I$1,_xlfn.XLOOKUP($A3,'[1]00 Brillon - Regional PS'!$A:$A,'[1]00 Brillon - Regional PS'!F:F,""),$B3='[1]00 Brillon - TDN PS'!$I$1,_xlfn.XLOOKUP($A3,'[1]00 Brillon - TDN PS'!$A:$A,'[1]00 Brillon - TDN PS'!F:F,""),$B3='[1]00 BRILLON - XPO PS'!$I$1,_xlfn.XLOOKUP($A3,'[1]00 BRILLON - XPO PS'!$A:$A,'[1]00 BRILLON - XPO PS'!F:F,""),$B3='[1]69 Irigny - Rodis PS'!$H$1,_xlfn.XLOOKUP($A3,'[1]69 Irigny - Rodis PS'!$A:$A,'[1]69 Irigny - Rodis PS'!F:F,""),$B3='[1]54 Champigneulles - MMD PS'!$I$1,_xlfn.XLOOKUP('[1]BRAZECO VAL BO'!$A3,'[1]54 Champigneulles - MMD PS'!$A:$A,'[1]54 Champigneulles - MMD PS'!F:F,"")))*1.1+IF((_xlfn.IFS($B3='[1]60 Bailleul - TENART pour PS'!$I$1,_xlfn.XLOOKUP($A3,'[1]60 Bailleul - TENART pour PS'!$A:$A,'[1]60 Bailleul - TENART pour PS'!F:F,""),$B3='[1]00 Brillon - GEFCO PS'!$I$1,_xlfn.XLOOKUP($A3,'[1]00 Brillon - GEFCO PS'!$A:$A,'[1]00 Brillon - GEFCO PS'!F:F,""),$B3='[1]00 Brillon - Regional PS'!$I$1,_xlfn.XLOOKUP($A3,'[1]00 Brillon - Regional PS'!$A:$A,'[1]00 Brillon - Regional PS'!F:F,""),$B3='[1]00 Brillon - TDN PS'!$I$1,_xlfn.XLOOKUP($A3,'[1]00 Brillon - TDN PS'!$A:$A,'[1]00 Brillon - TDN PS'!F:F,""),$B3='[1]00 BRILLON - XPO PS'!$I$1,_xlfn.XLOOKUP($A3,'[1]00 BRILLON - XPO PS'!$A:$A,'[1]00 BRILLON - XPO PS'!F:F,""),$B3='[1]69 Irigny - Rodis PS'!$H$1,_xlfn.XLOOKUP($A3,'[1]69 Irigny - Rodis PS'!$A:$A,'[1]69 Irigny - Rodis PS'!F:F,""),$B3='[1]54 Champigneulles - MMD PS'!$I$1,_xlfn.XLOOKUP('[1]BRAZECO VAL BO'!$A3,'[1]54 Champigneulles - MMD PS'!$A:$A,'[1]54 Champigneulles - MMD PS'!F:F,"")))*1.1>0,_xlfn.XLOOKUP($B3,'[1]SAISIE PS '!$B$30:$B$37,'[1]SAISIE PS '!$D$30:$D$37,0)*1.1*'[1]BRAZECO VAL BO'!I$2,0)} -> 335 | J3: {=(_xlfn.IFS($B3='[1]60 Bailleul - TENART pour PS'!$I$1,_xlfn.XLOOKUP($A3,'[1]60 Bailleul - TENART pour PS'!$A:$A,'[1]60 Bailleul - TENART pour PS'!G:G,""),$B3='[1]00 Brillon - GEFCO PS'!$I$1,_xlfn.XLOOKUP($A3,'[1]00 Brillon - GEFCO PS'!$A:$A,'[1]00 Brillon - GEFCO PS'!G:G,""),$B3='[1]00 Brillon - Regional PS'!$I$1,_xlfn.XLOOKUP($A3,'[1]00 Brillon - Regional PS'!$A:$A,'[1]00 Brillon - Regional PS'!G:G,""),$B3='[1]00 Brillon - TDN PS'!$I$1,_xlfn.XLOOKUP($A3,'[1]00 Brillon - TDN PS'!$A:$A,'[1]00 Brillon - TDN PS'!G:G,""),$B3='[1]00 BRILLON - XPO PS'!$I$1,_xlfn.XLOOKUP($A3,'[1]00 BRILLON - XPO PS'!$A:$A,'[1]00 BRILLON - XPO PS'!G:G,""),$B3='[1]69 Irigny - Rodis PS'!$H$1,_xlfn.XLOOKUP($A3,'[1]69 Irigny - Rodis PS'!$A:$A,'[1]69 Irigny - Rodis PS'!G:G,""),$B3='[1]54 Champigneulles - MMD PS'!$I$1,_xlfn.XLOOKUP('[1]BRAZECO VAL BO'!$A3,'[1]54 Champigneulles - MMD PS'!$A:$A,'[1]54 Champigneulles - MMD PS'!G:G,"")))*1.1+IF((_xlfn.IFS($B3='[1]60 Bailleul - TENART pour PS'!$I$1,_xlfn.XLOOKUP($A3,'[1]60 Bailleul - TENART pour PS'!$A:$A,'[1]60 Bailleul - TENART pour PS'!G:G,""),$B3='[1]00 Brillon - GEFCO PS'!$I$1,_xlfn.XLOOKUP($A3,'[1]00 Brillon - GEFCO PS'!$A:$A,'[1]00 Brillon - GEFCO PS'!G:G,""),$B3='[1]00 Brillon - Regional PS'!$I$1,_xlfn.XLOOKUP($A3,'[1]00 Brillon - Regional PS'!$A:$A,'[1]00 Brillon - Regional PS'!G:G,""),$B3='[1]00 Brillon - TDN PS'!$I$1,_xlfn.XLOOKUP($A3,'[1]00 Brillon - TDN PS'!$A:$A,'[1]00 Brillon - TDN PS'!G:G,""),$B3='[1]00 BRILLON - XPO PS'!$I$1,_xlfn.XLOOKUP($A3,'[1]00 BRILLON - XPO PS'!$A:$A,'[1]00 BRILLON - XPO PS'!G:G,""),$B3='[1]69 Irigny - Rodis PS'!$H$1,_xlfn.XLOOKUP($A3,'[1]69 Irigny - Rodis PS'!$A:$A,'[1]69 Irigny - Rodis PS'!G:G,""),$B3='[1]54 Champigneulles - MMD PS'!$I$1,_xlfn.XLOOKUP('[1]BRAZECO VAL BO'!$A3,'[1]54 Champigneulles - MMD PS'!$A:$A,'[1]54 Champigneulles - MMD PS'!G:G,"")))*1.1>0,_xlfn.XLOOKUP($B3,'[1]SAISIE PS '!$B$30:$B$37,'[1]SAISIE PS '!$D$30:$D$37,0)*1.1*'[1]BRAZECO VAL BO'!J$2,0)} -> 394 | K3: {=(_xlfn.IFS($B3='[1]60 Bailleul - TENART pour PS'!$I$1,_xlfn.XLOOKUP($A3,'[1]60 Bailleul - TENART pour PS'!$A:$A,'[1]60 Bailleul - TENART pour PS'!H:H,""),$B3='[1]00 Brillon - GEFCO PS'!$I$1,_xlfn.XLOOKUP($A3,'[1]00 Brillon - GEFCO PS'!$A:$A,'[1]00 Brillon - GEFCO PS'!H:H,""),$B3='[1]00 Brillon - Regional PS'!$I$1,_xlfn.XLOOKUP($A3,'[1]00 Brillon - Regional PS'!$A:$A,'[1]00 Brillon - Regional PS'!H:H,""),$B3='[1]00 Brillon - TDN PS'!$I$1,_xlfn.XLOOKUP($A3,'[1]00 Brillon - TDN PS'!$A:$A,'[1]00 Brillon - TDN PS'!H:H,""),$B3='[1]00 BRILLON - XPO PS'!$I$1,_xlfn.XLOOKUP($A3,'[1]00 BRILLON - XPO PS'!$A:$A,'[1]00 BRILLON - XPO PS'!H:H,""),$B3='[1]69 Irigny - Rodis PS'!$H$1,_xlfn.XLOOKUP($A3,'[1]69 Irigny - Rodis PS'!$A:$A,'[1]69 Irigny - Rodis PS'!H:H,""),$B3='[1]54 Champigneulles - MMD PS'!$I$1,_xlfn.XLOOKUP('[1]BRAZECO VAL BO'!$A3,'[1]54 Champigneulles - MMD PS'!$A:$A,'[1]54 Champigneulles - MMD PS'!H:H,"")))*1.1+IF((_xlfn.IFS($B3='[1]60 Bailleul - TENART pour PS'!$I$1,_xlfn.XLOOKUP($A3,'[1]60 Bailleul - TENART pour PS'!$A:$A,'[1]60 Bailleul - TENART pour PS'!H:H,""),$B3='[1]00 Brillon - GEFCO PS'!$I$1,_xlfn.XLOOKUP($A3,'[1]00 Brillon - GEFCO PS'!$A:$A,'[1]00 Brillon - GEFCO PS'!H:H,""),$B3='[1]00 Brillon - Regional PS'!$I$1,_xlfn.XLOOKUP($A3,'[1]00 Brillon - Regional PS'!$A:$A,'[1]00 Brillon - Regional PS'!H:H,""),$B3='[1]00 Brillon - TDN PS'!$I$1,_xlfn.XLOOKUP($A3,'[1]00 Brillon - TDN PS'!$A:$A,'[1]00 Brillon - TDN PS'!H:H,""),$B3='[1]00 BRILLON - XPO PS'!$I$1,_xlfn.XLOOKUP($A3,'[1]00 BRILLON - XPO PS'!$A:$A,'[1]00 BRILLON - XPO PS'!H:H,""),$B3='[1]69 Irigny - Rodis PS'!$H$1,_xlfn.XLOOKUP($A3,'[1]69 Irigny - Rodis PS'!$A:$A,'[1]69 Irigny - Rodis PS'!H:H,""),$B3='[1]54 Champigneulles - MMD PS'!$I$1,_xlfn.XLOOKUP('[1]BRAZECO VAL BO'!$A3,'[1]54 Champigneulles - MMD PS'!$A:$A,'[1]54 Champigneulles - MMD PS'!H:H,"")))*1.1>0,_xlfn.XLOOKUP($B3,'[1]SAISIE PS '!$B$30:$B$37,'[1]SAISIE PS '!$D$30:$D$37,0)*1.1*'[1]BRAZECO VAL BO'!K$2,0)} -> 0 | M3: =IF(F3>0,TRUNC(($E3*65*M$2+F3)/(65*M$2),6),"") -> 7.876923 | N3: =IF(G3>0,TRUNC(($E3*65*N$2+G3)/(65*N$2),6),"") -> 7.415384 | O3: =IF(H3>0,TRUNC(($E3*65*O$2+H3)/(65*O$2),6),"") -> 7.097435 | P3: =IF(I3>0,TRUNC(($E3*65*P$2+I3)/(65*P$2),6),"") -> 6.934615 | Q3: =IF(J3>0,TRUNC(($E3*65*Q$2+J3)/(65*Q$2),6),"") -> 6.858461 | R3: =IF(K3>0,TRUNC(($E3*65*R$2+K3)/(65*R$2),6),"")
A4: 02 - Aisne | B4: ='[1]OUTPUT PS'!H5 -> 59 BRILLON Regional | C4: ='[1]OUTPUT PS'!I5 -> 476 | E4: =(C4-F4)/65 -> 5.6461538 | F4: {=(_xlfn.IFS($B4='[1]60 Bailleul - TENART pour PS'!$I$1,_xlfn.XLOOKUP($A4,'[1]60 Bailleul - TENART pour PS'!$A:$A,'[1]60 Bailleul - TENART pour PS'!C:C,""),$B4='[1]00 Brillon - GEFCO PS'!$I$1,_xlfn.XLOOKUP($A4,'[1]00 Brillon - GEFCO PS'!$A:$A,'[1]00 Brillon - GEFCO PS'!C:C,""),$B4='[1]00 Brillon - Regional PS'!$I$1,_xlfn.XLOOKUP($A4,'[1]00 Brillon - Regional PS'!$A:$A,'[1]00 Brillon - Regional PS'!C:C,""),$B4='[1]00 Brillon - TDN PS'!$I$1,_xlfn.XLOOKUP($A4,'[1]00 Brillon - TDN PS'!$A:$A,'[1]00 Brillon - TDN PS'!C:C,""),$B4='[1]00 BRILLON - XPO PS'!$I$1,_xlfn.XLOOKUP($A4,'[1]00 BRILLON - XPO PS'!$A:$A,'[1]00 BRILLON - XPO PS'!C:C,""),$B4='[1]69 Irigny - Rodis PS'!$H$1,_xlfn.XLOOKUP($A4,'[1]69 Irigny - Rodis PS'!$A:$A,'[1]69 Irigny - Rodis PS'!C:C,""),$B4='[1]54 Champigneulles - MMD PS'!$I$1,_xlfn.XLOOKUP('[1]BRAZECO VAL BO'!$A4,'[1]54 Champigneulles - MMD PS'!$A:$A,'[1]54 Champigneulles - MMD PS'!C:C,"")))*1.1+IF((_xlfn.IFS($B4='[1]60 Bailleul - TENART pour PS'!$I$1,_xlfn.XLOOKUP($A4,'[1]60 Bailleul - TENART pour PS'!$A:$A,'[1]60 Bailleul - TENART pour PS'!C:C,""),$B4='[1]00 Brillon - GEFCO PS'!$I$1,_xlfn.XLOOKUP($A4,'[1]00 Brillon - GEFCO PS'!$A:$A,'[1]00 Brillon - GEFCO PS'!C:C,""),$B4='[1]00 Brillon - Regional PS'!$I$1,_xlfn.XLOOKUP($A4,'[1]00 Brillon - Regional PS'!$A:$A,'[1]00 Brillon - Regional PS'!C:C,""),$B4='[1]00 Brillon - TDN PS'!$I$1,_xlfn.XLOOKUP($A4,'[1]00 Brillon - TDN PS'!$A:$A,'[1]00 Brillon - TDN PS'!C:C,""),$B4='[1]00 BRILLON - XPO PS'!$I$1,_xlfn.XLOOKUP($A4,'[1]00 BRILLON - XPO PS'!$A:$A,'[1]00 BRILLON - XPO PS'!C:C,""),$B4='[1]69 Irigny - Rodis PS'!$H$1,_xlfn.XLOOKUP($A4,'[1]69 Irigny - Rodis PS'!$A:$A,'[1]69 Irigny - Rodis PS'!C:C,""),$B4='[1]54 Champigneulles - MMD PS'!$I$1,_xlfn.XLOOKUP('[1]BRAZECO VAL BO'!$A4,'[1]54 Champigneulles - MMD PS'!$A:$A,'[1]54 Champigneulles - MMD PS'!C:C,"")))*1.1>0,_xlfn.XLOOKUP($B4,'[1]SAISIE PS '!$B$30:$B$37,'[1]SAISIE PS '!$D$30:$D$37,0)*1.1*'[1]BRAZECO VAL BO'!F$2,0)} -> 109 | G4: {=(_xlfn.IFS($B4='[1]60 Bailleul - TENART pour PS'!$I$1,_xlfn.XLOOKUP($A4,'[1]60 Bailleul - TENART pour PS'!$A:$A,'[1]60 Bailleul - TENART pour PS'!D:D,""),$B4='[1]00 Brillon - GEFCO PS'!$I$1,_xlfn.XLOOKUP($A4,'[1]00 Brillon - GEFCO PS'!$A:$A,'[1]00 Brillon - GEFCO PS'!D:D,""),$B4='[1]00 Brillon - Regional PS'!$I$1,_xlfn.XLOOKUP($A4,'[1]00 Brillon - Regional PS'!$A:$A,'[1]00 Brillon - Regional PS'!D:D,""),$B4='[1]00 Brillon - TDN PS'!$I$1,_xlfn.XLOOKUP($A4,'[1]00 Brillon - TDN PS'!$A:$A,'[1]00 Brillon - TDN PS'!D:D,""),$B4='[1]00 BRILLON - XPO PS'!$I$1,_xlfn.XLOOKUP($A4,'[1]00 BRILLON - XPO PS'!$A:$A,'[1]00 BRILLON - XPO PS'!D:D,""),$B4='[1]69 Irigny - Rodis PS'!$H$1,_xlfn.XLOOKUP($A4,'[1]69 Irigny - Rodis PS'!$A:$A,'[1]69 Irigny - Rodis PS'!D:D,""),$B4='[1]54 Champigneulles - MMD PS'!$I$1,_xlfn.XLOOKUP('[1]BRAZECO VAL BO'!$A4,'[1]54 Champigneulles - MMD PS'!$A:$A,'[1]54 Champigneulles - MMD PS'!D:D,"")))*1.1+IF((_xlfn.IFS($B4='[1]60 Bailleul - TENART pour PS'!$I$1,_xlfn.XLOOKUP($A4,'[1]60 Bailleul - TENART pour PS'!$A:$A,'[1]60 Bailleul - TENART pour PS'!D:D,""),$B4='[1]00 Brillon - GEFCO PS'!$I$1,_xlfn.XLOOKUP($A4,'[1]00 Brillon - GEFCO PS'!$A:$A,'[1]00 Brillon - GEFCO PS'!D:D,""),$B4='[1]00 Brillon - Regional PS'!$I$1,_xlfn.XLOOKUP($A4,'[1]00 Brillon - Regional PS'!$A:$A,'[1]00 Brillon - Regional PS'!D:D,""),$B4='[1]00 Brillon - TDN PS'!$I$1,_xlfn.XLOOKUP($A4,'[1]00 Brillon - TDN PS'!$A:$A,'[1]00 Brillon - TDN PS'!D:D,""),$B4='[1]00 BRILLON - XPO PS'!$I$1,_xlfn.XLOOKUP($A4,'[1]00 BRILLON - XPO PS'!$A:$A,'[1]00 BRILLON - XPO PS'!D:D,""),$B4='[1]69 Irigny - Rodis PS'!$H$1,_xlfn.XLOOKUP($A4,'[1]69 Irigny - Rodis PS'!$A:$A,'[1]69 Irigny - Rodis PS'!D:D,""),$B4='[1]54 Champigneulles - MMD PS'!$I$1,_xlfn.XLOOKUP('[1]BRAZECO VAL BO'!$A4,'[1]54 Champigneulles - MMD PS'!$A:$A,'[1]54 Champigneulles - MMD PS'!D:D,"")))*1.1>0,_xlfn.XLOOKUP($B4,'[1]SAISIE PS '!$B$30:$B$37,'[1]SAISIE PS '!$D$30:$D$37,0)*1.1*'[1]BRAZECO VAL BO'!G$2,0)} -> 178 | H4: {=(_xlfn.IFS($B4='[1]60 Bailleul - TENART pour PS'!$I$1,_xlfn.XLOOKUP($A4,'[1]60 Bailleul - TENART pour PS'!$A:$A,'[1]60 Bailleul - TENART pour PS'!E:E,""),$B4='[1]00 Brillon - GEFCO PS'!$I$1,_xlfn.XLOOKUP($A4,'[1]00 Brillon - GEFCO PS'!$A:$A,'[1]00 Brillon - GEFCO PS'!E:E,""),$B4='[1]00 Brillon - Regional PS'!$I$1,_xlfn.XLOOKUP($A4,'[1]00 Brillon - Regional PS'!$A:$A,'[1]00 Brillon - Regional PS'!E:E,""),$B4='[1]00 Brillon - TDN PS'!$I$1,_xlfn.XLOOKUP($A4,'[1]00 Brillon - TDN PS'!$A:$A,'[1]00 Brillon - TDN PS'!E:E,""),$B4='[1]00 BRILLON - XPO PS'!$I$1,_xlfn.XLOOKUP($A4,'[1]00 BRILLON - XPO PS'!$A:$A,'[1]00 BRILLON - XPO PS'!E:E,""),$B4='[1]69 Irigny - Rodis PS'!$H$1,_xlfn.XLOOKUP($A4,'[1]69 Irigny - Rodis PS'!$A:$A,'[1]69 Irigny - Rodis PS'!E:E,""),$B4='[1]54 Champigneulles - MMD PS'!$I$1,_xlfn.XLOOKUP('[1]BRAZECO VAL BO'!$A4,'[1]54 Champigneulles - MMD PS'!$A:$A,'[1]54 Champigneulles - MMD PS'!E:E,"")))*1.1+IF((_xlfn.IFS($B4='[1]60 Bailleul - TENART pour PS'!$I$1,_xlfn.XLOOKUP($A4,'[1]60 Bailleul - TENART pour PS'!$A:$A,'[1]60 Bailleul - TENART pour PS'!E:E,""),$B4='[1]00 Brillon - GEFCO PS'!$I$1,_xlfn.XLOOKUP($A4,'[1]00 Brillon - GEFCO PS'!$A:$A,'[1]00 Brillon - GEFCO PS'!E:E,""),$B4='[1]00 Brillon - Regional PS'!$I$1,_xlfn.XLOOKUP($A4,'[1]00 Brillon - Regional PS'!$A:$A,'[1]00 Brillon - Regional PS'!E:E,""),$B4='[1]00 Brillon - TDN PS'!$I$1,_xlfn.XLOOKUP($A4,'[1]00 Brillon - TDN PS'!$A:$A,'[1]00 Brillon - TDN PS'!E:E,""),$B4='[1]00 BRILLON - XPO PS'!$I$1,_xlfn.XLOOKUP($A4,'[1]00 BRILLON - XPO PS'!$A:$A,'[1]00 BRILLON - XPO PS'!E:E,""),$B4='[1]69 Irigny - Rodis PS'!$H$1,_xlfn.XLOOKUP($A4,'[1]69 Irigny - Rodis PS'!$A:$A,'[1]69 Irigny - Rodis PS'!E:E,""),$B4='[1]54 Champigneulles - MMD PS'!$I$1,_xlfn.XLOOKUP('[1]BRAZECO VAL BO'!$A4,'[1]54 Champigneulles - MMD PS'!$A:$A,'[1]54 Champigneulles - MMD PS'!E:E,"")))*1.1>0,_xlfn.XLOOKUP($B4,'[1]SAISIE PS '!$B$30:$B$37,'[1]SAISIE PS '!$D$30:$D$37,0)*1.1*'[1]BRAZECO VAL BO'!H$2,0)} -> 235 | I4: {=(_xlfn.IFS($B4='[1]60 Bailleul - TENART pour PS'!$I$1,_xlfn.XLOOKUP($A4,'[1]60 Bailleul - TENART pour PS'!$A:$A,'[1]60 Bailleul - TENART pour PS'!F:F,""),$B4='[1]00 Brillon - GEFCO PS'!$I$1,_xlfn.XLOOKUP($A4,'[1]00 Brillon - GEFCO PS'!$A:$A,'[1]00 Brillon - GEFCO PS'!F:F,""),$B4='[1]00 Brillon - Regional PS'!$I$1,_xlfn.XLOOKUP($A4,'[1]00 Brillon - Regional PS'!$A:$A,'[1]00 Brillon - Regional PS'!F:F,""),$B4='[1]00 Brillon - TDN PS'!$I$1,_xlfn.XLOOKUP($A4,'[1]00 Brillon - TDN PS'!$A:$A,'[1]00 Brillon - TDN PS'!F:F,""),$B4='[1]00 BRILLON - XPO PS'!$I$1,_xlfn.XLOOKUP($A4,'[1]00 BRILLON - XPO PS'!$A:$A,'[1]00 BRILLON - XPO PS'!F:F,""),$B4='[1]69 Irigny - Rodis PS'!$H$1,_xlfn.XLOOKUP($A4,'[1]69 Irigny - Rodis PS'!$A:$A,'[1]69 Irigny - Rodis PS'!F:F,""),$B4='[1]54 Champigneulles - MMD PS'!$I$1,_xlfn.XLOOKUP('[1]BRAZECO VAL BO'!$A4,'[1]54 Champigneulles - MMD PS'!$A:$A,'[1]54 Champigneulles - MMD PS'!F:F,"")))*1.1+IF((_xlfn.IFS($B4='[1]60 Bailleul - TENART pour PS'!$I$1,_xlfn.XLOOKUP($A4,'[1]60 Bailleul - TENART pour PS'!$A:$A,'[1]60 Bailleul - TENART pour PS'!F:F,""),$B4='[1]00 Brillon - GEFCO PS'!$I$1,_xlfn.XLOOKUP($A4,'[1]00 Brillon - GEFCO PS'!$A:$A,'[1]00 Brillon - GEFCO PS'!F:F,""),$B4='[1]00 Brillon - Regional PS'!$I$1,_xlfn.XLOOKUP($A4,'[1]00 Brillon - Regional PS'!$A:$A,'[1]00 Brillon - Regional PS'!F:F,""),$B4='[1]00 Brillon - TDN PS'!$I$1,_xlfn.XLOOKUP($A4,'[1]00 Brillon - TDN PS'!$A:$A,'[1]00 Brillon - TDN PS'!F:F,""),$B4='[1]00 BRILLON - XPO PS'!$I$1,_xlfn.XLOOKUP($A4,'[1]00 BRILLON - XPO PS'!$A:$A,'[1]00 BRILLON - XPO PS'!F:F,""),$B4='[1]69 Irigny - Rodis PS'!$H$1,_xlfn.XLOOKUP($A4,'[1]69 Irigny - Rodis PS'!$A:$A,'[1]69 Irigny - Rodis PS'!F:F,""),$B4='[1]54 Champigneulles - MMD PS'!$I$1,_xlfn.XLOOKUP('[1]BRAZECO VAL BO'!$A4,'[1]54 Champigneulles - MMD PS'!$A:$A,'[1]54 Champigneulles - MMD PS'!F:F,"")))*1.1>0,_xlfn.XLOOKUP($B4,'[1]SAISIE PS '!$B$30:$B$37,'[1]SAISIE PS '!$D$30:$D$37,0)*1.1*'[1]BRAZECO VAL BO'!I$2,0)} -> 0 | J4: {=(_xlfn.IFS($B4='[1]60 Bailleul - TENART pour PS'!$I$1,_xlfn.XLOOKUP($A4,'[1]60 Bailleul - TENART pour PS'!$A:$A,'[1]60 Bailleul - TENART pour PS'!G:G,""),$B4='[1]00 Brillon - GEFCO PS'!$I$1,_xlfn.XLOOKUP($A4,'[1]00 Brillon - GEFCO PS'!$A:$A,'[1]00 Brillon - GEFCO PS'!G:G,""),$B4='[1]00 Brillon - Regional PS'!$I$1,_xlfn.XLOOKUP($A4,'[1]00 Brillon - Regional PS'!$A:$A,'[1]00 Brillon - Regional PS'!G:G,""),$B4='[1]00 Brillon - TDN PS'!$I$1,_xlfn.XLOOKUP($A4,'[1]00 Brillon - TDN PS'!$A:$A,'[1]00 Brillon - TDN PS'!G:G,""),$B4='[1]00 BRILLON - XPO PS'!$I$1,_xlfn.XLOOKUP($A4,'[1]00 BRILLON - XPO PS'!$A:$A,'[1]00 BRILLON - XPO PS'!G:G,""),$B4='[1]69 Irigny - Rodis PS'!$H$1,_xlfn.XLOOKUP($A4,'[1]69 Irigny - Rodis PS'!$A:$A,'[1]69 Irigny - Rodis PS'!G:G,""),$B4='[1]54 Champigneulles - MMD PS'!$I$1,_xlfn.XLOOKUP('[1]BRAZECO VAL BO'!$A4,'[1]54 Champigneulles - MMD PS'!$A:$A,'[1]54 Champigneulles - MMD PS'!G:G,"")))*1.1+IF((_xlfn.IFS($B4='[1]60 Bailleul - TENART pour PS'!$I$1,_xlfn.XLOOKUP($A4,'[1]60 Bailleul - TENART pour PS'!$A:$A,'[1]60 Bailleul - TENART pour PS'!G:G,""),$B4='[1]00 Brillon - GEFCO PS'!$I$1,_xlfn.XLOOKUP($A4,'[1]00 Brillon - GEFCO PS'!$A:$A,'[1]00 Brillon - GEFCO PS'!G:G,""),$B4='[1]00 Brillon - Regional PS'!$I$1,_xlfn.XLOOKUP($A4,'[1]00 Brillon - Regional PS'!$A:$A,'[1]00 Brillon - Regional PS'!G:G,""),$B4='[1]00 Brillon - TDN PS'!$I$1,_xlfn.XLOOKUP($A4,'[1]00 Brillon - TDN PS'!$A:$A,'[1]00 Brillon - TDN PS'!G:G,""),$B4='[1]00 BRILLON - XPO PS'!$I$1,_xlfn.XLOOKUP($A4,'[1]00 BRILLON - XPO PS'!$A:$A,'[1]00 BRILLON - XPO PS'!G:G,""),$B4='[1]69 Irigny - Rodis PS'!$H$1,_xlfn.XLOOKUP($A4,'[1]69 Irigny - Rodis PS'!$A:$A,'[1]69 Irigny - Rodis PS'!G:G,""),$B4='[1]54 Champigneulles - MMD PS'!$I$1,_xlfn.XLOOKUP('[1]BRAZECO VAL BO'!$A4,'[1]54 Champigneulles - MMD PS'!$A:$A,'[1]54 Champigneulles - MMD PS'!G:G,"")))*1.1>0,_xlfn.XLOOKUP($B4,'[1]SAISIE PS '!$B$30:$B$37,'[1]SAISIE PS '!$D$30:$D$37,0)*1.1*'[1]BRAZECO VAL BO'!J$2,0)} -> 0 | K4: {=(_xlfn.IFS($B4='[1]60 Bailleul - TENART pour PS'!$I$1,_xlfn.XLOOKUP($A4,'[1]60 Bailleul - TENART pour PS'!$A:$A,'[1]60 Bailleul - TENART pour PS'!H:H,""),$B4='[1]00 Brillon - GEFCO PS'!$I$1,_xlfn.XLOOKUP($A4,'[1]00 Brillon - GEFCO PS'!$A:$A,'[1]00 Brillon - GEFCO PS'!H:H,""),$B4='[1]00 Brillon - Regional PS'!$I$1,_xlfn.XLOOKUP($A4,'[1]00 Brillon - Regional PS'!$A:$A,'[1]00 Brillon - Regional PS'!H:H,""),$B4='[1]00 Brillon - TDN PS'!$I$1,_xlfn.XLOOKUP($A4,'[1]00 Brillon - TDN PS'!$A:$A,'[1]00 Brillon - TDN PS'!H:H,""),$B4='[1]00 BRILLON - XPO PS'!$I$1,_xlfn.XLOOKUP($A4,'[1]00 BRILLON - XPO PS'!$A:$A,'[1]00 BRILLON - XPO PS'!H:H,""),$B4='[1]69 Irigny - Rodis PS'!$H$1,_xlfn.XLOOKUP($A4,'[1]69 Irigny - Rodis PS'!$A:$A,'[1]69 Irigny - Rodis PS'!H:H,""),$B4='[1]54 Champigneulles - MMD PS'!$I$1,_xlfn.XLOOKUP('[1]BRAZECO VAL BO'!$A4,'[1]54 Champigneulles - MMD PS'!$A:$A,'[1]54 Champigneulles - MMD PS'!H:H,"")))*1.1+IF((_xlfn.IFS($B4='[1]60 Bailleul - TENART pour PS'!$I$1,_xlfn.XLOOKUP($A4,'[1]60 Bailleul - TENART pour PS'!$A:$A,'[1]60 Bailleul - TENART pour PS'!H:H,""),$B4='[1]00 Brillon - GEFCO PS'!$I$1,_xlfn.XLOOKUP($A4,'[1]00 Brillon - GEFCO PS'!$A:$A,'[1]00 Brillon - GEFCO PS'!H:H,""),$B4='[1]00 Brillon - Regional PS'!$I$1,_xlfn.XLOOKUP($A4,'[1]00 Brillon - Regional PS'!$A:$A,'[1]00 Brillon - Regional PS'!H:H,""),$B4='[1]00 Brillon - TDN PS'!$I$1,_xlfn.XLOOKUP($A4,'[1]00 Brillon - TDN PS'!$A:$A,'[1]00 Brillon - TDN PS'!H:H,""),$B4='[1]00 BRILLON - XPO PS'!$I$1,_xlfn.XLOOKUP($A4,'[1]00 BRILLON - XPO PS'!$A:$A,'[1]00 BRILLON - XPO PS'!H:H,""),$B4='[1]69 Irigny - Rodis PS'!$H$1,_xlfn.XLOOKUP($A4,'[1]69 Irigny - Rodis PS'!$A:$A,'[1]69 Irigny - Rodis PS'!H:H,""),$B4='[1]54 Champigneulles - MMD PS'!$I$1,_xlfn.XLOOKUP('[1]BRAZECO VAL BO'!$A4,'[1]54 Champigneulles - MMD PS'!$A:$A,'[1]54 Champigneulles - MMD PS'!H:H,"")))*1.1>0,_xlfn.XLOOKUP($B4,'[1]SAISIE PS '!$B$30:$B$37,'[1]SAISIE PS '!$D$30:$D$37,0)*1.1*'[1]BRAZECO VAL BO'!K$2,0)} -> 0 | M4: =IF(F4>0,TRUNC(($E4*65*M$2+F4)/(65*M$2),6),"") -> 7.323076 | N4: =IF(G4>0,TRUNC(($E4*65*N$2+G4)/(65*N$2),6),"") -> 7.015384 | O4: =IF(H4>0,TRUNC(($E4*65*O$2+H4)/(65*O$2),6),"") -> 6.851282 | P4: =IF(I4>0,TRUNC(($E4*65*P$2+I4)/(65*P$2),6),"") | Q4: =IF(J4>0,TRUNC(($E4*65*Q$2+J4)/(65*Q$2),6),"")
A5: 03 - Allier | B5: ='[1]OUTPUT PS'!H6 -> 60 TENARD BAILLEUL | C5: ='[1]OUTPUT PS'!I6 -> 487 | E5: =(C5-F5)/65 -> 5.6461538 | F5: {=(_xlfn.IFS($B5='[1]60 Bailleul - TENART pour PS'!$I$1,_xlfn.XLOOKUP($A5,'[1]60 Bailleul - TENART pour PS'!$A:$A,'[1]60 Bailleul - TENART pour PS'!C:C,""),$B5='[1]00 Brillon - GEFCO PS'!$I$1,_xlfn.XLOOKUP($A5,'[1]00 Brillon - GEFCO PS'!$A:$A,'[1]00 Brillon - GEFCO PS'!C:C,""),$B5='[1]00 Brillon - Regional PS'!$I$1,_xlfn.XLOOKUP($A5,'[1]00 Brillon - Regional PS'!$A:$A,'[1]00 Brillon - Regional PS'!C:C,""),$B5='[1]00 Brillon - TDN PS'!$I$1,_xlfn.XLOOKUP($A5,'[1]00 Brillon - TDN PS'!$A:$A,'[1]00 Brillon - TDN PS'!C:C,""),$B5='[1]00 BRILLON - XPO PS'!$I$1,_xlfn.XLOOKUP($A5,'[1]00 BRILLON - XPO PS'!$A:$A,'[1]00 BRILLON - XPO PS'!C:C,""),$B5='[1]69 Irigny - Rodis PS'!$H$1,_xlfn.XLOOKUP($A5,'[1]69 Irigny - Rodis PS'!$A:$A,'[1]69 Irigny - Rodis PS'!C:C,""),$B5='[1]54 Champigneulles - MMD PS'!$I$1,_xlfn.XLOOKUP('[1]BRAZECO VAL BO'!$A5,'[1]54 Champigneulles - MMD PS'!$A:$A,'[1]54 Champigneulles - MMD PS'!C:C,"")))*1.1+IF((_xlfn.IFS($B5='[1]60 Bailleul - TENART pour PS'!$I$1,_xlfn.XLOOKUP($A5,'[1]60 Bailleul - TENART pour PS'!$A:$A,'[1]60 Bailleul - TENART pour PS'!C:C,""),$B5='[1]00 Brillon - GEFCO PS'!$I$1,_xlfn.XLOOKUP($A5,'[1]00 Brillon - GEFCO PS'!$A:$A,'[1]00 Brillon - GEFCO PS'!C:C,""),$B5='[1]00 Brillon - Regional PS'!$I$1,_xlfn.XLOOKUP($A5,'[1]00 Brillon - Regional PS'!$A:$A,'[1]00 Brillon - Regional PS'!C:C,""),$B5='[1]00 Brillon - TDN PS'!$I$1,_xlfn.XLOOKUP($A5,'[1]00 Brillon - TDN PS'!$A:$A,'[1]00 Brillon - TDN PS'!C:C,""),$B5='[1]00 BRILLON - XPO PS'!$I$1,_xlfn.XLOOKUP($A5,'[1]00 BRILLON - XPO PS'!$A:$A,'[1]00 BRILLON - XPO PS'!C:C,""),$B5='[1]69 Irigny - Rodis PS'!$H$1,_xlfn.XLOOKUP($A5,'[1]69 Irigny - Rodis PS'!$A:$A,'[1]69 Irigny - Rodis PS'!C:C,""),$B5='[1]54 Champigneulles - MMD PS'!$I$1,_xlfn.XLOOKUP('[1]BRAZECO VAL BO'!$A5,'[1]54 Champigneulles - MMD PS'!$A:$A,'[1]54 Champigneulles - MMD PS'!C:C,"")))*1.1>0,_xlfn.XLOOKUP($B5,'[1]SAISIE PS '!$B$30:$B$37,'[1]SAISIE PS '!$D$30:$D$37,0)*1.1*'[1]BRAZECO VAL BO'!F$2,0)} -> 120 | G5: {=(_xlfn.IFS($B5='[1]60 Bailleul - TENART pour PS'!$I$1,_xlfn.XLOOKUP($A5,'[1]60 Bailleul - TENART pour PS'!$A:$A,'[1]60 Bailleul - TENART pour PS'!D:D,""),$B5='[1]00 Brillon - GEFCO PS'!$I$1,_xlfn.XLOOKUP($A5,'[1]00 Brillon - GEFCO PS'!$A:$A,'[1]00 Brillon - GEFCO PS'!D:D,""),$B5='[1]00 Brillon - Regional PS'!$I$1,_xlfn.XLOOKUP($A5,'[1]00 Brillon - Regional PS'!$A:$A,'[1]00 Brillon - Regional PS'!D:D,""),$B5='[1]00 Brillon - TDN PS'!$I$1,_xlfn.XLOOKUP($A5,'[1]00 Brillon - TDN PS'!$A:$A,'[1]00 Brillon - TDN PS'!D:D,""),$B5='[1]00 BRILLON - XPO PS'!$I$1,_xlfn.XLOOKUP($A5,'[1]00 BRILLON - XPO PS'!$A:$A,'[1]00 BRILLON - XPO PS'!D:D,""),$B5='[1]69 Irigny - Rodis PS'!$H$1,_xlfn.XLOOKUP($A5,'[1]69 Irigny - Rodis PS'!$A:$A,'[1]69 Irigny - Rodis PS'!D:D,""),$B5='[1]54 Champigneulles - MMD PS'!$I$1,_xlfn.XLOOKUP('[1]BRAZECO VAL BO'!$A5,'[1]54 Champigneulles - MMD PS'!$A:$A,'[1]54 Champigneulles - MMD PS'!D:D,"")))*1.1+IF((_xlfn.IFS($B5='[1]60 Bailleul - TENART pour PS'!$I$1,_xlfn.XLOOKUP($A5,'[1]60 Bailleul - TENART pour PS'!$A:$A,'[1]60 Bailleul - TENART pour PS'!D:D,""),$B5='[1]00 Brillon - GEFCO PS'!$I$1,_xlfn.XLOOKUP($A5,'[1]00 Brillon - GEFCO PS'!$A:$A,'[1]00 Brillon - GEFCO PS'!D:D,""),$B5='[1]00 Brillon - Regional PS'!$I$1,_xlfn.XLOOKUP($A5,'[1]00 Brillon - Regional PS'!$A:$A,'[1]00 Brillon - Regional PS'!D:D,""),$B5='[1]00 Brillon - TDN PS'!$I$1,_xlfn.XLOOKUP($A5,'[1]00 Brillon - TDN PS'!$A:$A,'[1]00 Brillon - TDN PS'!D:D,""),$B5='[1]00 BRILLON - XPO PS'!$I$1,_xlfn.XLOOKUP($A5,'[1]00 BRILLON - XPO PS'!$A:$A,'[1]00 BRILLON - XPO PS'!D:D,""),$B5='[1]69 Irigny - Rodis PS'!$H$1,_xlfn.XLOOKUP($A5,'[1]69 Irigny - Rodis PS'!$A:$A,'[1]69 Irigny - Rodis PS'!D:D,""),$B5='[1]54 Champigneulles - MMD PS'!$I$1,_xlfn.XLOOKUP('[1]BRAZECO VAL BO'!$A5,'[1]54 Champigneulles - MMD PS'!$A:$A,'[1]54 Champigneulles - MMD PS'!D:D,"")))*1.1>0,_xlfn.XLOOKUP($B5,'[1]SAISIE PS '!$B$30:$B$37,'[1]SAISIE PS '!$D$30:$D$37,0)*1.1*'[1]BRAZECO VAL BO'!G$2,0)} -> 206 | H5: {=(_xlfn.IFS($B5='[1]60 Bailleul - TENART pour PS'!$I$1,_xlfn.XLOOKUP($A5,'[1]60 Bailleul - TENART pour PS'!$A:$A,'[1]60 Bailleul - TENART pour PS'!E:E,""),$B5='[1]00 Brillon - GEFCO PS'!$I$1,_xlfn.XLOOKUP($A5,'[1]00 Brillon - GEFCO PS'!$A:$A,'[1]00 Brillon - GEFCO PS'!E:E,""),$B5='[1]00 Brillon - Regional PS'!$I$1,_xlfn.XLOOKUP($A5,'[1]00 Brillon - Regional PS'!$A:$A,'[1]00 Brillon - Regional PS'!E:E,""),$B5='[1]00 Brillon - TDN PS'!$I$1,_xlfn.XLOOKUP($A5,'[1]00 Brillon - TDN PS'!$A:$A,'[1]00 Brillon - TDN PS'!E:E,""),$B5='[1]00 BRILLON - XPO PS'!$I$1,_xlfn.XLOOKUP($A5,'[1]00 BRILLON - XPO PS'!$A:$A,'[1]00 BRILLON - XPO PS'!E:E,""),$B5='[1]69 Irigny - Rodis PS'!$H$1,_xlfn.XLOOKUP($A5,'[1]69 Irigny - Rodis PS'!$A:$A,'[1]69 Irigny - Rodis PS'!E:E,""),$B5='[1]54 Champigneulles - MMD PS'!$I$1,_xlfn.XLOOKUP('[1]BRAZECO VAL BO'!$A5,'[1]54 Champigneulles - MMD PS'!$A:$A,'[1]54 Champigneulles - MMD PS'!E:E,"")))*1.1+IF((_xlfn.IFS($B5='[1]60 Bailleul - TENART pour PS'!$I$1,_xlfn.XLOOKUP($A5,'[1]60 Bailleul - TENART pour PS'!$A:$A,'[1]60 Bailleul - TENART pour PS'!E:E,""),$B5='[1]00 Brillon - GEFCO PS'!$I$1,_xlfn.XLOOKUP($A5,'[1]00 Brillon - GEFCO PS'!$A:$A,'[1]00 Brillon - GEFCO PS'!E:E,""),$B5='[1]00 Brillon - Regional PS'!$I$1,_xlfn.XLOOKUP($A5,'[1]00 Brillon - Regional PS'!$A:$A,'[1]00 Brillon - Regional PS'!E:E,""),$B5='[1]00 Brillon - TDN PS'!$I$1,_xlfn.XLOOKUP($A5,'[1]00 Brillon - TDN PS'!$A:$A,'[1]00 Brillon - TDN PS'!E:E,""),$B5='[1]00 BRILLON - XPO PS'!$I$1,_xlfn.XLOOKUP($A5,'[1]00 BRILLON - XPO PS'!$A:$A,'[1]00 BRILLON - XPO PS'!E:E,""),$B5='[1]69 Irigny - Rodis PS'!$H$1,_xlfn.XLOOKUP($A5,'[1]69 Irigny - Rodis PS'!$A:$A,'[1]69 Irigny - Rodis PS'!E:E,""),$B5='[1]54 Champigneulles - MMD PS'!$I$1,_xlfn.XLOOKUP('[1]BRAZECO VAL BO'!$A5,'[1]54 Champigneulles - MMD PS'!$A:$A,'[1]54 Champigneulles - MMD PS'!E:E,"")))*1.1>0,_xlfn.XLOOKUP($B5,'[1]SAISIE PS '!$B$30:$B$37,'[1]SAISIE PS '!$D$30:$D$37,0)*1.1*'[1]BRAZECO VAL BO'!H$2,0)} -> 275 | I5: {=(_xlfn.IFS($B5='[1]60 Bailleul - TENART pour PS'!$I$1,_xlfn.XLOOKUP($A5,'[1]60 Bailleul - TENART pour PS'!$A:$A,'[1]60 Bailleul - TENART pour PS'!F:F,""),$B5='[1]00 Brillon - GEFCO PS'!$I$1,_xlfn.XLOOKUP($A5,'[1]00 Brillon - GEFCO PS'!$A:$A,'[1]00 Brillon - GEFCO PS'!F:F,""),$B5='[1]00 Brillon - Regional PS'!$I$1,_xlfn.XLOOKUP($A5,'[1]00 Brillon - Regional PS'!$A:$A,'[1]00 Brillon - Regional PS'!F:F,""),$B5='[1]00 Brillon - TDN PS'!$I$1,_xlfn.XLOOKUP($A5,'[1]00 Brillon - TDN PS'!$A:$A,'[1]00 Brillon - TDN PS'!F:F,""),$B5='[1]00 BRILLON - XPO PS'!$I$1,_xlfn.XLOOKUP($A5,'[1]00 BRILLON - XPO PS'!$A:$A,'[1]00 BRILLON - XPO PS'!F:F,""),$B5='[1]69 Irigny - Rodis PS'!$H$1,_xlfn.XLOOKUP($A5,'[1]69 Irigny - Rodis PS'!$A:$A,'[1]69 Irigny - Rodis PS'!F:F,""),$B5='[1]54 Champigneulles - MMD PS'!$I$1,_xlfn.XLOOKUP('[1]BRAZECO VAL BO'!$A5,'[1]54 Champigneulles - MMD PS'!$A:$A,'[1]54 Champigneulles - MMD PS'!F:F,"")))*1.1+IF((_xlfn.IFS($B5='[1]60 Bailleul - TENART pour PS'!$I$1,_xlfn.XLOOKUP($A5,'[1]60 Bailleul - TENART pour PS'!$A:$A,'[1]60 Bailleul - TENART pour PS'!F:F,""),$B5='[1]00 Brillon - GEFCO PS'!$I$1,_xlfn.XLOOKUP($A5,'[1]00 Brillon - GEFCO PS'!$A:$A,'[1]00 Brillon - GEFCO PS'!F:F,""),$B5='[1]00 Brillon - Regional PS'!$I$1,_xlfn.XLOOKUP($A5,'[1]00 Brillon - Regional PS'!$A:$A,'[1]00 Brillon - Regional PS'!F:F,""),$B5='[1]00 Brillon - TDN PS'!$I$1,_xlfn.XLOOKUP($A5,'[1]00 Brillon - TDN PS'!$A:$A,'[1]00 Brillon - TDN PS'!F:F,""),$B5='[1]00 BRILLON - XPO PS'!$I$1,_xlfn.XLOOKUP($A5,'[1]00 BRILLON - XPO PS'!$A:$A,'[1]00 BRILLON - XPO PS'!F:F,""),$B5='[1]69 Irigny - Rodis PS'!$H$1,_xlfn.XLOOKUP($A5,'[1]69 Irigny - Rodis PS'!$A:$A,'[1]69 Irigny - Rodis PS'!F:F,""),$B5='[1]54 Champigneulles - MMD PS'!$I$1,_xlfn.XLOOKUP('[1]BRAZECO VAL BO'!$A5,'[1]54 Champigneulles - MMD PS'!$A:$A,'[1]54 Champigneulles - MMD PS'!F:F,"")))*1.1>0,_xlfn.XLOOKUP($B5,'[1]SAISIE PS '!$B$30:$B$37,'[1]SAISIE PS '!$D$30:$D$37,0)*1.1*'[1]BRAZECO VAL BO'!I$2,0)} -> 343 | J5: {=(_xlfn.IFS($B5='[1]60 Bailleul - TENART pour PS'!$I$1,_xlfn.XLOOKUP($A5,'[1]60 Bailleul - TENART pour PS'!$A:$A,'[1]60 Bailleul - TENART pour PS'!G:G,""),$B5='[1]00 Brillon - GEFCO PS'!$I$1,_xlfn.XLOOKUP($A5,'[1]00 Brillon - GEFCO PS'!$A:$A,'[1]00 Brillon - GEFCO PS'!G:G,""),$B5='[1]00 Brillon - Regional PS'!$I$1,_xlfn.XLOOKUP($A5,'[1]00 Brillon - Regional PS'!$A:$A,'[1]00 Brillon - Regional PS'!G:G,""),$B5='[1]00 Brillon - TDN PS'!$I$1,_xlfn.XLOOKUP($A5,'[1]00 Brillon - TDN PS'!$A:$A,'[1]00 Brillon - TDN PS'!G:G,""),$B5='[1]00 BRILLON - XPO PS'!$I$1,_xlfn.XLOOKUP($A5,'[1]00 BRILLON - XPO PS'!$A:$A,'[1]00 BRILLON - XPO PS'!G:G,""),$B5='[1]69 Irigny - Rodis PS'!$H$1,_xlfn.XLOOKUP($A5,'[1]69 Irigny - Rodis PS'!$A:$A,'[1]69 Irigny - Rodis PS'!G:G,""),$B5='[1]54 Champigneulles - MMD PS'!$I$1,_xlfn.XLOOKUP('[1]BRAZECO VAL BO'!$A5,'[1]54 Champigneulles - MMD PS'!$A:$A,'[1]54 Champigneulles - MMD PS'!G:G,"")))*1.1+IF((_xlfn.IFS($B5='[1]60 Bailleul - TENART pour PS'!$I$1,_xlfn.XLOOKUP($A5,'[1]60 Bailleul - TENART pour PS'!$A:$A,'[1]60 Bailleul - TENART pour PS'!G:G,""),$B5='[1]00 Brillon - GEFCO PS'!$I$1,_xlfn.XLOOKUP($A5,'[1]00 Brillon - GEFCO PS'!$A:$A,'[1]00 Brillon - GEFCO PS'!G:G,""),$B5='[1]00 Brillon - Regional PS'!$I$1,_xlfn.XLOOKUP($A5,'[1]00 Brillon - Regional PS'!$A:$A,'[1]00 Brillon - Regional PS'!G:G,""),$B5='[1]00 Brillon - TDN PS'!$I$1,_xlfn.XLOOKUP($A5,'[1]00 Brillon - TDN PS'!$A:$A,'[1]00 Brillon - TDN PS'!G:G,""),$B5='[1]00 BRILLON - XPO PS'!$I$1,_xlfn.XLOOKUP($A5,'[1]00 BRILLON - XPO PS'!$A:$A,'[1]00 BRILLON - XPO PS'!G:G,""),$B5='[1]69 Irigny - Rodis PS'!$H$1,_xlfn.XLOOKUP($A5,'[1]69 Irigny - Rodis PS'!$A:$A,'[1]69 Irigny - Rodis PS'!G:G,""),$B5='[1]54 Champigneulles - MMD PS'!$I$1,_xlfn.XLOOKUP('[1]BRAZECO VAL BO'!$A5,'[1]54 Champigneulles - MMD PS'!$A:$A,'[1]54 Champigneulles - MMD PS'!G:G,"")))*1.1>0,_xlfn.XLOOKUP($B5,'[1]SAISIE PS '!$B$30:$B$37,'[1]SAISIE PS '!$D$30:$D$37,0)*1.1*'[1]BRAZECO VAL BO'!J$2,0)} -> 411 | K5: {=(_xlfn.IFS($B5='[1]60 Bailleul - TENART pour PS'!$I$1,_xlfn.XLOOKUP($A5,'[1]60 Bailleul - TENART pour PS'!$A:$A,'[1]60 Bailleul - TENART pour PS'!H:H,""),$B5='[1]00 Brillon - GEFCO PS'!$I$1,_xlfn.XLOOKUP($A5,'[1]00 Brillon - GEFCO PS'!$A:$A,'[1]00 Brillon - GEFCO PS'!H:H,""),$B5='[1]00 Brillon - Regional PS'!$I$1,_xlfn.XLOOKUP($A5,'[1]00 Brillon - Regional PS'!$A:$A,'[1]00 Brillon - Regional PS'!H:H,""),$B5='[1]00 Brillon - TDN PS'!$I$1,_xlfn.XLOOKUP($A5,'[1]00 Brillon - TDN PS'!$A:$A,'[1]00 Brillon - TDN PS'!H:H,""),$B5='[1]00 BRILLON - XPO PS'!$I$1,_xlfn.XLOOKUP($A5,'[1]00 BRILLON - XPO PS'!$A:$A,'[1]00 BRILLON - XPO PS'!H:H,""),$B5='[1]69 Irigny - Rodis PS'!$H$1,_xlfn.XLOOKUP($A5,'[1]69 Irigny - Rodis PS'!$A:$A,'[1]69 Irigny - Rodis PS'!H:H,""),$B5='[1]54 Champigneulles - MMD PS'!$I$1,_xlfn.XLOOKUP('[1]BRAZECO VAL BO'!$A5,'[1]54 Champigneulles - MMD PS'!$A:$A,'[1]54 Champigneulles - MMD PS'!H:H,"")))*1.1+IF((_xlfn.IFS($B5='[1]60 Bailleul - TENART pour PS'!$I$1,_xlfn.XLOOKUP($A5,'[1]60 Bailleul - TENART pour PS'!$A:$A,'[1]60 Bailleul - TENART pour PS'!H:H,""),$B5='[1]00 Brillon - GEFCO PS'!$I$1,_xlfn.XLOOKUP($A5,'[1]00 Brillon - GEFCO PS'!$A:$A,'[1]00 Brillon - GEFCO PS'!H:H,""),$B5='[1]00 Brillon - Regional PS'!$I$1,_xlfn.XLOOKUP($A5,'[1]00 Brillon - Regional PS'!$A:$A,'[1]00 Brillon - Regional PS'!H:H,""),$B5='[1]00 Brillon - TDN PS'!$I$1,_xlfn.XLOOKUP($A5,'[1]00 Brillon - TDN PS'!$A:$A,'[1]00 Brillon - TDN PS'!H:H,""),$B5='[1]00 BRILLON - XPO PS'!$I$1,_xlfn.XLOOKUP($A5,'[1]00 BRILLON - XPO PS'!$A:$A,'[1]00 BRILLON - XPO PS'!H:H,""),$B5='[1]69 Irigny - Rodis PS'!$H$1,_xlfn.XLOOKUP($A5,'[1]69 Irigny - Rodis PS'!$A:$A,'[1]69 Irigny - Rodis PS'!H:H,""),$B5='[1]54 Champigneulles - MMD PS'!$I$1,_xlfn.XLOOKUP('[1]BRAZECO VAL BO'!$A5,'[1]54 Champigneulles - MMD PS'!$A:$A,'[1]54 Champigneulles - MMD PS'!H:H,"")))*1.1>0,_xlfn.XLOOKUP($B5,'[1]SAISIE PS '!$B$30:$B$37,'[1]SAISIE PS '!$D$30:$D$37,0)*1.1*'[1]BRAZECO VAL BO'!K$2,0)} -> 0 | M5: =IF(F5>0,TRUNC(($E5*65*M$2+F5)/(65*M$2),6),"") -> 7.492307 | N5: =IF(G5>0,TRUNC(($E5*65*N$2+G5)/(65*N$2),6),"") -> 7.230769 | O5: =IF(H5>0,TRUNC(($E5*65*O$2+H5)/(65*O$2),6),"") -> 7.05641 | P5: =IF(I5>0,TRUNC(($E5*65*P$2+I5)/(65*P$2),6),"") -> 6.965384 | Q5: =IF(J5>0,TRUNC(($E5*65*Q$2+J5)/(65*Q$2),6),"") -> 6.910769
A6: 04 - Alpes-de-Haute-Provence | B6: ='[1]OUTPUT PS'!H7 -> 60 TENARD BAILLEUL | C6: ='[1]OUTPUT PS'!I7 -> 545 | E6: =(C6-F6)/65 -> 5.6461538 | F6: {=(_xlfn.IFS($B6='[1]60 Bailleul - TENART pour PS'!$I$1,_xlfn.XLOOKUP($A6,'[1]60 Bailleul - TENART pour PS'!$A:$A,'[1]60 Bailleul - TENART pour PS'!C:C,""),$B6='[1]00 Brillon - GEFCO PS'!$I$1,_xlfn.XLOOKUP($A6,'[1]00 Brillon - GEFCO PS'!$A:$A,'[1]00 Brillon - GEFCO PS'!C:C,""),$B6='[1]00 Brillon - Regional PS'!$I$1,_xlfn.XLOOKUP($A6,'[1]00 Brillon - Regional PS'!$A:$A,'[1]00 Brillon - Regional PS'!C:C,""),$B6='[1]00 Brillon - TDN PS'!$I$1,_xlfn.XLOOKUP($A6,'[1]00 Brillon - TDN PS'!$A:$A,'[1]00 Brillon - TDN PS'!C:C,""),$B6='[1]00 BRILLON - XPO PS'!$I$1,_xlfn.XLOOKUP($A6,'[1]00 BRILLON - XPO PS'!$A:$A,'[1]00 BRILLON - XPO PS'!C:C,""),$B6='[1]69 Irigny - Rodis PS'!$H$1,_xlfn.XLOOKUP($A6,'[1]69 Irigny - Rodis PS'!$A:$A,'[1]69 Irigny - Rodis PS'!C:C,""),$B6='[1]54 Champigneulles - MMD PS'!$I$1,_xlfn.XLOOKUP('[1]BRAZECO VAL BO'!$A6,'[1]54 Champigneulles - MMD PS'!$A:$A,'[1]54 Champigneulles - MMD PS'!C:C,"")))*1.1+IF((_xlfn.IFS($B6='[1]60 Bailleul - TENART pour PS'!$I$1,_xlfn.XLOOKUP($A6,'[1]60 Bailleul - TENART pour PS'!$A:$A,'[1]60 Bailleul - TENART pour PS'!C:C,""),$B6='[1]00 Brillon - GEFCO PS'!$I$1,_xlfn.XLOOKUP($A6,'[1]00 Brillon - GEFCO PS'!$A:$A,'[1]00 Brillon - GEFCO PS'!C:C,""),$B6='[1]00 Brillon - Regional PS'!$I$1,_xlfn.XLOOKUP($A6,'[1]00 Brillon - Regional PS'!$A:$A,'[1]00 Brillon - Regional PS'!C:C,""),$B6='[1]00 Brillon - TDN PS'!$I$1,_xlfn.XLOOKUP($A6,'[1]00 Brillon - TDN PS'!$A:$A,'[1]00 Brillon - TDN PS'!C:C,""),$B6='[1]00 BRILLON - XPO PS'!$I$1,_xlfn.XLOOKUP($A6,'[1]00 BRILLON - XPO PS'!$A:$A,'[1]00 BRILLON - XPO PS'!C:C,""),$B6='[1]69 Irigny - Rodis PS'!$H$1,_xlfn.XLOOKUP($A6,'[1]69 Irigny - Rodis PS'!$A:$A,'[1]69 Irigny - Rodis PS'!C:C,""),$B6='[1]54 Champigneulles - MMD PS'!$I$1,_xlfn.XLOOKUP('[1]BRAZECO VAL BO'!$A6,'[1]54 Champigneulles - MMD PS'!$A:$A,'[1]54 Champigneulles - MMD PS'!C:C,"")))*1.1>0,_xlfn.XLOOKUP($B6,'[1]SAISIE PS '!$B$30:$B$37,'[1]SAISIE PS '!$D$30:$D$37,0)*1.1*'[1]BRAZECO VAL BO'!F$2,0)} -> 178 | G6: {=(_xlfn.IFS($B6='[1]60 Bailleul - TENART pour PS'!$I$1,_xlfn.XLOOKUP($A6,'[1]60 Bailleul - TENART pour PS'!$A:$A,'[1]60 Bailleul - TENART pour PS'!D:D,""),$B6='[1]00 Brillon - GEFCO PS'!$I$1,_xlfn.XLOOKUP($A6,'[1]00 Brillon - GEFCO PS'!$A:$A,'[1]00 Brillon - GEFCO PS'!D:D,""),$B6='[1]00 Brillon - Regional PS'!$I$1,_xlfn.XLOOKUP($A6,'[1]00 Brillon - Regional PS'!$A:$A,'[1]00 Brillon - Regional PS'!D:D,""),$B6='[1]00 Brillon - TDN PS'!$I$1,_xlfn.XLOOKUP($A6,'[1]00 Brillon - TDN PS'!$A:$A,'[1]00 Brillon - TDN PS'!D:D,""),$B6='[1]00 BRILLON - XPO PS'!$I$1,_xlfn.XLOOKUP($A6,'[1]00 BRILLON - XPO PS'!$A:$A,'[1]00 BRILLON - XPO PS'!D:D,""),$B6='[1]69 Irigny - Rodis PS'!$H$1,_xlfn.XLOOKUP($A6,'[1]69 Irigny - Rodis PS'!$A:$A,'[1]69 Irigny - Rodis PS'!D:D,""),$B6='[1]54 Champigneulles - MMD PS'!$I$1,_xlfn.XLOOKUP('[1]BRAZECO VAL BO'!$A6,'[1]54 Champigneulles - MMD PS'!$A:$A,'[1]54 Champigneulles - MMD PS'!D:D,"")))*1.1+IF((_xlfn.IFS($B6='[1]60 Bailleul - TENART pour PS'!$I$1,_xlfn.XLOOKUP($A6,'[1]60 Bailleul - TENART pour PS'!$A:$A,'[1]60 Bailleul - TENART pour PS'!D:D,""),$B6='[1]00 Brillon - GEFCO PS'!$I$1,_xlfn.XLOOKUP($A6,'[1]00 Brillon - GEFCO PS'!$A:$A,'[1]00 Brillon - GEFCO PS'!D:D,""),$B6='[1]00 Brillon - Regional PS'!$I$1,_xlfn.XLOOKUP($A6,'[1]00 Brillon - Regional PS'!$A:$A,'[1]00 Brillon - Regional PS'!D:D,""),$B6='[1]00 Brillon - TDN PS'!$I$1,_xlfn.XLOOKUP($A6,'[1]00 Brillon - TDN PS'!$A:$A,'[1]00 Brillon - TDN PS'!D:D,""),$B6='[1]00 BRILLON - XPO PS'!$I$1,_xlfn.XLOOKUP($A6,'[1]00 BRILLON - XPO PS'!$A:$A,'[1]00 BRILLON - XPO PS'!D:D,""),$B6='[1]69 Irigny - Rodis PS'!$H$1,_xlfn.XLOOKUP($A6,'[1]69 Irigny - Rodis PS'!$A:$A,'[1]69 Irigny - Rodis PS'!D:D,""),$B6='[1]54 Champigneulles - MMD PS'!$I$1,_xlfn.XLOOKUP('[1]BRAZECO VAL BO'!$A6,'[1]54 Champigneulles - MMD PS'!$A:$A,'[1]54 Champigneulles - MMD PS'!D:D,"")))*1.1>0,_xlfn.XLOOKUP($B6,'[1]SAISIE PS '!$B$30:$B$37,'[1]SAISIE PS '!$D$30:$D$37,0)*1.1*'[1]BRAZECO VAL BO'!G$2,0)} -> 312 | H6: {=(_xlfn.IFS($B6='[1]60 Bailleul - TENART pour PS'!$I$1,_xlfn.XLOOKUP($A6,'[1]60 Bailleul - TENART pour PS'!$A:$A,'[1]60 Bailleul - TENART pour PS'!E:E,""),$B6='[1]00 Brillon - GEFCO PS'!$I$1,_xlfn.XLOOKUP($A6,'[1]00 Brillon - GEFCO PS'!$A:$A,'[1]00 Brillon - GEFCO PS'!E:E,""),$B6='[1]00 Brillon - Regional PS'!$I$1,_xlfn.XLOOKUP($A6,'[1]00 Brillon - Regional PS'!$A:$A,'[1]00 Brillon - Regional PS'!E:E,""),$B6='[1]00 Brillon - TDN PS'!$I$1,_xlfn.XLOOKUP($A6,'[1]00 Brillon - TDN PS'!$A:$A,'[1]00 Brillon - TDN PS'!E:E,""),$B6='[1]00 BRILLON - XPO PS'!$I$1,_xlfn.XLOOKUP($A6,'[1]00 BRILLON - XPO PS'!$A:$A,'[1]00 BRILLON - XPO PS'!E:E,""),$B6='[1]69 Irigny - Rodis PS'!$H$1,_xlfn.XLOOKUP($A6,'[1]69 Irigny - Rodis PS'!$A:$A,'[1]69 Irigny - Rodis PS'!E:E,""),$B6='[1]54 Champigneulles - MMD PS'!$I$1,_xlfn.XLOOKUP('[1]BRAZECO VAL BO'!$A6,'[1]54 Champigneulles - MMD PS'!$A:$A,'[1]54 Champigneulles - MMD PS'!E:E,"")))*1.1+IF((_xlfn.IFS($B6='[1]60 Bailleul - TENART pour PS'!$I$1,_xlfn.XLOOKUP($A6,'[1]60 Bailleul - TENART pour PS'!$A:$A,'[1]60 Bailleul - TENART pour PS'!E:E,""),$B6='[1]00 Brillon - GEFCO PS'!$I$1,_xlfn.XLOOKUP($A6,'[1]00 Brillon - GEFCO PS'!$A:$A,'[1]00 Brillon - GEFCO PS'!E:E,""),$B6='[1]00 Brillon - Regional PS'!$I$1,_xlfn.XLOOKUP($A6,'[1]00 Brillon - Regional PS'!$A:$A,'[1]00 Brillon - Regional PS'!E:E,""),$B6='[1]00 Brillon - TDN PS'!$I$1,_xlfn.XLOOKUP($A6,'[1]00 Brillon - TDN PS'!$A:$A,'[1]00 Brillon - TDN PS'!E:E,""),$B6='[1]00 BRILLON - XPO PS'!$I$1,_xlfn.XLOOKUP($A6,'[1]00 BRILLON - XPO PS'!$A:$A,'[1]00 BRILLON - XPO PS'!E:E,""),$B6='[1]69 Irigny - Rodis PS'!$H$1,_xlfn.XLOOKUP($A6,'[1]69 Irigny - Rodis PS'!$A:$A,'[1]69 Irigny - Rodis PS'!E:E,""),$B6='[1]54 Champigneulles - MMD PS'!$I$1,_xlfn.XLOOKUP('[1]BRAZECO VAL BO'!$A6,'[1]54 Champigneulles - MMD PS'!$A:$A,'[1]54 Champigneulles - MMD PS'!E:E,"")))*1.1>0,_xlfn.XLOOKUP($B6,'[1]SAISIE PS '!$B$30:$B$37,'[1]SAISIE PS '!$D$30:$D$37,0)*1.1*'[1]BRAZECO VAL BO'!H$2,0)} -> 428 | I6: {=(_xlfn.IFS($B6='[1]60 Bailleul - TENART pour PS'!$I$1,_xlfn.XLOOKUP($A6,'[1]60 Bailleul - TENART pour PS'!$A:$A,'[1]60 Bailleul - TENART pour PS'!F:F,""),$B6='[1]00 Brillon - GEFCO PS'!$I$1,_xlfn.XLOOKUP($A6,'[1]00 Brillon - GEFCO PS'!$A:$A,'[1]00 Brillon - GEFCO PS'!F:F,""),$B6='[1]00 Brillon - Regional PS'!$I$1,_xlfn.XLOOKUP($A6,'[1]00 Brillon - Regional PS'!$A:$A,'[1]00 Brillon - Regional PS'!F:F,""),$B6='[1]00 Brillon - TDN PS'!$I$1,_xlfn.XLOOKUP($A6,'[1]00 Brillon - TDN PS'!$A:$A,'[1]00 Brillon - TDN PS'!F:F,""),$B6='[1]00 BRILLON - XPO PS'!$I$1,_xlfn.XLOOKUP($A6,'[1]00 BRILLON - XPO PS'!$A:$A,'[1]00 BRILLON - XPO PS'!F:F,""),$B6='[1]69 Irigny - Rodis PS'!$H$1,_xlfn.XLOOKUP($A6,'[1]69 Irigny - Rodis PS'!$A:$A,'[1]69 Irigny - Rodis PS'!F:F,""),$B6='[1]54 Champigneulles - MMD PS'!$I$1,_xlfn.XLOOKUP('[1]BRAZECO VAL BO'!$A6,'[1]54 Champigneulles - MMD PS'!$A:$A,'[1]54 Champigneulles - MMD PS'!F:F,"")))*1.1+IF((_xlfn.IFS($B6='[1]60 Bailleul - TENART pour PS'!$I$1,_xlfn.XLOOKUP($A6,'[1]60 Bailleul - TENART pour PS'!$A:$A,'[1]60 Bailleul - TENART pour PS'!F:F,""),$B6='[1]00 Brillon - GEFCO PS'!$I$1,_xlfn.XLOOKUP($A6,'[1]00 Brillon - GEFCO PS'!$A:$A,'[1]00 Brillon - GEFCO PS'!F:F,""),$B6='[1]00 Brillon - Regional PS'!$I$1,_xlfn.XLOOKUP($A6,'[1]00 Brillon - Regional PS'!$A:$A,'[1]00 Brillon - Regional PS'!F:F,""),$B6='[1]00 Brillon - TDN PS'!$I$1,_xlfn.XLOOKUP($A6,'[1]00 Brillon - TDN PS'!$A:$A,'[1]00 Brillon - TDN PS'!F:F,""),$B6='[1]00 BRILLON - XPO PS'!$I$1,_xlfn.XLOOKUP($A6,'[1]00 BRILLON - XPO PS'!$A:$A,'[1]00 BRILLON - XPO PS'!F:F,""),$B6='[1]69 Irigny - Rodis PS'!$H$1,_xlfn.XLOOKUP($A6,'[1]69 Irigny - Rodis PS'!$A:$A,'[1]69 Irigny - Rodis PS'!F:F,""),$B6='[1]54 Champigneulles - MMD PS'!$I$1,_xlfn.XLOOKUP('[1]BRAZECO VAL BO'!$A6,'[1]54 Champigneulles - MMD PS'!$A:$A,'[1]54 Champigneulles - MMD PS'!F:F,"")))*1.1>0,_xlfn.XLOOKUP($B6,'[1]SAISIE PS '!$B$30:$B$37,'[1]SAISIE PS '!$D$30:$D$37,0)*1.1*'[1]BRAZECO VAL BO'!I$2,0)} -> 540 | J6: {=(_xlfn.IFS($B6='[1]60 Bailleul - TENART pour PS'!$I$1,_xlfn.XLOOKUP($A6,'[1]60 Bailleul - TENART pour PS'!$A:$A,'[1]60 Bailleul - TENART pour PS'!G:G,""),$B6='[1]00 Brillon - GEFCO PS'!$I$1,_xlfn.XLOOKUP($A6,'[1]00 Brillon - GEFCO PS'!$A:$A,'[1]00 Brillon - GEFCO PS'!G:G,""),$B6='[1]00 Brillon - Regional PS'!$I$1,_xlfn.XLOOKUP($A6,'[1]00 Brillon - Regional PS'!$A:$A,'[1]00 Brillon - Regional PS'!G:G,""),$B6='[1]00 Brillon - TDN PS'!$I$1,_xlfn.XLOOKUP($A6,'[1]00 Brillon - TDN PS'!$A:$A,'[1]00 Brillon - TDN PS'!G:G,""),$B6='[1]00 BRILLON - XPO PS'!$I$1,_xlfn.XLOOKUP($A6,'[1]00 BRILLON - XPO PS'!$A:$A,'[1]00 BRILLON - XPO PS'!G:G,""),$B6='[1]69 Irigny - Rodis PS'!$H$1,_xlfn.XLOOKUP($A6,'[1]69 Irigny - Rodis PS'!$A:$A,'[1]69 Irigny - Rodis PS'!G:G,""),$B6='[1]54 Champigneulles - MMD PS'!$I$1,_xlfn.XLOOKUP('[1]BRAZECO VAL BO'!$A6,'[1]54 Champigneulles - MMD PS'!$A:$A,'[1]54 Champigneulles - MMD PS'!G:G,"")))*1.1+IF((_xlfn.IFS($B6='[1]60 Bailleul - TENART pour PS'!$I$1,_xlfn.XLOOKUP($A6,'[1]60 Bailleul - TENART pour PS'!$A:$A,'[1]60 Bailleul - TENART pour PS'!G:G,""),$B6='[1]00 Brillon - GEFCO PS'!$I$1,_xlfn.XLOOKUP($A6,'[1]00 Brillon - GEFCO PS'!$A:$A,'[1]00 Brillon - GEFCO PS'!G:G,""),$B6='[1]00 Brillon - Regional PS'!$I$1,_xlfn.XLOOKUP($A6,'[1]00 Brillon - Regional PS'!$A:$A,'[1]00 Brillon - Regional PS'!G:G,""),$B6='[1]00 Brillon - TDN PS'!$I$1,_xlfn.XLOOKUP($A6,'[1]00 Brillon - TDN PS'!$A:$A,'[1]00 Brillon - TDN PS'!G:G,""),$B6='[1]00 BRILLON - XPO PS'!$I$1,_xlfn.XLOOKUP($A6,'[1]00 BRILLON - XPO PS'!$A:$A,'[1]00 BRILLON - XPO PS'!G:G,""),$B6='[1]69 Irigny - Rodis PS'!$H$1,_xlfn.XLOOKUP($A6,'[1]69 Irigny - Rodis PS'!$A:$A,'[1]69 Irigny - Rodis PS'!G:G,""),$B6='[1]54 Champigneulles - MMD PS'!$I$1,_xlfn.XLOOKUP('[1]BRAZECO VAL BO'!$A6,'[1]54 Champigneulles - MMD PS'!$A:$A,'[1]54 Champigneulles - MMD PS'!G:G,"")))*1.1>0,_xlfn.XLOOKUP($B6,'[1]SAISIE PS '!$B$30:$B$37,'[1]SAISIE PS '!$D$30:$D$37,0)*1.1*'[1]BRAZECO VAL BO'!J$2,0)} -> 653 | K6: {=(_xlfn.IFS($B6='[1]60 Bailleul - TENART pour PS'!$I$1,_xlfn.XLOOKUP($A6,'[1]60 Bailleul - TENART pour PS'!$A:$A,'[1]60 Bailleul - TENART pour PS'!H:H,""),$B6='[1]00 Brillon - GEFCO PS'!$I$1,_xlfn.XLOOKUP($A6,'[1]00 Brillon - GEFCO PS'!$A:$A,'[1]00 Brillon - GEFCO PS'!H:H,""),$B6='[1]00 Brillon - Regional PS'!$I$1,_xlfn.XLOOKUP($A6,'[1]00 Brillon - Regional PS'!$A:$A,'[1]00 Brillon - Regional PS'!H:H,""),$B6='[1]00 Brillon - TDN PS'!$I$1,_xlfn.XLOOKUP($A6,'[1]00 Brillon - TDN PS'!$A:$A,'[1]00 Brillon - TDN PS'!H:H,""),$B6='[1]00 BRILLON - XPO PS'!$I$1,_xlfn.XLOOKUP($A6,'[1]00 BRILLON - XPO PS'!$A:$A,'[1]00 BRILLON - XPO PS'!H:H,""),$B6='[1]69 Irigny - Rodis PS'!$H$1,_xlfn.XLOOKUP($A6,'[1]69 Irigny - Rodis PS'!$A:$A,'[1]69 Irigny - Rodis PS'!H:H,""),$B6='[1]54 Champigneulles - MMD PS'!$I$1,_xlfn.XLOOKUP('[1]BRAZECO VAL BO'!$A6,'[1]54 Champigneulles - MMD PS'!$A:$A,'[1]54 Champigneulles - MMD PS'!H:H,"")))*1.1+IF((_xlfn.IFS($B6='[1]60 Bailleul - TENART pour PS'!$I$1,_xlfn.XLOOKUP($A6,'[1]60 Bailleul - TENART pour PS'!$A:$A,'[1]60 Bailleul - TENART pour PS'!H:H,""),$B6='[1]00 Brillon - GEFCO PS'!$I$1,_xlfn.XLOOKUP($A6,'[1]00 Brillon - GEFCO PS'!$A:$A,'[1]00 Brillon - GEFCO PS'!H:H,""),$B6='[1]00 Brillon - Regional PS'!$I$1,_xlfn.XLOOKUP($A6,'[1]00 Brillon - Regional PS'!$A:$A,'[1]00 Brillon - Regional PS'!H:H,""),$B6='[1]00 Brillon - TDN PS'!$I$1,_xlfn.XLOOKUP($A6,'[1]00 Brillon - TDN PS'!$A:$A,'[1]00 Brillon - TDN PS'!H:H,""),$B6='[1]00 BRILLON - XPO PS'!$I$1,_xlfn.XLOOKUP($A6,'[1]00 BRILLON - XPO PS'!$A:$A,'[1]00 BRILLON - XPO PS'!H:H,""),$B6='[1]69 Irigny - Rodis PS'!$H$1,_xlfn.XLOOKUP($A6,'[1]69 Irigny - Rodis PS'!$A:$A,'[1]69 Irigny - Rodis PS'!H:H,""),$B6='[1]54 Champigneulles - MMD PS'!$I$1,_xlfn.XLOOKUP('[1]BRAZECO VAL BO'!$A6,'[1]54 Champigneulles - MMD PS'!$A:$A,'[1]54 Champigneulles - MMD PS'!H:H,"")))*1.1>0,_xlfn.XLOOKUP($B6,'[1]SAISIE PS '!$B$30:$B$37,'[1]SAISIE PS '!$D$30:$D$37,0)*1.1*'[1]BRAZECO VAL BO'!K$2,0)} -> 0 | M6: =IF(F6>0,TRUNC(($E6*65*M$2+F6)/(65*M$2),6),"") -> 8.384615 | N6: =IF(G6>0,TRUNC(($E6*65*N$2+G6)/(65*N$2),6),"") -> 8.046153 | O6: =IF(H6>0,TRUNC(($E6*65*O$2+H6)/(65*O$2),6),"") -> 7.841025 | P6: =IF(I6>0,TRUNC(($E6*65*P$2+I6)/(65*P$2),6),"") -> 7.723076 | Q6: =IF(J6>0,TRUNC(($E6*65*Q$2+J6)/(65*Q$2),6),"") -> 7.655384
A7: etc….. Il y a des données et des chiffres jusqu'à 95 - Val d'Oise

Sheet Import
A1: Liste de prix | B1: Nom | C1: Quantité min. | D1: Forfait | E1: Date de début | F1: Date de fin
A2: 01 (EUR) | B2: Article : Granulés VanRoje | C2: 390 | E2: 43101.042 | F2: 73416.042
A3: 01 (EUR) | B3: Article : Granulés VanRoje | C3: 325 | D3: =VAL!P3 -> 6.934615 | E3: 43101.042 | F3: 73416.042
A4: 01 (EUR) | B4: Article : Granulés VanRoje | C4: 260 | D4: =VAL!P3 -> 6.934615 | E4: 43101.042 | F4: 73416.042
A5: 01 (EUR) | B5: Article : Granulés VanRoje | C5: 195 | D5: =VAL!O3 -> 7.097435 | E5: 43101.042 | F5: 73416.042
A6: 01 (EUR) | B6: Article : Granulés VanRoje | C6: 130 | D6: =VAL!N3 -> 7.415384 | E6: 43101.042 | F6: 73416.042
A7: 01 (EUR) | B7: Article : Granulés VanRoje | C7: 65 | D7: =VAL!M3 -> 7.876923 | E7: 43101.042 | F7: 73416.042
A8: 02 (EUR) | B8: Article : Granulés VanRoje | C8: 390 | E8: 43101.042 | F8: 73416.042
A9: 02 (EUR) | B9: Article : Granulés VanRoje | C9: 325 | E9: 43101.042 | F9: 73416.042
A10: 02 (EUR) | B10: Article : Granulés VanRoje | C10: 260 | E10: 43101.042 | F10: 73416.042
A11: 02 (EUR) | B11: Article : Granulés VanRoje | C11: 195 | D11: =VAL!O4 -> 6.851282 | E11: 43101.042 | F11: 73416.042
A12: 02 (EUR) | B12: Article : Granulés VanRoje | C12: 130 | D12: =VAL!N4 -> 7.015384 | E12: 43101.042 | F12: 73416.042
A13: 02 (EUR) | B13: Article : Granulés VanRoje | C13: 65 | D13: =VAL!M4 -> 7.323076 | E13: 43101.042 | F13: 73416.042
A14: 03 (EUR) | B14: Article : Granulés VanRoje | C14: 390 | E14: 43101.042 | F14: 73416.042
A15: 03 (EUR) | B15: Article : Granulés VanRoje | C15: 325 | D15: =VAL!P5 -> 6.965384 | E15: 43101.042 | F15: 73416.042
A16: 03 (EUR) | B16: Article : Granulés VanRoje | C16: 260 | D16: =VAL!P5 -> 6.965384 | E16: 43101.042 | F16: 73416.042
A17: 03 (EUR) | B17: Article : Granulés VanRoje | C17: 195 | D17: =VAL!O5 -> 7.05641 | E17: 43101.042 | F17: 73416.042
A18: 03 (EUR) | B18: Article : Granulés VanRoje | C18: 130 | D18: =VAL!N5 -> 7.230769 | E18: 43101.042 | F18: 73416.042
A19: 03 (EUR) | B19: Article : Granulés VanRoje | C19: 65 | D19: =VAL!M5 -> 7.492307 | E19: 43101.042 | F19: 73416.042
A20: 04 (EUR) | B20: Article : Granulés VanRoje | C20: 390 | E20: 43101.042 | F20: 73416.042
A21: 04 (EUR) | B21: Article : Granulés VanRoje | C21: 325 | D21: =VAL!Q6 -> 7.655384 | E21: 43101.042 | F21: 73416.042
A22: 04 (EUR) | B22: Article : Granulés VanRoje | C22: 260 | D22: =VAL!P6 -> 7.723076 | E22: 43101.042 | F22: 73416.042
A23: 04 (EUR) | B23: Article : Granulés VanRoje | C23: 195 | D23: =VAL!O6 -> 7.841025 | E23: 43101.042 | F23: 73416.042
A24: 04 (EUR) | B24: Article : Granulés VanRoje | C24: 130 | D24: =VAL!N6 -> 8.046153 | E24: 43101.042 | F24: 73416.042
A25: 04 (EUR) | B25: Article : Granulés VanRoje | C25: 65 | D25: =VAL!M6 -> 8.384615 | E25: 43101.042 | F25: 73416.042
A26: etc… il y a des données jusqu'à 95 (EUR)
