Workbook

Sheet fichier 1
A1: Actif | B1: Poids
A2: =IF(Source!A2="","",Source!A2) -> A | B2: =IF(Source!B2="","",Source!B2) -> 0.03
A3: =IF(Source!A3="","",Source!A3) -> B | B3: =IF(Source!B3="","",Source!B3) -> 0.02 | D3: Objectif de la macro: ne sélectionner que de A2 à B6, et pas de A2 à B13
A4: =IF(Source!A4="","",Source!A4) -> C | B4: =IF(Source!B4="","",Source!B4) -> 0.03
A5: =IF(Source!A5="","",Source!A5) -> D | B5: =IF(Source!B5="","",Source!B5) -> 0.02
A6: =IF(Source!A6="","",Source!A6) -> E | B6: =IF(Source!B6="","",Source!B6) -> 0.01
A7: =IF(Source!A7="","",Source!A7) | B7: =IF(Source!B7="","",Source!B7)
A8: =IF(Source!A8="","",Source!A8) | B8: =IF(Source!B8="","",Source!B8)
A9: =IF(Source!A9="","",Source!A9) | B9: =IF(Source!B9="","",Source!B9)
A10: =IF(Source!A10="","",Source!A10) | B10: =IF(Source!B10="","",Source!B10)
A11: =IF(Source!A11="","",Source!A11) | B11: =IF(Source!B11="","",Source!B11)
A12: =IF(Source!A12="","",Source!A12) | B12: =IF(Source!B12="","",Source!B12)
A13: =IF(Source!A13="","",Source!A13) | B13: =IF(Source!B13="","",Source!B13)

Sheet Source
A1: Actif | B1: Poids
A2: A | B2: 0.03
A3: B | B3: 0.02
A4: C | B4: 0.03
A5: D | B5: 0.02
A6: E | B6: 0.01
