Workbook
Name ETATCOMPTE: #REF!

Sheet TD-Base de données
A1: ANNEE | B1: Dossier suivi par | C1: N° dossier | D1: SIREN | E1: NOM/RAISON SOCIALE | F1: stade procédure | I1: débit
A2: 2020 | B2: Caroline | C2: A987654321 | D2: 123456789 | E2: ETS X | F2: Audienciée (AUDIEN) | G2: =IF(F2="","NON","OUI") -> OUI | H2: =IF(G2="","",G2&"_"&COUNTIF($G$2:G2,G2)) -> OUI_1 | I2: 5000
A3: 2015 | B3: Paul | C3: B456789123 | D3: 321654987 | E3: SAS Y | G3: =IF(F3="","NON","OUI") -> NON | H3: =IF(G3="","",G3&"_"&COUNTIF($G$2:G3,G3)) -> NON_1 | I3: 7500
A4: 2015 | B4: Caroline | C4: C321654987 | D4: 654987321 | E4: PAUL DURAND | F4: Condamnation (EXE) | G4: =IF(F4="","NON","OUI") -> OUI | H4: =IF(G4="","",G4&"_"&COUNTIF($G$2:G4,G4)) -> OUI_2 | I4: 12900
A5: 2022 | B5: Marie | C5: D147258369 | D5: 147258369 | E5: MARIE DUPONT | G5: =IF(F5="","NON","OUI") -> NON | H5: =IF(G5="","",G5&"_"&COUNTIF($G$2:G5,G5)) -> NON_2 | I5: 45632
A6: 2019 | B6: Marie | C6: E369258147 | D6: 369258147 | E6: SARL EXCEL | F6: En délibéré (DECIS) | G6: =IF(F6="","NON","OUI") -> OUI | H6: =IF(G6="","",G6&"_"&COUNTIF($G$2:G6,G6)) -> OUI_3 | I6: 99998
A7: 2012 | B7: Paul | C7: Z258789456 | D7: 258456123 | E7: SAS SOAREZ | G7: =IF(F7="","NON","OUI") -> NON | H7: =IF(G7="","",G7&"_"&COUNTIF($G$2:G7,G7)) -> NON_3
G8: =IF(F8="","NON","OUI") -> NON | H8: =IF(G8="","",G8&"_"&COUNTIF($G$2:G8,G8)) -> NON_4
G9: =IF(F9="","NON","OUI") -> NON | H9: =IF(G9="","",G9&"_"&COUNTIF($G$2:G9,G9)) -> NON_5
G10: =IF(F10="","NON","OUI") -> NON | H10: =IF(G10="","",G10&"_"&COUNTIF($G$2:G10,G10)) -> NON_6
G11: =IF(F11="","NON","OUI") -> NON | H11: =IF(G11="","",G11&"_"&COUNTIF($G$2:G11,G11)) -> NON_7

Sheet Suivi procédure
A1: OUI
M2: relances tel
A3: Dossier suivi par | B3: N° dossier | C3: SIREN | D3: NOM/RAISON SOCIALE | E3: Stade procédure | F3: date | G3: débit | H3: montant 1 | I3: montant 2 | J3: Montant cumulé | M3: date | N3: résultat | O3: date | P3: résultat
A4: =IFERROR(INDEX('TD-Base de données'!$A$2:$F$18892,MATCH("OUI"&"_"&ROW(A1),'TD-Base de données'!$H$2:$H$18892,0),2),"") -> Caroline | B4: =IFERROR(INDEX('TD-Base de données'!$A$2:$F$18892,MATCH("OUI"&"_"&ROW(B1),'TD-Base de données'!$H$2:$H$18892,0),3),"") -> A987654321 | C4: =IFERROR(INDEX('TD-Base de données'!$A$2:$F$18892,MATCH("OUI"&"_"&ROW(C1),'TD-Base de données'!$H$2:$H$18892,0),4),"") -> 123456789 | D4: =IFERROR(INDEX('TD-Base de données'!$A$2:$F$18892,MATCH("OUI"&"_"&ROW(D1),'TD-Base de données'!$H$2:$H$18892,0),5),"") -> ETS X | E4: =IFERROR(INDEX('TD-Base de données'!$A$2:$F$18892,MATCH("OUI"&"_"&ROW(E1),'TD-Base de données'!$H$2:$H$18892,0),6),"") -> Audienciée (AUDIEN) | F4: 44630 | G4: =IFERROR(INDEX('TD-Base de données'!$A$2:$I$18892,MATCH("OUI"&"_"&ROW(G1),'TD-Base de données'!$H$2:$H$18892,0),9),"") -> 5000 | J4: =SUM(H4:I4) -> 0
A5: =IFERROR(INDEX('TD-Base de données'!$A$2:$F$18892,MATCH("OUI"&"_"&ROW(A2),'TD-Base de données'!$H$2:$H$18892,0),2),"") -> Caroline | B5: =IFERROR(INDEX('TD-Base de données'!$A$2:$F$18892,MATCH("OUI"&"_"&ROW(B2),'TD-Base de données'!$H$2:$H$18892,0),3),"") -> C321654987 | C5: =IFERROR(INDEX('TD-Base de données'!$A$2:$F$18892,MATCH("OUI"&"_"&ROW(C2),'TD-Base de données'!$H$2:$H$18892,0),4),"") -> 654987321 | D5: =IFERROR(INDEX('TD-Base de données'!$A$2:$F$18892,MATCH("OUI"&"_"&ROW(D2),'TD-Base de données'!$H$2:$H$18892,0),5),"") -> PAUL DURAND | E5: =IFERROR(INDEX('TD-Base de données'!$A$2:$F$18892,MATCH("OUI"&"_"&ROW(E2),'TD-Base de données'!$H$2:$H$18892,0),6),"") -> Condamnation (EXE) | F5: 44632 | G5: =IFERROR(INDEX('TD-Base de données'!$A$2:$I$18892,MATCH("OUI"&"_"&ROW(G2),'TD-Base de données'!$H$2:$H$18892,0),9),"") -> 12900 | H5: 12900 | I5: 700 | J5: =SUM(H5:I5) -> 13600 | M5: 44630 | N5: NJOINT
A6: =IFERROR(INDEX('TD-Base de données'!$A$2:$F$18892,MATCH("OUI"&"_"&ROW(A3),'TD-Base de données'!$H$2:$H$18892,0),2),"") -> Marie | B6: =IFERROR(INDEX('TD-Base de données'!$A$2:$F$18892,MATCH("OUI"&"_"&ROW(B3),'TD-Base de données'!$H$2:$H$18892,0),3),"") -> E369258147 | C6: =IFERROR(INDEX('TD-Base de données'!$A$2:$F$18892,MATCH("OUI"&"_"&ROW(C3),'TD-Base de données'!$H$2:$H$18892,0),4),"") -> 369258147 | D6: =IFERROR(INDEX('TD-Base de données'!$A$2:$F$18892,MATCH("OUI"&"_"&ROW(D3),'TD-Base de données'!$H$2:$H$18892,0),5),"") -> SARL EXCEL | E6: =IFERROR(INDEX('TD-Base de données'!$A$2:$F$18892,MATCH("OUI"&"_"&ROW(E3),'TD-Base de données'!$H$2:$H$18892,0),6),"") -> En délibéré (DECIS) | F6: 43831 | G6: =IFERROR(INDEX('TD-Base de données'!$A$2:$I$18892,MATCH("OUI"&"_"&ROW(G3),'TD-Base de données'!$H$2:$H$18892,0),9),"") -> 99998 | J6: =SUM(H6:I6) -> 0
A7: =IFERROR(INDEX('TD-Base de données'!$A$2:$F$18892,MATCH("OUI"&"_"&ROW(A4),'TD-Base de données'!$H$2:$H$18892,0),2),"") | B7: =IFERROR(INDEX('TD-Base de données'!$A$2:$F$18892,MATCH("OUI"&"_"&ROW(B4),'TD-Base de données'!$H$2:$H$18892,0),3),"") | C7: =IFERROR(INDEX('TD-Base de données'!$A$2:$F$18892,MATCH("OUI"&"_"&ROW(C4),'TD-Base de données'!$H$2:$H$18892,0),4),"") | D7: =IFERROR(INDEX('TD-Base de données'!$A$2:$F$18892,MATCH("OUI"&"_"&ROW(D4),'TD-Base de données'!$H$2:$H$18892,0),5),"") | E7: =IFERROR(INDEX('TD-Base de données'!$A$2:$F$18892,MATCH("OUI"&"_"&ROW(E4),'TD-Base de données'!$H$2:$H$18892,0),6),"") | G7: =IFERROR(INDEX('TD-Base de données'!$A$2:$I$18892,MATCH("OUI"&"_"&ROW(G5),'TD-Base de données'!$H$2:$H$18892,0),21),"") | J7: =SUM(H7:I7) -> 0
A8: =IFERROR(INDEX('TD-Base de données'!$A$2:$F$18892,MATCH("OUI"&"_"&ROW(A5),'TD-Base de données'!$H$2:$H$18892,0),2),"") | B8: =IFERROR(INDEX('TD-Base de données'!$A$2:$F$18892,MATCH("OUI"&"_"&ROW(B5),'TD-Base de données'!$H$2:$H$18892,0),3),"") | C8: =IFERROR(INDEX('TD-Base de données'!$A$2:$F$18892,MATCH("OUI"&"_"&ROW(C5),'TD-Base de données'!$H$2:$H$18892,0),4),"") | D8: =IFERROR(INDEX('TD-Base de données'!$A$2:$F$18892,MATCH("OUI"&"_"&ROW(D5),'TD-Base de données'!$H$2:$H$18892,0),5),"") | E8: =IFERROR(INDEX('TD-Base de données'!$A$2:$F$18892,MATCH("OUI"&"_"&ROW(E5),'TD-Base de données'!$H$2:$H$18892,0),6),"") | G8: =IFERROR(INDEX('TD-Base de données'!$A$2:$I$18892,MATCH("OUI"&"_"&ROW(G6),'TD-Base de données'!$H$2:$H$18892,0),21),"") | J8: =SUM(H8:I8) -> 0
A9: =IFERROR(INDEX('TD-Base de données'!$A$2:$F$18892,MATCH("OUI"&"_"&ROW(A6),'TD-Base de données'!$H$2:$H$18892,0),2),"") | B9: =IFERROR(INDEX('TD-Base de données'!$A$2:$F$18892,MATCH("OUI"&"_"&ROW(B6),'TD-Base de données'!$H$2:$H$18892,0),3),"") | C9: =IFERROR(INDEX('TD-Base de données'!$A$2:$F$18892,MATCH("OUI"&"_"&ROW(C6),'TD-Base de données'!$H$2:$H$18892,0),4),"") | D9: =IFERROR(INDEX('TD-Base de données'!$A$2:$F$18892,MATCH("OUI"&"_"&ROW(D6),'TD-Base de données'!$H$2:$H$18892,0),6),"") | E9: =IFERROR(INDEX('TD-Base de données'!$A$2:$F$18892,MATCH("OUI"&"_"&ROW(E7),'TD-Base de données'!$H$2:$H$18892,0),7),"") | G9: =IFERROR(INDEX('TD-Base de données'!$A$2:$I$18892,MATCH("OUI"&"_"&ROW(G7),'TD-Base de données'!$H$2:$H$18892,0),21),"") | J9: =SUM(H9:I9) -> 0
A10: =IFERROR(INDEX('TD-Base de données'!$A$2:$F$18892,MATCH("OUI"&"_"&ROW(A8),'TD-Base de données'!$H$2:$H$18892,0),3),"") | B10: =IFERROR(INDEX('TD-Base de données'!$A$2:$F$18892,MATCH("OUI"&"_"&ROW(B8),'TD-Base de données'!$H$2:$H$18892,0),4),"") | C10: =IFERROR(INDEX('TD-Base de données'!$A$2:$F$18892,MATCH("OUI"&"_"&ROW(C7),'TD-Base de données'!$H$2:$H$18892,0),4),"") | D10: =IFERROR(INDEX('TD-Base de données'!$A$2:$F$18892,MATCH("OUI"&"_"&ROW(D8),'TD-Base de données'!$H$2:$H$18892,0),6),"") | E10: =IFERROR(INDEX('TD-Base de données'!$A$2:$F$18892,MATCH("OUI"&"_"&ROW(E8),'TD-Base de données'!$H$2:$H$18892,0),7),"") | G10: =IFERROR(INDEX('TD-Base de données'!$A$2:$I$18892,MATCH("OUI"&"_"&ROW(G8),'TD-Base de données'!$H$2:$H$18892,0),21),"") | J10: =SUM(H10:I10) -> 0
A11: =IFERROR(INDEX('TD-Base de données'!$A$2:$F$18892,MATCH("OUI"&"_"&ROW(A9),'TD-Base de données'!$H$2:$H$18892,0),3),"") | B11: =IFERROR(INDEX('TD-Base de données'!$A$2:$F$18892,MATCH("OUI"&"_"&ROW(B9),'TD-Base de données'!$H$2:$H$18892,0),4),"") | C11: =IFERROR(INDEX('TD-Base de données'!$A$2:$F$18892,MATCH("OUI"&"_"&ROW(C9),'TD-Base de données'!$H$2:$H$18892,0),5),"") | D11: =IFERROR(INDEX('TD-Base de données'!$A$2:$F$18892,MATCH("OUI"&"_"&ROW(D9),'TD-Base de données'!$H$2:$H$18892,0),6),"") | E11: =IFERROR(INDEX('TD-Base de données'!$A$2:$F$18892,MATCH("OUI"&"_"&ROW(E9),'TD-Base de données'!$H$2:$H$18892,0),7),"") | G11: =IFERROR(INDEX('TD-Base de données'!$A$2:$I$18892,MATCH("OUI"&"_"&ROW(G9),'TD-Base de données'!$H$2:$H$18892,0),21),"") | J11: =SUM(H11:I11) -> 0
A15: =IFERROR(INDEX('TD-Base de données'!$A$2:$F$18892,MATCH("OUI"&"_"&ROW(A13),'TD-Base de données'!$H$2:$H$18892,0),3),"") | B15: =IFERROR(INDEX('TD-Base de données'!$A$2:$F$18892,MATCH("OUI"&"_"&ROW(B13),'TD-Base de données'!$H$2:$H$18892,0),4),"") | C15: =IFERROR(INDEX('TD-Base de données'!$A$2:$F$18892,MATCH("OUI"&"_"&ROW(C13),'TD-Base de données'!$H$2:$H$18892,0),5),"") | D15: =IFERROR(INDEX('TD-Base de données'!$A$2:$F$18892,MATCH("OUI"&"_"&ROW(D13),'TD-Base de données'!$H$2:$H$18892,0),6),"") | E15: =IFERROR(INDEX('TD-Base de données'!$A$2:$F$18892,MATCH("OUI"&"_"&ROW(E13),'TD-Base de données'!$H$2:$H$18892,0),7),"") | G15: =IFERROR(INDEX('TD-Base de données'!$A$2:$I$18892,MATCH("OUI"&"_"&ROW(G13),'TD-Base de données'!$H$2:$H$18892,0),21),"") | J15: =SUM(H15:I15) -> 0
A16: =IFERROR(INDEX('TD-Base de données'!$A$2:$F$18892,MATCH("OUI"&"_"&ROW(A14),'TD-Base de données'!$H$2:$H$18892,0),3),"") | B16: =IFERROR(INDEX('TD-Base de données'!$A$2:$F$18892,MATCH("OUI"&"_"&ROW(B14),'TD-Base de données'!$H$2:$H$18892,0),4),"") | C16: =IFERROR(INDEX('TD-Base de données'!$A$2:$F$18892,MATCH("OUI"&"_"&ROW(C14),'TD-Base de données'!$H$2:$H$18892,0),5),"") | D16: =IFERROR(INDEX('TD-Base de données'!$A$2:$F$18892,MATCH("OUI"&"_"&ROW(D14),'TD-Base de données'!$H$2:$H$18892,0),6),"") | E16: =IFERROR(INDEX('TD-Base de données'!$A$2:$F$18892,MATCH("OUI"&"_"&ROW(E14),'TD-Base de données'!$H$2:$H$18892,0),7),"") | G16: =IFERROR(INDEX('TD-Base de données'!$A$2:$I$18892,MATCH("OUI"&"_"&ROW(G14),'TD-Base de données'!$H$2:$H$18892,0),21),"") | J16: =SUM(H16:I16) -> 0
A17: =IFERROR(INDEX('TD-Base de données'!$A$2:$F$18892,MATCH("OUI"&"_"&ROW(A15),'TD-Base de données'!$H$2:$H$18892,0),3),"") | B17: =IFERROR(INDEX('TD-Base de données'!$A$2:$F$18892,MATCH("OUI"&"_"&ROW(B15),'TD-Base de données'!$H$2:$H$18892,0),4),"") | C17: =IFERROR(INDEX('TD-Base de données'!$A$2:$F$18892,MATCH("OUI"&"_"&ROW(C15),'TD-Base de données'!$H$2:$H$18892,0),5),"") | D17: =IFERROR(INDEX('TD-Base de données'!$A$2:$F$18892,MATCH("OUI"&"_"&ROW(D15),'TD-Base de données'!$H$2:$H$18892,0),6),"") | E17: =IFERROR(INDEX('TD-Base de données'!$A$2:$F$18892,MATCH("OUI"&"_"&ROW(E15),'TD-Base de données'!$H$2:$H$18892,0),7),"") | G17: =IFERROR(INDEX('TD-Base de données'!$A$2:$I$18892,MATCH("OUI"&"_"&ROW(G15),'TD-Base de données'!$H$2:$H$18892,0),21),"") | J17: =SUM(H17:I17) -> 0
A18: =IFERROR(INDEX('TD-Base de données'!$A$2:$F$18892,MATCH("OUI"&"_"&ROW(A16),'TD-Base de données'!$H$2:$H$18892,0),3),"") | B18: =IFERROR(INDEX('TD-Base de données'!$A$2:$F$18892,MATCH("OUI"&"_"&ROW(B16),'TD-Base de données'!$H$2:$H$18892,0),4),"") | C18: =IFERROR(INDEX('TD-Base de données'!$A$2:$F$18892,MATCH("OUI"&"_"&ROW(C16),'TD-Base de données'!$H$2:$H$18892,0),5),"") | D18: =IFERROR(INDEX('TD-Base de données'!$A$2:$F$18892,MATCH("OUI"&"_"&ROW(D16),'TD-Base de données'!$H$2:$H$18892,0),6),"") | E18: =IFERROR(INDEX('TD-Base de données'!$A$2:$F$18892,MATCH("OUI"&"_"&ROW(E16),'TD-Base de données'!$H$2:$H$18892,0),7),"") | G18: =IFERROR(INDEX('TD-Base de données'!$A$2:$I$18892,MATCH("OUI"&"_"&ROW(G16),'TD-Base de données'!$H$2:$H$18892,0),21),"") | J18: =SUM(H18:I18) -> 0
A19: =IFERROR(INDEX('TD-Base de données'!$A$2:$F$18892,MATCH("OUI"&"_"&ROW(A17),'TD-Base de données'!$H$2:$H$18892,0),3),"") | B19: =IFERROR(INDEX('TD-Base de données'!$A$2:$F$18892,MATCH("OUI"&"_"&ROW(B17),'TD-Base de données'!$H$2:$H$18892,0),4),"") | C19: =IFERROR(INDEX('TD-Base de données'!$A$2:$F$18892,MATCH("OUI"&"_"&ROW(C17),'TD-Base de données'!$H$2:$H$18892,0),5),"") | D19: =IFERROR(INDEX('TD-Base de données'!$A$2:$F$18892,MATCH("OUI"&"_"&ROW(D17),'TD-Base de données'!$H$2:$H$18892,0),6),"") | E19: =IFERROR(INDEX('TD-Base de données'!$A$2:$F$18892,MATCH("OUI"&"_"&ROW(E17),'TD-Base de données'!$H$2:$H$18892,0),7),"") | G19: =IFERROR(INDEX('TD-Base de données'!$A$2:$I$18892,MATCH("OUI"&"_"&ROW(G17),'TD-Base de données'!$H$2:$H$18892,0),21),"") | J19: =SUM(H19:I19) -> 0
A20: =IFERROR(INDEX('TD-Base de données'!$A$2:$F$18892,MATCH("OUI"&"_"&ROW(A18),'TD-Base de données'!$H$2:$H$18892,0),3),"") | B20: =IFERROR(INDEX('TD-Base de données'!$A$2:$F$18892,MATCH("OUI"&"_"&ROW(B18),'TD-Base de données'!$H$2:$H$18892,0),4),"") | C20: =IFERROR(INDEX('TD-Base de données'!$A$2:$F$18892,MATCH("OUI"&"_"&ROW(C18),'TD-Base de données'!$H$2:$H$18892,0),5),"") | D20: =IFERROR(INDEX('TD-Base de données'!$A$2:$F$18892,MATCH("OUI"&"_"&ROW(D18),'TD-Base de données'!$H$2:$H$18892,0),6),"") | E20: =IFERROR(INDEX('TD-Base de données'!$A$2:$F$18892,MATCH("OUI"&"_"&ROW(E18),'TD-Base de données'!$H$2:$H$18892,0),7),"") | G20: =IFERROR(INDEX('TD-Base de données'!$A$2:$I$18892,MATCH("OUI"&"_"&ROW(G18),'TD-Base de données'!$H$2:$H$18892,0),21),"") | J20: =SUM(H20:I20) -> 0
A21: =IFERROR(INDEX('TD-Base de données'!$A$2:$F$18892,MATCH("OUI"&"_"&ROW(A19),'TD-Base de données'!$H$2:$H$18892,0),3),"") | B21: =IFERROR(INDEX('TD-Base de données'!$A$2:$F$18892,MATCH("OUI"&"_"&ROW(B19),'TD-Base de données'!$H$2:$H$18892,0),4),"") | C21: =IFERROR(INDEX('TD-Base de données'!$A$2:$F$18892,MATCH("OUI"&"_"&ROW(C19),'TD-Base de données'!$H$2:$H$18892,0),5),"") | D21: =IFERROR(INDEX('TD-Base de données'!$A$2:$F$18892,MATCH("OUI"&"_"&ROW(D19),'TD-Base de données'!$H$2:$H$18892,0),6),"") | E21: =IFERROR(INDEX('TD-Base de données'!$A$2:$F$18892,MATCH("OUI"&"_"&ROW(E19),'TD-Base de données'!$H$2:$H$18892,0),7),"") | G21: =IFERROR(INDEX('TD-Base de données'!$A$2:$I$18892,MATCH("OUI"&"_"&ROW(G19),'TD-Base de données'!$H$2:$H$18892,0),21),"") | J21: =SUM(H21:I21) -> 0
A22: =IFERROR(INDEX('TD-Base de données'!$A$2:$F$18892,MATCH("OUI"&"_"&ROW(A20),'TD-Base de données'!$H$2:$H$18892,0),3),"") | B22: =IFERROR(INDEX('TD-Base de données'!$A$2:$F$18892,MATCH("OUI"&"_"&ROW(B20),'TD-Base de données'!$H$2:$H$18892,0),4),"") | C22: =IFERROR(INDEX('TD-Base de données'!$A$2:$F$18892,MATCH("OUI"&"_"&ROW(C20),'TD-Base de données'!$H$2:$H$18892,0),5),"") | D22: =IFERROR(INDEX('TD-Base de données'!$A$2:$F$18892,MATCH("OUI"&"_"&ROW(D20),'TD-Base de données'!$H$2:$H$18892,0),6),"") | E22: =IFERROR(INDEX('TD-Base de données'!$A$2:$F$18892,MATCH("OUI"&"_"&ROW(E20),'TD-Base de données'!$H$2:$H$18892,0),7),"") | G22: 0 | J22: =SUM(H22:I22) -> 0
A23: =IFERROR(INDEX('TD-Base de données'!$A$2:$F$18892,MATCH("OUI"&"_"&ROW(A21),'TD-Base de données'!$H$2:$H$18892,0),3),"") | B23: =IFERROR(INDEX('TD-Base de données'!$A$2:$F$18892,MATCH("OUI"&"_"&ROW(B21),'TD-Base de données'!$H$2:$H$18892,0),4),"") | C23: =IFERROR(INDEX('TD-Base de données'!$A$2:$F$18892,MATCH("OUI"&"_"&ROW(C21),'TD-Base de données'!$H$2:$H$18892,0),5),"") | D23: =IFERROR(INDEX('TD-Base de données'!$A$2:$F$18892,MATCH("OUI"&"_"&ROW(D21),'TD-Base de données'!$H$2:$H$18892,0),6),"") | E23: =IFERROR(INDEX('TD-Base de données'!$A$2:$F$18892,MATCH("OUI"&"_"&ROW(E21),'TD-Base de données'!$H$2:$H$18892,0),7),"") | G23: =IFERROR(INDEX('TD-Base de données'!$A$2:$I$18892,MATCH("OUI"&"_"&ROW(G21),'TD-Base de données'!$H$2:$H$18892,0),21),"") | J23: =SUM(H23:I23) -> 0
A24: =IFERROR(INDEX('TD-Base de données'!$A$2:$F$18892,MATCH("OUI"&"_"&ROW(A22),'TD-Base de données'!$H$2:$H$18892,0),3),"") | B24: =IFERROR(INDEX('TD-Base de données'!$A$2:$F$18892,MATCH("OUI"&"_"&ROW(B22),'TD-Base de données'!$H$2:$H$18892,0),4),"") | C24: =IFERROR(INDEX('TD-Base de données'!$A$2:$F$18892,MATCH("OUI"&"_"&ROW(C22),'TD-Base de données'!$H$2:$H$18892,0),5),"") | D24: =IFERROR(INDEX('TD-Base de données'!$A$2:$F$18892,MATCH("OUI"&"_"&ROW(D22),'TD-Base de données'!$H$2:$H$18892,0),6),"") | E24: =IFERROR(INDEX('TD-Base de données'!$A$2:$F$18892,MATCH("OUI"&"_"&ROW(E22),'TD-Base de données'!$H$2:$H$18892,0),7),"") | G24: =IFERROR(INDEX('TD-Base de données'!$A$2:$I$18892,MATCH("OUI"&"_"&ROW(G22),'TD-Base de données'!$H$2:$H$18892,0),21),"") | J24: =SUM(H24:I24) -> 0
A25: =IFERROR(INDEX('TD-Base de données'!$A$2:$F$18892,MATCH("OUI"&"_"&ROW(A23),'TD-Base de données'!$H$2:$H$18892,0),3),"") | B25: =IFERROR(INDEX('TD-Base de données'!$A$2:$F$18892,MATCH("OUI"&"_"&ROW(B23),'TD-Base de données'!$H$2:$H$18892,0),4),"") | C25: =IFERROR(INDEX('TD-Base de données'!$A$2:$F$18892,MATCH("OUI"&"_"&ROW(C23),'TD-Base de données'!$H$2:$H$18892,0),5),"") | D25: =IFERROR(INDEX('TD-Base de données'!$A$2:$F$18892,MATCH("OUI"&"_"&ROW(D23),'TD-Base de données'!$H$2:$H$18892,0),6),"") | E25: =IFERROR(INDEX('TD-Base de données'!$A$2:$F$18892,MATCH("OUI"&"_"&ROW(E23),'TD-Base de données'!$H$2:$H$18892,0),7),"") | G25: 0 | J25: =SUM(H25:I25) -> 0
A26: =IFERROR(INDEX('TD-Base de données'!$A$2:$F$18892,MATCH("OUI"&"_"&ROW(A24),'TD-Base de données'!$H$2:$H$18892,0),3),"") | B26: =IFERROR(INDEX('TD-Base de données'!$A$2:$F$18892,MATCH("OUI"&"_"&ROW(B24),'TD-Base de données'!$H$2:$H$18892,0),4),"") | C26: =IFERROR(INDEX('TD-Base de données'!$A$2:$F$18892,MATCH("OUI"&"_"&ROW(C24),'TD-Base de données'!$H$2:$H$18892,0),5),"") | D26: =IFERROR(INDEX('TD-Base de données'!$A$2:$F$18892,MATCH("OUI"&"_"&ROW(D24),'TD-Base de données'!$H$2:$H$18892,0),6),"") | E26: =IFERROR(INDEX('TD-Base de données'!$A$2:$F$18892,MATCH("OUI"&"_"&ROW(E24),'TD-Base de données'!$H$2:$H$18892,0),7),"") | G26: =IFERROR(INDEX('TD-Base de données'!$A$2:$I$18892,MATCH("OUI"&"_"&ROW(G24),'TD-Base de données'!$H$2:$H$18892,0),21),"") | J26: =SUM(H26:I26) -> 0
A27: =IFERROR(INDEX('TD-Base de données'!$A$2:$F$18892,MATCH("OUI"&"_"&ROW(A25),'TD-Base de données'!$H$2:$H$18892,0),3),"") | B27: =IFERROR(INDEX('TD-Base de données'!$A$2:$F$18892,MATCH("OUI"&"_"&ROW(B25),'TD-Base de données'!$H$2:$H$18892,0),4),"") | C27: =IFERROR(INDEX('TD-Base de données'!$A$2:$F$18892,MATCH("OUI"&"_"&ROW(C25),'TD-Base de données'!$H$2:$H$18892,0),5),"") | D27: =IFERROR(INDEX('TD-Base de données'!$A$2:$F$18892,MATCH("OUI"&"_"&ROW(D25),'TD-Base de données'!$H$2:$H$18892,0),6),"") | E27: =IFERROR(INDEX('TD-Base de données'!$A$2:$F$18892,MATCH("OUI"&"_"&ROW(E25),'TD-Base de données'!$H$2:$H$18892,0),7),"") | G27: =IFERROR(INDEX('TD-Base de données'!$A$2:$I$18892,MATCH("OUI"&"_"&ROW(G25),'TD-Base de données'!$H$2:$H$18892,0),21),"") | J27: =SUM(H27:I27) -> 0
A28: =IFERROR(INDEX('TD-Base de données'!$A$2:$F$18892,MATCH("OUI"&"_"&ROW(A26),'TD-Base de données'!$H$2:$H$18892,0),3),"") | B28: =IFERROR(INDEX('TD-Base de données'!$A$2:$F$18892,MATCH("OUI"&"_"&ROW(B26),'TD-Base de données'!$H$2:$H$18892,0),4),"") | C28: =IFERROR(INDEX('TD-Base de données'!$A$2:$F$18892,MATCH("OUI"&"_"&ROW(C26),'TD-Base de données'!$H$2:$H$18892,0),5),"") | D28: =IFERROR(INDEX('TD-Base de données'!$A$2:$F$18892,MATCH("OUI"&"_"&ROW(D26),'TD-Base de données'!$H$2:$H$18892,0),6),"") | E28: =IFERROR(INDEX('TD-Base de données'!$A$2:$F$18892,MATCH("OUI"&"_"&ROW(E26),'TD-Base de données'!$H$2:$H$18892,0),7),"") | G28: =IFERROR(INDEX('TD-Base de données'!$A$2:$I$18892,MATCH("OUI"&"_"&ROW(G26),'TD-Base de données'!$H$2:$H$18892,0),21),"") | J28: =SUM(H28:I28) -> 0
A29: =IFERROR(INDEX('TD-Base de données'!$A$2:$F$18892,MATCH("OUI"&"_"&ROW(A27),'TD-Base de données'!$H$2:$H$18892,0),3),"") | B29: =IFERROR(INDEX('TD-Base de données'!$A$2:$F$18892,MATCH("OUI"&"_"&ROW(B27),'TD-Base de données'!$H$2:$H$18892,0),4),"") | C29: =IFERROR(INDEX('TD-Base de données'!$A$2:$F$18892,MATCH("OUI"&"_"&ROW(C27),'TD-Base de données'!$H$2:$H$18892,0),5),"") | D29: =IFERROR(INDEX('TD-Base de données'!$A$2:$F$18892,MATCH("OUI"&"_"&ROW(D27),'TD-Base de données'!$H$2:$H$18892,0),6),"") | E29: =IFERROR(INDEX('TD-Base de données'!$A$2:$F$18892,MATCH("OUI"&"_"&ROW(E27),'TD-Base de données'!$H$2:$H$18892,0),7),"") | G29: =IFERROR(INDEX('TD-Base de données'!$A$2:$I$18892,MATCH("OUI"&"_"&ROW(G27),'TD-Base de données'!$H$2:$H$18892,0),21),"") | J29: =SUM(H29:I29) -> 0
A30: =IFERROR(INDEX('TD-Base de données'!$A$2:$F$18892,MATCH("OUI"&"_"&ROW(A28),'TD-Base de données'!$H$2:$H$18892,0),3),"") | B30: =IFERROR(INDEX('TD-Base de données'!$A$2:$F$18892,MATCH("OUI"&"_"&ROW(B28),'TD-Base de données'!$H$2:$H$18892,0),4),"") | C30: =IFERROR(INDEX('TD-Base de données'!$A$2:$F$18892,MATCH("OUI"&"_"&ROW(C28),'TD-Base de données'!$H$2:$H$18892,0),5),"") | D30: =IFERROR(INDEX('TD-Base de données'!$A$2:$F$18892,MATCH("OUI"&"_"&ROW(D28),'TD-Base de données'!$H$2:$H$18892,0),6),"") | E30: =IFERROR(INDEX('TD-Base de données'!$A$2:$F$18892,MATCH("OUI"&"_"&ROW(E28),'TD-Base de données'!$H$2:$H$18892,0),7),"") | G30: =IFERROR(INDEX('TD-Base de données'!$A$2:$I$18892,MATCH("OUI"&"_"&ROW(G28),'TD-Base de données'!$H$2:$H$18892,0),21),"") | J30: =SUM(H30:I30) -> 0
A31: =IFERROR(INDEX('TD-Base de données'!$A$2:$F$18892,MATCH("OUI"&"_"&ROW(A29),'TD-Base de données'!$H$2:$H$18892,0),3),"") | B31: =IFERROR(INDEX('TD-Base de données'!$A$2:$F$18892,MATCH("OUI"&"_"&ROW(B29),'TD-Base de données'!$H$2:$H$18892,0),4),"") | C31: =IFERROR(INDEX('TD-Base de données'!$A$2:$F$18892,MATCH("OUI"&"_"&ROW(C29),'TD-Base de données'!$H$2:$H$18892,0),5),"") | D31: =IFERROR(INDEX('TD-Base de données'!$A$2:$F$18892,MATCH("OUI"&"_"&ROW(D29),'TD-Base de données'!$H$2:$H$18892,0),6),"") | E31: =IFERROR(INDEX('TD-Base de données'!$A$2:$F$18892,MATCH("OUI"&"_"&ROW(E29),'TD-Base de données'!$H$2:$H$18892,0),7),"") | G31: =IFERROR(INDEX('TD-Base de données'!$A$2:$I$18892,MATCH("OUI"&"_"&ROW(G29),'TD-Base de données'!$H$2:$H$18892,0),21),"") | J31: =SUM(H31:I31) -> 0
A32: =IFERROR(INDEX('TD-Base de données'!$A$2:$F$18892,MATCH("OUI"&"_"&ROW(A30),'TD-Base de données'!$H$2:$H$18892,0),3),"") | B32: =IFERROR(INDEX('TD-Base de données'!$A$2:$F$18892,MATCH("OUI"&"_"&ROW(B30),'TD-Base de données'!$H$2:$H$18892,0),4),"") | C32: =IFERROR(INDEX('TD-Base de données'!$A$2:$F$18892,MATCH("OUI"&"_"&ROW(C30),'TD-Base de données'!$H$2:$H$18892,0),5),"") | D32: =IFERROR(INDEX('TD-Base de données'!$A$2:$F$18892,MATCH("OUI"&"_"&ROW(D30),'TD-Base de données'!$H$2:$H$18892,0),6),"") | E32: =IFERROR(INDEX('TD-Base de données'!$A$2:$F$18892,MATCH("OUI"&"_"&ROW(E30),'TD-Base de données'!$H$2:$H$18892,0),7),"") | G32: =IFERROR(INDEX('TD-Base de données'!$A$2:$I$18892,MATCH("OUI"&"_"&ROW(G30),'TD-Base de données'!$H$2:$H$18892,0),21),"") | J32: =SUM(H32:I32) -> 0
A33: =IFERROR(INDEX('TD-Base de données'!$A$2:$F$18892,MATCH("OUI"&"_"&ROW(A31),'TD-Base de données'!$H$2:$H$18892,0),3),"") | B33: =IFERROR(INDEX('TD-Base de données'!$A$2:$F$18892,MATCH("OUI"&"_"&ROW(B31),'TD-Base de données'!$H$2:$H$18892,0),4),"") | C33: =IFERROR(INDEX('TD-Base de données'!$A$2:$F$18892,MATCH("OUI"&"_"&ROW(C31),'TD-Base de données'!$H$2:$H$18892,0),5),"") | D33: =IFERROR(INDEX('TD-Base de données'!$A$2:$F$18892,MATCH("OUI"&"_"&ROW(D31),'TD-Base de données'!$H$2:$H$18892,0),6),"") | E33: =IFERROR(INDEX('TD-Base de données'!$A$2:$F$18892,MATCH("OUI"&"_"&ROW(E31),'TD-Base de données'!$H$2:$H$18892,0),7),"") | F33: 44482 | G33: =IFERROR(INDEX('TD-Base de données'!$A$2:$I$18892,MATCH("OUI"&"_"&ROW(G31),'TD-Base de données'!$H$2:$H$18892,0),21),"") | J33: =SUM(H33:I33) -> 0
A34: =IFERROR(INDEX('TD-Base de données'!$A$2:$F$18892,MATCH("OUI"&"_"&ROW(A32),'TD-Base de données'!$H$2:$H$18892,0),3),"") | B34: =IFERROR(INDEX('TD-Base de données'!$A$2:$F$18892,MATCH("OUI"&"_"&ROW(B32),'TD-Base de données'!$H$2:$H$18892,0),4),"") | C34: =IFERROR(INDEX('TD-Base de données'!$A$2:$F$18892,MATCH("OUI"&"_"&ROW(C32),'TD-Base de données'!$H$2:$H$18892,0),5),"") | D34: =IFERROR(INDEX('TD-Base de données'!$A$2:$F$18892,MATCH("OUI"&"_"&ROW(D32),'TD-Base de données'!$H$2:$H$18892,0),6),"") | E34: =IFERROR(INDEX('TD-Base de données'!$A$2:$F$18892,MATCH("OUI"&"_"&ROW(E32),'TD-Base de données'!$H$2:$H$18892,0),7),"") | F34: 44482 | G34: =IFERROR(INDEX('TD-Base de données'!$A$2:$I$18892,MATCH("OUI"&"_"&ROW(G32),'TD-Base de données'!$H$2:$H$18892,0),21),"") | J34: =SUM(H34:I34) -> 0
A35: =IFERROR(INDEX('TD-Base de données'!$A$2:$F$18892,MATCH("OUI"&"_"&ROW(A33),'TD-Base de données'!$H$2:$H$18892,0),3),"") | B35: =IFERROR(INDEX('TD-Base de données'!$A$2:$F$18892,MATCH("OUI"&"_"&ROW(B33),'TD-Base de données'!$H$2:$H$18892,0),4),"") | C35: =IFERROR(INDEX('TD-Base de données'!$A$2:$F$18892,MATCH("OUI"&"_"&ROW(C33),'TD-Base de données'!$H$2:$H$18892,0),5),"") | D35: =IFERROR(INDEX('TD-Base de données'!$A$2:$F$18892,MATCH("OUI"&"_"&ROW(D33),'TD-Base de données'!$H$2:$H$18892,0),6),"") | E35: =IFERROR(INDEX('TD-Base de données'!$A$2:$F$18892,MATCH("OUI"&"_"&ROW(E33),'TD-Base de données'!$H$2:$H$18892,0),7),"") | G35: =IFERROR(INDEX('TD-Base de données'!$A$2:$I$18892,MATCH("OUI"&"_"&ROW(G33),'TD-Base de données'!$H$2:$H$18892,0),21),"") | J35: =SUM(H35:I35) -> 0
A36: =IFERROR(INDEX('TD-Base de données'!$A$2:$F$18892,MATCH("OUI"&"_"&ROW(A34),'TD-Base de données'!$H$2:$H$18892,0),3),"") | B36: =IFERROR(INDEX('TD-Base de données'!$A$2:$F$18892,MATCH("OUI"&"_"&ROW(B34),'TD-Base de données'!$H$2:$H$18892,0),4),"") | C36: =IFERROR(INDEX('TD-Base de données'!$A$2:$F$18892,MATCH("OUI"&"_"&ROW(C34),'TD-Base de données'!$H$2:$H$18892,0),5),"") | D36: =IFERROR(INDEX('TD-Base de données'!$A$2:$F$18892,MATCH("OUI"&"_"&ROW(D34),'TD-Base de données'!$H$2:$H$18892,0),6),"") | E36: =IFERROR(INDEX('TD-Base de données'!$A$2:$F$18892,MATCH("OUI"&"_"&ROW(E34),'TD-Base de données'!$H$2:$H$18892,0),7),"") | G36: =IFERROR(INDEX('TD-Base de données'!$A$2:$I$18892,MATCH("OUI"&"_"&ROW(G34),'TD-Base de données'!$H$2:$H$18892,0),21),"") | J36: =SUM(H36:I36) -> 0
A37: =IFERROR(INDEX('TD-Base de données'!$A$2:$F$18892,MATCH("OUI"&"_"&ROW(A35),'TD-Base de données'!$H$2:$H$18892,0),3),"") | B37: =IFERROR(INDEX('TD-Base de données'!$A$2:$F$18892,MATCH("OUI"&"_"&ROW(B35),'TD-Base de données'!$H$2:$H$18892,0),4),"") | C37: =IFERROR(INDEX('TD-Base de données'!$A$2:$F$18892,MATCH("OUI"&"_"&ROW(C35),'TD-Base de données'!$H$2:$H$18892,0),5),"") | D37: =IFERROR(INDEX('TD-Base de données'!$A$2:$F$18892,MATCH("OUI"&"_"&ROW(D35),'TD-Base de données'!$H$2:$H$18892,0),6),"") | E37: =IFERROR(INDEX('TD-Base de données'!$A$2:$F$18892,MATCH("OUI"&"_"&ROW(E35),'TD-Base de données'!$H$2:$H$18892,0),7),"") | G37: =IFERROR(INDEX('TD-Base de données'!$A$2:$I$18892,MATCH("OUI"&"_"&ROW(G35),'TD-Base de données'!$H$2:$H$18892,0),21),"") | J37: =SUM(H37:I37) -> 0
A38: =IFERROR(INDEX('TD-Base de données'!$A$2:$F$18892,MATCH("OUI"&"_"&ROW(A36),'TD-Base de données'!$H$2:$H$18892,0),3),"") | B38: =IFERROR(INDEX('TD-Base de données'!$A$2:$F$18892,MATCH("OUI"&"_"&ROW(B36),'TD-Base de données'!$H$2:$H$18892,0),4),"") | C38: =IFERROR(INDEX('TD-Base de données'!$A$2:$F$18892,MATCH("OUI"&"_"&ROW(C36),'TD-Base de données'!$H$2:$H$18892,0),5),"") | D38: =IFERROR(INDEX('TD-Base de données'!$A$2:$F$18892,MATCH("OUI"&"_"&ROW(D36),'TD-Base de données'!$H$2:$H$18892,0),6),"") | E38: =IFERROR(INDEX('TD-Base de données'!$A$2:$F$18892,MATCH("OUI"&"_"&ROW(E36),'TD-Base de données'!$H$2:$H$18892,0),7),"") | G38: =IFERROR(INDEX('TD-Base de données'!$A$2:$I$18892,MATCH("OUI"&"_"&ROW(G36),'TD-Base de données'!$H$2:$H$18892,0),21),"") | J38: =SUM(H38:I38) -> 0
A39: =IFERROR(INDEX('TD-Base de données'!$A$2:$F$18892,MATCH("OUI"&"_"&ROW(A37),'TD-Base de données'!$H$2:$H$18892,0),3),"") | B39: =IFERROR(INDEX('TD-Base de données'!$A$2:$F$18892,MATCH("OUI"&"_"&ROW(B37),'TD-Base de données'!$H$2:$H$18892,0),4),"") | C39: =IFERROR(INDEX('TD-Base de données'!$A$2:$F$18892,MATCH("OUI"&"_"&ROW(C37),'TD-Base de données'!$H$2:$H$18892,0),5),"") | D39: =IFERROR(INDEX('TD-Base de données'!$A$2:$F$18892,MATCH("OUI"&"_"&ROW(D37),'TD-Base de données'!$H$2:$H$18892,0),6),"") | E39: =IFERROR(INDEX('TD-Base de données'!$A$2:$F$18892,MATCH("OUI"&"_"&ROW(E37),'TD-Base de données'!$H$2:$H$18892,0),7),"") | G39: =IFERROR(INDEX('TD-Base de données'!$A$2:$I$18892,MATCH("OUI"&"_"&ROW(G37),'TD-Base de données'!$H$2:$H$18892,0),21),"") | J39: =SUM(H39:I39) -> 0
A40: =IFERROR(INDEX('TD-Base de données'!$A$2:$F$18892,MATCH("OUI"&"_"&ROW(A38),'TD-Base de données'!$H$2:$H$18892,0),3),"") | B40: =IFERROR(INDEX('TD-Base de données'!$A$2:$F$18892,MATCH("OUI"&"_"&ROW(B38),'TD-Base de données'!$H$2:$H$18892,0),4),"") | C40: =IFERROR(INDEX('TD-Base de données'!$A$2:$F$18892,MATCH("OUI"&"_"&ROW(C38),'TD-Base de données'!$H$2:$H$18892,0),5),"") | D40: =IFERROR(INDEX('TD-Base de données'!$A$2:$F$18892,MATCH("OUI"&"_"&ROW(D38),'TD-Base de données'!$H$2:$H$18892,0),6),"") | E40: =IFERROR(INDEX('TD-Base de données'!$A$2:$F$18892,MATCH("OUI"&"_"&ROW(E38),'TD-Base de données'!$H$2:$H$18892,0),7),"") | G40: =IFERROR(INDEX('TD-Base de données'!$A$2:$I$18892,MATCH("OUI"&"_"&ROW(G38),'TD-Base de données'!$H$2:$H$18892,0),21),"") | J40: =SUM(H40:I40) -> 0
A41: =IFERROR(INDEX('TD-Base de données'!$A$2:$F$18892,MATCH("OUI"&"_"&ROW(A39),'TD-Base de données'!$H$2:$H$18892,0),3),"") | B41: =IFERROR(INDEX('TD-Base de données'!$A$2:$F$18892,MATCH("OUI"&"_"&ROW(B39),'TD-Base de données'!$H$2:$H$18892,0),4),"") | C41: =IFERROR(INDEX('TD-Base de données'!$A$2:$F$18892,MATCH("OUI"&"_"&ROW(C39),'TD-Base de données'!$H$2:$H$18892,0),5),"") | D41: =IFERROR(INDEX('TD-Base de données'!$A$2:$F$18892,MATCH("OUI"&"_"&ROW(D39),'TD-Base de données'!$H$2:$H$18892,0),6),"") | E41: =IFERROR(INDEX('TD-Base de données'!$A$2:$F$18892,MATCH("OUI"&"_"&ROW(E39),'TD-Base de données'!$H$2:$H$18892,0),7),"") | G41: =IFERROR(INDEX('TD-Base de données'!$A$2:$I$18892,MATCH("OUI"&"_"&ROW(G39),'TD-Base de données'!$H$2:$H$18892,0),21),"") | J41: =SUM(H41:I41) -> 0
A42: =IFERROR(INDEX('TD-Base de données'!$A$2:$F$18892,MATCH("OUI"&"_"&ROW(A40),'TD-Base de données'!$H$2:$H$18892,0),3),"") | B42: =IFERROR(INDEX('TD-Base de données'!$A$2:$F$18892,MATCH("OUI"&"_"&ROW(B40),'TD-Base de données'!$H$2:$H$18892,0),4),"") | C42: =IFERROR(INDEX('TD-Base de données'!$A$2:$F$18892,MATCH("OUI"&"_"&ROW(C40),'TD-Base de données'!$H$2:$H$18892,0),5),"") | D42: =IFERROR(INDEX('TD-Base de données'!$A$2:$F$18892,MATCH("OUI"&"_"&ROW(D40),'TD-Base de données'!$H$2:$H$18892,0),6),"") | E42: =IFERROR(INDEX('TD-Base de données'!$A$2:$F$18892,MATCH("OUI"&"_"&ROW(E40),'TD-Base de données'!$H$2:$H$18892,0),7),"") | G42: =IFERROR(INDEX('TD-Base de données'!$A$2:$I$18892,MATCH("OUI"&"_"&ROW(G40),'TD-Base de données'!$H$2:$H$18892,0),21),"") | J42: =SUM(H42:I42) -> 0
A43: =IFERROR(INDEX('TD-Base de données'!$A$2:$F$18892,MATCH("OUI"&"_"&ROW(A41),'TD-Base de données'!$H$2:$H$18892,0),3),"") | B43: =IFERROR(INDEX('TD-Base de données'!$A$2:$F$18892,MATCH("OUI"&"_"&ROW(B41),'TD-Base de données'!$H$2:$H$18892,0),4),"") | C43: =IFERROR(INDEX('TD-Base de données'!$A$2:$F$18892,MATCH("OUI"&"_"&ROW(C41),'TD-Base de données'!$H$2:$H$18892,0),5),"") | D43: =IFERROR(INDEX('TD-Base de données'!$A$2:$F$18892,MATCH("OUI"&"_"&ROW(D41),'TD-Base de données'!$H$2:$H$18892,0),6),"") | E43: =IFERROR(INDEX('TD-Base de données'!$A$2:$F$18892,MATCH("OUI"&"_"&ROW(E41),'TD-Base de données'!$H$2:$H$18892,0),7),"") | G43: =IFERROR(INDEX('TD-Base de données'!$A$2:$I$18892,MATCH("OUI"&"_"&ROW(G41),'TD-Base de données'!$H$2:$H$18892,0),21),"") | J43: =SUM(H43:I43) -> 0
A44: =IFERROR(INDEX('TD-Base de données'!$A$2:$F$18892,MATCH("OUI"&"_"&ROW(A42),'TD-Base de données'!$H$2:$H$18892,0),3),"") | B44: =IFERROR(INDEX('TD-Base de données'!$A$2:$F$18892,MATCH("OUI"&"_"&ROW(B42),'TD-Base de données'!$H$2:$H$18892,0),4),"") | C44: =IFERROR(INDEX('TD-Base de données'!$A$2:$F$18892,MATCH("OUI"&"_"&ROW(C42),'TD-Base de données'!$H$2:$H$18892,0),5),"") | D44: =IFERROR(INDEX('TD-Base de données'!$A$2:$F$18892,MATCH("OUI"&"_"&ROW(D42),'TD-Base de données'!$H$2:$H$18892,0),6),"") | E44: =IFERROR(INDEX('TD-Base de données'!$A$2:$F$18892,MATCH("OUI"&"_"&ROW(E42),'TD-Base de données'!$H$2:$H$18892,0),7),"") | G44: =IFERROR(INDEX('TD-Base de données'!$A$2:$I$18892,MATCH("OUI"&"_"&ROW(G42),'TD-Base de données'!$H$2:$H$18892,0),21),"") | J44: =SUM(H44:I44) -> 0
A45: =IFERROR(INDEX('TD-Base de données'!$A$2:$F$18892,MATCH("OUI"&"_"&ROW(A43),'TD-Base de données'!$H$2:$H$18892,0),3),"") | B45: =IFERROR(INDEX('TD-Base de données'!$A$2:$F$18892,MATCH("OUI"&"_"&ROW(B43),'TD-Base de données'!$H$2:$H$18892,0),4),"") | C45: =IFERROR(INDEX('TD-Base de données'!$A$2:$F$18892,MATCH("OUI"&"_"&ROW(C43),'TD-Base de données'!$H$2:$H$18892,0),5),"") | D45: =IFERROR(INDEX('TD-Base de données'!$A$2:$F$18892,MATCH("OUI"&"_"&ROW(D43),'TD-Base de données'!$H$2:$H$18892,0),6),"") | E45: =IFERROR(INDEX('TD-Base de données'!$A$2:$F$18892,MATCH("OUI"&"_"&ROW(E43),'TD-Base de données'!$H$2:$H$18892,0),7),"") | G45: =IFERROR(INDEX('TD-Base de données'!$A$2:$I$18892,MATCH("OUI"&"_"&ROW(G43),'TD-Base de données'!$H$2:$H$18892,0),21),"") | J45: =SUM(H45:I45) -> 0
A46: =IFERROR(INDEX('TD-Base de données'!$A$2:$F$18892,MATCH("OUI"&"_"&ROW(A44),'TD-Base de données'!$H$2:$H$18892,0),3),"") | B46: =IFERROR(INDEX('TD-Base de données'!$A$2:$F$18892,MATCH("OUI"&"_"&ROW(B44),'TD-Base de données'!$H$2:$H$18892,0),4),"") | C46: =IFERROR(INDEX('TD-Base de données'!$A$2:$F$18892,MATCH("OUI"&"_"&ROW(C44),'TD-Base de données'!$H$2:$H$18892,0),5),"") | D46: =IFERROR(INDEX('TD-Base de données'!$A$2:$F$18892,MATCH("OUI"&"_"&ROW(D44),'TD-Base de données'!$H$2:$H$18892,0),6),"") | E46: =IFERROR(INDEX('TD-Base de données'!$A$2:$F$18892,MATCH("OUI"&"_"&ROW(E44),'TD-Base de données'!$H$2:$H$18892,0),7),"") | G46: =IFERROR(INDEX('TD-Base de données'!$A$2:$I$18892,MATCH("OUI"&"_"&ROW(G44),'TD-Base de données'!$H$2:$H$18892,0),21),"") | J46: =SUM(H46:I46) -> 0
... A123: =IFERROR(INDEX('TD-Base de données'!$A$2:$F$18892,MATCH("OUI"&"_"&ROW(A121),'TD-Base de données'!$H$2:$H$18892,0),3),"") | B123: =IFERROR(INDEX('TD-Base de données'!$A$2:$F$18892,MATCH("OUI"&"_"&ROW(B121),'TD-Base de données'!$H$2:$H$18892,0),4),"") | C123: =IFERROR(INDEX('TD-Base de données'!$A$2:$F$18892,MATCH("OUI"&"_"&ROW(C121),'TD-Base de données'!$H$2:$H$18892,0),5),"") | D123: =IFERROR(INDEX('TD-Base de données'!$A$2:$F$18892,MATCH("OUI"&"_"&ROW(D121),'TD-Base de données'!$H$2:$H$18892,0),6),"") | E123: =IFERROR(INDEX('TD-Base de données'!$A$2:$F$18892,MATCH("OUI"&"_"&ROW(E121),'TD-Base de données'!$H$2:$H$18892,0),7),"") | G123: =IFERROR(INDEX('TD-Base de données'!$A$2:$I$18892,MATCH("OUI"&"_"&ROW(G121),'TD-Base de données'!$H$2:$H$18892,0),21),"") | J123: =SUM(H123:I123) -> 0
A124: =IFERROR(INDEX('TD-Base de données'!$A$2:$F$18892,MATCH("OUI"&"_"&ROW(A122),'TD-Base de données'!$H$2:$H$18892,0),3),"") | B124: =IFERROR(INDEX('TD-Base de données'!$A$2:$F$18892,MATCH("OUI"&"_"&ROW(B122),'TD-Base de données'!$H$2:$H$18892,0),4),"") | C124: =IFERROR(INDEX('TD-Base de données'!$A$2:$F$18892,MATCH("OUI"&"_"&ROW(C122),'TD-Base de données'!$H$2:$H$18892,0),5),"") | D124: =IFERROR(INDEX('TD-Base de données'!$A$2:$F$18892,MATCH("OUI"&"_"&ROW(D122),'TD-Base de données'!$H$2:$H$18892,0),6),"") | E124: =IFERROR(INDEX('TD-Base de données'!$A$2:$F$18892,MATCH("OUI"&"_"&ROW(E122),'TD-Base de données'!$H$2:$H$18892,0),7),"") | G124: =IFERROR(INDEX('TD-Base de données'!$A$2:$I$18892,MATCH("OUI"&"_"&ROW(G122),'TD-Base de données'!$H$2:$H$18892,0),21),"")
A125: =IFERROR(INDEX('TD-Base de données'!$A$2:$F$18892,MATCH("OUI"&"_"&ROW(A123),'TD-Base de données'!$H$2:$H$18892,0),3),"") | B125: =IFERROR(INDEX('TD-Base de données'!$A$2:$F$18892,MATCH("OUI"&"_"&ROW(B123),'TD-Base de données'!$H$2:$H$18892,0),4),"") | C125: =IFERROR(INDEX('TD-Base de données'!$A$2:$F$18892,MATCH("OUI"&"_"&ROW(C123),'TD-Base de données'!$H$2:$H$18892,0),5),"") | D125: =IFERROR(INDEX('TD-Base de données'!$A$2:$F$18892,MATCH("OUI"&"_"&ROW(D123),'TD-Base de données'!$H$2:$H$18892,0),6),"") | E125: =IFERROR(INDEX('TD-Base de données'!$A$2:$F$18892,MATCH("OUI"&"_"&ROW(E123),'TD-Base de données'!$H$2:$H$18892,0),7),"") | G125: =IFERROR(INDEX('TD-Base de données'!$A$2:$I$18892,MATCH("OUI"&"_"&ROW(G123),'TD-Base de données'!$H$2:$H$18892,0),21),"")
A126: =IFERROR(INDEX('TD-Base de données'!$A$2:$F$18892,MATCH("OUI"&"_"&ROW(A124),'TD-Base de données'!$H$2:$H$18892,0),3),"") | B126: =IFERROR(INDEX('TD-Base de données'!$A$2:$F$18892,MATCH("OUI"&"_"&ROW(B124),'TD-Base de données'!$H$2:$H$18892,0),4),"") | C126: =IFERROR(INDEX('TD-Base de données'!$A$2:$F$18892,MATCH("OUI"&"_"&ROW(C124),'TD-Base de données'!$H$2:$H$18892,0),5),"") | D126: =IFERROR(INDEX('TD-Base de données'!$A$2:$F$18892,MATCH("OUI"&"_"&ROW(D124),'TD-Base de données'!$H$2:$H$18892,0),6),"") | E126: =IFERROR(INDEX('TD-Base de données'!$A$2:$F$18892,MATCH("OUI"&"_"&ROW(E124),'TD-Base de données'!$H$2:$H$18892,0),7),"") | G126: =IFERROR(INDEX('TD-Base de données'!$A$2:$I$18892,MATCH("OUI"&"_"&ROW(G124),'TD-Base de données'!$H$2:$H$18892,0),21),"")

Sheet Feuil1
A2: Caroline
A3: Paul
A4: Marie

Sheet Feuil5
A18: Saisine (SAISIN)
A19: Audienciée (AUDIEN)
A20: Condamnation (EXE)
A21: Relaxe (STOP UR)
A22: En délibéré (DECIS)
A23: Appel jug cot (AP COT)
A24: Appel jug ur (AP UR)
A25: Appel jug parq ( AP PAR)
A26: Opposition (OPP)
