Workbook
Name Auteurs: Livres!$C$2:$C$29
Name Livres: Livres!$B$2:$B$29
Name Personnel: Personnel!$A$1:$A$20
Name Personnelmail: Personnel!$A$1:$B$20
Name Titresauteurs: Livres!$B$2:$C$29

Sheet Livres
A1: Numéro | B1: Titre livre | C1: Auteurs
A2: 12 | B2: Au-delà de l'offre et de la demande | C2: Röpke W.
A3: 21 | B3: CEPAG - Crise financière, économique, sociale, climatique | C3: Poncelet B.
A4: 14 | B4: CEPAG - Le cauchemar américain | C4: Latteur N.
A5: 13 | B5: CEPAG - L'extrême droite | C5: Latteur N.
A6: 15 | B6: CEPAG - Présentation de la FGTB (1) | C6: Draguet D. Belot J-L.
A7: 16 | B7: CEPAG - Présentation de la FGTB (2) | C7: Draguet D. Belot J-L.
A8: 17 | B8: CEPAG - Présentation de la FGTB (3) | C8: Draguet D. Belot J-L.
A9: 18 | B9: CEPAG - Présentation de la FGTB (4) | C9: Draguet D. Belot J-L.
A10: 19 | B10: CEPAG - Présentation de la FGTB (5) | C10: Draguet D. Belot J-L.
A11: 20 | B11: CEPAG - Présentation de la FGTB (6) | C11: Draguet D. Belot J-L.
A12: 22 | B12: CESEP - Secouez-vous les idées | C12: Plusieurs auteurs
A13: 24 | B13: Confrontations Europe - Avril - Juin | C13: Plusieurs auteurs
... A29: 99999 | B29: ZZZZZZZZZZZZZZZZZZZZZZZZZZZZZZZZZZZZZZZZZZZZZZZZZZ | C29: ZZZZZZZZZZZZZZZZZZZZZZZZZZZZZZZZZZZZZZZZZZZZZZZZZZ

Sheet Personnel
A1: Carine | B1: Cdubois@bidon1.be
A2: Catherine | B2: CBoel@bidon2.be
A3: Christelle
A4: Dorothée
A5: Emilie
A6: Inês
A7: Jean
A8: Joseline
A9: Laurent
A10: Marie-Christine
A11: Natalino
A12: Patricia
A13: Rita
A14: Sandrine
... A20: ZZZZZZZZZZ
A25: =TODAY() -> 40231

Sheet Emprunt
A1: Emprunteur | B1: Titre du livre | C1: Auteurs | D1: D. sortie | E1: D. de retour | F1: Retard
C2: =IF(ISBLANK(B2)," ",VLOOKUP(B2,Titresauteurs,2)) | F2: =IF(ISBLANK(D2)," ",IF(ISBLANK(E2),IF(Personnel!$A$25-D2>=30,VLOOKUP(A2,Personnelmail,2)," ")," "))
C3: =IF(ISBLANK(B3)," ",VLOOKUP(B3,Titresauteurs,2)) | F3: =IF(ISBLANK(D3)," ",IF(ISBLANK(E3),IF(Personnel!$A$25-D3>=30,VLOOKUP(A3,Personnelmail,2)," ")," "))
C4: =IF(ISBLANK(B4)," ",VLOOKUP(B4,Titresauteurs,2)) | F4: =IF(ISBLANK(D4)," ",IF(ISBLANK(E4),IF(Personnel!$A$25-D4>=30,VLOOKUP(A4,Personnelmail,2)," ")," "))
C5: =IF(ISBLANK(B5)," ",VLOOKUP(B5,Titresauteurs,2)) | F5: =IF(ISBLANK(D5)," ",IF(ISBLANK(E5),IF(Personnel!$A$25-D5>=30,VLOOKUP(A5,Personnelmail,2)," ")," "))
C6: =IF(ISBLANK(B6)," ",VLOOKUP(B6,Titresauteurs,2)) | F6: =IF(ISBLANK(D6)," ",IF(ISBLANK(E6),IF(Personnel!$A$25-D6>=30,VLOOKUP(A6,Personnelmail,2)," ")," "))
C7: =IF(ISBLANK(B7)," ",VLOOKUP(B7,Titresauteurs,2)) | F7: =IF(ISBLANK(D7)," ",IF(ISBLANK(E7),IF(Personnel!$A$25-D7>=30,VLOOKUP(A7,Personnelmail,2)," ")," "))
C8: =IF(ISBLANK(B8)," ",VLOOKUP(B8,Titresauteurs,2)) | F8: =IF(ISBLANK(D8)," ",IF(ISBLANK(E8),IF(Personnel!$A$25-D8>=30,VLOOKUP(A8,Personnelmail,2)," ")," "))
C9: =IF(ISBLANK(B9)," ",VLOOKUP(B9,Titresauteurs,2)) | F9: =IF(ISBLANK(D9)," ",IF(ISBLANK(E9),IF(Personnel!$A$25-D9>=30,VLOOKUP(A9,Personnelmail,2)," ")," "))
C10: =IF(ISBLANK(B10)," ",VLOOKUP(B10,Titresauteurs,2)) | F10: =IF(ISBLANK(D10)," ",IF(ISBLANK(E10),IF(Personnel!$A$25-D10>=30,VLOOKUP(A10,Personnelmail,2)," ")," "))
C11: =IF(ISBLANK(B11)," ",VLOOKUP(B11,Titresauteurs,2)) | F11: =IF(ISBLANK(D11)," ",IF(ISBLANK(E11),IF(Personnel!$A$25-D11>=30,VLOOKUP(A11,Personnelmail,2)," ")," "))
C12: =IF(ISBLANK(B12)," ",VLOOKUP(B12,Titresauteurs,2)) | F12: =IF(ISBLANK(D12)," ",IF(ISBLANK(E12),IF(Personnel!$A$25-D12>=30,VLOOKUP(A12,Personnelmail,2)," ")," "))
C13: =IF(ISBLANK(B13)," ",VLOOKUP(B13,Titresauteurs,2)) | F13: =IF(ISBLANK(D13)," ",IF(ISBLANK(E13),IF(Personnel!$A$25-D13>=30,VLOOKUP(A13,Personnelmail,2)," ")," "))
... C99: =IF(ISBLANK(B99)," ",VLOOKUP(B99,Titresauteurs,2)) | F99: =IF(ISBLANK(D99)," ",IF(ISBLANK(E99),IF(Personnel!$A$25-D99>=30,VLOOKUP(A99,Personnelmail,2)," ")," "))
A100: ZZZZZZZZZZ | B100: ZZZZZZZZZZZZZZZZZZZZZZZZZZZZZZZZZZZZZZZZZZZZZZZZZZ | C100: =IF(ISBLANK(B100)," ",VLOOKUP(B100,Titresauteurs,2)) -> ZZZZZZZZZZZZZZZZZZZZZZZZZZZZZZZZZZZZZZZZZZZZZZZZZZ | D100: 401768 | E100: 401768 | F100: =IF(ISBLANK(D100)," ",IF(ISBLANK(E100),IF(Personnel!$A$25-D100>=30,VLOOKUP(A100,Personnelmail,2)," ")," "))

Sheet Feuil4

Sheet Feuil5
A1: 1
A2: 2 | B2: 4.14 | C2: rouge | E2: =LOOKUP(B3,B2:B3,C2:C3) -> orange
A3: 3 | B3: 4.19 | C3: orange
A4: 4
