Workbook

Sheet inscriptions
A1: N° | C1: NOM | D1: Prénom | F1: Mail | H1: Choix 1 | I1: Choix 2 | J1: Choix 3 | K1: Choix 4 | N1: Bloc I | O1: Bloc II | P1: Bloc III
A2: 1 | B2: COMITE | C2: Dupont | D2: Benoît | F2: mail@mail.com | H2: 1 | I2: 4 | J2: 6 | K2: 2 | N2: 2 | O2: 4 | P2: 5
A3: 2 | C3: Rod | D3: Philippe | H3: 9 | I3: 6 | J3: 3 | K3: 7 | N3: 1 | O3: 4 | P3: 5
A4: 3 | C4: Aviolat | D4: Jean | H4: 1 | I4: 6 | J4: 9 | K4: 2 | N4: 1 | O4: 9 | P4: 2
A5: 4 | C5: Pichard | D5: Alain | H5: 2 | I5: 7 | J5: 8 | K5: 5 | N5: 8 | O5: 2 | P5: 7
A6: 5 | C6: Jaccard | D6: Michel | H6: 9 | I6: 7 | J6: 8 | K6: 3 | N6: 3 | O6: 8 | P6: 7
A7: 6 | C7: Burnand | D7: Frédéric | H7: 3 | I7: 6 | J7: 2 | K7: 5 | N7: 6 | O7: 2 | P7: 5
A8: 7 | C8: Matte | D8: Basile | H8: 2 | I8: 6 | J8: 3 | K8: 4 | N8: 2 | O8: 6 | P8: 4
A9: 8
A10: 9
A11: 10
A12: 11 | B12: PROFESSEURS
A13: 12
A14: 13
A15: 14
A16: 15
A17: 16
A18: 17
A19: 18
A20: 19
A21: 20
A22: 21
A23: 22
A24: 23
... A26: 25
A27: 26 | B27: CH I
A28: 27
A29: 28
A30: 29
A31: 30
A32: 31
A33: 32
A34: 33
A35: 34
A36: 35
A37: 36
A38: 37
A39: 38
... A201: 200

Sheet listes
B2: 1 | C2: Cours n° 1 | D2: Prof n° 1
B3: =COUNTIF(C4:C43,">""")-1 -> -1 | C3: Nom et Prénom | D3: Mail | E3: Reg
B4: 1 | C4: =IFERROR(INDEX(#REF!,MATCH(ROWS(C$4:C4),#REF!,0),),"")&" "&IFERROR(INDEX(#REF!,MATCH(ROWS(C$4:C4),#REF!,0),),"")
B5: 2 | C5: =IFERROR(INDEX(#REF!,MATCH(ROWS(C$4:C5),#REF!,0),),"")&" "&IFERROR(INDEX(#REF!,MATCH(ROWS(C$4:C5),#REF!,0),),"")
B6: 3 | C6: =IFERROR(INDEX(#REF!,MATCH(ROWS(C$4:C6),#REF!,0),),"")&" "&IFERROR(INDEX(#REF!,MATCH(ROWS(C$4:C6),#REF!,0),),"")
B7: 4 | C7: =IFERROR(INDEX(#REF!,MATCH(ROWS(C$4:C7),#REF!,0),),"")&" "&IFERROR(INDEX(#REF!,MATCH(ROWS(C$4:C7),#REF!,0),),"")
B8: 5 | C8: =IFERROR(INDEX(#REF!,MATCH(ROWS(C$4:C8),#REF!,0),),"")&" "&IFERROR(INDEX(#REF!,MATCH(ROWS(C$4:C8),#REF!,0),),"")
B9: 6 | C9: =IFERROR(INDEX(#REF!,MATCH(ROWS(C$4:C9),#REF!,0),),"")&" "&IFERROR(INDEX(#REF!,MATCH(ROWS(C$4:C9),#REF!,0),),"")
B10: 7 | C10: =IFERROR(INDEX(#REF!,MATCH(ROWS(C$4:C10),#REF!,0),),"")&" "&IFERROR(INDEX(#REF!,MATCH(ROWS(C$4:C10),#REF!,0),),"")
B11: 8 | C11: =IFERROR(INDEX(#REF!,MATCH(ROWS(C$4:C11),#REF!,0),),"")&" "&IFERROR(INDEX(#REF!,MATCH(ROWS(C$4:C11),#REF!,0),),"")
B12: 9 | C12: =IFERROR(INDEX(#REF!,MATCH(ROWS(C$4:C12),#REF!,0),),"")&" "&IFERROR(INDEX(#REF!,MATCH(ROWS(C$4:C12),#REF!,0),),"")
B13: 10 | C13: =IFERROR(INDEX(#REF!,MATCH(ROWS(C$4:C13),#REF!,0),),"")&" "&IFERROR(INDEX(#REF!,MATCH(ROWS(C$4:C13),#REF!,0),),"")
B14: 11 | C14: =IFERROR(INDEX(#REF!,MATCH(ROWS(C$4:C14),#REF!,0),),"")&" "&IFERROR(INDEX(#REF!,MATCH(ROWS(C$4:C14),#REF!,0),),"")
B15: 12 | C15: =IFERROR(INDEX(#REF!,MATCH(ROWS(C$4:C15),#REF!,0),),"")&" "&IFERROR(INDEX(#REF!,MATCH(ROWS(C$4:C15),#REF!,0),),"")
... B43: 40 | C43: =IFERROR(INDEX(#REF!,MATCH(ROWS(C$4:C43),#REF!,0),),"")&" "&IFERROR(INDEX(#REF!,MATCH(ROWS(C$4:C43),#REF!,0),),"")

Sheet Feuil2
A1: =IF(inscriptions!H2=1,inscriptions!#REF!,"") -> #REF! | B1: =IF(inscriptions!H2=1,inscriptions!#REF!,"") -> #REF!
A2: =IF(inscriptions!H3=1,inscriptions!#REF!,"") | B2: =IF(inscriptions!H3=1,inscriptions!#REF!,"")
A3: =IF(inscriptions!H4=1,inscriptions!#REF!,"") -> #REF! | B3: =IF(inscriptions!H4=1,inscriptions!#REF!,"") -> #REF!
A4: =IF(inscriptions!H5=1,inscriptions!#REF!,"") | B4: =IF(inscriptions!H5=1,inscriptions!#REF!,"")
A5: =IF(inscriptions!H6=1,inscriptions!#REF!,"") | B5: =IF(inscriptions!H6=1,inscriptions!#REF!,"")
A6: =IF(inscriptions!H7=1,inscriptions!#REF!,"") | B6: =IF(inscriptions!H7=1,inscriptions!#REF!,"")
A7: =IF(inscriptions!H8=1,inscriptions!#REF!,"") | B7: =IF(inscriptions!H8=1,inscriptions!#REF!,"")
A8: =IF(inscriptions!H9=1,inscriptions!#REF!,"") | B8: =IF(inscriptions!H9=1,inscriptions!#REF!,"")
A9: =IF(inscriptions!H10=1,inscriptions!#REF!,"") | B9: =IF(inscriptions!H10=1,inscriptions!#REF!,"")
A10: =IF(inscriptions!H11=1,inscriptions!#REF!,"") | B10: =IF(inscriptions!H11=1,inscriptions!#REF!,"")
A11: =IF(inscriptions!H12=1,inscriptions!#REF!,"") | B11: =IF(inscriptions!H12=1,inscriptions!#REF!,"")
A12: =IF(inscriptions!H13=1,inscriptions!#REF!,"") | B12: =IF(inscriptions!H13=1,inscriptions!#REF!,"")
... A20: =IF(inscriptions!H21=1,inscriptions!#REF!,"") | B20: =IF(inscriptions!H21=1,inscriptions!#REF!,"")
A21: =IF(inscriptions!H22=1,inscriptions!C22,"") | B21: =IF(inscriptions!H22=1,inscriptions!D22,"")
A22: =IF(inscriptions!H23=1,inscriptions!C23,"") | B22: =IF(inscriptions!H23=1,inscriptions!D23,"")
A23: =IF(inscriptions!H24=1,inscriptions!C24,"") | B23: =IF(inscriptions!H24=1,inscriptions!D24,"")
A24: =IF(inscriptions!H25=1,inscriptions!C25,"") | B24: =IF(inscriptions!H25=1,inscriptions!D25,"")
A25: =IF(inscriptions!H26=1,inscriptions!C26,"") | B25: =IF(inscriptions!H26=1,inscriptions!D26,"")
A26: =IF(inscriptions!H27=1,inscriptions!C27,"") | B26: =IF(inscriptions!H27=1,inscriptions!D27,"")
A27: =IF(inscriptions!H28=1,inscriptions!C28,"") | B27: =IF(inscriptions!H28=1,inscriptions!D28,"")
A28: =IF(inscriptions!H29=1,inscriptions!C29,"") | B28: =IF(inscriptions!H29=1,inscriptions!D29,"")
A29: =IF(inscriptions!H30=1,inscriptions!C30,"") | B29: =IF(inscriptions!H30=1,inscriptions!D30,"")
A30: =IF(inscriptions!H31=1,inscriptions!C31,"") | B30: =IF(inscriptions!H31=1,inscriptions!D31,"")
A31: =IF(inscriptions!#REF!=1,inscriptions!#REF!,"") -> #REF! | B31: =IF(inscriptions!#REF!=1,inscriptions!#REF!,"") -> #REF!
A32: =IF(inscriptions!H32=1,inscriptions!C32,"") | B32: =IF(inscriptions!H32=1,inscriptions!D32,"")
A33: =IF(inscriptions!H33=1,inscriptions!C33,"") | B33: =IF(inscriptions!H33=1,inscriptions!D33,"")
A34: =IF(inscriptions!H34=1,inscriptions!C34,"") | B34: =IF(inscriptions!H34=1,inscriptions!D34,"")
A35: =IF(inscriptions!H35=1,inscriptions!C35,"") | B35: =IF(inscriptions!H35=1,inscriptions!D35,"")
A36: =IF(inscriptions!H36=1,inscriptions!C36,"") | B36: =IF(inscriptions!H36=1,inscriptions!D36,"")
A37: =IF(inscriptions!H37=1,inscriptions!C37,"") | B37: =IF(inscriptions!H37=1,inscriptions!D37,"")
A38: =IF(inscriptions!H38=1,inscriptions!C38,"") | B38: =IF(inscriptions!H38=1,inscriptions!D38,"")
A39: =IF(inscriptions!H39=1,inscriptions!C39,"") | B39: =IF(inscriptions!H39=1,inscriptions!D39,"")
A40: =IF(inscriptions!H40=1,inscriptions!C40,"") | B40: =IF(inscriptions!H40=1,inscriptions!D40,"")
A41: =IF(inscriptions!H41=1,inscriptions!C41,"") | B41: =IF(inscriptions!H41=1,inscriptions!D41,"")
A42: =IF(inscriptions!H42=1,inscriptions!C42,"") | B42: =IF(inscriptions!H42=1,inscriptions!D42,"")
A43: =IF(inscriptions!H43=1,inscriptions!C43,"") | B43: =IF(inscriptions!H43=1,inscriptions!D43,"")
... A53: =IF(inscriptions!H53=1,inscriptions!C53,"") | B53: =IF(inscriptions!H53=1,inscriptions!D53,"")
A54: =IF(inscriptions!#REF!=1,inscriptions!#REF!,"") -> #REF! | B54: =IF(inscriptions!#REF!=1,inscriptions!#REF!,"") -> #REF!
A55: =IF(inscriptions!H54=1,inscriptions!C54,"") | B55: =IF(inscriptions!H54=1,inscriptions!D54,"")
A56: =IF(inscriptions!H55=1,inscriptions!#REF!,"") | B56: =IF(inscriptions!H55=1,inscriptions!#REF!,"")
...
