Workbook

Sheet inscriptions
A1: N° | C1: NOM | D1: Prénom | F1: Mail | H1: Choix 1 | I1: Choix 2 | J1: Choix 3 | K1: Choix 4 | M1: CA*
A2: 1 | B2: COMITE | C2: Dupont | D2: Benoît | F2: mail@mail.com | H2: 1 | I2: 4 | J2: 6 | K2: 2 | M2: =C2&" "&D2 -> Dupont Benoît | N2: =#REF! -> #REF! | O2: =F2 -> mail@mail.com | P2: =#REF! -> #REF!
A3: 2 | C3: Rod | D3: Philippe | H3: 9 | I3: 6 | J3: 3 | K3: 7 | M3: =C3&" "&D3 -> Rod Philippe | N3: =#REF! -> #REF! | O3: =F3 -> 0 | P3: =#REF! -> #REF!
A4: 3 | C4: Aviolat | D4: Jean | H4: 1 | I4: 6 | J4: 9 | K4: 2 | M4: =C4&" "&D4 -> Aviolat Jean | N4: =#REF! -> #REF! | O4: =F4 -> 0 | P4: =#REF! -> #REF!
A5: 4 | C5: Pichard | D5: Alain | H5: 2 | I5: 7 | J5: 8 | K5: 5 | M5: =C5&" "&D5 -> Pichard Alain | N5: =#REF! -> #REF! | O5: =F5 -> 0 | P5: =#REF! -> #REF!
A6: 5 | C6: Jaccard | D6: Michel | H6: 9 | I6: 7 | J6: 8 | K6: 3 | M6: =C6&" "&D6 -> Jaccard Michel | N6: =#REF! -> #REF! | O6: =F6 -> 0 | P6: =#REF! -> #REF!
A7: 6 | C7: Burnand | D7: Frédéric | H7: 3 | I7: 6 | J7: 2 | K7: 5 | M7: =C7&" "&D7 -> Burnand Frédéric | N7: =#REF! -> #REF! | O7: =F7 -> 0 | P7: =#REF! -> #REF!
A8: 7 | C8: Matte | D8: Basile | H8: 2 | I8: 6 | J8: 3 | K8: 4 | M8: =C8&" "&D8 -> Matte Basile | N8: =#REF! -> #REF! | O8: =F8 -> 0 | P8: =#REF! -> #REF!
A9: 8 | M9: =C9&" "&D9 | N9: =#REF! -> #REF! | O9: =F9 -> 0 | P9: =#REF! -> #REF!
A10: 9 | M10: =C10&" "&D10 | N10: =#REF! -> #REF! | O10: =F10 -> 0 | P10: =#REF! -> #REF!
A11: 10 | M11: =C11&" "&D11 | N11: =#REF! -> #REF! | O11: =F11 -> 0 | P11: =#REF! -> #REF!
A12: 11 | B12: PROFESSEURS | M12: =C12&" "&D12 | N12: =#REF! -> #REF! | O12: =F12 -> 0 | P12: =#REF! -> #REF!
A13: 12 | M13: =C13&" "&D13 | N13: =#REF! -> #REF! | O13: =F13 -> 0 | P13: =#REF! -> #REF!
A14: 13 | M14: =C14&" "&D14 | N14: =#REF! -> #REF! | O14: =F14 -> 0 | P14: =#REF! -> #REF!
A15: 14 | M15: =C15&" "&D15 | N15: =#REF! -> #REF! | O15: =F15 -> 0 | P15: =#REF! -> #REF!
A16: 15 | M16: =C16&" "&D16 | N16: =#REF! -> #REF! | O16: =F16 -> 0 | P16: =#REF! -> #REF!
A17: 16 | M17: =C17&" "&D17 | N17: =#REF! -> #REF! | O17: =F17 -> 0 | P17: =#REF! -> #REF!
A18: 17 | M18: =C18&" "&D18 | N18: =#REF! -> #REF! | O18: =F18 -> 0 | P18: =#REF! -> #REF!
A19: 18 | M19: =C19&" "&D19 | N19: =#REF! -> #REF! | O19: =F19 -> 0 | P19: =#REF! -> #REF!
A20: 19 | M20: =C20&" "&D20 | N20: =#REF! -> #REF! | O20: =F20 -> 0 | P20: =#REF! -> #REF!
A21: 20 | M21: =C21&" "&D21 | N21: =#REF! -> #REF! | O21: =F21 -> 0 | P21: =#REF! -> #REF!
A22: 21 | M22: =C22&" "&D22 | N22: =#REF! -> #REF! | O22: =F22 -> 0 | P22: =#REF! -> #REF!
A23: 22 | M23: =C23&" "&D23 | N23: =#REF! -> #REF! | O23: =F23 -> 0 | P23: =#REF! -> #REF!
A24: 23 | M24: =C24&" "&D24 | N24: =#REF! -> #REF! | O24: =F24 -> 0 | P24: =#REF! -> #REF!
... A26: 25 | M26: =C26&" "&D26 | N26: =#REF! -> #REF! | O26: =F26 -> 0 | P26: =#REF! -> #REF!
A27: 26 | B27: CH I | M27: =C27&" "&D27 | N27: =#REF! -> #REF! | O27: =F27 -> 0 | P27: =#REF! -> #REF!
A28: 27 | M28: =C28&" "&D28 | N28: =#REF! -> #REF! | O28: =F28 -> 0 | P28: =#REF! -> #REF!
A29: 28 | M29: =C29&" "&D29 | N29: =#REF! -> #REF! | O29: =F29 -> 0 | P29: =#REF! -> #REF!
A30: 29 | M30: =C30&" "&D30 | N30: =#REF! -> #REF! | O30: =F30 -> 0 | P30: =#REF! -> #REF!
A31: 30 | M31: =C31&" "&D31 | N31: =#REF! -> #REF! | O31: =F31 -> 0 | P31: =#REF! -> #REF!
A32: 31 | M32: =C32&" "&D32 | N32: =#REF! -> #REF! | O32: =F32 -> 0 | P32: =#REF! -> #REF!
A33: 32 | M33: =C33&" "&D33 | N33: =#REF! -> #REF! | O33: =F33 -> 0 | P33: =#REF! -> #REF!
A34: 33 | M34: =C34&" "&D34 | N34: =#REF! -> #REF! | O34: =F34 -> 0 | P34: =#REF! -> #REF!
A35: 34 | M35: =C35&" "&D35 | N35: =#REF! -> #REF! | O35: =F35 -> 0 | P35: =#REF! -> #REF!
A36: 35 | M36: =C36&" "&D36 | N36: =#REF! -> #REF! | O36: =F36 -> 0 | P36: =#REF! -> #REF!
A37: 36 | M37: =C37&" "&D37 | N37: =#REF! -> #REF! | O37: =F37 -> 0 | P37: =#REF! -> #REF!
A38: 37 | M38: =C38&" "&D38 | N38: =#REF! -> #REF! | O38: =F38 -> 0 | P38: =#REF! -> #REF!
A39: 38 | M39: =C39&" "&D39 | N39: =#REF! -> #REF! | O39: =F39 -> 0 | P39: =#REF! -> #REF!
... A193: 192 | M193: =C193&" "&D193 | N193: =#REF! -> #REF! | O193: =F193 -> 0 | P193: =#REF! -> #REF!
A194: 193
A195: 194
A196: 195
A197: 196
A198: 197
A199: 198
A200: 199
A201: 200

Sheet repartition
B1: NOM | C1: Prénom | E1: I1 | F1: I2 | G1: I3 | H1: I4 | J1: Bloc I | K1: Bloc II | L1: Bloc III
A2: =inscriptions!A2 -> 1 | B2: =inscriptions!C2 -> Dupont | C2: =inscriptions!D2 -> Benoît | E2: =inscriptions!H2 -> 1 | F2: =inscriptions!I2 -> 4 | G2: =inscriptions!J2 -> 6 | H2: =inscriptions!K2 -> 2 | J2: 2 | K2: 4 | L2: 5
A3: =inscriptions!A3 -> 2 | B3: =inscriptions!C3 -> Rod | C3: =inscriptions!D3 -> Philippe | E3: =inscriptions!H3 -> 9 | F3: =inscriptions!I3 -> 6 | G3: =inscriptions!J3 -> 3 | H3: =inscriptions!K3 -> 7 | J3: 1 | K3: 4 | L3: 5
A4: =inscriptions!A4 -> 3 | B4: =inscriptions!C4 -> Aviolat | C4: =inscriptions!D4 -> Jean | E4: =inscriptions!H4 -> 1 | F4: =inscriptions!I4 -> 6 | G4: =inscriptions!J4 -> 9 | H4: =inscriptions!K4 -> 2 | J4: 1 | K4: 9 | L4: 2
A5: =inscriptions!A5 -> 4 | B5: =inscriptions!C5 -> Pichard | C5: =inscriptions!D5 -> Alain | E5: =inscriptions!H5 -> 2 | F5: =inscriptions!I5 -> 7 | G5: =inscriptions!J5 -> 8 | H5: =inscriptions!K5 -> 5 | J5: 8 | K5: 2 | L5: 7
A6: =inscriptions!A6 -> 5 | B6: =inscriptions!C6 -> Jaccard | C6: =inscriptions!D6 -> Michel | E6: =inscriptions!H6 -> 9 | F6: =inscriptions!I6 -> 7 | G6: =inscriptions!J6 -> 8 | H6: =inscriptions!K6 -> 3 | J6: 3 | K6: 8 | L6: 7
A7: =inscriptions!A7 -> 6 | B7: =inscriptions!C7 -> Burnand | C7: =inscriptions!D7 -> Frédéric | E7: =inscriptions!H7 -> 3 | F7: =inscriptions!I7 -> 6 | G7: =inscriptions!J7 -> 2 | H7: =inscriptions!K7 -> 5 | J7: 6 | K7: 2 | L7: 5
A8: =inscriptions!A8 -> 7 | B8: =inscriptions!C8 -> Matte | C8: =inscriptions!D8 -> Basile | E8: =inscriptions!H8 -> 2 | F8: =inscriptions!I8 -> 6 | G8: =inscriptions!J8 -> 3 | H8: =inscriptions!K8 -> 4 | J8: 2 | K8: 6 | L8: 4
A9: =inscriptions!A9 -> 8 | B9: =inscriptions!C9 -> 0 | C9: =inscriptions!D9 -> 0 | E9: =inscriptions!H9 -> 0 | F9: =inscriptions!I9 -> 0 | G9: =inscriptions!J9 -> 0 | H9: =inscriptions!K9 -> 0
A10: =inscriptions!A10 -> 9 | B10: =inscriptions!C10 -> 0 | C10: =inscriptions!D10 -> 0 | E10: =inscriptions!H10 -> 0 | F10: =inscriptions!I10 -> 0 | G10: =inscriptions!J10 -> 0 | H10: =inscriptions!K10 -> 0
A11: =inscriptions!A11 -> 10 | B11: =inscriptions!C11 -> 0 | C11: =inscriptions!D11 -> 0 | E11: =inscriptions!H11 -> 0 | F11: =inscriptions!I11 -> 0 | G11: =inscriptions!J11 -> 0 | H11: =inscriptions!K11 -> 0
A12: =inscriptions!A12 -> 11 | B12: =inscriptions!C12 -> 0 | C12: =inscriptions!D12 -> 0 | E12: =inscriptions!H12 -> 0 | F12: =inscriptions!I12 -> 0 | G12: =inscriptions!J12 -> 0 | H12: =inscriptions!K12 -> 0
A13: =inscriptions!A13 -> 12 | B13: =inscriptions!C13 -> 0 | C13: =inscriptions!D13 -> 0 | E13: =inscriptions!H13 -> 0 | F13: =inscriptions!I13 -> 0 | G13: =inscriptions!J13 -> 0 | H13: =inscriptions!K13 -> 0
A14: =inscriptions!A14 -> 13 | B14: =inscriptions!C14 -> 0 | C14: =inscriptions!D14 -> 0 | E14: =inscriptions!H14 -> 0 | F14: =inscriptions!I14 -> 0 | G14: =inscriptions!J14 -> 0 | H14: =inscriptions!K14 -> 0
A15: =inscriptions!A15 -> 14 | B15: =inscriptions!C15 -> 0 | C15: =inscriptions!D15 -> 0 | E15: =inscriptions!H15 -> 0 | F15: =inscriptions!I15 -> 0 | G15: =inscriptions!J15 -> 0 | H15: =inscriptions!K15 -> 0
A16: =inscriptions!A16 -> 15 | B16: =inscriptions!C16 -> 0 | C16: =inscriptions!D16 -> 0 | E16: =inscriptions!H16 -> 0 | F16: =inscriptions!I16 -> 0 | G16: =inscriptions!J16 -> 0 | H16: =inscriptions!K16 -> 0
A17: =inscriptions!A17 -> 16 | B17: =inscriptions!C17 -> 0 | C17: =inscriptions!D17 -> 0 | E17: =inscriptions!H17 -> 0 | F17: =inscriptions!I17 -> 0 | G17: =inscriptions!J17 -> 0 | H17: =inscriptions!K17 -> 0
A18: =inscriptions!A18 -> 17 | B18: =inscriptions!C18 -> 0 | C18: =inscriptions!D18 -> 0 | E18: =inscriptions!H18 -> 0 | F18: =inscriptions!I18 -> 0 | G18: =inscriptions!J18 -> 0 | H18: =inscriptions!K18 -> 0
A19: =inscriptions!A19 -> 18 | B19: =inscriptions!C19 -> 0 | C19: =inscriptions!D19 -> 0 | E19: =inscriptions!H19 -> 0 | F19: =inscriptions!I19 -> 0 | G19: =inscriptions!J19 -> 0 | H19: =inscriptions!K19 -> 0
A20: =inscriptions!A20 -> 19 | B20: =inscriptions!C20 -> 0 | C20: =inscriptions!D20 -> 0 | E20: =inscriptions!H20 -> 0 | F20: =inscriptions!I20 -> 0 | G20: =inscriptions!J20 -> 0 | H20: =inscriptions!K20 -> 0
... A201: =inscriptions!A201 -> 200 | B201: =inscriptions!C201 -> 0 | C201: =inscriptions!D201 -> 0 | E201: =inscriptions!H201 -> 0 | F201: =inscriptions!I201 -> 0 | G201: =inscriptions!J201 -> 0 | H201: =inscriptions!K201 -> 0

Sheet listes
B2: 1 | C2: =repartition!#REF! -> #REF! | D2: =repartition!#REF!&" "&repartition!#REF! -> #REF!
B3: =COUNTIF(C4:C43,">""")-1 -> 1 | C3: Nom et Prénom | D3: Mail | E3: Reg
B4: 1 | C4: =IFERROR(INDEX(CALCUL!B:B,MATCH(ROWS(C$4:C4),CALCUL!D:D,0),),"")&" "&IFERROR(INDEX(CALCUL!C:C,MATCH(ROWS(C$4:C4),CALCUL!D:D,0),),"") -> Rod Philippe | D4: =VLOOKUP(C4,inscriptions!M:O,3,FALSE) -> 0 | E4: =VLOOKUP(C4,inscriptions!M:P,4,FALSE) -> #REF!
B5: 2 | C5: =IFERROR(INDEX(CALCUL!B:B,MATCH(ROWS(C$4:C5),CALCUL!D:D,0),),"")&" "&IFERROR(INDEX(CALCUL!C:C,MATCH(ROWS(C$4:C5),CALCUL!D:D,0),),"") -> Aviolat Jean | D5: =VLOOKUP(C5,inscriptions!M:O,3,FALSE) -> 0 | E5: =VLOOKUP(C5,inscriptions!M:P,4,FALSE) -> #REF!
B6: 3 | C6: =IFERROR(INDEX(CALCUL!B:B,MATCH(ROWS(C$4:C6),CALCUL!D:D,0),),"")&" "&IFERROR(INDEX(CALCUL!C:C,MATCH(ROWS(C$4:C6),CALCUL!D:D,0),),"") | D6: =VLOOKUP(C6,inscriptions!M:O,3,FALSE) -> 0 | E6: =VLOOKUP(C6,inscriptions!M:P,4,FALSE) -> #REF!
B7: 4 | C7: =IFERROR(INDEX(CALCUL!B:B,MATCH(ROWS(C$4:C7),CALCUL!D:D,0),),"")&" "&IFERROR(INDEX(CALCUL!C:C,MATCH(ROWS(C$4:C7),CALCUL!D:D,0),),"") | D7: =VLOOKUP(C7,inscriptions!M:O,3,FALSE) -> 0 | E7: =VLOOKUP(C7,inscriptions!M:P,4,FALSE) -> #REF!
B8: 5 | C8: =IFERROR(INDEX(CALCUL!B:B,MATCH(ROWS(C$4:C8),CALCUL!D:D,0),),"")&" "&IFERROR(INDEX(CALCUL!C:C,MATCH(ROWS(C$4:C8),CALCUL!D:D,0),),"") | D8: =VLOOKUP(C8,inscriptions!M:O,3,FALSE) -> 0 | E8: =VLOOKUP(C8,inscriptions!M:P,4,FALSE) -> #REF!
B9: 6 | C9: =IFERROR(INDEX(CALCUL!B:B,MATCH(ROWS(C$4:C9),CALCUL!D:D,0),),"")&" "&IFERROR(INDEX(CALCUL!C:C,MATCH(ROWS(C$4:C9),CALCUL!D:D,0),),"") | D9: =VLOOKUP(C9,inscriptions!M:O,3,FALSE) -> 0 | E9: =VLOOKUP(C9,inscriptions!M:P,4,FALSE) -> #REF!
B10: 7 | C10: =IFERROR(INDEX(CALCUL!B:B,MATCH(ROWS(C$4:C10),CALCUL!D:D,0),),"")&" "&IFERROR(INDEX(CALCUL!C:C,MATCH(ROWS(C$4:C10),CALCUL!D:D,0),),"") | D10: =VLOOKUP(C10,inscriptions!M:O,3,FALSE) -> 0 | E10: =VLOOKUP(C10,inscriptions!M:P,4,FALSE) -> #REF!
B11: 8 | C11: =IFERROR(INDEX(CALCUL!B:B,MATCH(ROWS(C$4:C11),CALCUL!D:D,0),),"")&" "&IFERROR(INDEX(CALCUL!C:C,MATCH(ROWS(C$4:C11),CALCUL!D:D,0),),"") | D11: =VLOOKUP(C11,inscriptions!M:O,3,FALSE) -> 0 | E11: =VLOOKUP(C11,inscriptions!M:P,4,FALSE) -> #REF!
B12: 9 | C12: =IFERROR(INDEX(CALCUL!B:B,MATCH(ROWS(C$4:C12),CALCUL!D:D,0),),"")&" "&IFERROR(INDEX(CALCUL!C:C,MATCH(ROWS(C$4:C12),CALCUL!D:D,0),),"") | D12: =VLOOKUP(C12,inscriptions!M:O,3,FALSE) -> 0 | E12: =VLOOKUP(C12,inscriptions!M:P,4,FALSE) -> #REF!
B13: 10 | C13: =IFERROR(INDEX(CALCUL!B:B,MATCH(ROWS(C$4:C13),CALCUL!D:D,0),),"")&" "&IFERROR(INDEX(CALCUL!C:C,MATCH(ROWS(C$4:C13),CALCUL!D:D,0),),"") | D13: =VLOOKUP(C13,inscriptions!M:O,3,FALSE) -> 0 | E13: =VLOOKUP(C13,inscriptions!M:P,4,FALSE) -> #REF!
B14: 11 | C14: =IFERROR(INDEX(CALCUL!B:B,MATCH(ROWS(C$4:C14),CALCUL!D:D,0),),"")&" "&IFERROR(INDEX(CALCUL!C:C,MATCH(ROWS(C$4:C14),CALCUL!D:D,0),),"") | D14: =VLOOKUP(C14,inscriptions!M:O,3,FALSE) -> 0 | E14: =VLOOKUP(C14,inscriptions!M:P,4,FALSE) -> #REF!
B15: 12 | C15: =IFERROR(INDEX(CALCUL!B:B,MATCH(ROWS(C$4:C15),CALCUL!D:D,0),),"")&" "&IFERROR(INDEX(CALCUL!C:C,MATCH(ROWS(C$4:C15),CALCUL!D:D,0),),"") | D15: =VLOOKUP(C15,inscriptions!M:O,3,FALSE) -> 0 | E15: =VLOOKUP(C15,inscriptions!M:P,4,FALSE) -> #REF!
... B43: 40 | C43: =IFERROR(INDEX(CALCUL!B:B,MATCH(ROWS(C$4:C43),CALCUL!D:D,0),),"")&" "&IFERROR(INDEX(CALCUL!C:C,MATCH(ROWS(C$4:C43),CALCUL!D:D,0),),"") | D43: =VLOOKUP(C43,inscriptions!M:O,3,FALSE) -> 0 | E43: =VLOOKUP(C43,inscriptions!M:P,4,FALSE) -> #REF!
B45: 2 | C45: =repartition!#REF! -> #REF! | D45: =repartition!#REF!&" "&repartition!#REF! -> #REF!
B46: =COUNTIF(C47:C86,">""")-1 -> 4 | C46: Nom et Prénom | D46: Mail | E46: Reg
B47: 1 | C47: =IFERROR(INDEX(CALCUL!E:E,MATCH(ROWS(C$4:C4),CALCUL!G:G,0),),"")&" "&IFERROR(INDEX(CALCUL!F:F,MATCH(ROWS(C$4:C4),CALCUL!G:G,0),),"") -> Dupont Benoît | D47: =VLOOKUP(C47,inscriptions!M:O,3,FALSE) -> mail@mail.com | E47: =VLOOKUP(C47,inscriptions!M:P,4,FALSE) -> #REF!
B48: 2 | C48: =IFERROR(INDEX(CALCUL!E:E,MATCH(ROWS(C$4:C5),CALCUL!G:G,0),),"")&" "&IFERROR(INDEX(CALCUL!F:F,MATCH(ROWS(C$4:C5),CALCUL!G:G,0),),"") -> Aviolat Jean | D48: =VLOOKUP(C48,inscriptions!M:O,3,FALSE) -> 0 | E48: =VLOOKUP(C48,inscriptions!M:P,4,FALSE) -> #REF!
B49: 3 | C49: =IFERROR(INDEX(CALCUL!E:E,MATCH(ROWS(C$4:C6),CALCUL!G:G,0),),"")&" "&IFERROR(INDEX(CALCUL!F:F,MATCH(ROWS(C$4:C6),CALCUL!G:G,0),),"") -> Pichard Alain | D49: =VLOOKUP(C49,inscriptions!M:O,3,FALSE) -> 0 | E49: =VLOOKUP(C49,inscriptions!M:P,4,FALSE) -> #REF!
B50: 4 | C50: =IFERROR(INDEX(CALCUL!E:E,MATCH(ROWS(C$4:C7),CALCUL!G:G,0),),"")&" "&IFERROR(INDEX(CALCUL!F:F,MATCH(ROWS(C$4:C7),CALCUL!G:G,0),),"") -> Burnand Frédéric | D50: =VLOOKUP(C50,inscriptions!M:O,3,FALSE) -> 0 | E50: =VLOOKUP(C50,inscriptions!M:P,4,FALSE) -> #REF!
B51: 5 | C51: =IFERROR(INDEX(CALCUL!E:E,MATCH(ROWS(C$4:C8),CALCUL!G:G,0),),"")&" "&IFERROR(INDEX(CALCUL!F:F,MATCH(ROWS(C$4:C8),CALCUL!G:G,0),),"") -> Matte Basile | D51: =VLOOKUP(C51,inscriptions!M:O,3,FALSE) -> 0 | E51: =VLOOKUP(C51,inscriptions!M:P,4,FALSE) -> #REF!
B52: 6 | C52: =IFERROR(INDEX(CALCUL!E:E,MATCH(ROWS(C$4:C9),CALCUL!G:G,0),),"")&" "&IFERROR(INDEX(CALCUL!F:F,MATCH(ROWS(C$4:C9),CALCUL!G:G,0),),"") | D52: =VLOOKUP(C52,inscriptions!M:O,3,FALSE) -> 0 | E52: =VLOOKUP(C52,inscriptions!M:P,4,FALSE) -> #REF!
B53: 7 | C53: =IFERROR(INDEX(CALCUL!E:E,MATCH(ROWS(C$4:C10),CALCUL!G:G,0),),"")&" "&IFERROR(INDEX(CALCUL!F:F,MATCH(ROWS(C$4:C10),CALCUL!G:G,0),),"") | D53: =VLOOKUP(C53,inscriptions!M:O,3,FALSE) -> 0 | E53: =VLOOKUP(C53,inscriptions!M:P,4,FALSE) -> #REF!
B54: 8 | C54: =IFERROR(INDEX(CALCUL!E:E,MATCH(ROWS(C$4:C11),CALCUL!G:G,0),),"")&" "&IFERROR(INDEX(CALCUL!F:F,MATCH(ROWS(C$4:C11),CALCUL!G:G,0),),"") | D54: =VLOOKUP(C54,inscriptions!M:O,3,FALSE) -> 0 | E54: =VLOOKUP(C54,inscriptions!M:P,4,FALSE) -> #REF!
B55: 9 | C55: =IFERROR(INDEX(CALCUL!E:E,MATCH(ROWS(C$4:C12),CALCUL!G:G,0),),"")&" "&IFERROR(INDEX(CALCUL!F:F,MATCH(ROWS(C$4:C12),CALCUL!G:G,0),),"") | D55: =VLOOKUP(C55,inscriptions!M:O,3,FALSE) -> 0 | E55: =VLOOKUP(C55,inscriptions!M:P,4,FALSE) -> #REF!
B56: 10 | C56: =IFERROR(INDEX(CALCUL!E:E,MATCH(ROWS(C$4:C13),CALCUL!G:G,0),),"")&" "&IFERROR(INDEX(CALCUL!F:F,MATCH(ROWS(C$4:C13),CALCUL!G:G,0),),"") | D56: =VLOOKUP(C56,inscriptions!M:O,3,FALSE) -> 0 | E56: =VLOOKUP(C56,inscriptions!M:P,4,FALSE) -> #REF!
B57: 11 | C57: =IFERROR(INDEX(CALCUL!E:E,MATCH(ROWS(C$4:C14),CALCUL!G:G,0),),"")&" "&IFERROR(INDEX(CALCUL!F:F,MATCH(ROWS(C$4:C14),CALCUL!G:G,0),),"") | D57: =VLOOKUP(C57,inscriptions!M:O,3,FALSE) -> 0 | E57: =VLOOKUP(C57,inscriptions!M:P,4,FALSE) -> #REF!
B58: 12 | C58: =IFERROR(INDEX(CALCUL!E:E,MATCH(ROWS(C$4:C15),CALCUL!G:G,0),),"")&" "&IFERROR(INDEX(CALCUL!F:F,MATCH(ROWS(C$4:C15),CALCUL!G:G,0),),"") | D58: =VLOOKUP(C58,inscriptions!M:O,3,FALSE) -> 0 | E58: =VLOOKUP(C58,inscriptions!M:P,4,FALSE) -> #REF!
... B86: 40 | C86: =IFERROR(INDEX(CALCUL!E:E,MATCH(ROWS(C$4:C43),CALCUL!G:G,0),),"")&" "&IFERROR(INDEX(CALCUL!F:F,MATCH(ROWS(C$4:C43),CALCUL!G:G,0),),"") | D86: =VLOOKUP(C86,inscriptions!M:O,3,FALSE) -> 0 | E86: =VLOOKUP(C86,inscriptions!M:P,4,FALSE) -> #REF!
B88: 3 | C88: =repartition!#REF! -> #REF! | D88: =repartition!#REF!&" "&repartition!#REF! -> #REF!
B89: =COUNTIF(C90:C129,">""")-1 -> 0 | C89: Nom et Prénom | D89: Mail | E89: Reg
B90: 1 | C90: =IFERROR(INDEX(CALCUL!H:H,MATCH(ROWS(C$4:C4),CALCUL!J:J,0),),"")&" "&IFERROR(INDEX(CALCUL!I:I,MATCH(ROWS(C$4:C4),CALCUL!J:J,0),),"") -> Jaccard Michel | D90: =VLOOKUP(C90,inscriptions!M:O,3,FALSE) -> 0 | E90: =VLOOKUP(C90,inscriptions!M:P,4,FALSE) -> #REF!
B91: 2 | C91: =IFERROR(INDEX(CALCUL!H:H,MATCH(ROWS(C$4:C5),CALCUL!J:J,0),),"")&" "&IFERROR(INDEX(CALCUL!I:I,MATCH(ROWS(C$4:C5),CALCUL!J:J,0),),"") | D91: =VLOOKUP(C91,inscriptions!M:O,3,FALSE) -> 0 | E91: =VLOOKUP(C91,inscriptions!M:P,4,FALSE) -> #REF!
B92: 3 | C92: =IFERROR(INDEX(CALCUL!H:H,MATCH(ROWS(C$4:C6),CALCUL!J:J,0),),"")&" "&IFERROR(INDEX(CALCUL!I:I,MATCH(ROWS(C$4:C6),CALCUL!J:J,0),),"") | D92: =VLOOKUP(C92,inscriptions!M:O,3,FALSE) -> 0 | E92: =VLOOKUP(C92,inscriptions!M:P,4,FALSE) -> #REF!
B93: 4 | C93: =IFERROR(INDEX(CALCUL!H:H,MATCH(ROWS(C$4:C7),CALCUL!J:J,0),),"")&" "&IFERROR(INDEX(CALCUL!I:I,MATCH(ROWS(C$4:C7),CALCUL!J:J,0),),"") | D93: =VLOOKUP(C93,inscriptions!M:O,3,FALSE) -> 0 | E93: =VLOOKUP(C93,inscriptions!M:P,4,FALSE) -> #REF!
B94: 5 | C94: =IFERROR(INDEX(CALCUL!H:H,MATCH(ROWS(C$4:C8),CALCUL!J:J,0),),"")&" "&IFERROR(INDEX(CALCUL!I:I,MATCH(ROWS(C$4:C8),CALCUL!J:J,0),),"") | D94: =VLOOKUP(C94,inscriptions!M:O,3,FALSE) -> 0 | E94: =VLOOKUP(C94,inscriptions!M:P,4,FALSE) -> #REF!
B95: 6 | C95: =IFERROR(INDEX(CALCUL!H:H,MATCH(ROWS(C$4:C9),CALCUL!J:J,0),),"")&" "&IFERROR(INDEX(CALCUL!I:I,MATCH(ROWS(C$4:C9),CALCUL!J:J,0),),"") | D95: =VLOOKUP(C95,inscriptions!M:O,3,FALSE) -> 0 | E95: =VLOOKUP(C95,inscriptions!M:P,4,FALSE) -> #REF!
B96: 7 | C96: =IFERROR(INDEX(CALCUL!H:H,MATCH(ROWS(C$4:C10),CALCUL!J:J,0),),"")&" "&IFERROR(INDEX(CALCUL!I:I,MATCH(ROWS(C$4:C10),CALCUL!J:J,0),),"") | D96: =VLOOKUP(C96,inscriptions!M:O,3,FALSE) -> 0 | E96: =VLOOKUP(C96,inscriptions!M:P,4,FALSE) -> #REF!
B97: 8 | C97: =IFERROR(INDEX(CALCUL!H:H,MATCH(ROWS(C$4:C11),CALCUL!J:J,0),),"")&" "&IFERROR(INDEX(CALCUL!I:I,MATCH(ROWS(C$4:C11),CALCUL!J:J,0),),"") | D97: =VLOOKUP(C97,inscriptions!M:O,3,FALSE) -> 0 | E97: =VLOOKUP(C97,inscriptions!M:P,4,FALSE) -> #REF!
B98: 9 | C98: =IFERROR(INDEX(CALCUL!H:H,MATCH(ROWS(C$4:C12),CALCUL!J:J,0),),"")&" "&IFERROR(INDEX(CALCUL!I:I,MATCH(ROWS(C$4:C12),CALCUL!J:J,0),),"") | D98: =VLOOKUP(C98,inscriptions!M:O,3,FALSE) -> 0 | E98: =VLOOKUP(C98,inscriptions!M:P,4,FALSE) -> #REF!
B99: 10 | C99: =IFERROR(INDEX(CALCUL!H:H,MATCH(ROWS(C$4:C13),CALCUL!J:J,0),),"")&" "&IFERROR(INDEX(CALCUL!I:I,MATCH(ROWS(C$4:C13),CALCUL!J:J,0),),"") | D99: =VLOOKUP(C99,inscriptions!M:O,3,FALSE) -> 0 | E99: =VLOOKUP(C99,inscriptions!M:P,4,FALSE) -> #REF!
B100: 11 | C100: =IFERROR(INDEX(CALCUL!H:H,MATCH(ROWS(C$4:C14),CALCUL!J:J,0),),"")&" "&IFERROR(INDEX(CALCUL!I:I,MATCH(ROWS(C$4:C14),CALCUL!J:J,0),),"") | D100: =VLOOKUP(C100,inscriptions!M:O,3,FALSE) -> 0 | E100: =VLOOKUP(C100,inscriptions!M:P,4,FALSE) -> #REF!
B101: 12 | C101: =IFERROR(INDEX(CALCUL!H:H,MATCH(ROWS(C$4:C15),CALCUL!J:J,0),),"")&" "&IFERROR(INDEX(CALCUL!I:I,MATCH(ROWS(C$4:C15),CALCUL!J:J,0),),"") | D101: =VLOOKUP(C101,inscriptions!M:O,3,FALSE) -> 0 | E101: =VLOOKUP(C101,inscriptions!M:P,4,FALSE) -> #REF!
... B129: 40 | C129: =IFERROR(INDEX(CALCUL!H:H,MATCH(ROWS(C$4:C43),CALCUL!J:J,0),),"")&" "&IFERROR(INDEX(CALCUL!I:I,MATCH(ROWS(C$4:C43),CALCUL!J:J,0),),"") | D129: =VLOOKUP(C129,inscriptions!M:O,3,FALSE) -> 0 | E129: =VLOOKUP(C129,inscriptions!M:P,4,FALSE) -> #REF!
B131: 4 | C131: =repartition!#REF! -> #REF! | D131: =repartition!#REF!&" "&repartition!#REF! -> #REF!
B132: =COUNTIF(C133:C172,">""")-1 -> 2 | C132: Nom et Prénom | D132: Mail | E132: Reg
B133: 1 | C133: =IFERROR(INDEX(CALCUL!K:K,MATCH(ROWS(C$4:C4),CALCUL!M:M,0),),"")&" "&IFERROR(INDEX(CALCUL!L:L,MATCH(ROWS(C$4:C4),CALCUL!M:M,0),),"") -> Dupont Benoît | D133: =VLOOKUP(C133,inscriptions!M:O,3,FALSE) -> mail@mail.com | E133: =VLOOKUP(C133,inscriptions!M:P,4,FALSE) -> #REF!
B134: 2 | C134: =IFERROR(INDEX(CALCUL!K:K,MATCH(ROWS(C$4:C5),CALCUL!M:M,0),),"")&" "&IFERROR(INDEX(CALCUL!L:L,MATCH(ROWS(C$4:C5),CALCUL!M:M,0),),"") -> Rod Philippe | D134: =VLOOKUP(C134,inscriptions!M:O,3,FALSE) -> 0 | E134: =VLOOKUP(C134,inscriptions!M:P,4,FALSE) -> #REF!
B135: 3 | C135: =IFERROR(INDEX(CALCUL!K:K,MATCH(ROWS(C$4:C6),CALCUL!M:M,0),),"")&" "&IFERROR(INDEX(CALCUL!L:L,MATCH(ROWS(C$4:C6),CALCUL!M:M,0),),"") -> Matte Basile | D135: =VLOOKUP(C135,inscriptions!M:O,3,FALSE) -> 0 | E135: =VLOOKUP(C135,inscriptions!M:P,4,FALSE) -> #REF!
B136: 4 | C136: =IFERROR(INDEX(CALCUL!K:K,MATCH(ROWS(C$4:C7),CALCUL!M:M,0),),"")&" "&IFERROR(INDEX(CALCUL!L:L,MATCH(ROWS(C$4:C7),CALCUL!M:M,0),),"") | D136: =VLOOKUP(C136,inscriptions!M:O,3,FALSE) -> 0 | E136: =VLOOKUP(C136,inscriptions!M:P,4,FALSE) -> #REF!
B137: 5 | C137: =IFERROR(INDEX(CALCUL!K:K,MATCH(ROWS(C$4:C8),CALCUL!M:M,0),),"")&" "&IFERROR(INDEX(CALCUL!L:L,MATCH(ROWS(C$4:C8),CALCUL!M:M,0),),"") | D137: =VLOOKUP(C137,inscriptions!M:O,3,FALSE) -> 0 | E137: =VLOOKUP(C137,inscriptions!M:P,4,FALSE) -> #REF!
B138: 6 | C138: =IFERROR(INDEX(CALCUL!K:K,MATCH(ROWS(C$4:C9),CALCUL!M:M,0),),"")&" "&IFERROR(INDEX(CALCUL!L:L,MATCH(ROWS(C$4:C9),CALCUL!M:M,0),),"") | D138: =VLOOKUP(C138,inscriptions!M:O,3,FALSE) -> 0 | E138: =VLOOKUP(C138,inscriptions!M:P,4,FALSE) -> #REF!
B139: 7 | C139: =IFERROR(INDEX(CALCUL!K:K,MATCH(ROWS(C$4:C10),CALCUL!M:M,0),),"")&" "&IFERROR(INDEX(CALCUL!L:L,MATCH(ROWS(C$4:C10),CALCUL!M:M,0),),"") | D139: =VLOOKUP(C139,inscriptions!M:O,3,FALSE) -> 0 | E139: =VLOOKUP(C139,inscriptions!M:P,4,FALSE) -> #REF!
B140: 8 | C140: =IFERROR(INDEX(CALCUL!K:K,MATCH(ROWS(C$4:C11),CALCUL!M:M,0),),"")&" "&IFERROR(INDEX(CALCUL!L:L,MATCH(ROWS(C$4:C11),CALCUL!M:M,0),),"") | D140: =VLOOKUP(C140,inscriptions!M:O,3,FALSE) -> 0 | E140: =VLOOKUP(C140,inscriptions!M:P,4,FALSE) -> #REF!
B141: 9 | C141: =IFERROR(INDEX(CALCUL!K:K,MATCH(ROWS(C$4:C12),CALCUL!M:M,0),),"")&" "&IFERROR(INDEX(CALCUL!L:L,MATCH(ROWS(C$4:C12),CALCUL!M:M,0),),"") | D141: =VLOOKUP(C141,inscriptions!M:O,3,FALSE) -> 0 | E141: =VLOOKUP(C141,inscriptions!M:P,4,FALSE) -> #REF!
B142: 10 | C142: =IFERROR(INDEX(CALCUL!K:K,MATCH(ROWS(C$4:C13),CALCUL!M:M,0),),"")&" "&IFERROR(INDEX(CALCUL!L:L,MATCH(ROWS(C$4:C13),CALCUL!M:M,0),),"") | D142: =VLOOKUP(C142,inscriptions!M:O,3,FALSE) -> 0 | E142: =VLOOKUP(C142,inscriptions!M:P,4,FALSE) -> #REF!
B143: 11 | C143: =IFERROR(INDEX(CALCUL!K:K,MATCH(ROWS(C$4:C14),CALCUL!M:M,0),),"")&" "&IFERROR(INDEX(CALCUL!L:L,MATCH(ROWS(C$4:C14),CALCUL!M:M,0),),"") | D143: =VLOOKUP(C143,inscriptions!M:O,3,FALSE) -> 0 | E143: =VLOOKUP(C143,inscriptions!M:P,4,FALSE) -> #REF!
B144: 12 | C144: =IFERROR(INDEX(CALCUL!K:K,MATCH(ROWS(C$4:C15),CALCUL!M:M,0),),"")&" "&IFERROR(INDEX(CALCUL!L:L,MATCH(ROWS(C$4:C15),CALCUL!M:M,0),),"") | D144: =VLOOKUP(C144,inscriptions!M:O,3,FALSE) -> 0 | E144: =VLOOKUP(C144,inscriptions!M:P,4,FALSE) -> #REF!
... B172: 40 | C172: =IFERROR(INDEX(CALCUL!K:K,MATCH(ROWS(C$4:C43),CALCUL!M:M,0),),"")&" "&IFERROR(INDEX(CALCUL!L:L,MATCH(ROWS(C$4:C43),CALCUL!M:M,0),),"") | D172: =VLOOKUP(C172,inscriptions!M:O,3,FALSE) -> 0 | E172: =VLOOKUP(C172,inscriptions!M:P,4,FALSE) -> #REF!
B174: =repartition!#REF! -> #REF! | C174: =repartition!#REF! -> #REF! | D174: =repartition!#REF!&" "&repartition!#REF! -> #REF!
B175: =COUNTIF(C176:C215,">""")-1 -> 2 | C175: Nom et Prénom | D175: Mail | E175: Reg
B176: 1 | C176: =IFERROR(INDEX(CALCUL!N:N,MATCH(ROWS(C$4:C4),CALCUL!P:P,0),),"")&" "&IFERROR(INDEX(CALCUL!O:O,MATCH(ROWS(C$4:C4),CALCUL!P:P,0),),"") -> Dupont Benoît | D176: =VLOOKUP(C176,inscriptions!M:O,3,FALSE) -> mail@mail.com | E176: =VLOOKUP(C176,inscriptions!M:P,4,FALSE) -> #REF!
B177: 2 | C177: =IFERROR(INDEX(CALCUL!N:N,MATCH(ROWS(C$4:C5),CALCUL!P:P,0),),"")&" "&IFERROR(INDEX(CALCUL!O:O,MATCH(ROWS(C$4:C5),CALCUL!P:P,0),),"") -> Rod Philippe | D177: =VLOOKUP(C177,inscriptions!M:O,3,FALSE) -> 0 | E177: =VLOOKUP(C177,inscriptions!M:P,4,FALSE) -> #REF!
B178: 3 | C178: =IFERROR(INDEX(CALCUL!N:N,MATCH(ROWS(C$4:C6),CALCUL!P:P,0),),"")&" "&IFERROR(INDEX(CALCUL!O:O,MATCH(ROWS(C$4:C6),CALCUL!P:P,0),),"") -> Burnand Frédéric | D178: =VLOOKUP(C178,inscriptions!M:O,3,FALSE) -> 0 | E178: =VLOOKUP(C178,inscriptions!M:P,4,FALSE) -> #REF!
B179: 4 | C179: =IFERROR(INDEX(CALCUL!N:N,MATCH(ROWS(C$4:C7),CALCUL!P:P,0),),"")&" "&IFERROR(INDEX(CALCUL!O:O,MATCH(ROWS(C$4:C7),CALCUL!P:P,0),),"") | D179: =VLOOKUP(C179,inscriptions!M:O,3,FALSE) -> 0 | E179: =VLOOKUP(C179,inscriptions!M:P,4,FALSE) -> #REF!
B180: 5 | C180: =IFERROR(INDEX(CALCUL!N:N,MATCH(ROWS(C$4:C8),CALCUL!P:P,0),),"")&" "&IFERROR(INDEX(CALCUL!O:O,MATCH(ROWS(C$4:C8),CALCUL!P:P,0),),"") | D180: =VLOOKUP(C180,inscriptions!M:O,3,FALSE) -> 0 | E180: =VLOOKUP(C180,inscriptions!M:P,4,FALSE) -> #REF!
B181: 6 | C181: =IFERROR(INDEX(CALCUL!N:N,MATCH(ROWS(C$4:C9),CALCUL!P:P,0),),"")&" "&IFERROR(INDEX(CALCUL!O:O,MATCH(ROWS(C$4:C9),CALCUL!P:P,0),),"") | D181: =VLOOKUP(C181,inscriptions!M:O,3,FALSE) -> 0 | E181: =VLOOKUP(C181,inscriptions!M:P,4,FALSE) -> #REF!
B182: 7 | C182: =IFERROR(INDEX(CALCUL!N:N,MATCH(ROWS(C$4:C10),CALCUL!P:P,0),),"")&" "&IFERROR(INDEX(CALCUL!O:O,MATCH(ROWS(C$4:C10),CALCUL!P:P,0),),"") | D182: =VLOOKUP(C182,inscriptions!M:O,3,FALSE) -> 0 | E182: =VLOOKUP(C182,inscriptions!M:P,4,FALSE) -> #REF!
B183: 8 | C183: =IFERROR(INDEX(CALCUL!N:N,MATCH(ROWS(C$4:C11),CALCUL!P:P,0),),"")&" "&IFERROR(INDEX(CALCUL!O:O,MATCH(ROWS(C$4:C11),CALCUL!P:P,0),),"") | D183: =VLOOKUP(C183,inscriptions!M:O,3,FALSE) -> 0 | E183: =VLOOKUP(C183,inscriptions!M:P,4,FALSE) -> #REF!
B184: 9 | C184: =IFERROR(INDEX(CALCUL!N:N,MATCH(ROWS(C$4:C12),CALCUL!P:P,0),),"")&" "&IFERROR(INDEX(CALCUL!O:O,MATCH(ROWS(C$4:C12),CALCUL!P:P,0),),"") | D184: =VLOOKUP(C184,inscriptions!M:O,3,FALSE) -> 0 | E184: =VLOOKUP(C184,inscriptions!M:P,4,FALSE) -> #REF!
B185: 10 | C185: =IFERROR(INDEX(CALCUL!N:N,MATCH(ROWS(C$4:C13),CALCUL!P:P,0),),"")&" "&IFERROR(INDEX(CALCUL!O:O,MATCH(ROWS(C$4:C13),CALCUL!P:P,0),),"") | D185: =VLOOKUP(C185,inscriptions!M:O,3,FALSE) -> 0 | E185: =VLOOKUP(C185,inscriptions!M:P,4,FALSE) -> #REF!
B186: 11 | C186: =IFERROR(INDEX(CALCUL!N:N,MATCH(ROWS(C$4:C14),CALCUL!P:P,0),),"")&" "&IFERROR(INDEX(CALCUL!O:O,MATCH(ROWS(C$4:C14),CALCUL!P:P,0),),"") | D186: =VLOOKUP(C186,inscriptions!M:O,3,FALSE) -> 0 | E186: =VLOOKUP(C186,inscriptions!M:P,4,FALSE) -> #REF!
B187: 12 | C187: =IFERROR(INDEX(CALCUL!N:N,MATCH(ROWS(C$4:C15),CALCUL!P:P,0),),"")&" "&IFERROR(INDEX(CALCUL!O:O,MATCH(ROWS(C$4:C15),CALCUL!P:P,0),),"") | D187: =VLOOKUP(C187,inscriptions!M:O,3,FALSE) -> 0 | E187: =VLOOKUP(C187,inscriptions!M:P,4,FALSE) -> #REF!
... B215: 40 | C215: =IFERROR(INDEX(CALCUL!N:N,MATCH(ROWS(C$4:C43),CALCUL!P:P,0),),"")&" "&IFERROR(INDEX(CALCUL!O:O,MATCH(ROWS(C$4:C43),CALCUL!P:P,0),),"") | D215: =VLOOKUP(C215,inscriptions!M:O,3,FALSE) -> 0 | E215: =VLOOKUP(C215,inscriptions!M:P,4,FALSE) -> #REF!
B217: =repartition!#REF! -> #REF! | C217: =repartition!#REF! -> #REF! | D217: =repartition!#REF!&" "&repartition!#REF! -> #REF!
B218: =COUNTIF(C219:C258,">""")-1 -> 1 | C218: Nom et Prénom | D218: Mail | E218: Reg
B219: 1 | C219: =IFERROR(INDEX(CALCUL!Q:Q,MATCH(ROWS(C$4:C4),CALCUL!S:S,0),),"")&" "&IFERROR(INDEX(CALCUL!R:R,MATCH(ROWS(C$4:C4),CALCUL!S:S,0),),"") -> Burnand Frédéric | D219: =VLOOKUP(C219,inscriptions!M:O,3,FALSE) -> 0 | E219: =VLOOKUP(C219,inscriptions!M:P,4,FALSE) -> #REF!
B220: 2 | C220: =IFERROR(INDEX(CALCUL!Q:Q,MATCH(ROWS(C$4:C5),CALCUL!S:S,0),),"")&" "&IFERROR(INDEX(CALCUL!R:R,MATCH(ROWS(C$4:C5),CALCUL!S:S,0),),"") -> Matte Basile | D220: =VLOOKUP(C220,inscriptions!M:O,3,FALSE) -> 0 | E220: =VLOOKUP(C220,inscriptions!M:P,4,FALSE) -> #REF!
B221: 3 | C221: =IFERROR(INDEX(CALCUL!Q:Q,MATCH(ROWS(C$4:C6),CALCUL!S:S,0),),"")&" "&IFERROR(INDEX(CALCUL!R:R,MATCH(ROWS(C$4:C6),CALCUL!S:S,0),),"") | D221: =VLOOKUP(C221,inscriptions!M:O,3,FALSE) -> 0 | E221: =VLOOKUP(C221,inscriptions!M:P,4,FALSE) -> #REF!
B222: 4 | C222: =IFERROR(INDEX(CALCUL!Q:Q,MATCH(ROWS(C$4:C7),CALCUL!S:S,0),),"")&" "&IFERROR(INDEX(CALCUL!R:R,MATCH(ROWS(C$4:C7),CALCUL!S:S,0),),"") | D222: =VLOOKUP(C222,inscriptions!M:O,3,FALSE) -> 0 | E222: =VLOOKUP(C222,inscriptions!M:P,4,FALSE) -> #REF!
B223: 5 | C223: =IFERROR(INDEX(CALCUL!Q:Q,MATCH(ROWS(C$4:C8),CALCUL!S:S,0),),"")&" "&IFERROR(INDEX(CALCUL!R:R,MATCH(ROWS(C$4:C8),CALCUL!S:S,0),),"") | D223: =VLOOKUP(C223,inscriptions!M:O,3,FALSE) -> 0 | E223: =VLOOKUP(C223,inscriptions!M:P,4,FALSE) -> #REF!
B224: 6 | C224: =IFERROR(INDEX(CALCUL!Q:Q,MATCH(ROWS(C$4:C9),CALCUL!S:S,0),),"")&" "&IFERROR(INDEX(CALCUL!R:R,MATCH(ROWS(C$4:C9),CALCUL!S:S,0),),"") | D224: =VLOOKUP(C224,inscriptions!M:O,3,FALSE) -> 0 | E224: =VLOOKUP(C224,inscriptions!M:P,4,FALSE) -> #REF!
B225: 7 | C225: =IFERROR(INDEX(CALCUL!Q:Q,MATCH(ROWS(C$4:C10),CALCUL!S:S,0),),"")&" "&IFERROR(INDEX(CALCUL!R:R,MATCH(ROWS(C$4:C10),CALCUL!S:S,0),),"") | D225: =VLOOKUP(C225,inscriptions!M:O,3,FALSE) -> 0 | E225: =VLOOKUP(C225,inscriptions!M:P,4,FALSE) -> #REF!
B226: 8 | C226: =IFERROR(INDEX(CALCUL!Q:Q,MATCH(ROWS(C$4:C11),CALCUL!S:S,0),),"")&" "&IFERROR(INDEX(CALCUL!R:R,MATCH(ROWS(C$4:C11),CALCUL!S:S,0),),"") | D226: =VLOOKUP(C226,inscriptions!M:O,3,FALSE) -> 0 | E226: =VLOOKUP(C226,inscriptions!M:P,4,FALSE) -> #REF!
B227: 9 | C227: =IFERROR(INDEX(CALCUL!Q:Q,MATCH(ROWS(C$4:C12),CALCUL!S:S,0),),"")&" "&IFERROR(INDEX(CALCUL!R:R,MATCH(ROWS(C$4:C12),CALCUL!S:S,0),),"") | D227: =VLOOKUP(C227,inscriptions!M:O,3,FALSE) -> 0 | E227: =VLOOKUP(C227,inscriptions!M:P,4,FALSE) -> #REF!
B228: 10 | C228: =IFERROR(INDEX(CALCUL!Q:Q,MATCH(ROWS(C$4:C13),CALCUL!S:S,0),),"")&" "&IFERROR(INDEX(CALCUL!R:R,MATCH(ROWS(C$4:C13),CALCUL!S:S,0),),"") | D228: =VLOOKUP(C228,inscriptions!M:O,3,FALSE) -> 0 | E228: =VLOOKUP(C228,inscriptions!M:P,4,FALSE) -> #REF!
B229: 11 | C229: =IFERROR(INDEX(CALCUL!Q:Q,MATCH(ROWS(C$4:C14),CALCUL!S:S,0),),"")&" "&IFERROR(INDEX(CALCUL!R:R,MATCH(ROWS(C$4:C14),CALCUL!S:S,0),),"") | D229: =VLOOKUP(C229,inscriptions!M:O,3,FALSE) -> 0 | E229: =VLOOKUP(C229,inscriptions!M:P,4,FALSE) -> #REF!
B230: 12 | C230: =IFERROR(INDEX(CALCUL!Q:Q,MATCH(ROWS(C$4:C15),CALCUL!S:S,0),),"")&" "&IFERROR(INDEX(CALCUL!R:R,MATCH(ROWS(C$4:C15),CALCUL!S:S,0),),"") | D230: =VLOOKUP(C230,inscriptions!M:O,3,FALSE) -> 0 | E230: =VLOOKUP(C230,inscriptions!M:P,4,FALSE) -> #REF!
... B258: 40 | C258: =IFERROR(INDEX(CALCUL!Q:Q,MATCH(ROWS(C$4:C43),CALCUL!S:S,0),),"")&" "&IFERROR(INDEX(CALCUL!R:R,MATCH(ROWS(C$4:C43),CALCUL!S:S,0),),"") | D258: =VLOOKUP(C258,inscriptions!M:O,3,FALSE) -> 0 | E258: =VLOOKUP(C258,inscriptions!M:P,4,FALSE) -> #REF!
B260: =repartition!#REF! -> #REF! | C260: =repartition!#REF! -> #REF! | D260: =repartition!#REF!&" "&repartition!#REF! -> #REF!
B261: =COUNTIF(C262:C301,">""")-1 -> 1 | C261: Nom et Prénom | D261: Mail | E261: Reg
B262: 1 | C262: =IFERROR(INDEX(CALCUL!T:T,MATCH(ROWS(C$4:C4),CALCUL!V:V,0),),"")&" "&IFERROR(INDEX(CALCUL!U:U,MATCH(ROWS(C$4:C4),CALCUL!V:V,0),),"") -> Pichard Alain | D262: =VLOOKUP(C262,inscriptions!M:O,3,FALSE) -> 0 | E262: =VLOOKUP(C262,inscriptions!M:P,4,FALSE) -> #REF!
B263: 2 | C263: =IFERROR(INDEX(CALCUL!T:T,MATCH(ROWS(C$4:C5),CALCUL!V:V,0),),"")&" "&IFERROR(INDEX(CALCUL!U:U,MATCH(ROWS(C$4:C5),CALCUL!V:V,0),),"") -> Jaccard Michel | D263: =VLOOKUP(C263,inscriptions!M:O,3,FALSE) -> 0 | E263: =VLOOKUP(C263,inscriptions!M:P,4,FALSE) -> #REF!
B264: 3 | C264: =IFERROR(INDEX(CALCUL!T:T,MATCH(ROWS(C$4:C6),CALCUL!V:V,0),),"")&" "&IFERROR(INDEX(CALCUL!U:U,MATCH(ROWS(C$4:C6),CALCUL!V:V,0),),"") | D264: =VLOOKUP(C264,inscriptions!M:O,3,FALSE) -> 0 | E264: =VLOOKUP(C264,inscriptions!M:P,4,FALSE) -> #REF!
B265: 4 | C265: =IFERROR(INDEX(CALCUL!T:T,MATCH(ROWS(C$4:C7),CALCUL!V:V,0),),"")&" "&IFERROR(INDEX(CALCUL!U:U,MATCH(ROWS(C$4:C7),CALCUL!V:V,0),),"") | D265: =VLOOKUP(C265,inscriptions!M:O,3,FALSE) -> 0 | E265: =VLOOKUP(C265,inscriptions!M:P,4,FALSE) -> #REF!
B266: 5 | C266: =IFERROR(INDEX(CALCUL!T:T,MATCH(ROWS(C$4:C8),CALCUL!V:V,0),),"")&" "&IFERROR(INDEX(CALCUL!U:U,MATCH(ROWS(C$4:C8),CALCUL!V:V,0),),"") | D266: =VLOOKUP(C266,inscriptions!M:O,3,FALSE) -> 0 | E266: =VLOOKUP(C266,inscriptions!M:P,4,FALSE) -> #REF!
B267: 6 | C267: =IFERROR(INDEX(CALCUL!T:T,MATCH(ROWS(C$4:C9),CALCUL!V:V,0),),"")&" "&IFERROR(INDEX(CALCUL!U:U,MATCH(ROWS(C$4:C9),CALCUL!V:V,0),),"") | D267: =VLOOKUP(C267,inscriptions!M:O,3,FALSE) -> 0 | E267: =VLOOKUP(C267,inscriptions!M:P,4,FALSE) -> #REF!
B268: 7 | C268: =IFERROR(INDEX(CALCUL!T:T,MATCH(ROWS(C$4:C10),CALCUL!V:V,0),),"")&" "&IFERROR(INDEX(CALCUL!U:U,MATCH(ROWS(C$4:C10),CALCUL!V:V,0),),"") | D268: =VLOOKUP(C268,inscriptions!M:O,3,FALSE) -> 0 | E268: =VLOOKUP(C268,inscriptions!M:P,4,FALSE) -> #REF!
B269: 8 | C269: =IFERROR(INDEX(CALCUL!T:T,MATCH(ROWS(C$4:C11),CALCUL!V:V,0),),"")&" "&IFERROR(INDEX(CALCUL!U:U,MATCH(ROWS(C$4:C11),CALCUL!V:V,0),),"") | D269: =VLOOKUP(C269,inscriptions!M:O,3,FALSE) -> 0 | E269: =VLOOKUP(C269,inscriptions!M:P,4,FALSE) -> #REF!
...

Sheet CALCUL
A1: COURS | B1: 1 | E1: 2 | H1: 3 | K1: 4 | N1: 5 | Q1: 6 | T1: 7 | W1: 8 | Z1: 9
B2: =IF(COUNTIF(repartition!$J2:$L2,B$1)=1,repartition!B2,"") | C2: =IF(COUNTIF(repartition!$J2:$L2,B$1)=1,repartition!C2,"") | D2: =IF(B2<>"",MAX($D$1:$D1)+1,"") | E2: =IF(COUNTIF(repartition!$J2:$L2,E$1)=1,repartition!B2,"") -> Dupont | F2: =IF(COUNTIF(repartition!$J2:$L2,E$1)=1,repartition!C2,"") -> Benoît | G2: =IF(E2<>"",MAX($G$1:$G1)+1,"") -> 1 | H2: =IF(COUNTIF(repartition!$J2:$L2,H$1)=1,repartition!B2,"") | I2: =IF(COUNTIF(repartition!$J2:$L2,H$1)=1,repartition!C2,"") | J2: =IF(H2<>"",MAX($J$1:$J1)+1,"") | K2: =IF(COUNTIF(repartition!$J2:$L2,K$1)=1,repartition!B2,"") -> Dupont | L2: =IF(COUNTIF(repartition!$J2:$L2,K$1)=1,repartition!C2,"") -> Benoît | M2: =IF(K2<>"",MAX($M$1:$M1)+1,"") -> 1 | N2: =IF(COUNTIF(repartition!$J2:$L2,N$1)=1,repartition!B2,"") -> Dupont | O2: =IF(COUNTIF(repartition!$J2:$L2,N$1)=1,repartition!C2,"") -> Benoît | P2: =IF(N2<>"",MAX($P$1:$P1)+1,"") -> 1 | Q2: =IF(COUNTIF(repartition!$J2:$L2,Q$1)=1,repartition!B2,"") | R2: =IF(COUNTIF(repartition!$J2:$L2,Q$1)=1,repartition!C2,"") | S2: =IF(Q2<>"",MAX($S$1:$S1)+1,"") | T2: =IF(COUNTIF(repartition!$J2:$L2,T$1)=1,repartition!B2,"") | U2: =IF(COUNTIF(repartition!$J2:$L2,T$1)=1,repartition!C2,"") | V2: =IF(T2<>"",MAX($V$1:$V1)+1,"") | W2: =IF(COUNTIF(repartition!$J2:$L2,W$1)=1,repartition!B2,"") | X2: =IF(COUNTIF(repartition!$J2:$L2,W$1)=1,repartition!C2,"") | Y2: =IF(W2<>"",MAX($Y$1:$Y1)+1,"") | Z2: =IF(COUNTIF(repartition!$J2:$L2,Z$1)=1,repartition!B2,"") | AA2: =IF(COUNTIF(repartition!$J2:$L2,Z$1)=1,repartition!C2,"") | AB2: =IF(Z2<>"",MAX($AB$1:$AB1)+1,"")
B3: =IF(COUNTIF(repartition!$J3:$L3,B$1)=1,repartition!B3,"") -> Rod | C3: =IF(COUNTIF(repartition!$J3:$L3,B$1)=1,repartition!C3,"") -> Philippe | D3: =IF(B3<>"",MAX($D$1:$D2)+1,"") -> 1 | E3: =IF(COUNTIF(repartition!$J3:$L3,E$1)=1,repartition!B3,"") | F3: =IF(COUNTIF(repartition!$J3:$L3,E$1)=1,repartition!C3,"") | G3: =IF(E3<>"",MAX($G$1:$G2)+1,"") | H3: =IF(COUNTIF(repartition!$J3:$L3,H$1)=1,repartition!B3,"") | I3: =IF(COUNTIF(repartition!$J3:$L3,H$1)=1,repartition!C3,"") | J3: =IF(H3<>"",MAX($J$1:$J2)+1,"") | K3: =IF(COUNTIF(repartition!$J3:$L3,K$1)=1,repartition!B3,"") -> Rod | L3: =IF(COUNTIF(repartition!$J3:$L3,K$1)=1,repartition!C3,"") -> Philippe | M3: =IF(K3<>"",MAX($M$1:$M2)+1,"") -> 2 | N3: =IF(COUNTIF(repartition!$J3:$L3,N$1)=1,repartition!B3,"") -> Rod | O3: =IF(COUNTIF(repartition!$J3:$L3,N$1)=1,repartition!C3,"") -> Philippe | P3: =IF(N3<>"",MAX($P$1:$P2)+1,"") -> 2 | Q3: =IF(COUNTIF(repartition!$J3:$L3,Q$1)=1,repartition!B3,"") | R3: =IF(COUNTIF(repartition!$J3:$L3,Q$1)=1,repartition!C3,"") | S3: =IF(Q3<>"",MAX($S$1:$S2)+1,"") | T3: =IF(COUNTIF(repartition!$J3:$L3,T$1)=1,repartition!B3,"") | U3: =IF(COUNTIF(repartition!$J3:$L3,T$1)=1,repartition!C3,"") | V3: =IF(T3<>"",MAX($V$1:$V2)+1,"") | W3: =IF(COUNTIF(repartition!$J3:$L3,W$1)=1,repartition!B3,"") | X3: =IF(COUNTIF(repartition!$J3:$L3,W$1)=1,repartition!C3,"") | Y3: =IF(W3<>"",MAX($Y$1:$Y2)+1,"") | Z3: =IF(COUNTIF(repartition!$J3:$L3,Z$1)=1,repartition!B3,"") | AA3: =IF(COUNTIF(repartition!$J3:$L3,Z$1)=1,repartition!C3,"") | AB3: =IF(Z3<>"",MAX($AB$1:$AB2)+1,"")
B4: =IF(COUNTIF(repartition!$J4:$L4,B$1)=1,repartition!B4,"") -> Aviolat | C4: =IF(COUNTIF(repartition!$J4:$L4,B$1)=1,repartition!C4,"") -> Jean | D4: =IF(B4<>"",MAX($D$1:$D3)+1,"") -> 2 | E4: =IF(COUNTIF(repartition!$J4:$L4,E$1)=1,repartition!B4,"") -> Aviolat | F4: =IF(COUNTIF(repartition!$J4:$L4,E$1)=1,repartition!C4,"") -> Jean | G4: =IF(E4<>"",MAX($G$1:$G3)+1,"") -> 2 | H4: =IF(COUNTIF(repartition!$J4:$L4,H$1)=1,repartition!B4,"") | I4: =IF(COUNTIF(repartition!$J4:$L4,H$1)=1,repartition!C4,"") | J4: =IF(H4<>"",MAX($J$1:$J3)+1,"") | K4: =IF(COUNTIF(repartition!$J4:$L4,K$1)=1,repartition!B4,"") | L4: =IF(COUNTIF(repartition!$J4:$L4,K$1)=1,repartition!C4,"") | M4: =IF(K4<>"",MAX($M$1:$M3)+1,"") | N4: =IF(COUNTIF(repartition!$J4:$L4,N$1)=1,repartition!B4,"") | O4: =IF(COUNTIF(repartition!$J4:$L4,N$1)=1,repartition!C4,"") | P4: =IF(N4<>"",MAX($P$1:$P3)+1,"") | Q4: =IF(COUNTIF(repartition!$J4:$L4,Q$1)=1,repartition!B4,"") | R4: =IF(COUNTIF(repartition!$J4:$L4,Q$1)=1,repartition!C4,"") | S4: =IF(Q4<>"",MAX($S$1:$S3)+1,"") | T4: =IF(COUNTIF(repartition!$J4:$L4,T$1)=1,repartition!B4,"") | U4: =IF(COUNTIF(repartition!$J4:$L4,T$1)=1,repartition!C4,"") | V4: =IF(T4<>"",MAX($V$1:$V3)+1,"") | W4: =IF(COUNTIF(repartition!$J4:$L4,W$1)=1,repartition!B4,"") | X4: =IF(COUNTIF(repartition!$J4:$L4,W$1)=1,repartition!C4,"") | Y4: =IF(W4<>"",MAX($Y$1:$Y3)+1,"") | Z4: =IF(COUNTIF(repartition!$J4:$L4,Z$1)=1,repartition!B4,"") -> Aviolat | AA4: =IF(COUNTIF(repartition!$J4:$L4,Z$1)=1,repartition!C4,"") -> Jean | AB4: =IF(Z4<>"",MAX($AB$1:$AB3)+1,"") -> 1
B5: =IF(COUNTIF(repartition!$J5:$L5,B$1)=1,repartition!B5,"") | C5: =IF(COUNTIF(repartition!$J5:$L5,B$1)=1,repartition!C5,"") | D5: =IF(B5<>"",MAX($D$1:$D4)+1,"") | E5: =IF(COUNTIF(repartition!$J5:$L5,E$1)=1,repartition!B5,"") -> Pichard | F5: =IF(COUNTIF(repartition!$J5:$L5,E$1)=1,repartition!C5,"") -> Alain | G5: =IF(E5<>"",MAX($G$1:$G4)+1,"") -> 3 | H5: =IF(COUNTIF(repartition!$J5:$L5,H$1)=1,repartition!B5,"") | I5: =IF(COUNTIF(repartition!$J5:$L5,H$1)=1,repartition!C5,"") | J5: =IF(H5<>"",MAX($J$1:$J4)+1,"") | K5: =IF(COUNTIF(repartition!$J5:$L5,K$1)=1,repartition!B5,"") | L5: =IF(COUNTIF(repartition!$J5:$L5,K$1)=1,repartition!C5,"") | M5: =IF(K5<>"",MAX($M$1:$M4)+1,"") | N5: =IF(COUNTIF(repartition!$J5:$L5,N$1)=1,repartition!B5,"") | O5: =IF(COUNTIF(repartition!$J5:$L5,N$1)=1,repartition!C5,"") | P5: =IF(N5<>"",MAX($P$1:$P4)+1,"") | Q5: =IF(COUNTIF(repartition!$J5:$L5,Q$1)=1,repartition!B5,"") | R5: =IF(COUNTIF(repartition!$J5:$L5,Q$1)=1,repartition!C5,"") | S5: =IF(Q5<>"",MAX($S$1:$S4)+1,"") | T5: =IF(COUNTIF(repartition!$J5:$L5,T$1)=1,repartition!B5,"") -> Pichard | U5: =IF(COUNTIF(repartition!$J5:$L5,T$1)=1,repartition!C5,"") -> Alain | V5: =IF(T5<>"",MAX($V$1:$V4)+1,"") -> 1 | W5: =IF(COUNTIF(repartition!$J5:$L5,W$1)=1,repartition!B5,"") -> Pichard | X5: =IF(COUNTIF(repartition!$J5:$L5,W$1)=1,repartition!C5,"") -> Alain | Y5: =IF(W5<>"",MAX($Y$1:$Y4)+1,"") -> 1 | Z5: =IF(COUNTIF(repartition!$J5:$L5,Z$1)=1,repartition!B5,"") | AA5: =IF(COUNTIF(repartition!$J5:$L5,Z$1)=1,repartition!C5,"") | AB5: =IF(Z5<>"",MAX($AB$1:$AB4)+1,"")
B6: =IF(COUNTIF(repartition!$J6:$L6,B$1)=1,repartition!B6,"") | C6: =IF(COUNTIF(repartition!$J6:$L6,B$1)=1,repartition!C6,"") | D6: =IF(B6<>"",MAX($D$1:$D5)+1,"") | E6: =IF(COUNTIF(repartition!$J6:$L6,E$1)=1,repartition!B6,"") | F6: =IF(COUNTIF(repartition!$J6:$L6,E$1)=1,repartition!C6,"") | G6: =IF(E6<>"",MAX($G$1:$G5)+1,"") | H6: =IF(COUNTIF(repartition!$J6:$L6,H$1)=1,repartition!B6,"") -> Jaccard | I6: =IF(COUNTIF(repartition!$J6:$L6,H$1)=1,repartition!C6,"") -> Michel | J6: =IF(H6<>"",MAX($J$1:$J5)+1,"") -> 1 | K6: =IF(COUNTIF(repartition!$J6:$L6,K$1)=1,repartition!B6,"") | L6: =IF(COUNTIF(repartition!$J6:$L6,K$1)=1,repartition!C6,"") | M6: =IF(K6<>"",MAX($M$1:$M5)+1,"") | N6: =IF(COUNTIF(repartition!$J6:$L6,N$1)=1,repartition!B6,"") | O6: =IF(COUNTIF(repartition!$J6:$L6,N$1)=1,repartition!C6,"") | P6: =IF(N6<>"",MAX($P$1:$P5)+1,"") | Q6: =IF(COUNTIF(repartition!$J6:$L6,Q$1)=1,repartition!B6,"") | R6: =IF(COUNTIF(repartition!$J6:$L6,Q$1)=1,repartition!C6,"") | S6: =IF(Q6<>"",MAX($S$1:$S5)+1,"") | T6: =IF(COUNTIF(repartition!$J6:$L6,T$1)=1,repartition!B6,"") -> Jaccard | U6: =IF(COUNTIF(repartition!$J6:$L6,T$1)=1,repartition!C6,"") -> Michel | V6: =IF(T6<>"",MAX($V$1:$V5)+1,"") -> 2 | W6: =IF(COUNTIF(repartition!$J6:$L6,W$1)=1,repartition!B6,"") -> Jaccard | X6: =IF(COUNTIF(repartition!$J6:$L6,W$1)=1,repartition!C6,"") -> Michel | Y6: =IF(W6<>"",MAX($Y$1:$Y5)+1,"") -> 2 | Z6: =IF(COUNTIF(repartition!$J6:$L6,Z$1)=1,repartition!B6,"") | AA6: =IF(COUNTIF(repartition!$J6:$L6,Z$1)=1,repartition!C6,"") | AB6: =IF(Z6<>"",MAX($AB$1:$AB5)+1,"")
B7: =IF(COUNTIF(repartition!$J7:$L7,B$1)=1,repartition!B7,"") | C7: =IF(COUNTIF(repartition!$J7:$L7,B$1)=1,repartition!C7,"") | D7: =IF(B7<>"",MAX($D$1:$D6)+1,"") | E7: =IF(COUNTIF(repartition!$J7:$L7,E$1)=1,repartition!B7,"") -> Burnand | F7: =IF(COUNTIF(repartition!$J7:$L7,E$1)=1,repartition!C7,"") -> Frédéric | G7: =IF(E7<>"",MAX($G$1:$G6)+1,"") -> 4 | H7: =IF(COUNTIF(repartition!$J7:$L7,H$1)=1,repartition!B7,"") | I7: =IF(COUNTIF(repartition!$J7:$L7,H$1)=1,repartition!C7,"") | J7: =IF(H7<>"",MAX($J$1:$J6)+1,"") | K7: =IF(COUNTIF(repartition!$J7:$L7,K$1)=1,repartition!B7,"") | L7: =IF(COUNTIF(repartition!$J7:$L7,K$1)=1,repartition!C7,"") | M7: =IF(K7<>"",MAX($M$1:$M6)+1,"") | N7: =IF(COUNTIF(repartition!$J7:$L7,N$1)=1,repartition!B7,"") -> Burnand | O7: =IF(COUNTIF(repartition!$J7:$L7,N$1)=1,repartition!C7,"") -> Frédéric | P7: =IF(N7<>"",MAX($P$1:$P6)+1,"") -> 3 | Q7: =IF(COUNTIF(repartition!$J7:$L7,Q$1)=1,repartition!B7,"") -> Burnand | R7: =IF(COUNTIF(repartition!$J7:$L7,Q$1)=1,repartition!C7,"") -> Frédéric | S7: =IF(Q7<>"",MAX($S$1:$S6)+1,"") -> 1 | T7: =IF(COUNTIF(repartition!$J7:$L7,T$1)=1,repartition!B7,"") | U7: =IF(COUNTIF(repartition!$J7:$L7,T$1)=1,repartition!C7,"") | V7: =IF(T7<>"",MAX($V$1:$V6)+1,"") | W7: =IF(COUNTIF(repartition!$J7:$L7,W$1)=1,repartition!B7,"") | X7: =IF(COUNTIF(repartition!$J7:$L7,W$1)=1,repartition!C7,"") | Y7: =IF(W7<>"",MAX($Y$1:$Y6)+1,"") | Z7: =IF(COUNTIF(repartition!$J7:$L7,Z$1)=1,repartition!B7,"") | AA7: =IF(COUNTIF(repartition!$J7:$L7,Z$1)=1,repartition!C7,"") | AB7: =IF(Z7<>"",MAX($AB$1:$AB6)+1,"")
B8: =IF(COUNTIF(repartition!$J8:$L8,B$1)=1,repartition!B8,"") | C8: =IF(COUNTIF(repartition!$J8:$L8,B$1)=1,repartition!C8,"") | D8: =IF(B8<>"",MAX($D$1:$D7)+1,"") | E8: =IF(COUNTIF(repartition!$J8:$L8,E$1)=1,repartition!B8,"") -> Matte | F8: =IF(COUNTIF(repartition!$J8:$L8,E$1)=1,repartition!C8,"") -> Basile | G8: =IF(E8<>"",MAX($G$1:$G7)+1,"") -> 5 | H8: =IF(COUNTIF(repartition!$J8:$L8,H$1)=1,repartition!B8,"") | I8: =IF(COUNTIF(repartition!$J8:$L8,H$1)=1,repartition!C8,"") | J8: =IF(H8<>"",MAX($J$1:$J7)+1,"") | K8: =IF(COUNTIF(repartition!$J8:$L8,K$1)=1,repartition!B8,"") -> Matte | L8: =IF(COUNTIF(repartition!$J8:$L8,K$1)=1,repartition!C8,"") -> Basile | M8: =IF(K8<>"",MAX($M$1:$M7)+1,"") -> 3 | N8: =IF(COUNTIF(repartition!$J8:$L8,N$1)=1,repartition!B8,"") | O8: =IF(COUNTIF(repartition!$J8:$L8,N$1)=1,repartition!C8,"") | P8: =IF(N8<>"",MAX($P$1:$P7)+1,"") | Q8: =IF(COUNTIF(repartition!$J8:$L8,Q$1)=1,repartition!B8,"") -> Matte | R8: =IF(COUNTIF(repartition!$J8:$L8,Q$1)=1,repartition!C8,"") -> Basile | S8: =IF(Q8<>"",MAX($S$1:$S7)+1,"") -> 2 | T8: =IF(COUNTIF(repartition!$J8:$L8,T$1)=1,repartition!B8,"") | U8: =IF(COUNTIF(repartition!$J8:$L8,T$1)=1,repartition!C8,"") | V8: =IF(T8<>"",MAX($V$1:$V7)+1,"") | W8: =IF(COUNTIF(repartition!$J8:$L8,W$1)=1,repartition!B8,"") | X8: =IF(COUNTIF(repartition!$J8:$L8,W$1)=1,repartition!C8,"") | Y8: =IF(W8<>"",MAX($Y$1:$Y7)+1,"") | Z8: =IF(COUNTIF(repartition!$J8:$L8,Z$1)=1,repartition!B8,"") | AA8: =IF(COUNTIF(repartition!$J8:$L8,Z$1)=1,repartition!C8,"") | AB8: =IF(Z8<>"",MAX($AB$1:$AB7)+1,"")
B9: =IF(COUNTIF(repartition!$J9:$L9,B$1)=1,repartition!B9,"") | C9: =IF(COUNTIF(repartition!$J9:$L9,B$1)=1,repartition!C9,"") | D9: =IF(B9<>"",MAX($D$1:$D8)+1,"") | E9: =IF(COUNTIF(repartition!$J9:$L9,E$1)=1,repartition!B9,"") | F9: =IF(COUNTIF(repartition!$J9:$L9,E$1)=1,repartition!C9,"") | G9: =IF(E9<>"",MAX($G$1:$G8)+1,"") | H9: =IF(COUNTIF(repartition!$J9:$L9,H$1)=1,repartition!B9,"") | I9: =IF(COUNTIF(repartition!$J9:$L9,H$1)=1,repartition!C9,"") | J9: =IF(H9<>"",MAX($J$1:$J8)+1,"") | K9: =IF(COUNTIF(repartition!$J9:$L9,K$1)=1,repartition!B9,"") | L9: =IF(COUNTIF(repartition!$J9:$L9,K$1)=1,repartition!C9,"") | M9: =IF(K9<>"",MAX($M$1:$M8)+1,"") | N9: =IF(COUNTIF(repartition!$J9:$L9,N$1)=1,repartition!B9,"") | O9: =IF(COUNTIF(repartition!$J9:$L9,N$1)=1,repartition!C9,"") | P9: =IF(N9<>"",MAX($P$1:$P8)+1,"") | Q9: =IF(COUNTIF(repartition!$J9:$L9,Q$1)=1,repartition!B9,"") | R9: =IF(COUNTIF(repartition!$J9:$L9,Q$1)=1,repartition!C9,"") | S9: =IF(Q9<>"",MAX($S$1:$S8)+1,"") | T9: =IF(COUNTIF(repartition!$J9:$L9,T$1)=1,repartition!B9,"") | U9: =IF(COUNTIF(repartition!$J9:$L9,T$1)=1,repartition!C9,"") | V9: =IF(T9<>"",MAX($V$1:$V8)+1,"") | W9: =IF(COUNTIF(repartition!$J9:$L9,W$1)=1,repartition!B9,"") | X9: =IF(COUNTIF(repartition!$J9:$L9,W$1)=1,repartition!C9,"") | Y9: =IF(W9<>"",MAX($Y$1:$Y8)+1,"") | Z9: =IF(COUNTIF(repartition!$J9:$L9,Z$1)=1,repartition!B9,"") | AA9: =IF(COUNTIF(repartition!$J9:$L9,Z$1)=1,repartition!C9,"") | AB9: =IF(Z9<>"",MAX($AB$1:$AB8)+1,"")
B10: =IF(COUNTIF(repartition!$J10:$L10,B$1)=1,repartition!B10,"") | C10: =IF(COUNTIF(repartition!$J10:$L10,B$1)=1,repartition!C10,"") | D10: =IF(B10<>"",MAX($D$1:$D9)+1,"") | E10: =IF(COUNTIF(repartition!$J10:$L10,E$1)=1,repartition!B10,"") | F10: =IF(COUNTIF(repartition!$J10:$L10,E$1)=1,repartition!C10,"") | G10: =IF(E10<>"",MAX($G$1:$G9)+1,"") | H10: =IF(COUNTIF(repartition!$J10:$L10,H$1)=1,repartition!B10,"") | I10: =IF(COUNTIF(repartition!$J10:$L10,H$1)=1,repartition!C10,"") | J10: =IF(H10<>"",MAX($J$1:$J9)+1,"") | K10: =IF(COUNTIF(repartition!$J10:$L10,K$1)=1,repartition!B10,"") | L10: =IF(COUNTIF(repartition!$J10:$L10,K$1)=1,repartition!C10,"") | M10: =IF(K10<>"",MAX($M$1:$M9)+1,"") | N10: =IF(COUNTIF(repartition!$J10:$L10,N$1)=1,repartition!B10,"") | O10: =IF(COUNTIF(repartition!$J10:$L10,N$1)=1,repartition!C10,"") | P10: =IF(N10<>"",MAX($P$1:$P9)+1,"") | Q10: =IF(COUNTIF(repartition!$J10:$L10,Q$1)=1,repartition!B10,"") | R10: =IF(COUNTIF(repartition!$J10:$L10,Q$1)=1,repartition!C10,"") | S10: =IF(Q10<>"",MAX($S$1:$S9)+1,"") | T10: =IF(COUNTIF(repartition!$J10:$L10,T$1)=1,repartition!B10,"") | U10: =IF(COUNTIF(repartition!$J10:$L10,T$1)=1,repartition!C10,"") | V10: =IF(T10<>"",MAX($V$1:$V9)+1,"") | W10: =IF(COUNTIF(repartition!$J10:$L10,W$1)=1,repartition!B10,"") | X10: =IF(COUNTIF(repartition!$J10:$L10,W$1)=1,repartition!C10,"") | Y10: =IF(W10<>"",MAX($Y$1:$Y9)+1,"") | Z10: =IF(COUNTIF(repartition!$J10:$L10,Z$1)=1,repartition!B10,"") | AA10: =IF(COUNTIF(repartition!$J10:$L10,Z$1)=1,repartition!C10,"") | AB10: =IF(Z10<>"",MAX($AB$1:$AB9)+1,"")
B11: =IF(COUNTIF(repartition!$J11:$L11,B$1)=1,repartition!B11,"") | C11: =IF(COUNTIF(repartition!$J11:$L11,B$1)=1,repartition!C11,"") | D11: =IF(B11<>"",MAX($D$1:$D10)+1,"") | E11: =IF(COUNTIF(repartition!$J11:$L11,E$1)=1,repartition!B11,"") | F11: =IF(COUNTIF(repartition!$J11:$L11,E$1)=1,repartition!C11,"") | G11: =IF(E11<>"",MAX($G$1:$G10)+1,"") | H11: =IF(COUNTIF(repartition!$J11:$L11,H$1)=1,repartition!B11,"") | I11: =IF(COUNTIF(repartition!$J11:$L11,H$1)=1,repartition!C11,"") | J11: =IF(H11<>"",MAX($J$1:$J10)+1,"") | K11: =IF(COUNTIF(repartition!$J11:$L11,K$1)=1,repartition!B11,"") | L11: =IF(COUNTIF(repartition!$J11:$L11,K$1)=1,repartition!C11,"") | M11: =IF(K11<>"",MAX($M$1:$M10)+1,"") | N11: =IF(COUNTIF(repartition!$J11:$L11,N$1)=1,repartition!B11,"") | O11: =IF(COUNTIF(repartition!$J11:$L11,N$1)=1,repartition!C11,"") | P11: =IF(N11<>"",MAX($P$1:$P10)+1,"") | Q11: =IF(COUNTIF(repartition!$J11:$L11,Q$1)=1,repartition!B11,"") | R11: =IF(COUNTIF(repartition!$J11:$L11,Q$1)=1,repartition!C11,"") | S11: =IF(Q11<>"",MAX($S$1:$S10)+1,"") | T11: =IF(COUNTIF(repartition!$J11:$L11,T$1)=1,repartition!B11,"") | U11: =IF(COUNTIF(repartition!$J11:$L11,T$1)=1,repartition!C11,"") | V11: =IF(T11<>"",MAX($V$1:$V10)+1,"") | W11: =IF(COUNTIF(repartition!$J11:$L11,W$1)=1,repartition!B11,"") | X11: =IF(COUNTIF(repartition!$J11:$L11,W$1)=1,repartition!C11,"") | Y11: =IF(W11<>"",MAX($Y$1:$Y10)+1,"") | Z11: =IF(COUNTIF(repartition!$J11:$L11,Z$1)=1,repartition!B11,"") | AA11: =IF(COUNTIF(repartition!$J11:$L11,Z$1)=1,repartition!C11,"") | AB11: =IF(Z11<>"",MAX($AB$1:$AB10)+1,"")
B12: =IF(COUNTIF(repartition!$J12:$L12,B$1)=1,repartition!B12,"") | C12: =IF(COUNTIF(repartition!$J12:$L12,B$1)=1,repartition!C12,"") | D12: =IF(B12<>"",MAX($D$1:$D11)+1,"") | E12: =IF(COUNTIF(repartition!$J12:$L12,E$1)=1,repartition!B12,"") | F12: =IF(COUNTIF(repartition!$J12:$L12,E$1)=1,repartition!C12,"") | G12: =IF(E12<>"",MAX($G$1:$G11)+1,"") | H12: =IF(COUNTIF(repartition!$J12:$L12,H$1)=1,repartition!B12,"") | I12: =IF(COUNTIF(repartition!$J12:$L12,H$1)=1,repartition!C12,"") | J12: =IF(H12<>"",MAX($J$1:$J11)+1,"") | K12: =IF(COUNTIF(repartition!$J12:$L12,K$1)=1,repartition!B12,"") | L12: =IF(COUNTIF(repartition!$J12:$L12,K$1)=1,repartition!C12,"") | M12: =IF(K12<>"",MAX($M$1:$M11)+1,"") | N12: =IF(COUNTIF(repartition!$J12:$L12,N$1)=1,repartition!B12,"") | O12: =IF(COUNTIF(repartition!$J12:$L12,N$1)=1,repartition!C12,"") | P12: =IF(N12<>"",MAX($P$1:$P11)+1,"") | Q12: =IF(COUNTIF(repartition!$J12:$L12,Q$1)=1,repartition!B12,"") | R12: =IF(COUNTIF(repartition!$J12:$L12,Q$1)=1,repartition!C12,"") | S12: =IF(Q12<>"",MAX($S$1:$S11)+1,"") | T12: =IF(COUNTIF(repartition!$J12:$L12,T$1)=1,repartition!B12,"") | U12: =IF(COUNTIF(repartition!$J12:$L12,T$1)=1,repartition!C12,"") | V12: =IF(T12<>"",MAX($V$1:$V11)+1,"") | W12: =IF(COUNTIF(repartition!$J12:$L12,W$1)=1,repartition!B12,"") | X12: =IF(COUNTIF(repartition!$J12:$L12,W$1)=1,repartition!C12,"") | Y12: =IF(W12<>"",MAX($Y$1:$Y11)+1,"") | Z12: =IF(COUNTIF(repartition!$J12:$L12,Z$1)=1,repartition!B12,"") | AA12: =IF(COUNTIF(repartition!$J12:$L12,Z$1)=1,repartition!C12,"") | AB12: =IF(Z12<>"",MAX($AB$1:$AB11)+1,"")
B13: =IF(COUNTIF(repartition!$J13:$L13,B$1)=1,repartition!B13,"") | C13: =IF(COUNTIF(repartition!$J13:$L13,B$1)=1,repartition!C13,"") | D13: =IF(B13<>"",MAX($D$1:$D12)+1,"") | E13: =IF(COUNTIF(repartition!$J13:$L13,E$1)=1,repartition!B13,"") | F13: =IF(COUNTIF(repartition!$J13:$L13,E$1)=1,repartition!C13,"") | G13: =IF(E13<>"",MAX($G$1:$G12)+1,"") | H13: =IF(COUNTIF(repartition!$J13:$L13,H$1)=1,repartition!B13,"") | I13: =IF(COUNTIF(repartition!$J13:$L13,H$1)=1,repartition!C13,"") | J13: =IF(H13<>"",MAX($J$1:$J12)+1,"") | K13: =IF(COUNTIF(repartition!$J13:$L13,K$1)=1,repartition!B13,"") | L13: =IF(COUNTIF(repartition!$J13:$L13,K$1)=1,repartition!C13,"") | M13: =IF(K13<>"",MAX($M$1:$M12)+1,"") | N13: =IF(COUNTIF(repartition!$J13:$L13,N$1)=1,repartition!B13,"") | O13: =IF(COUNTIF(repartition!$J13:$L13,N$1)=1,repartition!C13,"") | P13: =IF(N13<>"",MAX($P$1:$P12)+1,"") | Q13: =IF(COUNTIF(repartition!$J13:$L13,Q$1)=1,repartition!B13,"") | R13: =IF(COUNTIF(repartition!$J13:$L13,Q$1)=1,repartition!C13,"") | S13: =IF(Q13<>"",MAX($S$1:$S12)+1,"") | T13: =IF(COUNTIF(repartition!$J13:$L13,T$1)=1,repartition!B13,"") | U13: =IF(COUNTIF(repartition!$J13:$L13,T$1)=1,repartition!C13,"") | V13: =IF(T13<>"",MAX($V$1:$V12)+1,"") | W13: =IF(COUNTIF(repartition!$J13:$L13,W$1)=1,repartition!B13,"") | X13: =IF(COUNTIF(repartition!$J13:$L13,W$1)=1,repartition!C13,"") | Y13: =IF(W13<>"",MAX($Y$1:$Y12)+1,"") | Z13: =IF(COUNTIF(repartition!$J13:$L13,Z$1)=1,repartition!B13,"") | AA13: =IF(COUNTIF(repartition!$J13:$L13,Z$1)=1,repartition!C13,"") | AB13: =IF(Z13<>"",MAX($AB$1:$AB12)+1,"")
... B201: =IF(COUNTIF(repartition!$J201:$L201,B$1)=1,repartition!B201,"") | C201: =IF(COUNTIF(repartition!$J201:$L201,B$1)=1,repartition!C201,"") | D201: =IF(B201<>"",MAX($D$1:$D200)+1,"") | E201: =IF(COUNTIF(repartition!$J201:$L201,E$1)=1,repartition!B201,"") | F201: =IF(COUNTIF(repartition!$J201:$L201,E$1)=1,repartition!C201,"") | G201: =IF(E201<>"",MAX($G$1:$G200)+1,"") | H201: =IF(COUNTIF(repartition!$J201:$L201,H$1)=1,repartition!B201,"") | I201: =IF(COUNTIF(repartition!$J201:$L201,H$1)=1,repartition!C201,"") | J201: =IF(H201<>"",MAX($J$1:$J200)+1,"") | K201: =IF(COUNTIF(repartition!$J201:$L201,K$1)=1,repartition!B201,"") | L201: =IF(COUNTIF(repartition!$J201:$L201,K$1)=1,repartition!C201,"") | M201: =IF(K201<>"",MAX($M$1:$M200)+1,"") | N201: =IF(COUNTIF(repartition!$J201:$L201,N$1)=1,repartition!B201,"") | O201: =IF(COUNTIF(repartition!$J201:$L201,N$1)=1,repartition!C201,"") | P201: =IF(N201<>"",MAX($P$1:$P200)+1,"") | Q201: =IF(COUNTIF(repartition!$J201:$L201,Q$1)=1,repartition!B201,"") | R201: =IF(COUNTIF(repartition!$J201:$L201,Q$1)=1,repartition!C201,"") | S201: =IF(Q201<>"",MAX($S$1:$S200)+1,"") | T201: =IF(COUNTIF(repartition!$J201:$L201,T$1)=1,repartition!B201,"") | U201: =IF(COUNTIF(repartition!$J201:$L201,T$1)=1,repartition!C201,"") | V201: =IF(T201<>"",MAX($V$1:$V200)+1,"") | W201: =IF(COUNTIF(repartition!$J201:$L201,W$1)=1,repartition!B201,"") | X201: =IF(COUNTIF(repartition!$J201:$L201,W$1)=1,repartition!C201,"") | Y201: =IF(W201<>"",MAX($Y$1:$Y200)+1,"") | Z201: =IF(COUNTIF(repartition!$J201:$L201,Z$1)=1,repartition!B201,"") | AA201: =IF(COUNTIF(repartition!$J201:$L201,Z$1)=1,repartition!C201,"") | AB201: =IF(Z201<>"",MAX($AB$1:$AB200)+1,"")

Sheet Feuil2
A1: =IF(inscriptions!H2=1,inscriptions!#REF!,"") -> #REF! | B1: =IF(inscriptions!H2=1,inscriptions!#REF!,"") -> #REF!
A2: =IF(inscriptions!H3=1,inscriptions!#REF!,"") | B2: =IF(inscriptions!H3=1,inscriptions!#REF!,"")
A3: =IF(inscriptions!H4=1,inscriptions!#REF!,"") -> #REF! | B3: =IF(inscriptions!H4=1,inscriptions!#REF!,"") -> #REF!
A4: =IF(inscriptions!H5=1,inscriptions!#REF!,"") | B4: =IF(inscriptions!H5=1,inscriptions!#REF!,"")
A5: =IF(inscriptions!H6=1,inscriptions!#REF!,"") | B5: =IF(inscriptions!H6=1,inscriptions!#REF!,"")
A6: =IF(inscriptions!H7=1,inscriptions!#REF!,"") | B6: =IF(inscriptions!H7=1,inscriptions!#REF!,"")
A7: =IF(inscriptions!H8=1,inscriptions!#REF!,"") | B7: =IF(inscriptions!H8=1,inscriptions!#REF!,"")
A8: =IF(inscriptions!H9=1,inscriptions!#REF!,"") | B8: =IF(inscriptions!H9=1,inscriptions!#REF!,"")
A9: =IF(inscriptions!H10=1,inscriptions!#REF!,"") | B9: =IF(inscriptions!H10=1,inscriptions!#REF!,"")
A10: =IF(inscriptions!H11=1,inscriptions!#REF!,"") | B10: =IF(inscriptions!H11=1,inscriptions!#REF!,"")
A11: =IF(inscriptions!H12=1,inscriptions!#REF!,"") | B11: =IF(inscriptions!H12=1,inscriptions!#REF!,"")
A12: =IF(inscriptions!H13=1,inscriptions!#REF!,"") | B12: =IF(inscriptions!H13=1,inscriptions!#REF!,"")
... A20: =IF(inscriptions!H21=1,inscriptions!#REF!,"") | B20: =IF(inscriptions!H21=1,inscriptions!#REF!,"")
A21: =IF(inscriptions!H22=1,inscriptions!C22,"") | B21: =IF(inscriptions!H22=1,inscriptions!D22,"")
A22: =IF(inscriptions!H23=1,inscriptions!C23,"") | B22: =IF(inscriptions!H23=1,inscriptions!D23,"")
A23: =IF(inscriptions!H24=1,inscriptions!C24,"") | B23: =IF(inscriptions!H24=1,inscriptions!D24,"")
A24: =IF(inscriptions!H25=1,inscriptions!C25,"") | B24: =IF(inscriptions!H25=1,inscriptions!D25,"")
A25: =IF(inscriptions!H26=1,inscriptions!C26,"") | B25: =IF(inscriptions!H26=1,inscriptions!D26,"")
A26: =IF(inscriptions!H27=1,inscriptions!C27,"") | B26: =IF(inscriptions!H27=1,inscriptions!D27,"")
A27: =IF(inscriptions!H28=1,inscriptions!C28,"") | B27: =IF(inscriptions!H28=1,inscriptions!D28,"")
A28: =IF(inscriptions!H29=1,inscriptions!C29,"") | B28: =IF(inscriptions!H29=1,inscriptions!D29,"")
A29: =IF(inscriptions!H30=1,inscriptions!C30,"") | B29: =IF(inscriptions!H30=1,inscriptions!D30,"")
A30: =IF(inscriptions!H31=1,inscriptions!C31,"") | B30: =IF(inscriptions!H31=1,inscriptions!D31,"")
A31: =IF(inscriptions!#REF!=1,inscriptions!#REF!,"") -> #REF! | B31: =IF(inscriptions!#REF!=1,inscriptions!#REF!,"") -> #REF!
A32: =IF(inscriptions!H32=1,inscriptions!C32,"") | B32: =IF(inscriptions!H32=1,inscriptions!D32,"")
A33: =IF(inscriptions!H33=1,inscriptions!C33,"") | B33: =IF(inscriptions!H33=1,inscriptions!D33,"")
A34: =IF(inscriptions!H34=1,inscriptions!C34,"") | B34: =IF(inscriptions!H34=1,inscriptions!D34,"")
A35: =IF(inscriptions!H35=1,inscriptions!C35,"") | B35: =IF(inscriptions!H35=1,inscriptions!D35,"")
A36: =IF(inscriptions!H36=1,inscriptions!C36,"") | B36: =IF(inscriptions!H36=1,inscriptions!D36,"")
A37: =IF(inscriptions!H37=1,inscriptions!C37,"") | B37: =IF(inscriptions!H37=1,inscriptions!D37,"")
A38: =IF(inscriptions!H38=1,inscriptions!C38,"") | B38: =IF(inscriptions!H38=1,inscriptions!D38,"")
A39: =IF(inscriptions!H39=1,inscriptions!C39,"") | B39: =IF(inscriptions!H39=1,inscriptions!D39,"")
A40: =IF(inscriptions!H40=1,inscriptions!C40,"") | B40: =IF(inscriptions!H40=1,inscriptions!D40,"")
A41: =IF(inscriptions!H41=1,inscriptions!C41,"") | B41: =IF(inscriptions!H41=1,inscriptions!D41,"")
A42: =IF(inscriptions!H42=1,inscriptions!C42,"") | B42: =IF(inscriptions!H42=1,inscriptions!D42,"")
A43: =IF(inscriptions!H43=1,inscriptions!C43,"") | B43: =IF(inscriptions!H43=1,inscriptions!D43,"")
... A53: =IF(inscriptions!H53=1,inscriptions!C53,"") | B53: =IF(inscriptions!H53=1,inscriptions!D53,"")
A54: =IF(inscriptions!#REF!=1,inscriptions!#REF!,"") -> #REF! | B54: =IF(inscriptions!#REF!=1,inscriptions!#REF!,"") -> #REF!
A55: =IF(inscriptions!H54=1,inscriptions!C54,"") | B55: =IF(inscriptions!H54=1,inscriptions!D54,"")
A56: =IF(inscriptions!H55=1,inscriptions!#REF!,"") | B56: =IF(inscriptions!H55=1,inscriptions!#REF!,"")
A57: =IF(inscriptions!H56=1,inscriptions!C56,"") | B57: =IF(inscriptions!H56=1,inscriptions!D56,"")
A58: =IF(inscriptions!H58=1,inscriptions!C58,"") | B58: =IF(inscriptions!H58=1,inscriptions!D58,"")
A59: =IF(inscriptions!H59=1,inscriptions!C59,"") | B59: =IF(inscriptions!H59=1,inscriptions!D59,"")
A60: =IF(inscriptions!H60=1,inscriptions!C60,"") | B60: =IF(inscriptions!H60=1,inscriptions!D60,"")
A61: =IF(inscriptions!H62=1,inscriptions!C62,"") | B61: =IF(inscriptions!H62=1,inscriptions!D62,"")
A62: =IF(inscriptions!H63=1,inscriptions!C63,"") | B62: =IF(inscriptions!H63=1,inscriptions!D63,"")
A63: =IF(inscriptions!H64=1,inscriptions!C64,"") | B63: =IF(inscriptions!H64=1,inscriptions!D64,"")
A64: =IF(inscriptions!H65=1,inscriptions!C65,"") | B64: =IF(inscriptions!H65=1,inscriptions!D65,"")
A65: =IF(inscriptions!H66=1,inscriptions!C66,"") | B65: =IF(inscriptions!H66=1,inscriptions!D66,"")
A66: =IF(inscriptions!H67=1,inscriptions!C67,"") | B66: =IF(inscriptions!H67=1,inscriptions!D67,"")
A67: =IF(inscriptions!H68=1,inscriptions!C68,"") | B67: =IF(inscriptions!H68=1,inscriptions!D68,"")
A68: =IF(inscriptions!H69=1,inscriptions!C69,"") | B68: =IF(inscriptions!H69=1,inscriptions!D69,"")
A69: =IF(inscriptions!H70=1,inscriptions!C70,"") | B69: =IF(inscriptions!H70=1,inscriptions!D70,"")
A70: =IF(inscriptions!H71=1,inscriptions!C71,"") | B70: =IF(inscriptions!H71=1,inscriptions!D71,"")
A71: =IF(inscriptions!H72=1,inscriptions!C72,"") | B71: =IF(inscriptions!H72=1,inscriptions!D72,"")
A72: =IF(inscriptions!H73=1,inscriptions!C73,"") | B72: =IF(inscriptions!H73=1,inscriptions!D73,"")
... A100: =IF(inscriptions!H101=1,inscriptions!C101,"") | B100: =IF(inscriptions!H101=1,inscriptions!D101,"")
