Workbook

Sheet base bateaux test 
A1: MODELE | B1: CONSTRUCTEUR | C1: MARQUE_REF_ID | D1: MARQUE_REF | E1: Modele_ref | F1: marque ref + modele
A2: 1401 | B2: GUY COUACH | C2: 10 | D2: Guy Couach | E2: =VLOOKUP(F2,output_matching_groupe!A1:E23,FALSE) -> #N/A | F2: =D2 & " " &A2 -> Guy Couach 1401
A3: BLUEWATER 2460 | B3: KARNIC | C3: 182 | D3: Karnic | E3: =VLOOKUP(F3,output_matching_groupe!A2:E24,FALSE) -> #VALUE! | F3: =D3 & " " &A3 -> Karnic BLUEWATER 2460
A4: 46 CHINOOK | B4: WINDY | C4: 84 | D4: Windy | E4: =VLOOKUP(F4,output_matching_groupe!A3:E25,FALSE) -> #VALUE! | F4: =D4 & " " &A4 -> Windy 46 CHINOOK
C5: #N/A | E5: =VLOOKUP(F5,output_matching_groupe!A4:E26,FALSE) -> #N/A | F5: =D5 & " " &A5
A6: NAVETTA 52 | B6: ABSOLUTE | C6: 1507 | D6: Absolute | E6: =VLOOKUP(F6,output_matching_groupe!A5:E27,FALSE) -> #VALUE! | F6: =D6 & " " &A6 -> Absolute NAVETTA 52
A7: SLOOP | B7: A PRECISER | C7: #N/A | E7: =VLOOKUP(F7,output_matching_groupe!A6:E28,FALSE) -> #N/A | F7: =D7 & " " &A7 -> SLOOP
A8: AQUARIUS OPEN | B8: CLEAR | C8: 2338 | D8: Clear | E8: =VLOOKUP(F8,output_matching_groupe!A7:E29,FALSE) -> #VALUE! | F8: =D8 & " " &A8 -> Clear AQUARIUS OPEN
A9: 2000 SC | B9: MAXUM | C9: 51 | D9: Maxum | E9: =VLOOKUP(F9,output_matching_groupe!A8:E30,FALSE) -> #VALUE! | F9: =D9 & " " &A9 -> Maxum 2000 SC
A10: A PRECISER | B10: AQUANAUT | C10: 520 | D10: Aquanaut | E10: =VLOOKUP(F10,output_matching_groupe!A9:E31,FALSE) -> #VALUE! | F10: =D10 & " " &A10 -> Aquanaut A PRECISER
A11: 220 SUPER PRO | B11: BWA | C11: 233 | D11: BWA | E11: =VLOOKUP(F11,output_matching_groupe!A10:E32,FALSE) -> #VALUE! | F11: =D11 & " " &A11 -> BWA 220 SUPER PRO
A12: ANTIOCHE 700 | B12: GUY MARINE | C12: 140 | D12: Guymarine | E12: =VLOOKUP(F12,output_matching_groupe!A11:E33,FALSE) -> #VALUE! | F12: =D12 & " " &A12 -> Guymarine ANTIOCHE 700
C13: #N/A | E13: =VLOOKUP(F13,output_matching_groupe!A12:E34,FALSE) -> #N/A | F13: =D13 & " " &A13
A14: A PRECISER | B14: A PRECISER | C14: #N/A | E14: =VLOOKUP(F14,output_matching_groupe!A13:E35,FALSE) -> #N/A | F14: =D14 & " " &A14 -> A PRECISER
A15: ANTARES 760 | B15: BENETEAU | C15: 29 | D15: Beneteau | E15: =VLOOKUP(F15,output_matching_groupe!A14:E36,FALSE) -> #VALUE! | F15: =D15 & " " &A15 -> Beneteau ANTARES 760
A16: SCORPION 13 | B16: A PRECISER | C16: #N/A | E16: =VLOOKUP(F16,output_matching_groupe!A15:E37,FALSE) -> #N/A | F16: =D16 & " " &A16 -> SCORPION 13
A17: LEADER 705 | B17: JEANNEAU | C17: 26 | D17: Jeanneau | E17: =VLOOKUP(F17,output_matching_groupe!A16:E38,FALSE) -> #VALUE! | F17: =D17 & " " &A17 -> Jeanneau LEADER 705
A18: SUNSETTER VLX | B18: MALIBU | C18: 311 | D18: Malibu | E18: =VLOOKUP(F18,output_matching_groupe!A17:E39,FALSE) -> #VALUE! | F18: =D18 & " " &A18 -> Malibu SUNSETTER VLX
A19: OCEANIS 331 | B19: BENETEAU | C19: 29 | D19: Beneteau | E19: =VLOOKUP(F19,output_matching_groupe!A18:E40,FALSE) -> #VALUE! | F19: =D19 & " " &A19 -> Beneteau OCEANIS 331
A20: SUN ODYSSEY 45.1 | B20: JEANNEAU | C20: 26 | D20: Jeanneau | E20: =VLOOKUP(F20,output_matching_groupe!A19:E41,FALSE) -> #VALUE! | F20: =D20 & " " &A20 -> Jeanneau SUN ODYSSEY 45.1
C21: #N/A | E21: =VLOOKUP(F21,output_matching_groupe!A20:E42,FALSE) -> #N/A | F21: =D21 & " " &A21
C22: #N/A | E22: =VLOOKUP(F22,output_matching_groupe!A21:E43,FALSE) -> #N/A | F22: =D22 & " " &A22
A23: 30 | B23: FIART | C23: 48 | D23: Fiart Mare | E23: =VLOOKUP(F23,output_matching_groupe!A22:E44,FALSE) -> #VALUE! | F23: =D23 & " " &A23 -> Fiart Mare 30

Sheet am_models
A1: marque_modele_ref | B1: id_type | C1: id_marque | D1: lib_model | E1: id_model | F1: lib_marque
A2: =F2&" "&D2 -> Ultramar Brise Lames | B2: 1 | C2: 1 | D2: Brise Lames | E2: 1560 | F2: Ultramar
A3: =F3&" "&D3 -> Ultramar Cap Ferrat | B3: 1 | C3: 1 | D3: Cap Ferrat | E3: 21877 | F3: Ultramar
A4: =F4&" "&D4 -> Ultramar Chiberta | B4: 1 | C4: 1 | D4: Chiberta | E4: 2771 | F4: Ultramar
A5: =F5&" "&D5 -> Ultramar Shaft 550 | B5: 1 | C5: 1 | D5: Shaft 550 | E5: 825 | F5: Ultramar
A6: =F6&" "&D6 -> Ultramar Shaft 600 | B6: 1 | C6: 1 | D6: Shaft 600 | E6: 895 | F6: Ultramar
A7: =F7&" "&D7 -> Ultramar Shaft 660 | B7: 1 | C7: 1 | D7: Shaft 660 | E7: 256 | F7: Ultramar
A8: =F8&" "&D8 -> Ultramar Shaft 680 | B8: 1 | C8: 1 | D8: Shaft 680 | E8: 7991 | F8: Ultramar
A9: =F9&" "&D9 -> Ultramar Shaft 700 | B9: 1 | C9: 1 | D9: Shaft 700 | E9: 2386 | F9: Ultramar
A10: =F10&" "&D10 -> Ultramar Shaft 730 | B10: 1 | C10: 1 | D10: Shaft 730 | E10: 1 | F10: Ultramar
A11: =F11&" "&D11 -> Ultramar Shaft 730 Fish | B11: 1 | C11: 1 | D11: Shaft 730 Fish | E11: 3358 | F11: Ultramar
A12: =F12&" "&D12 -> Ultramar Texas 270 | B12: 1 | C12: 1 | D12: Texas 270 | E12: 22992 | F12: Ultramar
A13: =F13&" "&D13 -> Ultramar Texas 360 | B13: 1 | C13: 1 | D13: Texas 360 | E13: 2970 | F13: Ultramar
... A23: =F23&" "&D23 -> Ultramar Ultra 425 | B23: 1 | C23: 1 | D23: Ultra 425 | E23: 22998 | F23: Ultramar

Sheet output_matching_groupe
A1: marque | B1: lambda | C1: marque + lambda | D1: ref | E1: score
A2: Beneteau | B2: :ANTARES 10.80 | C2: =A2& " " &B2 -> Beneteau :ANTARES 10.80 | D2: Antares 10.80 | E2: 100
A3: Ocqueteau | B3: ABACO 16 | C3: =A3& " " &B3 -> Ocqueteau ABACO 16 | D3: Abaco 16 | E3: 100
A4: Ocqueteau | B4: ABACO 16 | C4: =A4& " " &B4 -> Ocqueteau ABACO 16 | D4: Abaco 16 | E4: 100
A5: Ocqueteau | B5: ABACO 16 | C5: =A5& " " &B5 -> Ocqueteau ABACO 16 | D5: Abaco 16 | E5: 100
A6: Ocqueteau | B6: ABACO 16 | C6: =A6& " " &B6 -> Ocqueteau ABACO 16 | D6: Abaco 16 | E6: 100
A7: Ocqueteau | B7: ABACO 18 | C7: =A7& " " &B7 -> Ocqueteau ABACO 18 | D7: Abaco 18 | E7: 100
A8: Ocqueteau | B8: ABACO 18 | C8: =A8& " " &B8 -> Ocqueteau ABACO 18 | D8: Abaco 18 | E8: 100
A9: Ocqueteau | B9: ABACO 20 | C9: =A9& " " &B9 -> Ocqueteau ABACO 20 | D9: Abaco 20 | E9: 100
A10: Ocqueteau | B10: ABACO 20 | C10: =A10& " " &B10 -> Ocqueteau ABACO 20 | D10: Abaco 20 | E10: 100
A11: Ocqueteau | B11: ABACO 20 | C11: =A11& " " &B11 -> Ocqueteau ABACO 20 | D11: Abaco 20 | E11: 100
A12: Ocqueteau | B12: ABACO 20 | C12: =A12& " " &B12 -> Ocqueteau ABACO 20 | D12: Abaco 20 | E12: 100
A13: Ocqueteau | B13: ABACO 21 OPEN | C13: =A13& " " &B13 -> Ocqueteau ABACO 21 OPEN | D13: Abaco 21 Open | E13: 100
... A23: ACM | B23: ACM 980 | C23: =A23& " " &B23 -> ACM ACM 980 | D23: ACM 980 | E23: 100
