Workbook
Name Retrait_resa_001: _xlfn._xlws.FILTER(T_reservations[Date_retrait],T_reservations[Matériel]='[1]TDB semaine'!$A$3)
Name Retrait_resa_001: _xlfn._xlws.FILTER([1]!T_reservations[Date_retrait],[1]!T_reservations[Matériel]='TDB semaine'!$A$3)

Sheet TDB semaine
C1: =C2 -> 44629 | D1: =D2 -> 44630 | E1: =E2 -> 44631 | F1: =F2 -> 44632 | G1: =G2 -> 44633 | H1: =H2 -> 44634 | I1: =I2 -> 44635 | J1: =J2 -> 44636 | ... Q1: =Q2 -> 44643
A2: Matériel | B2: Lieu | C2: =TODAY() -> 44629 | D2: =C2+1 -> 44630 | E2: =D2+1 -> 44631 | F2: =E2+1 -> 44632 | G2: =F2+1 -> 44633 | H2: =G2+1 -> 44634 | I2: =H2+1 -> 44635 | J2: =I2+1 -> 44636 | K2: =J2+1 -> 44637 | ... Q2: =P2+1 -> 44643
A3: KR211001 | B3: =IF(A3="KR211001",[1]!T_stock[[#This Row],[Lieu]],VLOOKUP(A3,[1]!T_stock[#All],2)) -> Service Formation | C3: =IF(COUNTIFS([1]!T_reservations[Matériel],'TDB semaine'!$A3)>0,IF(COUNTIFS([1]!T_reservations[Matériel],'TDB semaine'!$A3)=1,IF(AND('TDB semaine'!C$2>=VLOOKUP($A3,[1]!T_reservations[[Matériel]:[Validé par]],3),('TDB semaine'!C$2>=VLOOKUP($A3,[1]!T_reservations[[Matériel]:[Validé par]],3))),"Reservé","Disponible"),"Plusieurs lignes"),"Disponible") -> Plusieurs lignes
A4: KR211002 | B4: =IF(A4="KR211001",[1]!T_stock[[#This Row],[Lieu]],VLOOKUP(A4,[1]!T_stock[#All],2)) -> Service Formation | C4: =IF(COUNTIFS([1]!T_reservations[Matériel],'TDB semaine'!$A4)>0,IF(COUNTIFS([1]!T_reservations[Matériel],'TDB semaine'!$A4)=1,IF(AND('TDB semaine'!C$2>=VLOOKUP($A4,[1]!T_reservations[[Matériel]:[Validé par]],3),('TDB semaine'!C$2>=VLOOKUP($A4,[1]!T_reservations[[Matériel]:[Validé par]],3))),"Reservé","Disponible"),"Plusieurs lignes"),"Disponible") -> Plusieurs lignes
A5: KR211003 | B5: =IF(A5="KR211001",[1]!T_stock[[#This Row],[Lieu]],VLOOKUP(A5,[1]!T_stock[#All],2)) -> Baud | C5: =IF(COUNTIFS([1]!T_reservations[Matériel],'TDB semaine'!$A5)>0,IF(COUNTIFS([1]!T_reservations[Matériel],'TDB semaine'!$A5)=1,IF(AND('TDB semaine'!C$2>=VLOOKUP($A5,[1]!T_reservations[[Matériel]:[Validé par]],3),('TDB semaine'!C$2>=VLOOKUP($A5,[1]!T_reservations[[Matériel]:[Validé par]],3))),"Reservé","Disponible"),"Plusieurs lignes"),"Disponible") -> Disponible
A6: KR211004 | B6: =IF(A6="KR211001",[1]!T_stock[[#This Row],[Lieu]],VLOOKUP(A6,[1]!T_stock[#All],2)) -> Baud | C6: =IF(COUNTIFS([1]!T_reservations[Matériel],'TDB semaine'!$A6)>0,IF(COUNTIFS([1]!T_reservations[Matériel],'TDB semaine'!$A6)=1,IF(AND('TDB semaine'!C$2>=VLOOKUP($A6,[1]!T_reservations[[Matériel]:[Validé par]],3),('TDB semaine'!C$2>=VLOOKUP($A6,[1]!T_reservations[[Matériel]:[Validé par]],3))),"Reservé","Disponible"),"Plusieurs lignes"),"Disponible") -> Reservé
A7: KR211005 | B7: =IF(A7="KR211001",[1]!T_stock[[#This Row],[Lieu]],VLOOKUP(A7,[1]!T_stock[#All],2)) -> Bureau RG | C7: =IF(COUNTIFS([1]!T_reservations[Matériel],'TDB semaine'!$A7)>0,IF(COUNTIFS([1]!T_reservations[Matériel],'TDB semaine'!$A7)=1,IF(AND('TDB semaine'!C$2>=VLOOKUP($A7,[1]!T_reservations[[Matériel]:[Validé par]],3),('TDB semaine'!C$2>=VLOOKUP($A7,[1]!T_reservations[[Matériel]:[Validé par]],3))),"Reservé","Disponible"),"Plusieurs lignes"),"Disponible") -> Reservé
A8: KR211006 | B8: =IF(A8="KR211001",[1]!T_stock[[#This Row],[Lieu]],VLOOKUP(A8,[1]!T_stock[#All],2)) -> Bureau RG | C8: =IF(COUNTIFS([1]!T_reservations[Matériel],'TDB semaine'!$A8)>0,IF(COUNTIFS([1]!T_reservations[Matériel],'TDB semaine'!$A8)=1,IF(AND('TDB semaine'!C$2>=VLOOKUP($A8,[1]!T_reservations[[Matériel]:[Validé par]],3),('TDB semaine'!C$2>=VLOOKUP($A8,[1]!T_reservations[[Matériel]:[Validé par]],3))),"Reservé","Disponible"),"Plusieurs lignes"),"Disponible") -> Disponible
A9: KR211007 | B9: =IF(A9="KR211001",[1]!T_stock[[#This Row],[Lieu]],VLOOKUP(A9,[1]!T_stock[#All],2)) -> Bureau RG | C9: =IF(COUNTIFS([1]!T_reservations[Matériel],'TDB semaine'!$A9)>0,IF(COUNTIFS([1]!T_reservations[Matériel],'TDB semaine'!$A9)=1,IF(AND('TDB semaine'!C$2>=VLOOKUP($A9,[1]!T_reservations[[Matériel]:[Validé par]],3),('TDB semaine'!C$2>=VLOOKUP($A9,[1]!T_reservations[[Matériel]:[Validé par]],3))),"Reservé","Disponible"),"Plusieurs lignes"),"Disponible") -> Disponible
A10: KR211008 | B10: =IF(A10="KR211001",[1]!T_stock[[#This Row],[Lieu]],VLOOKUP(A10,[1]!T_stock[#All],2)) -> ATE | C10: =IF(COUNTIFS([1]!T_reservations[Matériel],'TDB semaine'!$A10)>0,IF(COUNTIFS([1]!T_reservations[Matériel],'TDB semaine'!$A10)=1,IF(AND('TDB semaine'!C$2>=VLOOKUP($A10,[1]!T_reservations[[Matériel]:[Validé par]],3),('TDB semaine'!C$2>=VLOOKUP($A10,[1]!T_reservations[[Matériel]:[Validé par]],3))),"Reservé","Disponible"),"Plusieurs lignes"),"Disponible") -> Disponible
A11: KR211009 | B11: =IF(A11="KR211001",[1]!T_stock[[#This Row],[Lieu]],VLOOKUP(A11,[1]!T_stock[#All],2)) -> Mivoie | C11: =IF(COUNTIFS([1]!T_reservations[Matériel],'TDB semaine'!$A11)>0,IF(COUNTIFS([1]!T_reservations[Matériel],'TDB semaine'!$A11)=1,IF(AND('TDB semaine'!C$2>=VLOOKUP($A11,[1]!T_reservations[[Matériel]:[Validé par]],3),('TDB semaine'!C$2>=VLOOKUP($A11,[1]!T_reservations[[Matériel]:[Validé par]],3))),"Reservé","Disponible"),"Plusieurs lignes"),"Disponible") -> Disponible
A12: KR211010 | B12: =IF(A12="KR211001",[1]!T_stock[[#This Row],[Lieu]],VLOOKUP(A12,[1]!T_stock[#All],2)) -> Mivoie | C12: =IF(COUNTIFS([1]!T_reservations[Matériel],'TDB semaine'!$A12)>0,IF(COUNTIFS([1]!T_reservations[Matériel],'TDB semaine'!$A12)=1,IF(AND('TDB semaine'!C$2>=VLOOKUP($A12,[1]!T_reservations[[Matériel]:[Validé par]],3),('TDB semaine'!C$2>=VLOOKUP($A12,[1]!T_reservations[[Matériel]:[Validé par]],3))),"Reservé","Disponible"),"Plusieurs lignes"),"Disponible") -> Disponible

Sheet reservations auto
A1: Matériel | B1: Lieu | C1: Date_retrait | D1: Date_rendu | E1: Conducteur | F1: Matricule | G1: Responsable | H1: Validé par | I1: Commentaire
A2: KR211002 | B2: =VLOOKUP(A2,[1]!T_stock[#Data],2) -> Service Formation | C2: 44626 | D2: 44629 | G2: =IFERROR(VLOOKUP(T_reservations[[#This Row],[Conducteur]],[1]!T_conducteurs[[NOMS ]:[RG]],2,FALSE),"Conducteur non reconnu") -> Conducteur non reconnu
A3: KR211004 | B3: =VLOOKUP(A3,[1]!T_stock[#Data],2) -> Baud | C3: 44628 | D3: 44898 | G3: =IFERROR(VLOOKUP(T_reservations[[#This Row],[Conducteur]],[1]!T_conducteurs[[NOMS ]:[RG]],2,FALSE),"Conducteur non reconnu") -> Conducteur non reconnu
A4: KR211008 | B4: =VLOOKUP(A4,[1]!T_stock[#Data],2) -> ATE | G4: =IFERROR(VLOOKUP(T_reservations[[#This Row],[Conducteur]],[1]!T_conducteurs[[NOMS ]:[RG]],2,FALSE),"Conducteur non reconnu") -> Conducteur non reconnu
A5: KR211005 | B5: =VLOOKUP(A5,[1]!T_stock[#Data],2) -> Bureau RG | C5: 44629 | D5: 44629 | G5: =IFERROR(VLOOKUP(T_reservations[[#This Row],[Conducteur]],[1]!T_conducteurs[[NOMS ]:[RG]],2,FALSE),"Conducteur non reconnu") -> Conducteur non reconnu | H5: EBA
A6: KR211001 | B6: =VLOOKUP(A6,[1]!T_stock[#Data],2) -> Service Formation | C6: 44628 | D6: 44632 | G6: =IFERROR(VLOOKUP(T_reservations[[#This Row],[Conducteur]],[1]!T_conducteurs[[NOMS ]:[RG]],2,FALSE),"Conducteur non reconnu") -> Conducteur non reconnu
A7: KR211001 | B7: =VLOOKUP(A7,[1]!T_stock[#Data],2) -> Service Formation | C7: 44632 | D7: 44638 | G7: =IFERROR(VLOOKUP(T_reservations[[#This Row],[Conducteur]],[1]!T_conducteurs[[NOMS ]:[RG]],2,FALSE),"Conducteur non reconnu") -> Conducteur non reconnu
A8: KR211002 | B8: =VLOOKUP(A8,[1]!T_stock[#Data],2) -> Service Formation | C8: 44630 | D8: 44636 | G8: =IFERROR(VLOOKUP(T_reservations[[#This Row],[Conducteur]],[1]!T_conducteurs[[NOMS ]:[RG]],2,FALSE),"Conducteur non reconnu") -> Conducteur non reconnu
A9: KR211001 | B9: =VLOOKUP(A9,[1]!T_stock[#Data],2) -> Service Formation | C9: 44639 | D9: 44641 | G9: =IFERROR(VLOOKUP(T_reservations[[#This Row],[Conducteur]],[1]!T_conducteurs[[NOMS ]:[RG]],2,FALSE),"Conducteur non reconnu") -> Conducteur non reconnu
