Workbook

Sheet Suivi
C1: Janvier | D1: Février | E1: Mars
C2: NB | D2: NB | E2: NB
B3: Essais | C3: =VLOOKUP(C$1,NB!A:K,MATCH(VLOOKUP(B3,'Tableau de correspondance trad'!A:D,2,FALSE),NB!$1:$1,0),FALSE) -> 39 | D3: =VLOOKUP(D$1,NB!A:K,MATCH(VLOOKUP(B3,'Tableau de correspondance trad'!A:D,2,FALSE),NB!$1:$1,0),FALSE) -> 61 | E3: =VLOOKUP(E$1,NB!A:K,MATCH(VLOOKUP(B3,'Tableau de correspondance trad'!A:D,2,FALSE),NB!$1:$1,0),FALSE) -> 16
B4: Guide pratique | C4: =VLOOKUP(C$1,NB!A:K,MATCH(VLOOKUP(B4,'Tableau de correspondance trad'!A:D,2,FALSE),NB!$1:$1,0),FALSE) -> 43 | D4: =VLOOKUP(D$1,NB!A:K,MATCH(VLOOKUP(B4,'Tableau de correspondance trad'!A:D,2,FALSE),NB!$1:$1,0),FALSE) -> 34 | E4: =VLOOKUP(E$1,NB!A:K,MATCH(VLOOKUP(B4,'Tableau de correspondance trad'!A:D,2,FALSE),NB!$1:$1,0),FALSE) -> 65
B5: Révision | C5: =VLOOKUP(C$1,NB!A:K,MATCH(VLOOKUP(B5,'Tableau de correspondance trad'!A:D,2,FALSE),NB!$1:$1,0),FALSE) -> 26 | D5: =VLOOKUP(D$1,NB!A:K,MATCH(VLOOKUP(B5,'Tableau de correspondance trad'!A:D,2,FALSE),NB!$1:$1,0),FALSE) -> 8 | E5: =VLOOKUP(E$1,NB!A:K,MATCH(VLOOKUP(B5,'Tableau de correspondance trad'!A:D,2,FALSE),NB!$1:$1,0),FALSE) -> 45
B6: BD | C6: =VLOOKUP(C$1,NB!A:K,MATCH(VLOOKUP(B6,'Tableau de correspondance trad'!A:D,2,FALSE),NB!$1:$1,0),FALSE) -> 43 | D6: =VLOOKUP(D$1,NB!A:K,MATCH(VLOOKUP(B6,'Tableau de correspondance trad'!A:D,2,FALSE),NB!$1:$1,0),FALSE) -> 15 | E6: =VLOOKUP(E$1,NB!A:K,MATCH(VLOOKUP(B6,'Tableau de correspondance trad'!A:D,2,FALSE),NB!$1:$1,0),FALSE) -> 37
A7: Roman | B7: Enfant | C7: =VLOOKUP($C$1,NB!A:K,MATCH(VLOOKUP(B7,'Tableau de correspondance trad'!A:D,2,FALSE),NB!$2:$2,0),FALSE) -> 10 | D7: =VLOOKUP($D$1,NB!A:K,MATCH(VLOOKUP(B7,'Tableau de correspondance trad'!A:D,2,FALSE),NB!$2:$2,0),FALSE) -> 53 | E7: =VLOOKUP($E$1,NB!A:K,MATCH(VLOOKUP(B7,'Tableau de correspondance trad'!A:D,2,FALSE),NB!$2:$2,0),FALSE) -> 22
B8: Adulte | C8: =VLOOKUP($C$1,NB!A:K,MATCH(VLOOKUP(B8,'Tableau de correspondance trad'!A:D,2,FALSE),NB!$2:$2,0),FALSE) -> 55 | D8: =VLOOKUP($D$1,NB!A:K,MATCH(VLOOKUP(B8,'Tableau de correspondance trad'!A:D,2,FALSE),NB!$2:$2,0),FALSE) -> 6 | E8: =VLOOKUP($E$1,NB!A:K,MATCH(VLOOKUP(B8,'Tableau de correspondance trad'!A:D,2,FALSE),NB!$2:$2,0),FALSE) -> 37
B9: Fiche lecture | C9: =VLOOKUP(C$1,NB!A:K,MATCH(VLOOKUP(B9,'Tableau de correspondance trad'!A:D,2,FALSE),NB!$1:$1,0),FALSE) -> 4 | D9: =VLOOKUP(D$1,NB!A:K,MATCH(VLOOKUP(B9,'Tableau de correspondance trad'!A:D,2,FALSE),NB!$1:$1,0),FALSE) -> 30 | E9: =VLOOKUP(E$1,NB!A:K,MATCH(VLOOKUP(B9,'Tableau de correspondance trad'!A:D,2,FALSE),NB!$1:$1,0),FALSE) -> 58
B10: Résumé | C10: =VLOOKUP(C$1,NB!A:K,MATCH(VLOOKUP(B10,'Tableau de correspondance trad'!A:D,2,FALSE),NB!$1:$1,0),FALSE) -> 56 | D10: =VLOOKUP(D$1,NB!A:K,MATCH(VLOOKUP(B10,'Tableau de correspondance trad'!A:D,2,FALSE),NB!$1:$1,0),FALSE) -> 40 | E10: =VLOOKUP(E$1,NB!A:K,MATCH(VLOOKUP(B10,'Tableau de correspondance trad'!A:D,2,FALSE),NB!$1:$1,0),FALSE) -> 55
A11: Manga | B11: Enfant | C11: =VLOOKUP($C$1,NB!A:K,MATCH(VLOOKUP(B11,'Tableau de correspondance trad'!A:D,2,FALSE),NB!$2:$2,0)) -> 19 | D11: =VLOOKUP($D$1,NB!A:K,MATCH(VLOOKUP(B11,'Tableau de correspondance trad'!A:D,2,FALSE),NB!$2:$2,0),FALSE) -> 53 | E11: =VLOOKUP($E$1,NB!A:K,MATCH(VLOOKUP(B11,'Tableau de correspondance trad'!A:D,2,FALSE),NB!$2:$2,0),FALSE) -> 22 | F11: erreur car récupère la première série de Enfant
B12: Adulte | C12: =VLOOKUP($C$1,NB!A:K,MATCH(VLOOKUP(B12,'Tableau de correspondance trad'!A:D,2,FALSE),NB!$2:$2,0)) -> 61 | D12: =VLOOKUP($D$1,NB!A:K,MATCH(VLOOKUP(B12,'Tableau de correspondance trad'!A:D,2,FALSE),NB!$2:$2,0),FALSE) -> 6 | E12: =VLOOKUP($E$1,NB!A:K,MATCH(VLOOKUP(B12,'Tableau de correspondance trad'!A:D,2,FALSE),NB!$2:$2,0),FALSE) -> 37 | F12: erreur car récupère la première série de Adulte

Sheet NB
A1: Famille | B1: Essai | C1: Guide pratique | D1: Révision | E1: Bande dessinée | F1: Roman | H1: Fiche | I1: Resume | J1: Manga
F2: Enfant | G2: Adulte | J2: Enfant | K2: Adulte
A3: Janvier | B3: 39 | C3: 43 | D3: 26 | E3: 43 | F3: 10 | G3: 55 | H3: 4 | I3: 56 | J3: 22 | K3: 24
A4: Février | B4: 61 | C4: 34 | D4: 8 | E4: 15 | F4: 53 | G4: 6 | H4: 30 | I4: 40 | J4: 59 | K4: 54
A5: Mars | B5: 16 | C5: 65 | D5: 45 | E5: 37 | F5: 22 | G5: 37 | H5: 58 | I5: 55 | J5: 38 | K5: 61
A6: Avril | B6: 37 | C6: 18 | D6: 45 | E6: 21 | F6: 19 | G6: 61 | H6: 45 | I6: 59 | J6: 35 | K6: 15

Sheet Tableau de correspondance trad
A1: FR | B1: Extract NB | C1: Extract CUMUL | D1: Extract VOL
A2: Essais | B2: Essai
A3: Guide pratique | B3: Guide pratique
A4: Révision | B4: Révision
A5: BD | B5: Bande dessinée
A6: Enfant | B6: Enfant
A7: Adulte | B7: Adulte
A8: Fiche lecture | B8: Fiche
A9: Résumé | B9: Resume
A10: Enfant | B10: Enfant
A11: Adulte | B11: Adulte
