Workbook

Sheet trame article export CSV
A1: code article | B1: famille A | C1: famille B | D1: famille C | E1: famille D | F1: famille E | G1: famille F
A2: PFRI02495 | B2: X | H2: =INDEX($B$1:$G$1,MATCH("x",OFFSET(B2,,,,6))) -> famille A
A3: PFPB02494 | B3: X | H3: =INDEX($B$1:$G$1,MATCH("x",OFFSET(B3,,,,6))) -> famille A
A4: PFPG02496 | B4: x | H4: =INDEX($B$1:$G$1,MATCH("x",OFFSET(B4,,,,6))) -> famille A
A5: PFED02511 | C5: X | H5: =INDEX($B$1:$G$1,MATCH("x",OFFSET(B5,,,,6))) -> famille B
A6: PFED02549 | B6: X | H6: =INDEX($B$1:$G$1,MATCH("x",OFFSET(B6,,,,6))) -> famille A
A7: PFGW02550 | B7: X | H7: =INDEX($B$1:$G$1,MATCH("x",OFFSET(B7,,,,6))) -> famille A
A8: PFPN92111 | E8: X | H8: =INDEX($B$1:$G$1,MATCH("x",OFFSET(B8,,,,6))) -> famille D
A9: PFPN02561 | E9: X | H9: =INDEX($B$1:$G$1,MATCH("x",OFFSET(B9,,,,6))) -> famille D
A10: PFCR02533 | F10: X | H10: =INDEX($B$1:$G$1,MATCH("x",OFFSET(B10,,,,6))) -> famille E
A11: PFSY02503 | B11: X | H11: =INDEX($B$1:$G$1,MATCH("x",OFFSET(B11,,,,6))) -> famille A
A12: PFRI02566 | B12: X | H12: =INDEX($B$1:$G$1,MATCH("x",OFFSET(B12,,,,6))) -> famille A
A13: PFPN92598 | E13: X | H13: =INDEX($B$1:$G$1,MATCH("x",OFFSET(B13,,,,6))) -> famille D
A14: PFPG02597 | B14: X | H14: =INDEX($B$1:$G$1,MATCH("x",OFFSET(B14,,,,6))) -> famille A
A15: PFPG02421 | B15: X | H15: =INDEX($B$1:$G$1,MATCH("x",OFFSET(B15,,,,6))) -> famille A
A16: PFRI02505 | B16: X | H16: =INDEX($B$1:$G$1,MATCH("x",OFFSET(B16,,,,6))) -> famille A
A17: PFPG02670 | B17: X | H17: =INDEX($B$1:$G$1,MATCH("x",OFFSET(B17,,,,6))) -> famille A
A18: PFGW02671 | B18: X | H18: =INDEX($B$1:$G$1,MATCH("x",OFFSET(B18,,,,6))) -> famille A
A19: PFRI02594 | B19: X | H19: =INDEX($B$1:$G$1,MATCH("x",OFFSET(B19,,,,6))) -> famille A
A20: PFED02628 | B20: X | H20: =INDEX($B$1:$G$1,MATCH("x",OFFSET(B20,,,,6))) -> famille A
A21: PFPB02663 | B21: X | H21: =INDEX($B$1:$G$1,MATCH("x",OFFSET(B21,,,,6))) -> famille A
A22: PFPN02638 | E22: X | H22: =INDEX($B$1:$G$1,MATCH("x",OFFSET(B22,,,,6))) -> famille D
A23: PFGW02497 | B23: X | H23: =INDEX($B$1:$G$1,MATCH("x",OFFSET(B23,,,,6))) -> famille A
A24: PFGW02635 | B24: X | H24: =INDEX($B$1:$G$1,MATCH("x",OFFSET(B24,,,,6))) -> famille A
A25: PFPN02498 | E25: X | H25: =INDEX($B$1:$G$1,MATCH("x",OFFSET(B25,,,,6))) -> famille D
A26: PFPG02660 | B26: X | H26: =INDEX($B$1:$G$1,MATCH("x",OFFSET(B26,,,,6))) -> famille A
A27: PFRI02705 | B27: X | H27: =INDEX($B$1:$G$1,MATCH("x",OFFSET(B27,,,,6))) -> famille A
A28: PFPB02458 | B28: X | H28: =INDEX($B$1:$G$1,MATCH("x",OFFSET(B28,,,,6))) -> famille A
A29: PFPN02636 | E29: X | H29: =INDEX($B$1:$G$1,MATCH("x",OFFSET(B29,,,,6))) -> famille D
A30: PFSY02712 | B30: X | H30: =INDEX($B$1:$G$1,MATCH("x",OFFSET(B30,,,,6))) -> famille A
A31: PFGW02711 | G31: X | H31: =INDEX($B$1:$G$1,MATCH("x",OFFSET(B31,,,,6))) -> famille F
A32: PFGW02713 | B32: X | H32: =INDEX($B$1:$G$1,MATCH("x",OFFSET(B32,,,,6))) -> famille A
A33: PFPG02754 | B33: X | H33: =INDEX($B$1:$G$1,MATCH("x",OFFSET(B33,,,,6))) -> famille A
A34: PFRI02741 | B34: X | H34: =INDEX($B$1:$G$1,MATCH("x",OFFSET(B34,,,,6))) -> famille A
A35: PFGW02742 | B35: X | H35: =INDEX($B$1:$G$1,MATCH("x",OFFSET(B35,,,,6))) -> famille A
A36: PFRI02786 | B36: X | H36: =INDEX($B$1:$G$1,MATCH("x",OFFSET(B36,,,,6))) -> famille A
A37: PFGW02788 | B37: X | H37: =INDEX($B$1:$G$1,MATCH("x",OFFSET(B37,,,,6))) -> famille A
A38: PFGW02787 | B38: X | H38: =INDEX($B$1:$G$1,MATCH("x",OFFSET(B38,,,,6))) -> famille A
A39: PFGW02797 | B39: X | H39: =INDEX($B$1:$G$1,MATCH("x",OFFSET(B39,,,,6))) -> famille A
A40: PFSY02809 | B40: X | H40: =INDEX($B$1:$G$1,MATCH("x",OFFSET(B40,,,,6))) -> famille A

Sheet Feuil1
A1: PFRI02495 | B1: =INDEX('trame article export CSV'!$B$1:$G$1,MATCH("x",OFFSET('trame article export CSV'!A3,14,1,6))) -> famille E | C1: =MATCH(A1,'trame article export CSV'!A:A,0) -> 2
A2: PFPB02494 | C2: =MATCH(A2,'trame article export CSV'!A:A,0) -> 3
A3: PFPG02496 | C3: =MATCH(A3,'trame article export CSV'!A:A,0) -> 4
A4: PFED02511 | C4: =MATCH(A4,'trame article export CSV'!A:A,0) -> 5
A5: PFED02549 | C5: =MATCH(A5,'trame article export CSV'!A:A,0) -> 6
A6: PFGW02550
D9: =INDEX('trame article export CSV'!$B$1:$G$1;EQUIV("x";DECALER('trame article export CSV'!A&EQUIV(A1;'trame article export CSV'!A:A;0);14;1;6)))
