Workbook
Name codetab: MENU!$E$6
Name ficheHDM: SAISIE!$A$2:$AB$37
Name fiches_rhc: SAISIE!$A$2:$AB$40

Sheet MENU
B6: Nom de l'ÉTABLISSEMENT
B7: (remplir la case bleue)
B11: Cliquer sur l'icône ci-contre pour accéder à l'onglet de saisie
B17: Cliquer sur l'icône pour accéder à l'onglet "rapport"
B23: Cliquer sur l'icône pour accéder à l'onglet "Poster"

Sheet SAISIE
B1: Nom de l'établissement | L1: Hygiène des mains
A2: N° Fiche | B2: Date | C2: DS1 | D2: DS2 | E2: Fonction | F2: Étudiant | G2: Soin/contact avec du sang | H2: Soin/contact muqueuses | I2: Soin/contact peau lésée | J2: Soin/contact liquides bio | K2: Soin/contact peau saine | L2: Pré-requis | M2: Si non : | N2: Tenue conforme | O2: Absence de bijoux | P2: Ongles conformes | Q2: Quantité de PHA conforme | R2: A | S2: B | T2: PE1 | U2: PE2 | V2: C | W2: D | X2: E | Y2: F | Z2: G | AA2: ≥ 30 sec | AB2: Jusqu'au séchage complet
A3: 1 | E3: 1. Personnel médical | F3: 2. NON | K3: CS1 | L3: 2. NON | N3: 2. NON | O3: 2. NON | P3: 1. OUI | Q3: 1. OUI | R3: 1. OUI | S3: 1. OUI | V3: 1. OUI | W3: 1. OUI | X3: 1. OUI | Y3: 1. OUI | Z3: 2. NON | AA3: 2. NON | AB3: 1. OUI
A4: 2 | E4: 2. Personnel infirmier | F4: 1. OUI | G4: GS1 | L4: 1. OUI | Q4: 1. OUI | R4: 1. OUI | S4: 1. OUI | V4: 2. NON | W4: 2. NON | X4: 2. NON | Y4: 2. NON | Z4: 1. OUI | AA4: 1. OUI | AB4: 1. OUI
A5: 3 | E5: 2. Personnel infirmier | F5: 2. NON | G5: GS2 | L5: 1. OUI | Q5: 1. OUI | R5: 1. OUI | S5: 1. OUI | V5: 1. OUI | W5: 1. OUI | X5: 1. OUI | Y5: 1. OUI | Z5: 1. OUI | AA5: 1. OUI | AB5: 1. OUI
A6: 4 | E6: 3. AS- AMP | F6: 2. NON | H6: GM1 | L6: 2. NON | N6: 1. OUI | O6: 2. NON | P6: 2. NON | Q6: 1. OUI | R6: 1. OUI | S6: 1. OUI | V6: 2. NON | W6: 2. NON | X6: 1. OUI | Y6: 1. OUI | Z6: 1. OUI | AA6: 2. NON | AB6: 2. NON
A7: 5 | E7: 4. ASG- Agent de soins | F7: 2. NON | H7: GM1 | L7: 2. NON | N7: 1. OUI | O7: 2. NON | P7: 2. NON | Q7: 1. OUI | R7: 1. OUI | S7: 1. OUI | V7: 1. OUI | W7: 2. NON | X7: 1. OUI | Y7: 2. NON | Z7: 2. NON | AA7: 2. NON | AB7: 1. OUI
A8: 6 | E8: 5. Éducateur spécialisé | F8: 1. OUI | K8: CS1 | L8: 1. OUI | Q8: 1. OUI | R8: 1. OUI | S8: 1. OUI | V8: 1. OUI | W8: 1. OUI | X8: 1. OUI | Y8: 2. NON | Z8: 2. NON | AA8: 2. NON | AB8: 1. OUI
A9: 7 | E9: 5. Éducateur spécialisé | F9: 2. NON | K9: CS1 | L9: 2. NON | N9: 1. OUI | O9: 2. NON | P9: 2. NON | Q9: 1. OUI | R9: 1. OUI | S9: 1. OUI | V9: 1. OUI | W9: 1. OUI | X9: 1. OUI | Y9: 1. OUI | Z9: 1. OUI | AA9: 2. NON | AB9: 1. OUI
A10: 8 | E10: 6. Personnel de rééducation | F10: 1. OUI | K10: CS1 | L10: 2. NON | N10: 1. OUI | O10: 2. NON | P10: 2. NON | Q10: 1. OUI | R10: 1. OUI | S10: 1. OUI | V10: 1. OUI | W10: 2. NON | X10: 1. OUI | Y10: 1. OUI | Z10: 2. NON | AA10: 2. NON | AB10: 1. OUI
A11: 9 | E11: 2. Personnel infirmier | F11: 2. NON | G11: GS3 | L11: 1. OUI | Q11: 1. OUI | R11: 1. OUI | S11: 1. OUI | V11: 1. OUI | W11: 1. OUI | X11: 1. OUI | Y11: 1. OUI | Z11: 1. OUI | AA11: 1. OUI | AB11: 1. OUI
A12: 10 | E12: 3. AS- AMP | F12: 2. NON | I12: GL1 | L12: 2. NON | N12: 2. NON | O12: 2. NON | P12: 2. NON | Q12: 1. OUI | R12: 1. OUI | S12: 1. OUI | V12: 1. OUI | W12: 1. OUI | X12: 1. OUI | Y12: 1. OUI | Z12: 1. OUI | AA12: 2. NON | AB12: 1. OUI

Sheet RAPPORT EMS
B1: AUDIT HYGIÈNE DES MAINS
B6: Nombre de fiches examinées : | C6: =COUNTIF(SAISIE!A3:A35,">0") -> 10
B10: Répartition par fonction
B12: Fonctions | C12: Nb total | D12: % | E12: Nb étudiant | F12: % parmi les étudiants
B13: Personnel médical | C13: =CALCULS!C4 -> 1 | D13: =IFERROR(C13/$C$21,0) -> 0.1 | E13: =CALCULS!C16 -> 0 | F13: =IFERROR(E13/$E$21,0) -> 0
B14: Personnel infirmier | C14: =CALCULS!C5 -> 3 | D14: =IFERROR(C14/$C$21,0) -> 0.3 | E14: =CALCULS!C17 -> 1 | F14: =IFERROR(E14/$E$21,0) -> 0.33333333
B15: AS-AMP | C15: =CALCULS!C6 -> 2 | D15: =IFERROR(C15/$C$21,0) -> 0.2 | E15: =CALCULS!C18 -> 0 | F15: =IFERROR(E15/$E$21,0) -> 0
B16: ASG- Agent de soins | C16: =CALCULS!C7 -> 1 | D16: =IFERROR(C16/$C$21,0) -> 0.1 | E16: =CALCULS!C19 -> 0 | F16: =IFERROR(E16/$E$21,0) -> 0
B17: Éducateur spécialisé | C17: =CALCULS!C8 -> 2 | D17: =IFERROR(C17/$C$21,0) -> 0.2 | E17: =CALCULS!C20 -> 1 | F17: =IFERROR(E17/$E$21,0) -> 0.33333333
B18: Personnel de rééducation | C18: =CALCULS!C9 -> 1 | D18: =IFERROR(C18/$C$21,0) -> 0.1 | E18: =CALCULS!C21 -> 1 | F18: =IFERROR(E18/$E$21,0) -> 0.33333333
B19: Personnel en charge du transport des résidents | C19: =CALCULS!C10 -> 0 | D19: =IFERROR(C19/$C$21,0) -> 0 | E19: =CALCULS!C22 -> 0 | F19: =IFERROR(E19/$E$21,0) -> 0
B20: Autres | C20: =CALCULS!C11 -> 0 | D20: =IFERROR(C20/$C$21,0) -> 0 | E20: =CALCULS!C23 -> 0 | F20: =IFERROR(E20/$E$21,0) -> 0
B21: Total | C21: =SUM(C13:C20) -> 10 | D21: =SUM(D13:D20) -> 1 | E21: =SUM(E13:E20) -> 3 | F21: =SUM(F13:F20) -> 1
B24: Répartition par soin
B26: Soins | C26: Nb | D26: %
B27: Soins avec risque de contact avec du sang (GS) | C27: =CALCULS!C28 -> 3 | D27: =IFERROR(C27/$C$32,0) -> 0.3
B28: Soins avec risque de contact avec des muqueuses (GM) | C28: =CALCULS!C29 -> 2 | D28: =IFERROR(C28/$C$32,0) -> 0.2
B29: Soins avec risque de contact avec la peau lésée (GL) | C29: =CALCULS!C30 -> 1 | D29: =IFERROR(C29/$C$32,0) -> 0.1
B30: Soins avec risque de contact avec les liquides biologiques (GB) | C30: =CALCULS!C31 -> 0 | D30: =IFERROR(C30/$C$32,0) -> 0
B31: Soins avec contact avec la peau saine (CS) | C31: =CALCULS!C32 -> 4 | D31: =IFERROR(C31/$C$32,0) -> 0.4
B32: Total | C32: =SUM(C27:C31) -> 10 | D32: =SUM(D27:D31) -> 1
B35: Respect global des pré-requis | C35: =CALCULS!C56 -> 4 | D35: =IFERROR(C35/$C$6,0) -> 0.4
B37: Tenue conforme | C37: =CALCULS!C59+CALCULS!C56 -> 8 | D37: =IFERROR(C37/$C$6,0) -> 0.8
B39: Absence de bijoux | C39: =CALCULS!C62+CALCULS!C56 -> 4 | D39: =IFERROR(C39/$C$6,0) -> 0.4
B41: Ongles conformes | C41: =CALCULS!C65+CALCULS!C56 -> 5 | D41: =IFERROR(C41/$C$6,0) -> 0.5
B43: Quantité de produit conforme | C43: =CALCULS!C68 -> 10 | D43: =IFERROR(C43/$C$6,0) -> 1
B46: Respect des pré-requis par fonction
B48: Fonctions | C48: Nb total | D48: Nb | E48: %
B49: Personnel médical | C49: =C13 -> 1 | D49: =CALCULS!C72 -> 0 | E49: =IFERROR(D49/C49,0) -> 0
B50: Personnel infirmier | C50: =C14 -> 3 | D50: =CALCULS!C73 -> 3 | E50: =IFERROR(D50/C50,0) -> 1
B51: AS-AMP | C51: =C15 -> 2 | D51: =CALCULS!C74 -> 0 | E51: =IFERROR(D51/C51,0) -> 0
B52: ASG- Agent de soins | C52: =C16 -> 1 | D52: =CALCULS!C75 -> 0 | E52: =IFERROR(D52/C52,0) -> 0
B53: Éducateur spécialisé | C53: =C17 -> 2 | D53: =CALCULS!C76 -> 1 | E53: =IFERROR(D53/C53,0) -> 0.5
B54: Personnel de rééducation | C54: =C18 -> 1 | D54: =CALCULS!C77 -> 0 | E54: =IFERROR(D54/C54,0) -> 0
B55: Personnel en charge du transport des résidents | C55: =C19 -> 0 | D55: =CALCULS!C78 -> 0 | E55: =IFERROR(D55/C55,0) -> 0
B56: Autres | C56: =C20 -> 0 | D56: =CALCULS!C79 -> 0 | E56: =IFERROR(D56/C56,0) -> 0
B57: Total | C57: =SUM(C49:C56) -> 10 | D57: =SUM(D49:D56) -> 4 | E57: =IFERROR(D57/C57,0) -> 0.4
B59: Description des étapes de la friction
B61: Étapes | C61: Nb | D61: %
B62: 7 étapes | C62: =CALCULS!C83 -> 4 | D62: =IFERROR(C62/$C$64,0) -> 0.4
...

Sheet POSTER
E1: Audités
E13: AUDIT HYGIÈNE DES MAINS 2022
A27: *GS:Soins avec risque de contact avec du sang / GM:Soins avec risque de contact avec des muqueuses / GL:Soins avec risque de contact avec la peau lésée
A28: GB:Soins avec risque de contact avec les liquides biologiques / CS:Soins avec contact avec la peau saine
A29: Attention, les pourcentages sont donnés à titre indicatif ; lorsque le dénominateur qui a servi au calcul est inférieur à 30, le pourcentage ne doit pas être utilisé pour l'analyse

Sheet CALCULS
B3: Fonction | E3: Fonction | F3: Fonction | G3: Fonction | H3: Fonction | I3: Fonction
B4: 1. Personnel médical | C4: =DCOUNT(ficheHDM,1,E3:E4) -> 1 | E4: 1. Personnel médical | F4: 2. Personnel infirmier | G4: 3. AS- AMP | H4: 4. ASG- Agent de soins | I4: 5. Éducateur spécialisé
B5: 2. Personnel infirmier | C5: =DCOUNT(ficheHDM,1,F3:F4) -> 3 | E5: Fonction | F5: Fonction | G5: Fonction
B6: 3. AS- AMP | C6: =DCOUNT(ficheHDM,1,G3:G4) -> 2 | E6: 6. Personnel de rééducation | F6: 7. Personnel /transport | G6: 8. Autres
B7: 4. ASG- Agent de soins | C7: =DCOUNT(ficheHDM,1,H3:H4) -> 1
B8: 5. Éducateur spécialisé | C8: =DCOUNT(ficheHDM,1,I3:I4) -> 2
B9: 6. Personnel de rééducation | C9: =DCOUNT(ficheHDM,1,E5:E6) -> 1
B10: 7. Personnel /transport | C10: =DCOUNT(ficheHDM,1,F5:F6) -> 0
B11: 8. Autres | C11: =DCOUNT(ficheHDM,1,G5:G6) -> 0
E14: Fonction | F14: Étudiant | G14: Fonction | H14: Étudiant | I14: Fonction | J14: Étudiant
B15: Etudiant | E15: 1. Personnel médical | F15: 1. OUI | G15: 2. Personnel infirmier | H15: 1. OUI | I15: 3. AS- AMP | J15: 1. OUI
B16: 1. Personnel médical | C16: =DCOUNT(ficheHDM,1,E14:F15) -> 0
B17: 2. Personnel infirmier | C17: =DCOUNT(ficheHDM,1,G14:H15) -> 1 | E17: Fonction | F17: Étudiant | G17: Fonction | H17: Étudiant | I17: Fonction | J17: Étudiant
B18: 3. AS- AMP | C18: =DCOUNT(ficheHDM,1,I14:J15) -> 0 | E18: 4. ASG- Agent de soins | F18: 1. OUI | G18: 5. Éducateur spécialisé | H18: 1. OUI | I18: 6. Personnel de rééducation | J18: 1. OUI
B19: 4. ASG- Agent de soins | C19: =DCOUNT(ficheHDM,1,E17:F18) -> 0
B20: 5. Éducateur spécialisé | C20: =DCOUNT(ficheHDM,1,G17:H18) -> 1 | E20: Fonction | F20: Étudiant | G20: Fonction | H20: Étudiant
B21: 6. Personnel de rééducation | C21: =DCOUNT(ficheHDM,1,I17:J18) -> 1 | E21: 7. Personnel /transport | F21: 1. OUI | G21: 8. Autres | H21: 1. OUI
B22: 7. Personnel /transport | C22: =DCOUNT(ficheHDM,1,E20:F21) -> 0
B23: 8. Autres | C23: =DCOUNT(ficheHDM,1,G20:H21) -> 0
B27: Soins | E27: Soin/contact avec du sang | F27: Soin/contact muqueuses | G27: Soin/contact peau lésée | H27: Soin/contact liquides bio | I27: Soin/contact peau saine
B28: GS | C28: =DCOUNT(ficheHDM,1,E27:E36) -> 3 | E28: GS1 | F28: GM1 | G28: GL1 | H28: GB1 | I28: CS1
B29: GM | C29: =DCOUNT(ficheHDM,1,F27:F43) -> 2 | E29: GS2 | F29: GM2 | G29: GL2 | H29: GB2 | I29: CS2
B30: GL | C30: =DCOUNT(ficheHDM,1,G27:G31) -> 1 | E30: GS3 | F30: GM3 | G30: GL3 | H30: GB3 | I30: CS3
B31: GB | C31: =DCOUNT(ficheHDM,1,H27:H43) -> 0 | E31: GS4 | F31: GM4 | G31: GL4 | H31: GB4 | I31: CS4
B32: CS | C32: =DCOUNT(ficheHDM,1,I27:I42) -> 4 | E32: GS5 | F32: GM5 | H32: GB5 | I32: CS5
E33: GS6 | F33: GM6 | H33: GB6 | I33: CS6
E34: GS7 | F34: GM7 | H34: GB7 | I34: CS7
E35: GS8 | F35: GM8 | H35: GB8 | I35: CS8
E36: GS9 | F36: GM9 | H36: GB9 | I36: CS9
F37: GM10 | H37: GB10 | I37: CS10
F38: GM11 | H38: GB11 | I38: CS11
F39: GM12 | H39: GB12 | I39: CS12
F40: GM13 | H40: GB13 | I40: CS13
F41: GM14 | H41: GB14 | I41: CS14
F42: GM15 | H42: GB15 | I42: CS15
F43: GM16 | H43: GB16
E55: Pré-requis
B56: Respect global pré-requis | C56: =DCOUNT(ficheHDM,1,E55:E56) -> 4 | E56: 1. OUI
E58: Tenue conforme
B59: Tenue conforme | C59: =DCOUNT(ficheHDM,1,E58:E59) -> 4 | E59: 1. OUI
...

Sheet labels RHC
A1: LABELS RHC | B1: Onglet masqué
C2: PE | E2: MO | G2: DISC/SPEC | I2: Fonction | J2: Non étudiant | K2: Étudiant | P2: Soin
C3: 1. Cutanée non opératoire | E3: ACH SPP | G3: AUT AUT | I3: 1.PERSONNEL MÉDICAL | J3: ='RAPPORT EMS'!C13-'RAPPORT EMS'!E13 -> 1 | K3: ='RAPPORT EMS'!E13 -> 0 | L3: Pers médical | P3: GS1
C4: 2. Site opératoire | E4: ACI AUT | G4: AUT DIA | I4: 3.PERSONNEL INFIRMIER | J4: ='RAPPORT EMS'!C14-'RAPPORT EMS'!E14 -> 2 | K4: ='RAPPORT EMS'!E14 -> 1 | L4: Pers infirmier | P4: GS2
C5: 3. Pleuro-pulmonaire | E5: ACI BAU 1 | G5: AUT HAD | I5: 4.AS-AMP | J5: ='RAPPORT EMS'!C15-'RAPPORT EMS'!E15 -> 2 | K5: ='RAPPORT EMS'!E15 -> 0 | L5: AS - AMP | P5: GS3
C6: 4. Urinaire | E6: ACI BAU 2 | G6: AUT URG | I6: 5.ASG - Agent de soins | J6: ='RAPPORT EMS'!C16-'RAPPORT EMS'!E16 -> 1 | K6: ='RAPPORT EMS'!E16 -> 0 | L6: ASG - Agent de soins | P6: GS4
C7: 5. CVC | E7: ACI BAU 9 | G7: CHI AMB | I7: 6.EDUCATEUR SPECIALISE | J7: ='RAPPORT EMS'!C17-'RAPPORT EMS'!E17 -> 1 | K7: ='RAPPORT EMS'!E17 -> 1 | L7: Educ spé | P7: GS5
C8: 6. CVP | E8: ACT SPP | G8: CHI AUT | I8: 7.PERSONNEL DE RÉÉDUCATION | J8: ='RAPPORT EMS'!C18-'RAPPORT EMS'!E18 -> 0 | K8: ='RAPPORT EMS'!E18 -> 1 | L8: Pers rééduc | P8: GS6
C9: 7. CCI | E9: AEM SPP | G9: CHI CAN | I9: 8.PERSONNEL EN CHARGE DU TRANSPORT DES PATIENTS/RÉSIDENTS | J9: ='RAPPORT EMS'!C19-'RAPPORT EMS'!E19 -> 0 | K9: ='RAPPORT EMS'!E19 -> 0 | L9: Pers transport patients/résidents | P9: GS7
C10: 8. Digestif ou abdominal | E10: AGR SPP | G10: CHI CAR | I10: 9.AUTRE | J10: ='RAPPORT EMS'!C20-'RAPPORT EMS'!E20 -> 0 | K10: ='RAPPORT EMS'!E20 -> 0 | L10: Autre | P10: GS8
C11: 9. Translocation digestive probable | E11: ALC SPP | G11: CHI CVA | P11: GS9
C12: 10. Inconnue | E12: ANA AUT | G12: CHI DIG | J12: GS | P12: GS10
C13: 11. Materno-fœtale | E13: ASP AUT | G13: CHI GEN | J13: GM | P13: GS11
C14: 12. Autres cathéters et assimilés (à préciser) | E14: ASP FUM | G14: CHI NEU | J14: GL | P14: GS12
C15: 13. Picc line | E15: BAC SPP | G15: CHI OPH | J15: GB | P15: GS13
C16: 14. Cathéters sous-cutanés | E16: BAT AUT | G16: CHI ORL | J16: CS | P16: GS14
C17: 15. Cathéters de dialyse | E17: BAT FRA | G17: CHI ORT | P17: GS15
C18: 16. Cathéter veineux ombilical | E18: BCT AUT | G18: CHI PED | P18: GS16
C19: 20.1 Méningite | E19: BGN AUT | G19: CHI PLA | P19: GS17
C20: 20.2 Endocardite | E20: BGP AUT | G20: CHI STO | P20: GS18
C21: 20.3 Infection ostéo-articulaire | E21: BUR CEP | G21: CHI SUR | P21: GS19
C22: 20.4 Autre (à préciser) | E22: CAM SPP | G22: CHI THO | J22: 7 étapes | K22: ='RAPPORT EMS'!C62 -> 4 | P22: GS20
E23: CAN ALB | G23: CHI TRA | J23: Autres | K23: ='RAPPORT EMS'!#REF!+'RAPPORT EMS'!C63 -> #REF! | P23: GS21
E24: CAN AUT | G24: CHI URO | P24: GS22
E25: CGN AUT | G25: CHI VAS | P25: GS23
E26: CGP AUT | G26: EHP EHP | P26: GS24
E27: CHL SPP | G27: MED AUT | P27: GS25
E28: CIT AUT 1 | G28: MED CAN | P28: GM1
E29: CIT AUT 2 | G29: MED CAR | P29: GM2
E30: CIT AUT 3 | G30: MED DER | P30: GM3
E31: CIT AUT 4 | G31: MED GEN | P31: GM4
E32: CIT AUT 9 | G32: MED GER | P32: GM5
E33: CIT FRE 1 | G33: MED HEM | P33: GM6
E34: CIT FRE 2 | G34: MED HGE | P34: GM7
E35: CIT FRE 3 | G35: MED INF | P35: GM8
... E66: ENT CLO 1 | G66: VIL VIL | P66: GB13
E67: ENT CLO 2 | P67: GB14
E68: ENT CLO 3 | P68: GB15
E69: ENT CLO 4 | P69: GB16
E70: ENT CLO 9 | P70: GB17
...

Sheet Feuil1
A1: 1. Personnel médical | B1: GS1 | C1: GM1 | D1: GL1 | E1: GB1 | F1: CS1
A2: 2. Personnel infirmier | B2: GS2 | C2: GM2 | D2: GL2 | E2: GB2 | F2: CS2
A3: 3. AS- AMP | B3: GS3 | C3: GM3 | D3: GL3 | E3: GB3 | F3: CS3
A4: 4. ASG- Agent de soins | B4: GS4 | C4: GM4 | D4: GL4 | E4: GB4 | F4: CS4
A5: 5. Éducateur spécialisé | B5: GS5 | C5: GM5 | E5: GB5 | F5: CS5
A6: 6. Personnel de rééducation | B6: GS6 | C6: GM6 | E6: GB6 | F6: CS6
A7: 7. Personnel /transport | B7: GS7 | C7: GM7 | E7: GB7 | F7: CS7
A8: 8. Autres | B8: GS8 | C8: GM8 | E8: GB8 | F8: CS8
B9: GS9 | C9: GM9 | E9: GB9 | F9: CS9
C10: GM10 | E10: GB10 | F10: CS10
C11: GM11 | E11: GB11 | F11: CS11
C12: GM12 | E12: GB12 | F12: CS12
C13: GM13 | E13: GB13 | F13: CS13
C14: GM14 | E14: GB14 | F14: CS14
C15: GM15 | E15: GB15 | F15: CS15
C16: GM16 | E16: GB16
