Workbook

Sheet TABLEAU DE BORD
A1: 44620
Z5: =MONTH(AA5)*YEAR(AA5) -> 18189 | AA5: =EOMONTH(TODAY(),-5) -> 44469 | AB5: =DATE(YEAR(AA5),MONTH(AA5),1) -> 44440 | AC5: =MONTH(AA5) -> 9
Z6: =MONTH(AA6)*YEAR(AA6) -> 20210 | AA6: =EOMONTH(TODAY(),-4) -> 44500 | AB6: =DATE(YEAR(AA6),MONTH(AA6),1) -> 44470 | AC6: =MONTH(AA6) -> 10
C7: JOUR | S7: Pour le mois en cours | Z7: =MONTH(AA7)*YEAR(AA7) -> 22231 | AA7: =EOMONTH(TODAY(),-3) -> 44530 | AB7: =DATE(YEAR(AA7),MONTH(AA7),1) -> 44501 | AC7: =MONTH(AA7) -> 11
A8: NOM Prénom | B8: Login | C8: =TODAY()-15 -> 44605 | D8: =TODAY()-14 -> 44606 | E8: =TODAY()-13 -> 44607 | F8: =TODAY()-12 -> 44608 | G8: =TODAY()-11 -> 44609 | H8: =TODAY()-10 -> 44610 | I8: =TODAY()-9 -> 44611 | J8: =TODAY()-8 -> 44612 | K8: =TODAY()-7 -> 44613 | L8: =TODAY()-6 -> 44614 | M8: =TODAY()-5 -> 44615 | N8: =TODAY()-4 -> 44616 | O8: =TODAY()-3 -> 44617 | P8: =TODAY()-2 -> 44618 | Q8: =TODAY()-1 -> 44619 | R8: =TODAY()-0 -> 44620 | S8: Somme de lignes depuis J1 | T8: Moyenne de lignes /j | U8: Somme de cdes depuis J1 | V8: Moyenne de Cdes/j | W8: Somme erreurs de prep cdes | X8: % d'erreurs | Z8: =MONTH(AA8)*YEAR(AA8) -> 24252 | AA8: =EOMONTH(TODAY(),-2) -> 44561 | AB8: =DATE(YEAR(AA8),MONTH(AA8),1) -> 44531 | AC8: =MONTH(AA8) -> 12 | AF8: Somme de cdes depuis J1
A9: XXXXXXX | B9: XXXXX | C9: =SUMIFS(#REF!,#REF!,'TABLEAU DE BORD'!$B9,#REF!,'TABLEAU DE BORD'!C$8) -> #REF! | D9: =SUMIFS(#REF!,#REF!,'TABLEAU DE BORD'!$B9,#REF!,'TABLEAU DE BORD'!D$8) -> #REF! | E9: =SUMIFS(#REF!,#REF!,'TABLEAU DE BORD'!$B9,#REF!,'TABLEAU DE BORD'!E$8) -> #REF! | F9: =SUMIFS(#REF!,#REF!,'TABLEAU DE BORD'!$B9,#REF!,'TABLEAU DE BORD'!F$8) -> #REF! | G9: =SUMIFS(#REF!,#REF!,'TABLEAU DE BORD'!$B9,#REF!,'TABLEAU DE BORD'!G$8) -> #REF! | H9: =SUMIFS(#REF!,#REF!,'TABLEAU DE BORD'!$B9,#REF!,'TABLEAU DE BORD'!H$8) -> #REF! | I9: =SUMIFS(#REF!,#REF!,'TABLEAU DE BORD'!$B9,#REF!,'TABLEAU DE BORD'!I$8) -> #REF! | J9: =SUMIFS(#REF!,#REF!,'TABLEAU DE BORD'!$B9,#REF!,'TABLEAU DE BORD'!J$8) -> #REF! | ... R9: =SUMIFS(#REF!,#REF!,'TABLEAU DE BORD'!$B9,#REF!,'TABLEAU DE BORD'!R$8) -> #REF! | S9: =SUMIFS(#REF!,#REF!,'TABLEAU DE BORD'!$AC$10,#REF!,'TABLEAU DE BORD'!B9) -> #REF! | T9: =IFERROR(AVERAGEIFS(#REF!,#REF!,">0",#REF!,'TABLEAU DE BORD'!$AC$10,#REF!,'TABLEAU DE BORD'!B9),"") | U9: =IFERROR(SUMIFS(#REF!,#REF!,'TABLEAU DE BORD'!$AC$10,#REF!,'TABLEAU DE BORD'!B9),"") | V9: =IFERROR(AVERAGEIFS(#REF!,#REF!,">0",#REF!,'TABLEAU DE BORD'!B9,#REF!,'TABLEAU DE BORD'!$AC$10),"") | W9: =SUMIFS(#REF!,#REF!,'TABLEAU DE BORD'!A9,#REF!,'TABLEAU DE BORD'!$AC$10)+SUMIFS(#REF!,#REF!,'TABLEAU DE BORD'!A9,#REF!,'TABLEAU DE BORD'!$AC$10)+SUMIFS(#REF!,#REF!,'TABLEAU DE BORD'!A9,#REF!,'TABLEAU DE BORD'!$AC$10)+SUMIFS(#REF!,#REF!,'TABLEAU DE BORD'!A9,#REF!,'TABLEAU DE BORD'!$AC$10)+SUMIFS(#REF!,#REF!,'TABLEAU DE BORD'!A9,#REF!,'TABLEAU DE BORD'!$AC$10)+SUMIFS(#REF!,#REF!,'TABLEAU DE BORD'!A9,#REF!,'TABLEAU DE BORD'!$AC$10)+SUMIFS(#REF!,#REF!,'TABLEAU DE BORD'!A9,#REF!,'TABLEAU DE BORD'!$AC$10)+SUMIFS(#REF!,#REF!,'TABLEAU DE BORD'!A9,#REF!,'TABLEAU DE BORD'!$AC$10)+SUMIFS(#REF!,#REF!,'TABLEAU DE BORD'!A9,#REF!,'TABLEAU DE BORD'!$AC$10)+SUMIFS(#REF!,#REF!,'TABLEAU DE BORD'!A9,#REF!,'TABLEAU DE BORD'!$AC$10)+SUMIFS(#REF!,#REF!,'TABLEAU DE BORD'!A9,#REF!,'TABLEAU DE BORD'!$AC$10)+SUMIFS(#REF!,#REF!,'TABLEAU DE BORD'!A9,#REF!,'TABLEAU DE BORD'!$AC$10) -> #REF! | X9: =IF(S9=0,"",W9/S9) -> #REF! | Z9: =MONTH(AA9)*YEAR(AA9) -> 2022 | AA9: =EOMONTH(AA8,1) -> 44592 | AB9: =DATE(YEAR(AA9),MONTH(AA9),1) -> 44562 | AC9: =MONTH(AA9) -> 1
A10: XXXXXXX | B10: XXXXX | C10: =SUMIFS(#REF!,#REF!,'TABLEAU DE BORD'!$B10,#REF!,'TABLEAU DE BORD'!C$8) -> #REF! | D10: =SUMIFS(#REF!,#REF!,'TABLEAU DE BORD'!$B10,#REF!,'TABLEAU DE BORD'!D$8) -> #REF! | E10: =SUMIFS(#REF!,#REF!,'TABLEAU DE BORD'!$B10,#REF!,'TABLEAU DE BORD'!E$8) -> #REF! | F10: =SUMIFS(#REF!,#REF!,'TABLEAU DE BORD'!$B10,#REF!,'TABLEAU DE BORD'!F$8) -> #REF! | G10: =SUMIFS(#REF!,#REF!,'TABLEAU DE BORD'!$B10,#REF!,'TABLEAU DE BORD'!G$8) -> #REF! | H10: =SUMIFS(#REF!,#REF!,'TABLEAU DE BORD'!$B10,#REF!,'TABLEAU DE BORD'!H$8) -> #REF! | I10: =SUMIFS(#REF!,#REF!,'TABLEAU DE BORD'!$B10,#REF!,'TABLEAU DE BORD'!I$8) -> #REF! | J10: =SUMIFS(#REF!,#REF!,'TABLEAU DE BORD'!$B10,#REF!,'TABLEAU DE BORD'!J$8) -> #REF! | ... R10: =SUMIFS(#REF!,#REF!,'TABLEAU DE BORD'!$B10,#REF!,'TABLEAU DE BORD'!R$8) -> #REF! | S10: =SUMIFS(#REF!,#REF!,'TABLEAU DE BORD'!$AC$10,#REF!,'TABLEAU DE BORD'!B10) -> #REF! | T10: =IFERROR(AVERAGEIFS(#REF!,#REF!,">0",#REF!,'TABLEAU DE BORD'!$AC$10,#REF!,'TABLEAU DE BORD'!B10),"") | U10: =SUMIFS(#REF!,#REF!,'TABLEAU DE BORD'!$AC$10,#REF!,'TABLEAU DE BORD'!B10) -> #REF! | V10: =IFERROR(AVERAGEIFS(#REF!,#REF!,">0",#REF!,'TABLEAU DE BORD'!B10,#REF!,'TABLEAU DE BORD'!$AC$10),"") | W10: =SUMIFS(#REF!,#REF!,'TABLEAU DE BORD'!A10,#REF!,'TABLEAU DE BORD'!$AC$10)+SUMIFS(#REF!,#REF!,'TABLEAU DE BORD'!A10,#REF!,'TABLEAU DE BORD'!$AC$10)+SUMIFS(#REF!,#REF!,'TABLEAU DE BORD'!A10,#REF!,'TABLEAU DE BORD'!$AC$10)+SUMIFS(#REF!,#REF!,'TABLEAU DE BORD'!A10,#REF!,'TABLEAU DE BORD'!$AC$10)+SUMIFS(#REF!,#REF!,'TABLEAU DE BORD'!A10,#REF!,'TABLEAU DE BORD'!$AC$10)+SUMIFS(#REF!,#REF!,'TABLEAU DE BORD'!A10,#REF!,'TABLEAU DE BORD'!$AC$10)+SUMIFS(#REF!,#REF!,'TABLEAU DE BORD'!A10,#REF!,'TABLEAU DE BORD'!$AC$10)+SUMIFS(#REF!,#REF!,'TABLEAU DE BORD'!A10,#REF!,'TABLEAU DE BORD'!$AC$10)+SUMIFS(#REF!,#REF!,'TABLEAU DE BORD'!A10,#REF!,'TABLEAU DE BORD'!$AC$10)+SUMIFS(#REF!,#REF!,'TABLEAU DE BORD'!A10,#REF!,'TABLEAU DE BORD'!$AC$10)+SUMIFS(#REF!,#REF!,'TABLEAU DE BORD'!A10,#REF!,'TABLEAU DE BORD'!$AC$10)+SUMIFS(#REF!,#REF!,'TABLEAU DE BORD'!A10,#REF!,'TABLEAU DE BORD'!$AC$10) -> #REF! | X10: =IF(S10=0,"",W10/S10) -> #REF! | Z10: =MONTH(AA10)*YEAR(AA10) -> 4044 | AA10: =EOMONTH(AA9,1) -> 44620 | AB10: =DATE(YEAR(AA10),MONTH(AA10),1) -> 44593 | AC10: =MONTH(AA10) -> 2
A11: XXXXXXX | B11: XXXXX | C11: =SUMIFS(#REF!,#REF!,'TABLEAU DE BORD'!$B11,#REF!,'TABLEAU DE BORD'!C$8) -> #REF! | D11: =SUMIFS(#REF!,#REF!,'TABLEAU DE BORD'!$B11,#REF!,'TABLEAU DE BORD'!D$8) -> #REF! | E11: =SUMIFS(#REF!,#REF!,'TABLEAU DE BORD'!$B11,#REF!,'TABLEAU DE BORD'!E$8) -> #REF! | F11: =SUMIFS(#REF!,#REF!,'TABLEAU DE BORD'!$B11,#REF!,'TABLEAU DE BORD'!F$8) -> #REF! | G11: =SUMIFS(#REF!,#REF!,'TABLEAU DE BORD'!$B11,#REF!,'TABLEAU DE BORD'!G$8) -> #REF! | H11: =SUMIFS(#REF!,#REF!,'TABLEAU DE BORD'!$B11,#REF!,'TABLEAU DE BORD'!H$8) -> #REF! | I11: =SUMIFS(#REF!,#REF!,'TABLEAU DE BORD'!$B11,#REF!,'TABLEAU DE BORD'!I$8) -> #REF! | J11: =SUMIFS(#REF!,#REF!,'TABLEAU DE BORD'!$B11,#REF!,'TABLEAU DE BORD'!J$8) -> #REF! | ... R11: =SUMIFS(#REF!,#REF!,'TABLEAU DE BORD'!$B11,#REF!,'TABLEAU DE BORD'!R$8) -> #REF! | S11: =SUMIFS(#REF!,#REF!,'TABLEAU DE BORD'!$AC$10,#REF!,'TABLEAU DE BORD'!B11) -> #REF! | T11: =IFERROR(AVERAGEIFS(#REF!,#REF!,">0",#REF!,'TABLEAU DE BORD'!$AC$10,#REF!,'TABLEAU DE BORD'!B11),"") | U11: =SUMIFS(#REF!,#REF!,'TABLEAU DE BORD'!$AC$10,#REF!,'TABLEAU DE BORD'!B11) -> #REF! | V11: =IFERROR(AVERAGEIFS(#REF!,#REF!,">0",#REF!,'TABLEAU DE BORD'!B11,#REF!,'TABLEAU DE BORD'!$AC$10),"") | W11: =SUMIFS(#REF!,#REF!,'TABLEAU DE BORD'!A11,#REF!,'TABLEAU DE BORD'!$AC$10)+SUMIFS(#REF!,#REF!,'TABLEAU DE BORD'!A11,#REF!,'TABLEAU DE BORD'!$AC$10)+SUMIFS(#REF!,#REF!,'TABLEAU DE BORD'!A11,#REF!,'TABLEAU DE BORD'!$AC$10)+SUMIFS(#REF!,#REF!,'TABLEAU DE BORD'!A11,#REF!,'TABLEAU DE BORD'!$AC$10)+SUMIFS(#REF!,#REF!,'TABLEAU DE BORD'!A11,#REF!,'TABLEAU DE BORD'!$AC$10)+SUMIFS(#REF!,#REF!,'TABLEAU DE BORD'!A11,#REF!,'TABLEAU DE BORD'!$AC$10)+SUMIFS(#REF!,#REF!,'TABLEAU DE BORD'!A11,#REF!,'TABLEAU DE BORD'!$AC$10)+SUMIFS(#REF!,#REF!,'TABLEAU DE BORD'!A11,#REF!,'TABLEAU DE BORD'!$AC$10)+SUMIFS(#REF!,#REF!,'TABLEAU DE BORD'!A11,#REF!,'TABLEAU DE BORD'!$AC$10)+SUMIFS(#REF!,#REF!,'TABLEAU DE BORD'!A11,#REF!,'TABLEAU DE BORD'!$AC$10)+SUMIFS(#REF!,#REF!,'TABLEAU DE BORD'!A11,#REF!,'TABLEAU DE BORD'!$AC$10)+SUMIFS(#REF!,#REF!,'TABLEAU DE BORD'!A11,#REF!,'TABLEAU DE BORD'!$AC$10) -> #REF! | X11: =IF(S11=0,"",W11/S11) -> #REF!
A12: XXXXXXX | B12: XXXXX | C12: =SUMIFS(#REF!,#REF!,'TABLEAU DE BORD'!$B12,#REF!,'TABLEAU DE BORD'!C$8) -> #REF! | D12: =SUMIFS(#REF!,#REF!,'TABLEAU DE BORD'!$B12,#REF!,'TABLEAU DE BORD'!D$8) -> #REF! | E12: =SUMIFS(#REF!,#REF!,'TABLEAU DE BORD'!$B12,#REF!,'TABLEAU DE BORD'!E$8) -> #REF! | F12: =SUMIFS(#REF!,#REF!,'TABLEAU DE BORD'!$B12,#REF!,'TABLEAU DE BORD'!F$8) -> #REF! | G12: =SUMIFS(#REF!,#REF!,'TABLEAU DE BORD'!$B12,#REF!,'TABLEAU DE BORD'!G$8) -> #REF! | H12: =SUMIFS(#REF!,#REF!,'TABLEAU DE BORD'!$B12,#REF!,'TABLEAU DE BORD'!H$8) -> #REF! | I12: =SUMIFS(#REF!,#REF!,'TABLEAU DE BORD'!$B12,#REF!,'TABLEAU DE BORD'!I$8) -> #REF! | J12: =SUMIFS(#REF!,#REF!,'TABLEAU DE BORD'!$B12,#REF!,'TABLEAU DE BORD'!J$8) -> #REF! | ... R12: =SUMIFS(#REF!,#REF!,'TABLEAU DE BORD'!$B12,#REF!,'TABLEAU DE BORD'!R$8) -> #REF! | S12: =SUMIFS(#REF!,#REF!,'TABLEAU DE BORD'!$AC$10,#REF!,'TABLEAU DE BORD'!B12) -> #REF! | T12: =IFERROR(AVERAGEIFS(#REF!,#REF!,">0",#REF!,'TABLEAU DE BORD'!$AC$10,#REF!,'TABLEAU DE BORD'!B12),"") | U12: =SUMIFS(#REF!,#REF!,'TABLEAU DE BORD'!$AC$10,#REF!,'TABLEAU DE BORD'!B12) -> #REF! | V12: =IFERROR(AVERAGEIFS(#REF!,#REF!,">0",#REF!,'TABLEAU DE BORD'!B12,#REF!,'TABLEAU DE BORD'!$AC$10),"") | W12: =SUMIFS(#REF!,#REF!,'TABLEAU DE BORD'!A12,#REF!,'TABLEAU DE BORD'!$AC$10)+SUMIFS(#REF!,#REF!,'TABLEAU DE BORD'!A12,#REF!,'TABLEAU DE BORD'!$AC$10)+SUMIFS(#REF!,#REF!,'TABLEAU DE BORD'!A12,#REF!,'TABLEAU DE BORD'!$AC$10)+SUMIFS(#REF!,#REF!,'TABLEAU DE BORD'!A12,#REF!,'TABLEAU DE BORD'!$AC$10)+SUMIFS(#REF!,#REF!,'TABLEAU DE BORD'!A12,#REF!,'TABLEAU DE BORD'!$AC$10)+SUMIFS(#REF!,#REF!,'TABLEAU DE BORD'!A12,#REF!,'TABLEAU DE BORD'!$AC$10)+SUMIFS(#REF!,#REF!,'TABLEAU DE BORD'!A12,#REF!,'TABLEAU DE BORD'!$AC$10)+SUMIFS(#REF!,#REF!,'TABLEAU DE BORD'!A12,#REF!,'TABLEAU DE BORD'!$AC$10)+SUMIFS(#REF!,#REF!,'TABLEAU DE BORD'!A12,#REF!,'TABLEAU DE BORD'!$AC$10)+SUMIFS(#REF!,#REF!,'TABLEAU DE BORD'!A12,#REF!,'TABLEAU DE BORD'!$AC$10)+SUMIFS(#REF!,#REF!,'TABLEAU DE BORD'!A12,#REF!,'TABLEAU DE BORD'!$AC$10)+SUMIFS(#REF!,#REF!,'TABLEAU DE BORD'!A12,#REF!,'TABLEAU DE BORD'!$AC$10) -> #REF! | X12: =IF(S12=0,"",W12/S12) -> #REF!
A13: XXXXXXX | B13: XXXXX | C13: =SUMIFS(#REF!,#REF!,'TABLEAU DE BORD'!$B13,#REF!,'TABLEAU DE BORD'!C$8) -> #REF! | D13: =SUMIFS(#REF!,#REF!,'TABLEAU DE BORD'!$B13,#REF!,'TABLEAU DE BORD'!D$8) -> #REF! | E13: =SUMIFS(#REF!,#REF!,'TABLEAU DE BORD'!$B13,#REF!,'TABLEAU DE BORD'!E$8) -> #REF! | F13: =SUMIFS(#REF!,#REF!,'TABLEAU DE BORD'!$B13,#REF!,'TABLEAU DE BORD'!F$8) -> #REF! | G13: =SUMIFS(#REF!,#REF!,'TABLEAU DE BORD'!$B13,#REF!,'TABLEAU DE BORD'!G$8) -> #REF! | H13: =SUMIFS(#REF!,#REF!,'TABLEAU DE BORD'!$B13,#REF!,'TABLEAU DE BORD'!H$8) -> #REF! | I13: =SUMIFS(#REF!,#REF!,'TABLEAU DE BORD'!$B13,#REF!,'TABLEAU DE BORD'!I$8) -> #REF! | J13: =SUMIFS(#REF!,#REF!,'TABLEAU DE BORD'!$B13,#REF!,'TABLEAU DE BORD'!J$8) -> #REF! | ... R13: =SUMIFS(#REF!,#REF!,'TABLEAU DE BORD'!$B13,#REF!,'TABLEAU DE BORD'!R$8) -> #REF! | S13: =SUMIFS(#REF!,#REF!,'TABLEAU DE BORD'!$AC$10,#REF!,'TABLEAU DE BORD'!B13) -> #REF! | T13: =IFERROR(AVERAGEIFS(#REF!,#REF!,">0",#REF!,'TABLEAU DE BORD'!$AC$10,#REF!,'TABLEAU DE BORD'!B13),"") | U13: =SUMIFS(#REF!,#REF!,'TABLEAU DE BORD'!$AC$10,#REF!,'TABLEAU DE BORD'!B13) -> #REF! | V13: =IFERROR(AVERAGEIFS(#REF!,#REF!,">0",#REF!,'TABLEAU DE BORD'!B13,#REF!,'TABLEAU DE BORD'!$AC$10),"") | W13: =SUMIFS(#REF!,#REF!,'TABLEAU DE BORD'!A13,#REF!,'TABLEAU DE BORD'!$AC$10)+SUMIFS(#REF!,#REF!,'TABLEAU DE BORD'!A13,#REF!,'TABLEAU DE BORD'!$AC$10)+SUMIFS(#REF!,#REF!,'TABLEAU DE BORD'!A13,#REF!,'TABLEAU DE BORD'!$AC$10)+SUMIFS(#REF!,#REF!,'TABLEAU DE BORD'!A13,#REF!,'TABLEAU DE BORD'!$AC$10)+SUMIFS(#REF!,#REF!,'TABLEAU DE BORD'!A13,#REF!,'TABLEAU DE BORD'!$AC$10)+SUMIFS(#REF!,#REF!,'TABLEAU DE BORD'!A13,#REF!,'TABLEAU DE BORD'!$AC$10)+SUMIFS(#REF!,#REF!,'TABLEAU DE BORD'!A13,#REF!,'TABLEAU DE BORD'!$AC$10)+SUMIFS(#REF!,#REF!,'TABLEAU DE BORD'!A13,#REF!,'TABLEAU DE BORD'!$AC$10)+SUMIFS(#REF!,#REF!,'TABLEAU DE BORD'!A13,#REF!,'TABLEAU DE BORD'!$AC$10)+SUMIFS(#REF!,#REF!,'TABLEAU DE BORD'!A13,#REF!,'TABLEAU DE BORD'!$AC$10)+SUMIFS(#REF!,#REF!,'TABLEAU DE BORD'!A13,#REF!,'TABLEAU DE BORD'!$AC$10)+SUMIFS(#REF!,#REF!,'TABLEAU DE BORD'!A13,#REF!,'TABLEAU DE BORD'!$AC$10) -> #REF! | X13: =IF(S13=0,"",W13/S13) -> #REF!
A14: XXXXXXX | B14: XXXXX | C14: =SUMIFS(#REF!,#REF!,'TABLEAU DE BORD'!$B14,#REF!,'TABLEAU DE BORD'!C$8) -> #REF! | D14: =SUMIFS(#REF!,#REF!,'TABLEAU DE BORD'!$B14,#REF!,'TABLEAU DE BORD'!D$8) -> #REF! | E14: =SUMIFS(#REF!,#REF!,'TABLEAU DE BORD'!$B14,#REF!,'TABLEAU DE BORD'!E$8) -> #REF! | F14: =SUMIFS(#REF!,#REF!,'TABLEAU DE BORD'!$B14,#REF!,'TABLEAU DE BORD'!F$8) -> #REF! | G14: =SUMIFS(#REF!,#REF!,'TABLEAU DE BORD'!$B14,#REF!,'TABLEAU DE BORD'!G$8) -> #REF! | H14: =SUMIFS(#REF!,#REF!,'TABLEAU DE BORD'!$B14,#REF!,'TABLEAU DE BORD'!H$8) -> #REF! | I14: =SUMIFS(#REF!,#REF!,'TABLEAU DE BORD'!$B14,#REF!,'TABLEAU DE BORD'!I$8) -> #REF! | J14: =SUMIFS(#REF!,#REF!,'TABLEAU DE BORD'!$B14,#REF!,'TABLEAU DE BORD'!J$8) -> #REF! | ... R14: =SUMIFS(#REF!,#REF!,'TABLEAU DE BORD'!$B14,#REF!,'TABLEAU DE BORD'!R$8) -> #REF! | S14: =SUMIFS(#REF!,#REF!,'TABLEAU DE BORD'!$AC$10,#REF!,'TABLEAU DE BORD'!B14) -> #REF! | T14: =IFERROR(AVERAGEIFS(#REF!,#REF!,">0",#REF!,'TABLEAU DE BORD'!$AC$10,#REF!,'TABLEAU DE BORD'!B14),"") | U14: =SUMIFS(#REF!,#REF!,'TABLEAU DE BORD'!$AC$10,#REF!,'TABLEAU DE BORD'!B14) -> #REF! | V14: =IFERROR(AVERAGEIFS(#REF!,#REF!,">0",#REF!,'TABLEAU DE BORD'!B14,#REF!,'TABLEAU DE BORD'!$AC$10),"") | W14: =SUMIFS(#REF!,#REF!,'TABLEAU DE BORD'!A14,#REF!,'TABLEAU DE BORD'!$AC$10)+SUMIFS(#REF!,#REF!,'TABLEAU DE BORD'!A14,#REF!,'TABLEAU DE BORD'!$AC$10)+SUMIFS(#REF!,#REF!,'TABLEAU DE BORD'!A14,#REF!,'TABLEAU DE BORD'!$AC$10)+SUMIFS(#REF!,#REF!,'TABLEAU DE BORD'!A14,#REF!,'TABLEAU DE BORD'!$AC$10)+SUMIFS(#REF!,#REF!,'TABLEAU DE BORD'!A14,#REF!,'TABLEAU DE BORD'!$AC$10)+SUMIFS(#REF!,#REF!,'TABLEAU DE BORD'!A14,#REF!,'TABLEAU DE BORD'!$AC$10)+SUMIFS(#REF!,#REF!,'TABLEAU DE BORD'!A14,#REF!,'TABLEAU DE BORD'!$AC$10)+SUMIFS(#REF!,#REF!,'TABLEAU DE BORD'!A14,#REF!,'TABLEAU DE BORD'!$AC$10)+SUMIFS(#REF!,#REF!,'TABLEAU DE BORD'!A14,#REF!,'TABLEAU DE BORD'!$AC$10)+SUMIFS(#REF!,#REF!,'TABLEAU DE BORD'!A14,#REF!,'TABLEAU DE BORD'!$AC$10)+SUMIFS(#REF!,#REF!,'TABLEAU DE BORD'!A14,#REF!,'TABLEAU DE BORD'!$AC$10)+SUMIFS(#REF!,#REF!,'TABLEAU DE BORD'!A14,#REF!,'TABLEAU DE BORD'!$AC$10) -> #REF! | X14: =IF(S14=0,"",W14/S14) -> #REF!
A15: XXXXXXX | B15: XXXXX | C15: =SUMIFS(#REF!,#REF!,'TABLEAU DE BORD'!$B15,#REF!,'TABLEAU DE BORD'!C$8) -> #REF! | D15: =SUMIFS(#REF!,#REF!,'TABLEAU DE BORD'!$B15,#REF!,'TABLEAU DE BORD'!D$8) -> #REF! | E15: =SUMIFS(#REF!,#REF!,'TABLEAU DE BORD'!$B15,#REF!,'TABLEAU DE BORD'!E$8) -> #REF! | F15: =SUMIFS(#REF!,#REF!,'TABLEAU DE BORD'!$B15,#REF!,'TABLEAU DE BORD'!F$8) -> #REF! | G15: =SUMIFS(#REF!,#REF!,'TABLEAU DE BORD'!$B15,#REF!,'TABLEAU DE BORD'!G$8) -> #REF! | H15: =SUMIFS(#REF!,#REF!,'TABLEAU DE BORD'!$B15,#REF!,'TABLEAU DE BORD'!H$8) -> #REF! | I15: =SUMIFS(#REF!,#REF!,'TABLEAU DE BORD'!$B15,#REF!,'TABLEAU DE BORD'!I$8) -> #REF! | J15: =SUMIFS(#REF!,#REF!,'TABLEAU DE BORD'!$B15,#REF!,'TABLEAU DE BORD'!J$8) -> #REF! | ... R15: =SUMIFS(#REF!,#REF!,'TABLEAU DE BORD'!$B15,#REF!,'TABLEAU DE BORD'!R$8) -> #REF! | S15: =SUMIFS(#REF!,#REF!,'TABLEAU DE BORD'!$AC$10,#REF!,'TABLEAU DE BORD'!B15) -> #REF! | T15: =IFERROR(AVERAGEIFS(#REF!,#REF!,">0",#REF!,'TABLEAU DE BORD'!$AC$10,#REF!,'TABLEAU DE BORD'!B15),"") | U15: =SUMIFS(#REF!,#REF!,'TABLEAU DE BORD'!$AC$10,#REF!,'TABLEAU DE BORD'!B15) -> #REF! | V15: =IFERROR(AVERAGEIFS(#REF!,#REF!,">0",#REF!,'TABLEAU DE BORD'!B15,#REF!,'TABLEAU DE BORD'!$AC$10),"") | W15: =SUMIFS(#REF!,#REF!,'TABLEAU DE BORD'!A15,#REF!,'TABLEAU DE BORD'!$AC$10)+SUMIFS(#REF!,#REF!,'TABLEAU DE BORD'!A15,#REF!,'TABLEAU DE BORD'!$AC$10)+SUMIFS(#REF!,#REF!,'TABLEAU DE BORD'!A15,#REF!,'TABLEAU DE BORD'!$AC$10)+SUMIFS(#REF!,#REF!,'TABLEAU DE BORD'!A15,#REF!,'TABLEAU DE BORD'!$AC$10)+SUMIFS(#REF!,#REF!,'TABLEAU DE BORD'!A15,#REF!,'TABLEAU DE BORD'!$AC$10)+SUMIFS(#REF!,#REF!,'TABLEAU DE BORD'!A15,#REF!,'TABLEAU DE BORD'!$AC$10)+SUMIFS(#REF!,#REF!,'TABLEAU DE BORD'!A15,#REF!,'TABLEAU DE BORD'!$AC$10)+SUMIFS(#REF!,#REF!,'TABLEAU DE BORD'!A15,#REF!,'TABLEAU DE BORD'!$AC$10)+SUMIFS(#REF!,#REF!,'TABLEAU DE BORD'!A15,#REF!,'TABLEAU DE BORD'!$AC$10)+SUMIFS(#REF!,#REF!,'TABLEAU DE BORD'!A15,#REF!,'TABLEAU DE BORD'!$AC$10)+SUMIFS(#REF!,#REF!,'TABLEAU DE BORD'!A15,#REF!,'TABLEAU DE BORD'!$AC$10)+SUMIFS(#REF!,#REF!,'TABLEAU DE BORD'!A15,#REF!,'TABLEAU DE BORD'!$AC$10) -> #REF! | X15: =IF(S15=0,"",W15/S15) -> #REF!
A16: XXXXXXX | B16: XXXXX | C16: =SUMIFS(#REF!,#REF!,'TABLEAU DE BORD'!$B16,#REF!,'TABLEAU DE BORD'!C$8) -> #REF! | D16: =SUMIFS(#REF!,#REF!,'TABLEAU DE BORD'!$B16,#REF!,'TABLEAU DE BORD'!D$8) -> #REF! | E16: =SUMIFS(#REF!,#REF!,'TABLEAU DE BORD'!$B16,#REF!,'TABLEAU DE BORD'!E$8) -> #REF! | F16: =SUMIFS(#REF!,#REF!,'TABLEAU DE BORD'!$B16,#REF!,'TABLEAU DE BORD'!F$8) -> #REF! | G16: =SUMIFS(#REF!,#REF!,'TABLEAU DE BORD'!$B16,#REF!,'TABLEAU DE BORD'!G$8) -> #REF! | H16: =SUMIFS(#REF!,#REF!,'TABLEAU DE BORD'!$B16,#REF!,'TABLEAU DE BORD'!H$8) -> #REF! | I16: =SUMIFS(#REF!,#REF!,'TABLEAU DE BORD'!$B16,#REF!,'TABLEAU DE BORD'!I$8) -> #REF! | J16: =SUMIFS(#REF!,#REF!,'TABLEAU DE BORD'!$B16,#REF!,'TABLEAU DE BORD'!J$8) -> #REF! | ... R16: =SUMIFS(#REF!,#REF!,'TABLEAU DE BORD'!$B16,#REF!,'TABLEAU DE BORD'!R$8) -> #REF! | S16: =SUMIFS(#REF!,#REF!,'TABLEAU DE BORD'!$AC$10,#REF!,'TABLEAU DE BORD'!B16) -> #REF! | T16: =IFERROR(AVERAGEIFS(#REF!,#REF!,">0",#REF!,'TABLEAU DE BORD'!$AC$10,#REF!,'TABLEAU DE BORD'!B16),"") | U16: =SUMIFS(#REF!,#REF!,'TABLEAU DE BORD'!$AC$10,#REF!,'TABLEAU DE BORD'!B16) -> #REF! | V16: =IFERROR(AVERAGEIFS(#REF!,#REF!,">0",#REF!,'TABLEAU DE BORD'!B16,#REF!,'TABLEAU DE BORD'!$AC$10),"") | W16: =SUMIFS(#REF!,#REF!,'TABLEAU DE BORD'!A16,#REF!,'TABLEAU DE BORD'!$AC$10)+SUMIFS(#REF!,#REF!,'TABLEAU DE BORD'!A16,#REF!,'TABLEAU DE BORD'!$AC$10)+SUMIFS(#REF!,#REF!,'TABLEAU DE BORD'!A16,#REF!,'TABLEAU DE BORD'!$AC$10)+SUMIFS(#REF!,#REF!,'TABLEAU DE BORD'!A16,#REF!,'TABLEAU DE BORD'!$AC$10)+SUMIFS(#REF!,#REF!,'TABLEAU DE BORD'!A16,#REF!,'TABLEAU DE BORD'!$AC$10)+SUMIFS(#REF!,#REF!,'TABLEAU DE BORD'!A16,#REF!,'TABLEAU DE BORD'!$AC$10)+SUMIFS(#REF!,#REF!,'TABLEAU DE BORD'!A16,#REF!,'TABLEAU DE BORD'!$AC$10)+SUMIFS(#REF!,#REF!,'TABLEAU DE BORD'!A16,#REF!,'TABLEAU DE BORD'!$AC$10)+SUMIFS(#REF!,#REF!,'TABLEAU DE BORD'!A16,#REF!,'TABLEAU DE BORD'!$AC$10)+SUMIFS(#REF!,#REF!,'TABLEAU DE BORD'!A16,#REF!,'TABLEAU DE BORD'!$AC$10)+SUMIFS(#REF!,#REF!,'TABLEAU DE BORD'!A16,#REF!,'TABLEAU DE BORD'!$AC$10)+SUMIFS(#REF!,#REF!,'TABLEAU DE BORD'!A16,#REF!,'TABLEAU DE BORD'!$AC$10) -> #REF! | X16: =IF(S16=0,"",W16/S16) -> #REF!
A17: XXXXXXX | B17: XXXXX | C17: =SUMIFS(#REF!,#REF!,'TABLEAU DE BORD'!$B17,#REF!,'TABLEAU DE BORD'!C$8) -> #REF! | D17: =SUMIFS(#REF!,#REF!,'TABLEAU DE BORD'!$B17,#REF!,'TABLEAU DE BORD'!D$8) -> #REF! | E17: =SUMIFS(#REF!,#REF!,'TABLEAU DE BORD'!$B17,#REF!,'TABLEAU DE BORD'!E$8) -> #REF! | F17: =SUMIFS(#REF!,#REF!,'TABLEAU DE BORD'!$B17,#REF!,'TABLEAU DE BORD'!F$8) -> #REF! | G17: =SUMIFS(#REF!,#REF!,'TABLEAU DE BORD'!$B17,#REF!,'TABLEAU DE BORD'!G$8) -> #REF! | H17: =SUMIFS(#REF!,#REF!,'TABLEAU DE BORD'!$B17,#REF!,'TABLEAU DE BORD'!H$8) -> #REF! | I17: =SUMIFS(#REF!,#REF!,'TABLEAU DE BORD'!$B17,#REF!,'TABLEAU DE BORD'!I$8) -> #REF! | J17: =SUMIFS(#REF!,#REF!,'TABLEAU DE BORD'!$B17,#REF!,'TABLEAU DE BORD'!J$8) -> #REF! | ... R17: =SUMIFS(#REF!,#REF!,'TABLEAU DE BORD'!$B17,#REF!,'TABLEAU DE BORD'!R$8) -> #REF! | S17: =SUMIFS(#REF!,#REF!,'TABLEAU DE BORD'!$AC$10,#REF!,'TABLEAU DE BORD'!B17) -> #REF! | T17: =IFERROR(AVERAGEIFS(#REF!,#REF!,">0",#REF!,'TABLEAU DE BORD'!$AC$10,#REF!,'TABLEAU DE BORD'!B17),"") | U17: =SUMIFS(#REF!,#REF!,'TABLEAU DE BORD'!$AC$10,#REF!,'TABLEAU DE BORD'!B17) -> #REF! | V17: =IFERROR(AVERAGEIFS(#REF!,#REF!,">0",#REF!,'TABLEAU DE BORD'!B17,#REF!,'TABLEAU DE BORD'!$AC$10),"") | W17: =SUMIFS(#REF!,#REF!,'TABLEAU DE BORD'!A17,#REF!,'TABLEAU DE BORD'!$AC$10)+SUMIFS(#REF!,#REF!,'TABLEAU DE BORD'!A17,#REF!,'TABLEAU DE BORD'!$AC$10)+SUMIFS(#REF!,#REF!,'TABLEAU DE BORD'!A17,#REF!,'TABLEAU DE BORD'!$AC$10)+SUMIFS(#REF!,#REF!,'TABLEAU DE BORD'!A17,#REF!,'TABLEAU DE BORD'!$AC$10)+SUMIFS(#REF!,#REF!,'TABLEAU DE BORD'!A17,#REF!,'TABLEAU DE BORD'!$AC$10)+SUMIFS(#REF!,#REF!,'TABLEAU DE BORD'!A17,#REF!,'TABLEAU DE BORD'!$AC$10)+SUMIFS(#REF!,#REF!,'TABLEAU DE BORD'!A17,#REF!,'TABLEAU DE BORD'!$AC$10)+SUMIFS(#REF!,#REF!,'TABLEAU DE BORD'!A17,#REF!,'TABLEAU DE BORD'!$AC$10)+SUMIFS(#REF!,#REF!,'TABLEAU DE BORD'!A17,#REF!,'TABLEAU DE BORD'!$AC$10)+SUMIFS(#REF!,#REF!,'TABLEAU DE BORD'!A17,#REF!,'TABLEAU DE BORD'!$AC$10)+SUMIFS(#REF!,#REF!,'TABLEAU DE BORD'!A17,#REF!,'TABLEAU DE BORD'!$AC$10)+SUMIFS(#REF!,#REF!,'TABLEAU DE BORD'!A17,#REF!,'TABLEAU DE BORD'!$AC$10) -> #REF! | X17: =IF(S17=0,"",W17/S17) -> #REF!
A18: XXXXXXX | B18: XXXXX | C18: =SUMIFS(#REF!,#REF!,'TABLEAU DE BORD'!$B18,#REF!,'TABLEAU DE BORD'!C$8) -> #REF! | D18: =SUMIFS(#REF!,#REF!,'TABLEAU DE BORD'!$B18,#REF!,'TABLEAU DE BORD'!D$8) -> #REF! | E18: =SUMIFS(#REF!,#REF!,'TABLEAU DE BORD'!$B18,#REF!,'TABLEAU DE BORD'!E$8) -> #REF! | F18: =SUMIFS(#REF!,#REF!,'TABLEAU DE BORD'!$B18,#REF!,'TABLEAU DE BORD'!F$8) -> #REF! | G18: =SUMIFS(#REF!,#REF!,'TABLEAU DE BORD'!$B18,#REF!,'TABLEAU DE BORD'!G$8) -> #REF! | H18: =SUMIFS(#REF!,#REF!,'TABLEAU DE BORD'!$B18,#REF!,'TABLEAU DE BORD'!H$8) -> #REF! | I18: =SUMIFS(#REF!,#REF!,'TABLEAU DE BORD'!$B18,#REF!,'TABLEAU DE BORD'!I$8) -> #REF! | J18: =SUMIFS(#REF!,#REF!,'TABLEAU DE BORD'!$B18,#REF!,'TABLEAU DE BORD'!J$8) -> #REF! | ... R18: =SUMIFS(#REF!,#REF!,'TABLEAU DE BORD'!$B18,#REF!,'TABLEAU DE BORD'!R$8) -> #REF! | S18: =SUMIFS(#REF!,#REF!,'TABLEAU DE BORD'!$AC$10,#REF!,'TABLEAU DE BORD'!B18) -> #REF! | T18: =IFERROR(AVERAGEIFS(#REF!,#REF!,">0",#REF!,'TABLEAU DE BORD'!$AC$10,#REF!,'TABLEAU DE BORD'!B18),"") | U18: =SUMIFS(#REF!,#REF!,'TABLEAU DE BORD'!$AC$10,#REF!,'TABLEAU DE BORD'!B18) -> #REF! | V18: =IFERROR(AVERAGEIFS(#REF!,#REF!,">0",#REF!,'TABLEAU DE BORD'!B18,#REF!,'TABLEAU DE BORD'!$AC$10),"") | W18: =SUMIFS(#REF!,#REF!,'TABLEAU DE BORD'!A18,#REF!,'TABLEAU DE BORD'!$AC$10)+SUMIFS(#REF!,#REF!,'TABLEAU DE BORD'!A18,#REF!,'TABLEAU DE BORD'!$AC$10)+SUMIFS(#REF!,#REF!,'TABLEAU DE BORD'!A18,#REF!,'TABLEAU DE BORD'!$AC$10)+SUMIFS(#REF!,#REF!,'TABLEAU DE BORD'!A18,#REF!,'TABLEAU DE BORD'!$AC$10)+SUMIFS(#REF!,#REF!,'TABLEAU DE BORD'!A18,#REF!,'TABLEAU DE BORD'!$AC$10)+SUMIFS(#REF!,#REF!,'TABLEAU DE BORD'!A18,#REF!,'TABLEAU DE BORD'!$AC$10)+SUMIFS(#REF!,#REF!,'TABLEAU DE BORD'!A18,#REF!,'TABLEAU DE BORD'!$AC$10)+SUMIFS(#REF!,#REF!,'TABLEAU DE BORD'!A18,#REF!,'TABLEAU DE BORD'!$AC$10)+SUMIFS(#REF!,#REF!,'TABLEAU DE BORD'!A18,#REF!,'TABLEAU DE BORD'!$AC$10)+SUMIFS(#REF!,#REF!,'TABLEAU DE BORD'!A18,#REF!,'TABLEAU DE BORD'!$AC$10)+SUMIFS(#REF!,#REF!,'TABLEAU DE BORD'!A18,#REF!,'TABLEAU DE BORD'!$AC$10)+SUMIFS(#REF!,#REF!,'TABLEAU DE BORD'!A18,#REF!,'TABLEAU DE BORD'!$AC$10) -> #REF! | X18: =IF(S18=0,"",W18/S18) -> #REF!
A19: XXXXXXX | B19: XXXXX | C19: =SUMIFS(#REF!,#REF!,'TABLEAU DE BORD'!$B19,#REF!,'TABLEAU DE BORD'!C$8) -> #REF! | D19: =SUMIFS(#REF!,#REF!,'TABLEAU DE BORD'!$B19,#REF!,'TABLEAU DE BORD'!D$8) -> #REF! | E19: =SUMIFS(#REF!,#REF!,'TABLEAU DE BORD'!$B19,#REF!,'TABLEAU DE BORD'!E$8) -> #REF! | F19: =SUMIFS(#REF!,#REF!,'TABLEAU DE BORD'!$B19,#REF!,'TABLEAU DE BORD'!F$8) -> #REF! | G19: =SUMIFS(#REF!,#REF!,'TABLEAU DE BORD'!$B19,#REF!,'TABLEAU DE BORD'!G$8) -> #REF! | H19: =SUMIFS(#REF!,#REF!,'TABLEAU DE BORD'!$B19,#REF!,'TABLEAU DE BORD'!H$8) -> #REF! | I19: =SUMIFS(#REF!,#REF!,'TABLEAU DE BORD'!$B19,#REF!,'TABLEAU DE BORD'!I$8) -> #REF! | J19: =SUMIFS(#REF!,#REF!,'TABLEAU DE BORD'!$B19,#REF!,'TABLEAU DE BORD'!J$8) -> #REF! | ... R19: =SUMIFS(#REF!,#REF!,'TABLEAU DE BORD'!$B19,#REF!,'TABLEAU DE BORD'!R$8) -> #REF! | S19: =SUMIFS(#REF!,#REF!,'TABLEAU DE BORD'!$AC$10,#REF!,'TABLEAU DE BORD'!B19) -> #REF! | T19: =IFERROR(AVERAGEIFS(#REF!,#REF!,">0",#REF!,'TABLEAU DE BORD'!$AC$10,#REF!,'TABLEAU DE BORD'!B19),"") | U19: =SUMIFS(#REF!,#REF!,'TABLEAU DE BORD'!$AC$10,#REF!,'TABLEAU DE BORD'!B19) -> #REF! | V19: =IFERROR(AVERAGEIFS(#REF!,#REF!,">0",#REF!,'TABLEAU DE BORD'!B19,#REF!,'TABLEAU DE BORD'!$AC$10),"") | W19: =SUMIFS(#REF!,#REF!,'TABLEAU DE BORD'!A19,#REF!,'TABLEAU DE BORD'!$AC$10)+SUMIFS(#REF!,#REF!,'TABLEAU DE BORD'!A19,#REF!,'TABLEAU DE BORD'!$AC$10)+SUMIFS(#REF!,#REF!,'TABLEAU DE BORD'!A19,#REF!,'TABLEAU DE BORD'!$AC$10)+SUMIFS(#REF!,#REF!,'TABLEAU DE BORD'!A19,#REF!,'TABLEAU DE BORD'!$AC$10)+SUMIFS(#REF!,#REF!,'TABLEAU DE BORD'!A19,#REF!,'TABLEAU DE BORD'!$AC$10)+SUMIFS(#REF!,#REF!,'TABLEAU DE BORD'!A19,#REF!,'TABLEAU DE BORD'!$AC$10)+SUMIFS(#REF!,#REF!,'TABLEAU DE BORD'!A19,#REF!,'TABLEAU DE BORD'!$AC$10)+SUMIFS(#REF!,#REF!,'TABLEAU DE BORD'!A19,#REF!,'TABLEAU DE BORD'!$AC$10)+SUMIFS(#REF!,#REF!,'TABLEAU DE BORD'!A19,#REF!,'TABLEAU DE BORD'!$AC$10)+SUMIFS(#REF!,#REF!,'TABLEAU DE BORD'!A19,#REF!,'TABLEAU DE BORD'!$AC$10)+SUMIFS(#REF!,#REF!,'TABLEAU DE BORD'!A19,#REF!,'TABLEAU DE BORD'!$AC$10)+SUMIFS(#REF!,#REF!,'TABLEAU DE BORD'!A19,#REF!,'TABLEAU DE BORD'!$AC$10) -> #REF! | X19: =IF(S19=0,"",W19/S19) -> #REF!
A20: XXXXXXX | B20: XXXXX | C20: =SUMIFS(#REF!,#REF!,'TABLEAU DE BORD'!$B20,#REF!,'TABLEAU DE BORD'!C$8) -> #REF! | D20: =SUMIFS(#REF!,#REF!,'TABLEAU DE BORD'!$B20,#REF!,'TABLEAU DE BORD'!D$8) -> #REF! | E20: =SUMIFS(#REF!,#REF!,'TABLEAU DE BORD'!$B20,#REF!,'TABLEAU DE BORD'!E$8) -> #REF! | F20: =SUMIFS(#REF!,#REF!,'TABLEAU DE BORD'!$B20,#REF!,'TABLEAU DE BORD'!F$8) -> #REF! | G20: =SUMIFS(#REF!,#REF!,'TABLEAU DE BORD'!$B20,#REF!,'TABLEAU DE BORD'!G$8) -> #REF! | H20: =SUMIFS(#REF!,#REF!,'TABLEAU DE BORD'!$B20,#REF!,'TABLEAU DE BORD'!H$8) -> #REF! | I20: =SUMIFS(#REF!,#REF!,'TABLEAU DE BORD'!$B20,#REF!,'TABLEAU DE BORD'!I$8) -> #REF! | J20: =SUMIFS(#REF!,#REF!,'TABLEAU DE BORD'!$B20,#REF!,'TABLEAU DE BORD'!J$8) -> #REF! | ... R20: =SUMIFS(#REF!,#REF!,'TABLEAU DE BORD'!$B20,#REF!,'TABLEAU DE BORD'!R$8) -> #REF! | S20: =SUMIFS(#REF!,#REF!,'TABLEAU DE BORD'!$AC$10,#REF!,'TABLEAU DE BORD'!B20) -> #REF! | T20: =IFERROR(AVERAGEIFS(#REF!,#REF!,">0",#REF!,'TABLEAU DE BORD'!$AC$10,#REF!,'TABLEAU DE BORD'!B20),"") | U20: =SUMIFS(#REF!,#REF!,'TABLEAU DE BORD'!$AC$10,#REF!,'TABLEAU DE BORD'!B20) -> #REF! | V20: =IFERROR(AVERAGEIFS(#REF!,#REF!,">0",#REF!,'TABLEAU DE BORD'!B20,#REF!,'TABLEAU DE BORD'!$AC$10),"") | W20: =SUMIFS(#REF!,#REF!,'TABLEAU DE BORD'!A20,#REF!,'TABLEAU DE BORD'!$AC$10)+SUMIFS(#REF!,#REF!,'TABLEAU DE BORD'!A20,#REF!,'TABLEAU DE BORD'!$AC$10)+SUMIFS(#REF!,#REF!,'TABLEAU DE BORD'!A20,#REF!,'TABLEAU DE BORD'!$AC$10)+SUMIFS(#REF!,#REF!,'TABLEAU DE BORD'!A20,#REF!,'TABLEAU DE BORD'!$AC$10)+SUMIFS(#REF!,#REF!,'TABLEAU DE BORD'!A20,#REF!,'TABLEAU DE BORD'!$AC$10)+SUMIFS(#REF!,#REF!,'TABLEAU DE BORD'!A20,#REF!,'TABLEAU DE BORD'!$AC$10)+SUMIFS(#REF!,#REF!,'TABLEAU DE BORD'!A20,#REF!,'TABLEAU DE BORD'!$AC$10)+SUMIFS(#REF!,#REF!,'TABLEAU DE BORD'!A20,#REF!,'TABLEAU DE BORD'!$AC$10)+SUMIFS(#REF!,#REF!,'TABLEAU DE BORD'!A20,#REF!,'TABLEAU DE BORD'!$AC$10)+SUMIFS(#REF!,#REF!,'TABLEAU DE BORD'!A20,#REF!,'TABLEAU DE BORD'!$AC$10)+SUMIFS(#REF!,#REF!,'TABLEAU DE BORD'!A20,#REF!,'TABLEAU DE BORD'!$AC$10)+SUMIFS(#REF!,#REF!,'TABLEAU DE BORD'!A20,#REF!,'TABLEAU DE BORD'!$AC$10) -> #REF! | X20: =IF(S20=0,"",W20/S20) -> #REF!
A21: XXXXXXX | B21: XXXXX | C21: =SUMIFS(#REF!,#REF!,'TABLEAU DE BORD'!$B21,#REF!,'TABLEAU DE BORD'!C$8) -> #REF! | D21: =SUMIFS(#REF!,#REF!,'TABLEAU DE BORD'!$B21,#REF!,'TABLEAU DE BORD'!D$8) -> #REF! | E21: =SUMIFS(#REF!,#REF!,'TABLEAU DE BORD'!$B21,#REF!,'TABLEAU DE BORD'!E$8) -> #REF! | F21: =SUMIFS(#REF!,#REF!,'TABLEAU DE BORD'!$B21,#REF!,'TABLEAU DE BORD'!F$8) -> #REF! | G21: =SUMIFS(#REF!,#REF!,'TABLEAU DE BORD'!$B21,#REF!,'TABLEAU DE BORD'!G$8) -> #REF! | H21: =SUMIFS(#REF!,#REF!,'TABLEAU DE BORD'!$B21,#REF!,'TABLEAU DE BORD'!H$8) -> #REF! | I21: =SUMIFS(#REF!,#REF!,'TABLEAU DE BORD'!$B21,#REF!,'TABLEAU DE BORD'!I$8) -> #REF! | J21: =SUMIFS(#REF!,#REF!,'TABLEAU DE BORD'!$B21,#REF!,'TABLEAU DE BORD'!J$8) -> #REF! | ... R21: =SUMIFS(#REF!,#REF!,'TABLEAU DE BORD'!$B21,#REF!,'TABLEAU DE BORD'!R$8) -> #REF! | S21: =SUMIFS(#REF!,#REF!,'TABLEAU DE BORD'!$AC$10,#REF!,'TABLEAU DE BORD'!B21) -> #REF! | T21: =IFERROR(AVERAGEIFS(#REF!,#REF!,">0",#REF!,'TABLEAU DE BORD'!$AC$10,#REF!,'TABLEAU DE BORD'!B21),"") | U21: =SUMIFS(#REF!,#REF!,'TABLEAU DE BORD'!$AC$10,#REF!,'TABLEAU DE BORD'!B21) -> #REF! | V21: =IFERROR(AVERAGEIFS(#REF!,#REF!,">0",#REF!,'TABLEAU DE BORD'!B21,#REF!,'TABLEAU DE BORD'!$AC$10),"") | W21: =SUMIFS(#REF!,#REF!,'TABLEAU DE BORD'!A21,#REF!,'TABLEAU DE BORD'!$AC$10)+SUMIFS(#REF!,#REF!,'TABLEAU DE BORD'!A21,#REF!,'TABLEAU DE BORD'!$AC$10)+SUMIFS(#REF!,#REF!,'TABLEAU DE BORD'!A21,#REF!,'TABLEAU DE BORD'!$AC$10)+SUMIFS(#REF!,#REF!,'TABLEAU DE BORD'!A21,#REF!,'TABLEAU DE BORD'!$AC$10)+SUMIFS(#REF!,#REF!,'TABLEAU DE BORD'!A21,#REF!,'TABLEAU DE BORD'!$AC$10)+SUMIFS(#REF!,#REF!,'TABLEAU DE BORD'!A21,#REF!,'TABLEAU DE BORD'!$AC$10)+SUMIFS(#REF!,#REF!,'TABLEAU DE BORD'!A21,#REF!,'TABLEAU DE BORD'!$AC$10)+SUMIFS(#REF!,#REF!,'TABLEAU DE BORD'!A21,#REF!,'TABLEAU DE BORD'!$AC$10)+SUMIFS(#REF!,#REF!,'TABLEAU DE BORD'!A21,#REF!,'TABLEAU DE BORD'!$AC$10)+SUMIFS(#REF!,#REF!,'TABLEAU DE BORD'!A21,#REF!,'TABLEAU DE BORD'!$AC$10)+SUMIFS(#REF!,#REF!,'TABLEAU DE BORD'!A21,#REF!,'TABLEAU DE BORD'!$AC$10)+SUMIFS(#REF!,#REF!,'TABLEAU DE BORD'!A21,#REF!,'TABLEAU DE BORD'!$AC$10) -> #REF! | X21: =IF(S21=0,"",W21/S21) -> #REF!
A22: XXXXXXX | B22: XXXXX | C22: =SUMIFS(#REF!,#REF!,'TABLEAU DE BORD'!$B22,#REF!,'TABLEAU DE BORD'!C$8) -> #REF! | D22: =SUMIFS(#REF!,#REF!,'TABLEAU DE BORD'!$B22,#REF!,'TABLEAU DE BORD'!D$8) -> #REF! | E22: =SUMIFS(#REF!,#REF!,'TABLEAU DE BORD'!$B22,#REF!,'TABLEAU DE BORD'!E$8) -> #REF! | F22: =SUMIFS(#REF!,#REF!,'TABLEAU DE BORD'!$B22,#REF!,'TABLEAU DE BORD'!F$8) -> #REF! | G22: =SUMIFS(#REF!,#REF!,'TABLEAU DE BORD'!$B22,#REF!,'TABLEAU DE BORD'!G$8) -> #REF! | H22: =SUMIFS(#REF!,#REF!,'TABLEAU DE BORD'!$B22,#REF!,'TABLEAU DE BORD'!H$8) -> #REF! | I22: =SUMIFS(#REF!,#REF!,'TABLEAU DE BORD'!$B22,#REF!,'TABLEAU DE BORD'!I$8) -> #REF! | J22: =SUMIFS(#REF!,#REF!,'TABLEAU DE BORD'!$B22,#REF!,'TABLEAU DE BORD'!J$8) -> #REF! | ... R22: =SUMIFS(#REF!,#REF!,'TABLEAU DE BORD'!$B22,#REF!,'TABLEAU DE BORD'!R$8) -> #REF! | S22: =SUMIFS(#REF!,#REF!,'TABLEAU DE BORD'!$AC$10,#REF!,'TABLEAU DE BORD'!B22) -> #REF! | T22: =IFERROR(AVERAGEIFS(#REF!,#REF!,">0",#REF!,'TABLEAU DE BORD'!$AC$10,#REF!,'TABLEAU DE BORD'!B22),"") | U22: =SUMIFS(#REF!,#REF!,'TABLEAU DE BORD'!$AC$10,#REF!,'TABLEAU DE BORD'!B22) -> #REF! | V22: =IFERROR(AVERAGEIFS(#REF!,#REF!,">0",#REF!,'TABLEAU DE BORD'!B22,#REF!,'TABLEAU DE BORD'!$AC$10),"") | W22: =SUMIFS(#REF!,#REF!,'TABLEAU DE BORD'!A22,#REF!,'TABLEAU DE BORD'!$AC$10)+SUMIFS(#REF!,#REF!,'TABLEAU DE BORD'!A22,#REF!,'TABLEAU DE BORD'!$AC$10)+SUMIFS(#REF!,#REF!,'TABLEAU DE BORD'!A22,#REF!,'TABLEAU DE BORD'!$AC$10)+SUMIFS(#REF!,#REF!,'TABLEAU DE BORD'!A22,#REF!,'TABLEAU DE BORD'!$AC$10)+SUMIFS(#REF!,#REF!,'TABLEAU DE BORD'!A22,#REF!,'TABLEAU DE BORD'!$AC$10)+SUMIFS(#REF!,#REF!,'TABLEAU DE BORD'!A22,#REF!,'TABLEAU DE BORD'!$AC$10)+SUMIFS(#REF!,#REF!,'TABLEAU DE BORD'!A22,#REF!,'TABLEAU DE BORD'!$AC$10)+SUMIFS(#REF!,#REF!,'TABLEAU DE BORD'!A22,#REF!,'TABLEAU DE BORD'!$AC$10)+SUMIFS(#REF!,#REF!,'TABLEAU DE BORD'!A22,#REF!,'TABLEAU DE BORD'!$AC$10)+SUMIFS(#REF!,#REF!,'TABLEAU DE BORD'!A22,#REF!,'TABLEAU DE BORD'!$AC$10)+SUMIFS(#REF!,#REF!,'TABLEAU DE BORD'!A22,#REF!,'TABLEAU DE BORD'!$AC$10)+SUMIFS(#REF!,#REF!,'TABLEAU DE BORD'!A22,#REF!,'TABLEAU DE BORD'!$AC$10) -> #REF! | X22: =IF(S22=0,"",W22/S22) -> #REF!
... A30: XXXXXXX | B30: XXXXX | C30: =SUMIFS(#REF!,#REF!,'TABLEAU DE BORD'!$B30,#REF!,'TABLEAU DE BORD'!C$8) -> #REF! | D30: =SUMIFS(#REF!,#REF!,'TABLEAU DE BORD'!$B30,#REF!,'TABLEAU DE BORD'!D$8) -> #REF! | E30: =SUMIFS(#REF!,#REF!,'TABLEAU DE BORD'!$B30,#REF!,'TABLEAU DE BORD'!E$8) -> #REF! | F30: =SUMIFS(#REF!,#REF!,'TABLEAU DE BORD'!$B30,#REF!,'TABLEAU DE BORD'!F$8) -> #REF! | G30: =SUMIFS(#REF!,#REF!,'TABLEAU DE BORD'!$B30,#REF!,'TABLEAU DE BORD'!G$8) -> #REF! | H30: =SUMIFS(#REF!,#REF!,'TABLEAU DE BORD'!$B30,#REF!,'TABLEAU DE BORD'!H$8) -> #REF! | I30: =SUMIFS(#REF!,#REF!,'TABLEAU DE BORD'!$B30,#REF!,'TABLEAU DE BORD'!I$8) -> #REF! | J30: =SUMIFS(#REF!,#REF!,'TABLEAU DE BORD'!$B30,#REF!,'TABLEAU DE BORD'!J$8) -> #REF! | ... R30: =SUMIFS(#REF!,#REF!,'TABLEAU DE BORD'!$B30,#REF!,'TABLEAU DE BORD'!R$8) -> #REF! | S30: =SUMIFS(#REF!,#REF!,'TABLEAU DE BORD'!$AC$10,#REF!,'TABLEAU DE BORD'!B30) -> #REF! | T30: =IFERROR(AVERAGEIFS(#REF!,#REF!,">0",#REF!,'TABLEAU DE BORD'!$AC$10,#REF!,'TABLEAU DE BORD'!B30),"") | U30: =SUMIFS(#REF!,#REF!,'TABLEAU DE BORD'!$AC$10,#REF!,'TABLEAU DE BORD'!B30) -> #REF! | V30: =IFERROR(AVERAGEIFS(#REF!,#REF!,">0",#REF!,'TABLEAU DE BORD'!B30,#REF!,'TABLEAU DE BORD'!$AC$10),"") | W30: =SUMIFS(#REF!,#REF!,'TABLEAU DE BORD'!A30,#REF!,'TABLEAU DE BORD'!$AC$10)+SUMIFS(#REF!,#REF!,'TABLEAU DE BORD'!A30,#REF!,'TABLEAU DE BORD'!$AC$10)+SUMIFS(#REF!,#REF!,'TABLEAU DE BORD'!A30,#REF!,'TABLEAU DE BORD'!$AC$10)+SUMIFS(#REF!,#REF!,'TABLEAU DE BORD'!A30,#REF!,'TABLEAU DE BORD'!$AC$10)+SUMIFS(#REF!,#REF!,'TABLEAU DE BORD'!A30,#REF!,'TABLEAU DE BORD'!$AC$10)+SUMIFS(#REF!,#REF!,'TABLEAU DE BORD'!A30,#REF!,'TABLEAU DE BORD'!$AC$10)+SUMIFS(#REF!,#REF!,'TABLEAU DE BORD'!A30,#REF!,'TABLEAU DE BORD'!$AC$10)+SUMIFS(#REF!,#REF!,'TABLEAU DE BORD'!A30,#REF!,'TABLEAU DE BORD'!$AC$10)+SUMIFS(#REF!,#REF!,'TABLEAU DE BORD'!A30,#REF!,'TABLEAU DE BORD'!$AC$10)+SUMIFS(#REF!,#REF!,'TABLEAU DE BORD'!A30,#REF!,'TABLEAU DE BORD'!$AC$10)+SUMIFS(#REF!,#REF!,'TABLEAU DE BORD'!A30,#REF!,'TABLEAU DE BORD'!$AC$10)+SUMIFS(#REF!,#REF!,'TABLEAU DE BORD'!A30,#REF!,'TABLEAU DE BORD'!$AC$10) -> #REF! | X30: =IF(S30=0,"",W30/S30) -> #REF!
A51: 44620
