Workbook
Name basedonnee: 'Base de donnée '!$G$16:$J$34
Name listingphyto: 'Base de donnée '!$B$8:$B$1045
Name listingphytos: 'Base de donnée '!$B$8:$D$723
Name NomParcelle: 'Base de donnée '!$G$16:$G$34
Name Numîlot: 'Base de donnée '!$H$16:$H$34
Name Superficie: 'Base de donnée '!$I$16:$I$34

Sheet journal sortie
B2: JOURNAL DES SORTIES
B3: Date | C3: Produit | D3: Quantité/ha | E3: Parcelle | F3: Surface | G3: Cultures | H3: Ilot | I3: Sortie | J3: Typologie
B4: 44617 | C4: fff | D4: 5 | E4: 3 | F4: =IF(E4="","",VLOOKUP(E4,basedonnee,3,)) -> 8.84 | G4: =IF(E4="","",VLOOKUP(E4,basedonnee,4,)) -> betterave | H4: =IF(E4="","",VLOOKUP(E4,basedonnee,2,)) -> 8 | I4: =IF(E4="","",D4*F4) -> 44.2 | J4: =IF(C4="","",VLOOKUP(C4,listingphytos,3,)) -> herbicide
F5: =IF(E5="","",VLOOKUP(E5,basedonnee,3,)) | G5: =IF(E5="","",VLOOKUP(E5,basedonnee,4,)) | H5: =IF(E5="","",VLOOKUP(E5,basedonnee,2,)) | I5: =IF(E5="","",D5*F5) | J5: =IF(C5="","",VLOOKUP(C5,listingphytos,3,))
F6: =IF(E6="","",VLOOKUP(E6,basedonnee,3,)) | G6: =IF(E6="","",VLOOKUP(E6,basedonnee,4,)) | H6: =IF(E6="","",VLOOKUP(E6,basedonnee,2,)) | I6: =IF(E6="","",D6*F6) | J6: =IF(C6="","",VLOOKUP(C6,listingphytos,3,))
F7: =IF(E7="","",VLOOKUP(E7,basedonnee,3,)) | G7: =IF(E7="","",VLOOKUP(E7,basedonnee,4,)) | H7: =IF(E7="","",VLOOKUP(E7,basedonnee,2,)) | I7: =IF(E7="","",D7*F7) | J7: =IF(C7="","",VLOOKUP(C7,listingphytos,3,))
F8: =IF(E8="","",VLOOKUP(E8,basedonnee,3,)) | G8: =IF(E8="","",VLOOKUP(E8,basedonnee,4,)) | H8: =IF(E8="","",VLOOKUP(E8,basedonnee,2,)) | I8: =IF(E8="","",D8*F8) | J8: =IF(C8="","",VLOOKUP(C8,listingphytos,3,))
F9: =IF(E9="","",VLOOKUP(E9,basedonnee,3,)) | G9: =IF(E9="","",VLOOKUP(E9,basedonnee,4,)) | H9: =IF(E9="","",VLOOKUP(E9,basedonnee,2,)) | I9: =IF(E9="","",D9*F9) | J9: =IF(C9="","",VLOOKUP(C9,listingphytos,3,))
F10: =IF(E10="","",VLOOKUP(E10,basedonnee,3,)) | G10: =IF(E10="","",VLOOKUP(E10,basedonnee,4,)) | H10: =IF(E10="","",VLOOKUP(E10,basedonnee,2,)) | I10: =IF(E10="","",D10*F10) | J10: =IF(C10="","",VLOOKUP(C10,listingphytos,3,))
F11: =IF(E11="","",VLOOKUP(E11,basedonnee,3,)) | G11: =IF(E11="","",VLOOKUP(E11,basedonnee,4,)) | H11: =IF(E11="","",VLOOKUP(E11,basedonnee,2,)) | I11: =IF(E11="","",D11*F11) | J11: =IF(C11="","",VLOOKUP(C11,listingphytos,3,))
F12: =IF(E12="","",VLOOKUP(E12,basedonnee,3,)) | G12: =IF(E12="","",VLOOKUP(E12,basedonnee,4,)) | H12: =IF(E12="","",VLOOKUP(E12,basedonnee,2,)) | I12: =IF(E12="","",D12*F12) | J12: =IF(C12="","",VLOOKUP(C12,listingphytos,3,))
F13: =IF(E13="","",VLOOKUP(E13,basedonnee,3,)) | G13: =IF(E13="","",VLOOKUP(E13,basedonnee,4,)) | H13: =IF(E13="","",VLOOKUP(E13,basedonnee,2,)) | I13: =IF(E13="","",D13*F13) | J13: =IF(C13="","",VLOOKUP(C13,listingphytos,3,))
F14: =IF(E14="","",VLOOKUP(E14,basedonnee,3,)) | G14: =IF(E14="","",VLOOKUP(E14,basedonnee,4,)) | H14: =IF(E14="","",VLOOKUP(E14,basedonnee,2,)) | I14: =IF(E14="","",D14*F14) | J14: =IF(C14="","",VLOOKUP(C14,listingphytos,3,))
F15: =IF(E15="","",VLOOKUP(E15,basedonnee,3,)) | G15: =IF(E15="","",VLOOKUP(E15,basedonnee,4,)) | H15: =IF(E15="","",VLOOKUP(E15,basedonnee,2,)) | I15: =IF(E15="","",D15*F15) | J15: =IF(C15="","",VLOOKUP(C15,listingphytos,3,))
F16: =IF(E16="","",VLOOKUP(E16,basedonnee,3,)) | G16: =IF(E16="","",VLOOKUP(E16,basedonnee,4,)) | H16: =IF(E16="","",VLOOKUP(E16,basedonnee,2,)) | I16: =IF(E16="","",D16*F16) | J16: =IF(C16="","",VLOOKUP(C16,listingphytos,3,))
... F1463: =IF(E1463="","",VLOOKUP(E1463,basedonnee,3,)) | G1463: =IF(E1463="","",VLOOKUP(E1463,basedonnee,4,)) | H1463: =IF(E1463="","",VLOOKUP(E1463,basedonnee,2,)) | I1463: =IF(E1463="","",D1463*F1463) | J1463: =IF(C1463="","",VLOOKUP(C1463,listingphytos,3,))

Sheet journal entrée
B2: ENTREES
B3: Date | C3: Produit | D3: Quantité | E3: Typologie | F3: prix €/unité
B4: 44619 | C4: xxx | D4: 50 | E4: =IF(C4="","",VLOOKUP(C4,listingphytos,3,)) -> regulateur | F4: 10
B5: 44562 | C5: vvvv | D5: 100 | E5: =IF(C5="","",VLOOKUP(C5,listingphytos,3,)) -> fongicide | F5: 52
B6: 44597 | C6: fff | D6: 120 | E6: =IF(C6="","",VLOOKUP(C6,listingphytos,3,)) -> herbicide | F6: 30
E7: =IF(C7="","",VLOOKUP(C7,listingphytos,3,)) | F7: =IF(D7="","",VLOOKUP(D7,listingphytos,3,))
E8: =IF(C8="","",VLOOKUP(C8,listingphytos,3,)) | F8: =IF(D8="","",VLOOKUP(D8,listingphytos,3,))
E9: =IF(C9="","",VLOOKUP(C9,listingphytos,3,)) | F9: =IF(D9="","",VLOOKUP(D9,listingphytos,3,))
E10: =IF(C10="","",VLOOKUP(C10,listingphytos,3,)) | F10: =IF(D10="","",VLOOKUP(D10,listingphytos,3,))
E11: =IF(C11="","",VLOOKUP(C11,listingphytos,3,)) | F11: =IF(D11="","",VLOOKUP(D11,listingphytos,3,))
E12: =IF(C12="","",VLOOKUP(C12,listingphytos,3,)) | F12: =IF(D12="","",VLOOKUP(D12,listingphytos,3,))
E13: =IF(C13="","",VLOOKUP(C13,listingphytos,3,)) | F13: =IF(D13="","",VLOOKUP(D13,listingphytos,3,))
E14: =IF(C14="","",VLOOKUP(C14,listingphytos,3,)) | F14: =IF(D14="","",VLOOKUP(D14,listingphytos,3,))
E15: =IF(C15="","",VLOOKUP(C15,listingphytos,3,)) | F15: =IF(D15="","",VLOOKUP(D15,listingphytos,3,))
E16: =IF(C16="","",VLOOKUP(C16,listingphytos,3,)) | F16: =IF(D16="","",VLOOKUP(D16,listingphytos,3,))
E17: =IF(C17="","",VLOOKUP(C17,listingphytos,3,)) | F17: =IF(D17="","",VLOOKUP(D17,listingphytos,3,))
E18: =IF(C18="","",VLOOKUP(C18,listingphytos,3,)) | F18: =IF(D18="","",VLOOKUP(D18,listingphytos,3,))
... E563: =IF(C563="","",VLOOKUP(C563,listingphytos,3,)) | F563: =IF(D563="","",VLOOKUP(D563,listingphytos,3,))

Sheet Etat des stocks
A2: ÉTAT DES STOCKS
B7: ='Base de donnée '!B7 -> Produit | C7: Ref | D7: Stock initial | E7: Entrées | F7: Sorties | G7: Stock Final
B8: =IF('Base de donnée '!B8="","",'Base de donnée '!B8) -> aaa | C8: =IF('Base de donnée '!C8="","",'Base de donnée '!C8) -> aaa | E8: =IF(B8="","",SUMIFS('journal entrée'!D$4:D$397,'journal entrée'!C$4:C$397,C8)) -> 0 | F8: =IF(C8="","",SUMIFS('journal sortie'!I$4:I$497,'journal sortie'!C$4:C$497,C8)) -> 0 | G8: =IF(C8="","",D8+E8-F8) -> 0
B9: =IF('Base de donnée '!B9="","",'Base de donnée '!B9) -> rrr | C9: =IF('Base de donnée '!C9="","",'Base de donnée '!C9) -> rrr | E9: =IF(B9="","",SUMIFS('journal entrée'!D$4:D$397,'journal entrée'!C$4:C$397,C9)) -> 0 | F9: =IF(C9="","",SUMIFS('journal sortie'!I$4:I$497,'journal sortie'!C$4:C$497,C9)) -> 0 | G9: =IF(C9="","",D9+E9-F9) -> 0
B10: =IF('Base de donnée '!B10="","",'Base de donnée '!B10) -> fff | C10: =IF('Base de donnée '!C10="","",'Base de donnée '!C10) -> fff | E10: =IF(B10="","",SUMIFS('journal entrée'!D$4:D$397,'journal entrée'!C$4:C$397,C10)) -> 120 | F10: =IF(C10="","",SUMIFS('journal sortie'!I$4:I$497,'journal sortie'!C$4:C$497,C10)) -> 44.2 | G10: =IF(C10="","",D10+E10-F10) -> 75.8
B11: eee | C11: =IF('Base de donnée '!C11="","",'Base de donnée '!C11) -> eeee | E11: =IF(B11="","",SUMIFS('journal entrée'!D$4:D$397,'journal entrée'!C$4:C$397,C11)) -> 0 | F11: =IF(C11="","",SUMIFS('journal sortie'!I$4:I$497,'journal sortie'!C$4:C$497,C11)) -> 0 | G11: =IF(C11="","",D11+E11-F11) -> 0
B12: =IF('Base de donnée '!B12="","",'Base de donnée '!B12) -> xxx | C12: =IF('Base de donnée '!C12="","",'Base de donnée '!C12) -> xxx | E12: =IF(B12="","",SUMIFS('journal entrée'!D$4:D$397,'journal entrée'!C$4:C$397,C12)) -> 50 | F12: =IF(C12="","",SUMIFS('journal sortie'!I$4:I$497,'journal sortie'!C$4:C$497,C12)) -> 0 | G12: =IF(C12="","",D12+E12-F12) -> 50
B13: =IF('Base de donnée '!B13="","",'Base de donnée '!B13) -> rrrr | C13: =IF('Base de donnée '!C13="","",'Base de donnée '!C13) -> rrrr | E13: =IF(B13="","",SUMIFS('journal entrée'!D$4:D$397,'journal entrée'!C$4:C$397,C13)) -> 0 | F13: =IF(C13="","",SUMIFS('journal sortie'!I$4:I$497,'journal sortie'!C$4:C$497,C13)) -> 0 | G13: =IF(C13="","",D13+E13-F13) -> 0
B14: =IF('Base de donnée '!B14="","",'Base de donnée '!B14) -> vvvv | C14: =IF('Base de donnée '!C14="","",'Base de donnée '!C14) -> vvvv | E14: =IF(B14="","",SUMIFS('journal entrée'!D$4:D$397,'journal entrée'!C$4:C$397,C14)) -> 100 | F14: =IF(C14="","",SUMIFS('journal sortie'!I$4:I$497,'journal sortie'!C$4:C$497,C14)) -> 0 | G14: =IF(C14="","",D14+E14-F14) -> 100
B15: =IF('Base de donnée '!B15="","",'Base de donnée '!B15) | C15: =IF('Base de donnée '!C15="","",'Base de donnée '!C15) | E15: =IF(B15="","",SUMIFS('journal entrée'!D$4:D$397,'journal entrée'!C$4:C$397,C15)) | F15: =IF(C15="","",SUMIFS('journal sortie'!I$4:I$497,'journal sortie'!C$4:C$497,C15)) | G15: =IF(C15="","",D15+E15-F15)
B16: =IF('Base de donnée '!B16="","",'Base de donnée '!B16) | C16: =IF('Base de donnée '!C16="","",'Base de donnée '!C16) | E16: =IF(B16="","",SUMIFS('journal entrée'!D$4:D$397,'journal entrée'!C$4:C$397,C16)) | F16: =IF(C16="","",SUMIFS('journal sortie'!I$4:I$497,'journal sortie'!C$4:C$497,C16)) | G16: =IF(C16="","",D16+E16-F16)
B17: =IF('Base de donnée '!B17="","",'Base de donnée '!B17) | C17: =IF('Base de donnée '!C17="","",'Base de donnée '!C17) | E17: =IF(B17="","",SUMIFS('journal entrée'!D$4:D$397,'journal entrée'!C$4:C$397,C17)) | F17: =IF(C17="","",SUMIFS('journal sortie'!I$4:I$497,'journal sortie'!C$4:C$497,C17)) | G17: =IF(C17="","",D17+E17-F17)
B18: =IF('Base de donnée '!B18="","",'Base de donnée '!B18) | C18: =IF('Base de donnée '!C18="","",'Base de donnée '!C18) | E18: =IF(B18="","",SUMIFS('journal entrée'!D$4:D$397,'journal entrée'!C$4:C$397,C18)) | F18: =IF(C18="","",SUMIFS('journal sortie'!I$4:I$497,'journal sortie'!C$4:C$497,C18)) | G18: =IF(C18="","",D18+E18-F18)
B19: =IF('Base de donnée '!B19="","",'Base de donnée '!B19) | C19: =IF('Base de donnée '!C19="","",'Base de donnée '!C19) | E19: =IF(B19="","",SUMIFS('journal entrée'!D$4:D$397,'journal entrée'!C$4:C$397,C19)) | F19: =IF(C19="","",SUMIFS('journal sortie'!I$4:I$497,'journal sortie'!C$4:C$497,C19)) | G19: =IF(C19="","",D19+E19-F19)
B20: =IF('Base de donnée '!B20="","",'Base de donnée '!B20) | C20: =IF('Base de donnée '!C20="","",'Base de donnée '!C20) | E20: =IF(B20="","",SUMIFS('journal entrée'!D$4:D$397,'journal entrée'!C$4:C$397,C20)) | F20: =IF(C20="","",SUMIFS('journal sortie'!I$4:I$497,'journal sortie'!C$4:C$497,C20)) | G20: =IF(C20="","",D20+E20-F20)
B21: =IF('Base de donnée '!B21="","",'Base de donnée '!B21) | C21: =IF('Base de donnée '!C21="","",'Base de donnée '!C21) | E21: =IF(B21="","",SUMIFS('journal entrée'!D$4:D$397,'journal entrée'!C$4:C$397,C21)) | F21: =IF(C21="","",SUMIFS('journal sortie'!I$4:I$497,'journal sortie'!C$4:C$497,C21)) | G21: =IF(C21="","",D21+E21-F21)
B22: =IF('Base de donnée '!B22="","",'Base de donnée '!B22) | C22: =IF('Base de donnée '!C22="","",'Base de donnée '!C22) | E22: =IF(B22="","",SUMIFS('journal entrée'!D$4:D$397,'journal entrée'!C$4:C$397,C22)) | F22: =IF(C22="","",SUMIFS('journal sortie'!I$4:I$497,'journal sortie'!C$4:C$497,C22)) | G22: =IF(C22="","",D22+E22-F22)
B23: =IF('Base de donnée '!B23="","",'Base de donnée '!B23) | C23: =IF('Base de donnée '!C23="","",'Base de donnée '!C23) | E23: =IF(B23="","",SUMIFS('journal entrée'!D$4:D$397,'journal entrée'!C$4:C$397,C23)) | F23: =IF(C23="","",SUMIFS('journal sortie'!I$4:I$497,'journal sortie'!C$4:C$497,C23)) | G23: =IF(C23="","",D23+E23-F23)
... B1548: =IF('Base de donnée '!B1548="","",'Base de donnée '!B1548) | C1548: =IF('Base de donnée '!C1548="","",'Base de donnée '!C1548) | E1548: =IF(B1548="","",SUMIFS('journal entrée'!D$4:D$397,'journal entrée'!C$4:C$397,C1548)) | F1548: =IF(C1548="","",SUMIFS('journal sortie'!I$4:I$497,'journal sortie'!C$4:C$497,C1548)) | G1548: =IF(C1548="","",D1548+E1548-F1548)
E1549: =IF(B1549="","",SUMIFS('journal entrée'!D$4:D$397,'journal entrée'!C$4:C$397,C1549))
E1550: =IF(B1550="","",SUMIFS('journal entrée'!D$4:D$397,'journal entrée'!C$4:C$397,C1550))
E1551: =IF(B1551="","",SUMIFS('journal entrée'!D$4:D$397,'journal entrée'!C$4:C$397,C1551))
E1552: =IF(B1552="","",SUMIFS('journal entrée'!D$4:D$397,'journal entrée'!C$4:C$397,C1552))

Sheet Base de donnée 
A2: BASE DE DONNÉES
B7: Produit | C7: Ref | D7: Typologie | G7: Cultures | I7: Produit
B8: aaa | C8: =IF(B8="","",B8) -> aaa | D8: herbicide | G8: Blé | I8: Engrais
B9: rrr | C9: =IF(B9="","",B9) -> rrr | D9: fongidice | G9: choux | I9: Phyto
B10: fff | C10: =IF(B10="","",B10) -> fff | D10: herbicide | G10: betterave | I10: Oligo
B11: eeee | C11: =IF(B11="","",B11) -> eeee | D11: herbicide | G11: carotte
B12: xxx | C12: =IF(B12="","",B12) -> xxx | D12: regulateur | G12: Pdt
B13: rrrr | C13: =IF(B13="","",B13) -> rrrr | D13: herbicide | G13: salade
B14: vvvv | C14: =IF(B14="","",B14) -> vvvv | D14: fongicide
C15: =IF(B15="","",B15) | G15: Parcelles | H15: Ilot | I15: Surface | J15: 2022
C16: =IF(B16="","",B16) | G16: 1 | H16: 5 | I16: 1.22 | J16: Blé
C17: =IF(B17="","",B17) | G17: 2 | H17: 11.1 | I17: 9.32 | J17: choux
C18: =IF(B18="","",B18) | G18: 3 | H18: 8 | I18: 8.84 | J18: betterave
C19: =IF(B19="","",B19) | G19: 4 | H19: 9.6-4-5 | I19: 9.05 | J19: carotte
C20: =IF(B20="","",B20) | G20: 5 | H20: 9.1-9.2 | I20: 7.03 | J20: Pdt
C21: =IF(B21="","",B21) | G21: 6 | H21: 9.3 | I21: 8.96 | J21: salade
C22: =IF(B22="","",B22)
C23: =IF(B23="","",B23)
C24: =IF(B24="","",B24)
C25: =IF(B25="","",B25)
C26: =IF(B26="","",B26)
C27: =IF(B27="","",B27)
C28: =IF(B28="","",B28)
C29: =IF(B29="","",B29)
C30: =IF(B30="","",B30)
C31: =IF(B31="","",B31)
C32: =IF(B32="","",B32)
C33: =IF(B33="","",B33)
... C1695: =IF(B1695="","",B1695)

Sheet recap parcelle 3
A1: Fiche d'enregistrement par parcelle
B3: Année
C5: parcelle | D5: 3
C7: surface | D7: ='Base de donnée '!I18 -> 8.84
C8: Culture | D8: ='Base de donnée '!J18 -> betterave
A12: TRAITEMENTS AU CHAMP
B13: Date | C13: Produits | D13: Dose | E13: unité | F13: Cout unitaire | G13: Total
B14: Herbicides | G14: =SUM(G15:G18) -> 150
B16: 44617 | C16: fff | D16: 5 | F16: 30 | G16: =F16*D16 -> 150
B19: Fongicides | G19: =SUM(G20:G47) -> 0
B23: oligo | G23: =SUM(G24:G51) -> 0
