Workbook

Sheet Suivi
B2: N° Tôle | C2: Cartographie | D2: 25% | E2: 0.5 | F2: 1 | G2: Sanction 0 | H2: Sanction 2 | I2: Sanction 3 | J2: Fait le
B3: Tôle 1 | C3: A | D3: Non | E3: Oui | F3: Non | G3: Non | H3: Non | I3: Non | J3: 44564
B4: Tôle 2 | C4: B | D4: Non | E4: Oui | F4: Non | G4: Non | H4: Non | I4: Non | J4: 44564
B5: Tôle 3 | C5: A | D5: Non | E5: Oui | F5: Oui | G5: Non | H5: Non | I5: Non | J5: 44564
B6: Tôle 4 | C6: B | D6: Non | E6: Oui | F6: Non | G6: Non | H6: Non | I6: Non | J6: 44564
B7: Tôle 5 | C7: A | D7: Non | E7: Oui | F7: Non | G7: Non | H7: Non | I7: Non | J7: 44564
B8: Tôle 6 | C8: B | D8: Non | E8: Oui | F8: Non | G8: Non | H8: Non | I8: Non | J8: 44564
B9: Tôle 7 | C9: A | D9: Non | E9: Oui | F9: Non | G9: Non | H9: Non | I9: Non | J9: 44564
B10: Tôle 8 | C10: B | D10: Non | E10: Oui | F10: Non | G10: Non | H10: Non | I10: Non | J10: 44565
B11: Tôle 9 | C11: A | D11: Non | E11: Oui | F11: Non | G11: Non | H11: Non | I11: Non | J11: 44565
B12: Tôle 10 | C12: B | D12: Non | E12: Oui | F12: Non | G12: Non | H12: Non | I12: Non | J12: 44565
B13: Tôle 11 | C13: A | D13: Non | E13: Oui | F13: Non | G13: Non | H13: Non | I13: Non | J13: 44565
B14: Tôle 12 | C14: B | D14: Non | E14: Oui | F14: Non | G14: Non | H14: Non | I14: Non | J14: 44565
... B148: Tôle 146 | C148: B | D148: Non | E148: Oui | F148: Non | G148: Non | H148: Non | I148: Non | J148: 44579
B149: Tôle 147 | C149: A | D149: Non | E149: Oui | F149: Non | G149: =IF(C149="Pas de carto","Oui","Non") -> Non | H149: Non | I149: Non | J149: 44579
B150: Tôle 148 | C150: B | D150: Non | E150: Oui | F150: Non | G150: =IF(C150="Pas de carto","Oui","Non") -> Non | H150: Non | I150: Non | J150: 44579
B151: Tôle 149 | C151: A | D151: Non | E151: Oui | F151: Non | G151: =IF(C151="Pas de carto","Oui","Non") -> Non | H151: Non | I151: Non | J151: 44579
B152: Tôle 150 | C152: B | D152: Non | E152: Oui | F152: Non | G152: =IF(C152="Pas de carto","Oui","Non") -> Non | H152: Non | I152: Non | J152: 44579
B153: Tôle 151 | C153: A | D153: Non | E153: Oui | F153: Non | G153: =IF(C153="Pas de carto","Oui","Non") -> Non | H153: Non | I153: Non | J153: 44579
B154: Tôle 152 | C154: B | D154: Non | E154: Oui | F154: Non | G154: =IF(C154="Pas de carto","Oui","Non") -> Non | H154: Non | I154: Non | J154: 44579
B155: Tôle 153 | C155: A | D155: Non | E155: Oui | F155: Non | G155: =IF(C155="Pas de carto","Oui","Non") -> Non | H155: Non | I155: Non | J155: 44579
B156: Tôle 154 | C156: B | D156: Non | E156: Oui | F156: Non | G156: =IF(C156="Pas de carto","Oui","Non") -> Non | H156: Non | I156: Non | J156: 44579
B157: Tôle 155 | C157: A | D157: Non | E157: Oui | F157: Non | G157: =IF(C157="Pas de carto","Oui","Non") -> Non | H157: Non | I157: Non | J157: 44579
B158: Tôle 156 | C158: B | D158: Non | E158: Oui | F158: Non | G158: =IF(C158="Pas de carto","Oui","Non") -> Non | H158: Non | I158: Non | J158: 44580
B159: Tôle 157 | C159: A | D159: Non | E159: Oui | F159: Non | G159: =IF(C159="Pas de carto","Oui","Non") -> Non | H159: Non | I159: Non | J159: 44580
B160: Tôle 158 | C160: B | D160: Non | E160: Oui | F160: Non | G160: =IF(C160="Pas de carto","Oui","Non") -> Non | H160: Non | I160: Non | J160: 44580
B161: Tôle 159 | C161: A | D161: Non | E161: Oui | F161: Non | G161: Oui | H161: Non | I161: Non | J161: 44580
B162: Tôle 160 | C162: B | D162: Non | E162: Oui | F162: Non | G162: =IF(C162="Pas de carto","Oui","Non") -> Non | H162: Non | I162: Non | J162: 44580
B163: Tôle 161 | C163: A | D163: Non | E163: Oui | F163: Non | G163: =IF(C163="Pas de carto","Oui","Non") -> Non | H163: Non | I163: Non | J163: 44580
B164: Tôle 162 | C164: B | D164: Non | E164: Oui | F164: Non | G164: =IF(C164="Pas de carto","Oui","Non") -> Non | H164: Non | I164: Non | J164: 44581
B165: Tôle 163 | C165: A | D165: Non | E165: Oui | F165: Non | G165: =IF(C165="Pas de carto","Oui","Non") -> Non | H165: Non | I165: Non | J165: 44581
B166: Tôle 164 | C166: B | D166: Non | E166: Oui | F166: Non | G166: =IF(C166="Pas de carto","Oui","Non") -> Non | H166: Non | I166: Non | J166: 44581
B167: Tôle 165 | C167: A | D167: Non | E167: Oui | F167: Non | G167: =IF(C167="Pas de carto","Oui","Non") -> Non | H167: Non | I167: Non | J167: 44581
B168: Tôle 166 | C168: B | D168: Non | E168: Oui | F168: Non | G168: =IF(C168="Pas de carto","Oui","Non") -> Non | H168: Non | I168: Non | J168: 44581
B169: Tôle 167 | C169: A | D169: Non | E169: Oui | F169: Non | G169: =IF(C169="Pas de carto","Oui","Non") -> Non | H169: Non | I169: Non | J169: 44581
B170: Tôle 168 | C170: B | D170: Non | E170: Oui | F170: Non | G170: =IF(C170="Pas de carto","Oui","Non") -> Non | H170: Non | I170: Non | J170: 44585
B171: Tôle 169 | C171: A | D171: Non | E171: Oui | F171: Non | G171: =IF(C171="Pas de carto","Oui","Non") -> Non | H171: Non | I171: Non | J171: 44585
B172: Tôle 170 | C172: B | D172: Non | E172: Oui | F172: Non | G172: =IF(C172="Pas de carto","Oui","Non") -> Non | H172: Non | I172: Non | J172: 44585
B173: Tôle 171 | C173: A | D173: Non | E173: Oui | F173: Non | G173: =IF(C173="Pas de carto","Oui","Non") -> Non | H173: Non | I173: Non | J173: 44585
... B244: Tôle 242 | C244: B | D244: Non | E244: Oui | F244: Oui | G244: =IF(C244="Pas de carto","Oui","Non") -> Non | H244: Non | I244: Non | J244: 44592
B245: Tôle 243 | C245: A | D245: Non | E245: Oui | F245: Non | G245: =IF(C245="Pas de carto","Oui","Non") -> Non | H245: Non | I245: Non | J245: =J244+1 -> 44593
B246: Tôle 244 | C246: B | D246: Non | E246: Oui | F246: Non | G246: =IF(C246="Pas de carto","Oui","Non") -> Non | H246: Non | I246: Non | J246: 44593
B247: Tôle 245 | C247: A | D247: Non | E247: Oui | F247: Non | G247: =IF(C247="Pas de carto","Oui","Non") -> Non | H247: Non | I247: Non | J247: 44593
B248: Tôle 246 | C248: B | D248: Non | E248: Oui | F248: Non | G248: =IF(C248="Pas de carto","Oui","Non") -> Non | H248: Non | I248: Non | J248: 44593
B249: Tôle 247 | C249: A | D249: Non | E249: Oui | F249: Non | G249: =IF(C249="Pas de carto","Oui","Non") -> Non | H249: Non | I249: Non | J249: 44593
B250: Tôle 248 | C250: B | D250: Non | E250: Oui | F250: Non | G250: =IF(C250="Pas de carto","Oui","Non") -> Non | H250: Non | I250: Non | J250: 44593
B251: Tôle 249 | C251: A | D251: Non | E251: Oui | F251: Non | G251: =IF(C251="Pas de carto","Oui","Non") -> Non | H251: Non | I251: Non | J251: 44593
B252: Tôle 250 | C252: B | D252: Non | E252: Oui | F252: Oui | G252: =IF(C252="Pas de carto","Oui","Non") -> Non | H252: Non | I252: Non | J252: 44593
B253: Tôle 251 | C253: A | D253: Non | E253: Oui | F253: Oui | G253: =IF(C253="Pas de carto","Oui","Non") -> Non | H253: Non | I253: Non | J253: 44593
B254: Tôle 252 | C254: B | D254: Non | E254: Oui | F254: Oui | G254: =IF(C254="Pas de carto","Oui","Non") -> Non | H254: Non | I254: Non | J254: 44593
B255: Tôle 253 | C255: A | D255: Non | E255: Oui | F255: Non | G255: =IF(C255="Pas de carto","Oui","Non") -> Non | H255: Non | I255: Non | J255: 44593
B256: Tôle 254 | C256: B | D256: Non | E256: Oui | F256: Non | G256: =IF(C256="Pas de carto","Oui","Non") -> Non | H256: Non | I256: Non | J256: 44593
B257: Tôle 255 | C257: A | D257: Non | E257: Oui | F257: Non | G257: =IF(C257="Pas de carto","Oui","Non") -> Non | H257: Non | I257: Non | J257: 44593
... B321: Tôle 319 | C321: A | D321: Non | E321: Oui | F321: Non | G321: =IF(C321="Pas de carto","Oui","Non") -> Non | H321: Non | I321: Non | J321: 44599
B322: Tôle 320 | C322: B | D322: Non | E322: Non | F322: Non | G322: Non | H322: Non | I322: Non | J322: 44600
B323: Tôle 321 | C323: A | D323: Non | E323: Oui | F323: Non | G323: =IF(C323="Pas de carto","Oui","Non") -> Non | H323: Non | I323: Non | J323: 44600
B324: Tôle 322 | C324: B | D324: Non | E324: Oui | F324: Non | G324: =IF(C324="Pas de carto","Oui","Non") -> Non | H324: Non | I324: Non | J324: 44600
B325: Tôle 323 | C325: A | D325: Non | E325: Oui | F325: Non | G325: =IF(C325="Pas de carto","Oui","Non") -> Non | H325: Non | I325: Non | J325: 44600
B326: Tôle 324 | C326: B | D326: Non | E326: Oui | F326: Non | G326: Oui | H326: Non | I326: Non | J326: 44600
B327: Tôle 325 | C327: A | D327: Non | E327: Oui | F327: Non | G327: Oui | H327: Non | I327: Non | J327: 44600
B328: Tôle 326 | C328: B | D328: Non | E328: Oui | F328: Non | G328: =IF(C328="Pas de carto","Oui","Non") -> Non | H328: Non | I328: Non | J328: 44601
B329: Tôle 327 | C329: A | D329: Non | E329: Oui | F329: Non | G329: =IF(C329="Pas de carto","Oui","Non") -> Non | H329: Non | I329: Non | J329: 44601
B330: Tôle 328 | C330: B | D330: Non | E330: Oui | F330: Non | G330: =IF(C330="Pas de carto","Oui","Non") -> Non | H330: Non | I330: Non | J330: 44601
B331: Tôle 329 | C331: A | D331: Non | E331: Oui | F331: Non | G331: =IF(C331="Pas de carto","Oui","Non") -> Non | H331: Non | I331: Non | J331: 44601
B332: Tôle 330 | C332: B | D332: Non | E332: Non | F332: Non | G332: =IF(C332="Pas de carto","Oui","Non") -> Non | H332: Non | I332: Non | J332: 44601
B333: Tôle 331 | C333: A | D333: Non | E333: Oui | F333: Non | G333: =IF(C333="Pas de carto","Oui","Non") -> Non | H333: Non | I333: Non | J333: 44601
B334: Tôle 332 | C334: B | D334: Non | E334: Oui | F334: Non | G334: =IF(C334="Pas de carto","Oui","Non") -> Non | H334: Non | I334: Non | J334: 44601
B335: Tôle 333 | C335: A | D335: Non | E335: Oui | F335: Non | G335: =IF(C335="Pas de carto","Oui","Non") -> Non | H335: Non | I335: Non | J335: 44601
B336: Tôle 334 | C336: B | D336: Non | E336: Oui | F336: Non | G336: =IF(C336="Pas de carto","Oui","Non") -> Non | H336: Non | I336: Non | J336: 44601
B337: Tôle 335 | C337: A | D337: Non | E337: Oui | F337: Non | G337: =IF(C337="Pas de carto","Oui","Non") -> Non | H337: Non | I337: Non | J337: 44601
B338: Tôle 336 | C338: B | D338: Non | E338: Oui | F338: Non | G338: =IF(C338="Pas de carto","Oui","Non") -> Non | H338: Non | I338: Non | J338: 44601
B339: Tôle 337 | C339: A | D339: Non | E339: Oui | F339: Non | G339: =IF(C339="Pas de carto","Oui","Non") -> Non | H339: Non | I339: Non | J339: 44601
... B361: Tôle 359 | C361: A | D361: Non | E361: Oui | F361: Non | G361: =IF(C361="Pas de carto","Oui","Non") -> Non | H361: Non | I361: Non | J361: 44602
B362: Tôle 360 | C362: B | D362: Non | E362: Oui | F362: Non | G362: Non | H362: Non | I362: Non | J362: 44603
B363: Tôle 361 | C363: A | D363: Non | E363: Oui | F363: Non | G363: Oui | H363: Non | I363: Non | J363: 44603
B364: Tôle 362 | C364: B | D364: Non | E364: Oui | F364: Non | G364: =IF(C364="Pas de carto","Oui","Non") -> Non | H364: Non | I364: Non | J364: 44603
B365: Tôle 363 | C365: A | D365: Oui | E365: Oui | F365: Non | G365: =IF(C365="Pas de carto","Oui","Non") -> Non | H365: Non | I365: Non | J365: 44603
B366: Tôle 364 | C366: B | D366: Non | E366: Oui | F366: Non | G366: =IF(C366="Pas de carto","Oui","Non") -> Non | H366: Oui | I366: Non | J366: 44603
B367: Tôle 365 | C367: A | D367: Non | E367: Oui | F367: Non | G367: =IF(C367="Pas de carto","Oui","Non") -> Non | H367: Oui | I367: Non | J367: 44603
B368: Tôle 366 | C368: B | D368: Non | E368: Oui | F368: Non | G368: =IF(C368="Pas de carto","Oui","Non") -> Non | H368: Non | I368: Non | J368: 44603
B369: Tôle 367 | C369: A | D369: Non | E369: Oui | F369: Non | G369: =IF(C369="Pas de carto","Oui","Non") -> Non | H369: Non | I369: Non | J369: 44603
B370: Tôle 368 | C370: B | D370: Non | E370: Oui | F370: Non | G370: =IF(C370="Pas de carto","Oui","Non") -> Non | H370: Non | I370: Non | J370: 44603
B371: Tôle 369 | C371: A | D371: Non | E371: Oui | F371: Non | G371: =IF(C371="Pas de carto","Oui","Non") -> Non | H371: Non | I371: Non | J371: 44603
B372: Tôle 370 | C372: B | D372: Non | E372: Oui | F372: Non | G372: =IF(C372="Pas de carto","Oui","Non") -> Non | H372: Non | I372: Non | J372: 44603
B373: Tôle 371 | C373: A | D373: Non | E373: Oui | F373: Non | G373: =IF(C373="Pas de carto","Oui","Non") -> Non | H373: Non | I373: Non | J373: 44603
B374: Tôle 372 | C374: B | D374: Non | E374: Oui | F374: Non | G374: =IF(C374="Pas de carto","Oui","Non") -> Non | H374: Non | I374: Non | J374: 44603
B375: Tôle 373 | C375: A | D375: Non | E375: Oui | F375: Non | G375: =IF(C375="Pas de carto","Oui","Non") -> Non | H375: Non | I375: Non | J375: 44603
... B410: Tôle 408 | C410: B | D410: Non | E410: Oui | F410: Non | G410: =IF(C410="Pas de carto","Oui","Non") -> Non | H410: Non | I410: Non | J410: 44608
B411: Tôle 409 | C411: A | D411: Non | E411: Oui | F411: Non | G411: Oui | H411: Non | I411: Non | J411: 44608
B412: Tôle 410 | C412: B | D412: Non | E412: Oui | F412: Non | G412: =IF(C412="Pas de carto","Oui","Non") -> Non | H412: Non | I412: Non | J412: 44608
B413: Tôle 411 | C413: A | D413: Oui | E413: Oui | F413: Non | G413: =IF(C413="Pas de carto","Oui","Non") -> Non | H413: Non | I413: Non | J413: 44608
B414: Tôle 412 | C414: B | D414: Non | E414: Oui | F414: Non | G414: =IF(C414="Pas de carto","Oui","Non") -> Non | H414: Non | I414: Non | J414: 44608
B415: Tôle 413 | C415: A | D415: Non | E415: Oui | F415: Non | G415: =IF(C415="Pas de carto","Oui","Non") -> Non | H415: Non | I415: Non | J415: 44608
B416: Tôle 414 | C416: B | D416: Non | E416: Oui | F416: Non | G416: =IF(C416="Pas de carto","Oui","Non") -> Non | H416: Non | I416: Non | J416: 44608
B417: Tôle 415 | C417: A | D417: Non | E417: Oui | F417: Non | G417: =IF(C417="Pas de carto","Oui","Non") -> Non | H417: Non | I417: Non | J417: 44608
B418: Tôle 416 | C418: B | D418: Non | E418: Oui | F418: Non | G418: =IF(C418="Pas de carto","Oui","Non") -> Non | H418: Non | I418: Non | J418: 44608
B419: Tôle 417 | C419: A | D419: Non | E419: Oui | F419: Non | G419: =IF(C419="Pas de carto","Oui","Non") -> Non | H419: Non | I419: Non | J419: 44608
B420: Tôle 418 | C420: B | D420: Non | E420: Oui | F420: Non | G420: =IF(C420="Pas de carto","Oui","Non") -> Non | H420: Non | I420: Non | J420: 44608
B421: Tôle 419 | C421: A | D421: Non | E421: Oui | F421: Non | G421: =IF(C421="Pas de carto","Oui","Non") -> Non | H421: Non | I421: Non | J421: 44608
B422: Tôle 420 | C422: B | D422: Non | E422: Oui | F422: Non | G422: =IF(C422="Pas de carto","Oui","Non") -> Non | H422: Non | I422: Non | J422: 44608
...

Sheet Nombre journalier
B2: Nombre de tôles par jour : | C2: 0.25 | D2: 0.5 | E2: 1 | F2: Sanction 0 | G2: Sanction 2 | H2: Sanction 3
B3: 44564 | C3: =COUNTIFS(Suivi!$D:$D,"Oui",Suivi!$J:$J,'Nombre journalier'!$B3) -> 0 | D3: =COUNTIFS(Suivi!$E:$E,"Oui",Suivi!$J:$J,'Nombre journalier'!$B3) -> 7 | E3: =COUNTIFS(Suivi!F:F,"Oui",Suivi!J:J,'Nombre journalier'!B3) -> 1 | F3: =COUNTIFS(Suivi!G:G,"Oui",Suivi!J:J,'Nombre journalier'!B3) -> 0 | G3: =COUNTIFS(Suivi!H:H,"Oui",Suivi!J:J,'Nombre journalier'!B3) -> 0 | H3: =COUNTIFS(Suivi!I:I,"Oui",Suivi!J:J,'Nombre journalier'!B3) -> 0 | J3: =D3+#REF! -> #REF!
B4: 44565 | C4: =COUNTIFS(Suivi!$D:$D,"Oui",Suivi!$J:$J,'Nombre journalier'!$B4) -> 0 | D4: =COUNTIFS(Suivi!E:E,"Oui",Suivi!J:J,'Nombre journalier'!B4) -> 21 | E4: =COUNTIFS(Suivi!F:F,"Oui",Suivi!J:J,'Nombre journalier'!B4) -> 0 | F4: =COUNTIFS(Suivi!G:G,"Oui",Suivi!J:J,'Nombre journalier'!B4) -> 0 | G4: =COUNTIFS(Suivi!H:H,"Oui",Suivi!J:J,'Nombre journalier'!B4) -> 0 | H4: =COUNTIFS(Suivi!I:I,"Oui",Suivi!J:J,'Nombre journalier'!B4) -> 0 | J4: =D4+#REF! -> #REF!
B5: 44566 | C5: =COUNTIFS(Suivi!$D:$D,"Oui",Suivi!$J:$J,'Nombre journalier'!$B5) -> 0 | D5: =COUNTIFS(Suivi!E:E,"Oui",Suivi!J:J,'Nombre journalier'!B5) -> 11 | E5: =COUNTIFS(Suivi!F:F,"Oui",Suivi!J:J,'Nombre journalier'!B5) -> 0 | F5: =COUNTIFS(Suivi!G:G,"Oui",Suivi!J:J,'Nombre journalier'!B5) -> 0 | G5: =COUNTIFS(Suivi!H:H,"Oui",Suivi!J:J,'Nombre journalier'!B5) -> 0 | H5: =COUNTIFS(Suivi!I:I,"Oui",Suivi!J:J,'Nombre journalier'!B5) -> 0 | J5: =D5+#REF! -> #REF!
B6: 44567 | C6: =COUNTIFS(Suivi!$D:$D,"Oui",Suivi!$J:$J,'Nombre journalier'!$B6) -> 0 | D6: =COUNTIFS(Suivi!E:E,"Oui",Suivi!J:J,'Nombre journalier'!B6) -> 15 | E6: =COUNTIFS(Suivi!F:F,"Oui",Suivi!J:J,'Nombre journalier'!B6) -> 0 | F6: =COUNTIFS(Suivi!G:G,"Oui",Suivi!J:J,'Nombre journalier'!B6) -> 0 | G6: =COUNTIFS(Suivi!H:H,"Oui",Suivi!J:J,'Nombre journalier'!B6) -> 0 | H6: =COUNTIFS(Suivi!I:I,"Oui",Suivi!J:J,'Nombre journalier'!B6) -> 0 | J6: =D6+#REF! -> #REF!
B7: 44568 | C7: =COUNTIFS(Suivi!$D:$D,"Oui",Suivi!$J:$J,'Nombre journalier'!$B7) -> 0 | D7: =COUNTIFS(Suivi!E:E,"Oui",Suivi!J:J,'Nombre journalier'!B7) -> 17 | E7: =COUNTIFS(Suivi!F:F,"Oui",Suivi!J:J,'Nombre journalier'!B7) -> 0 | F7: =COUNTIFS(Suivi!G:G,"Oui",Suivi!J:J,'Nombre journalier'!B7) -> 0 | G7: =COUNTIFS(Suivi!H:H,"Oui",Suivi!J:J,'Nombre journalier'!B7) -> 0 | H7: =COUNTIFS(Suivi!I:I,"Oui",Suivi!J:J,'Nombre journalier'!B7) -> 0 | J7: =D7+#REF! -> #REF!
B8: 44571 | C8: =COUNTIFS(Suivi!$D:$D,"Oui",Suivi!$J:$J,'Nombre journalier'!$B8) -> 2 | D8: =COUNTIFS(Suivi!E:E,"Oui",Suivi!J:J,'Nombre journalier'!B8) -> 11 | E8: =COUNTIFS(Suivi!F:F,"Oui",Suivi!J:J,'Nombre journalier'!B8) -> 0 | F8: =COUNTIFS(Suivi!G:G,"Oui",Suivi!J:J,'Nombre journalier'!B8) -> 0 | G8: =COUNTIFS(Suivi!H:H,"Oui",Suivi!J:J,'Nombre journalier'!B8) -> 0 | H8: =COUNTIFS(Suivi!I:I,"Oui",Suivi!J:J,'Nombre journalier'!B8) -> 0 | J8: =D8+#REF! -> #REF!
B9: 44572 | C9: =COUNTIFS(Suivi!$D:$D,"Oui",Suivi!$J:$J,'Nombre journalier'!$B9) -> 3 | D9: =COUNTIFS(Suivi!E:E,"Oui",Suivi!J:J,'Nombre journalier'!B9) -> 10 | E9: =COUNTIFS(Suivi!F:F,"Oui",Suivi!J:J,'Nombre journalier'!B9) -> 0 | F9: =COUNTIFS(Suivi!G:G,"Oui",Suivi!J:J,'Nombre journalier'!B9) -> 0 | G9: =COUNTIFS(Suivi!H:H,"Oui",Suivi!J:J,'Nombre journalier'!B9) -> 0 | H9: =COUNTIFS(Suivi!I:I,"Oui",Suivi!J:J,'Nombre journalier'!B9) -> 0 | J9: =D9+#REF! -> #REF!
B10: 44573 | C10: =COUNTIFS(Suivi!$D:$D,"Oui",Suivi!$J:$J,'Nombre journalier'!$B10) -> 1 | D10: =COUNTIFS(Suivi!E:E,"Oui",Suivi!J:J,'Nombre journalier'!B10) -> 10 | E10: =COUNTIFS(Suivi!F:F,"Oui",Suivi!J:J,'Nombre journalier'!B10) -> 0 | F10: =COUNTIFS(Suivi!G:G,"Oui",Suivi!J:J,'Nombre journalier'!B10) -> 0 | G10: =COUNTIFS(Suivi!H:H,"Oui",Suivi!J:J,'Nombre journalier'!B10) -> 0 | H10: =COUNTIFS(Suivi!I:I,"Oui",Suivi!J:J,'Nombre journalier'!B10) -> 0 | J10: =D10+#REF! -> #REF!
B11: 44574 | C11: =COUNTIFS(Suivi!$D:$D,"Oui",Suivi!$J:$J,'Nombre journalier'!$B11) -> 2 | D11: =COUNTIFS(Suivi!E:E,"Oui",Suivi!J:J,'Nombre journalier'!B11) -> 9 | E11: =COUNTIFS(Suivi!F:F,"Oui",Suivi!J:J,'Nombre journalier'!B11) -> 0 | F11: =COUNTIFS(Suivi!G:G,"Oui",Suivi!J:J,'Nombre journalier'!B11) -> 0 | G11: =COUNTIFS(Suivi!H:H,"Oui",Suivi!J:J,'Nombre journalier'!B11) -> 0 | H11: =COUNTIFS(Suivi!I:I,"Oui",Suivi!J:J,'Nombre journalier'!B11) -> 0 | J11: =D11+#REF! -> #REF!
B12: 44575 | C12: =COUNTIFS(Suivi!$D:$D,"Oui",Suivi!$J:$J,'Nombre journalier'!$B12) -> 0 | D12: =COUNTIFS(Suivi!E:E,"Oui",Suivi!J:J,'Nombre journalier'!B12) -> 16 | E12: =COUNTIFS(Suivi!F:F,"Oui",Suivi!J:J,'Nombre journalier'!B12) -> 0 | F12: =COUNTIFS(Suivi!G:G,"Oui",Suivi!J:J,'Nombre journalier'!B12) -> 0 | G12: =COUNTIFS(Suivi!H:H,"Oui",Suivi!J:J,'Nombre journalier'!B12) -> 0 | H12: =COUNTIFS(Suivi!I:I,"Oui",Suivi!J:J,'Nombre journalier'!B12) -> 1 | J12: =D12+#REF! -> #REF!
B13: 44578 | C13: =COUNTIFS(Suivi!$D:$D,"Oui",Suivi!$J:$J,'Nombre journalier'!$B13) -> 0 | D13: =COUNTIFS(Suivi!E:E,"Oui",Suivi!J:J,'Nombre journalier'!B13) -> 16 | E13: =COUNTIFS(Suivi!F:F,"Oui",Suivi!J:J,'Nombre journalier'!B13) -> 0 | F13: =COUNTIFS(Suivi!G:G,"Oui",Suivi!J:J,'Nombre journalier'!B13) -> 0 | G13: =COUNTIFS(Suivi!H:H,"Oui",Suivi!J:J,'Nombre journalier'!B13) -> 1 | H13: =COUNTIFS(Suivi!I:I,"Oui",Suivi!J:J,'Nombre journalier'!B13) -> 0 | J13: =D13+#REF! -> #REF!
B14: 44579 | C14: =COUNTIFS(Suivi!$D:$D,"Oui",Suivi!$J:$J,'Nombre journalier'!$B14) -> 0 | D14: =COUNTIFS(Suivi!E:E,"Oui",Suivi!J:J,'Nombre journalier'!B14) -> 12 | E14: =COUNTIFS(Suivi!F:F,"Oui",Suivi!J:J,'Nombre journalier'!B14) -> 0 | F14: =COUNTIFS(Suivi!G:G,"Oui",Suivi!J:J,'Nombre journalier'!B14) -> 0 | G14: =COUNTIFS(Suivi!H:H,"Oui",Suivi!J:J,'Nombre journalier'!B14) -> 0 | H14: =COUNTIFS(Suivi!I:I,"Oui",Suivi!J:J,'Nombre journalier'!B14) -> 0 | J14: =D14+#REF! -> #REF!
B15: 44580 | C15: =COUNTIFS(Suivi!$D:$D,"Oui",Suivi!$J:$J,'Nombre journalier'!$B15) -> 0 | D15: =COUNTIFS(Suivi!E:E,"Oui",Suivi!J:J,'Nombre journalier'!B15) -> 6 | E15: =COUNTIFS(Suivi!F:F,"Oui",Suivi!J:J,'Nombre journalier'!B15) -> 0 | F15: =COUNTIFS(Suivi!G:G,"Oui",Suivi!J:J,'Nombre journalier'!B15) -> 1 | G15: =COUNTIFS(Suivi!H:H,"Oui",Suivi!J:J,'Nombre journalier'!B15) -> 0 | H15: =COUNTIFS(Suivi!I:I,"Oui",Suivi!J:J,'Nombre journalier'!B15) -> 0 | J15: =D15+#REF! -> #REF!
... B27: 44596 | C27: =COUNTIFS(Suivi!$D:$D,"Oui",Suivi!$J:$J,'Nombre journalier'!$B27) -> 0 | D27: =COUNTIFS(Suivi!E:E,"Oui",Suivi!J:J,'Nombre journalier'!B27) -> 13 | E27: =COUNTIFS(Suivi!F:F,"Oui",Suivi!J:J,'Nombre journalier'!B27) -> 1 | F27: =COUNTIFS(Suivi!G:G,"Oui",Suivi!J:J,'Nombre journalier'!B27) -> 0 | G27: =COUNTIFS(Suivi!H:H,"Oui",Suivi!J:J,'Nombre journalier'!B27) -> 1 | H27: =COUNTIFS(Suivi!I:I,"Oui",Suivi!J:J,'Nombre journalier'!B27) -> 2 | J27: =D27+#REF! -> #REF!
B28: =B23+7 -> 44599 | C28: =COUNTIFS(Suivi!$D:$D,"Oui",Suivi!$J:$J,'Nombre journalier'!$B28) -> 0 | D28: =COUNTIFS(Suivi!E:E,"Oui",Suivi!J:J,'Nombre journalier'!B28) -> 15 | E28: =COUNTIFS(Suivi!F:F,"Oui",Suivi!J:J,'Nombre journalier'!B28) -> 0 | F28: =COUNTIFS(Suivi!G:G,"Oui",Suivi!J:J,'Nombre journalier'!B28) -> 0 | G28: =COUNTIFS(Suivi!H:H,"Oui",Suivi!J:J,'Nombre journalier'!B28) -> 1 | H28: =COUNTIFS(Suivi!I:I,"Oui",Suivi!J:J,'Nombre journalier'!B28) -> 1 | J28: =D28+#REF! -> #REF!
B29: =B24+7 -> 44600 | C29: =COUNTIFS(Suivi!$D:$D,"Oui",Suivi!$J:$J,'Nombre journalier'!$B29) -> 0 | D29: =COUNTIFS(Suivi!E:E,"Oui",Suivi!J:J,'Nombre journalier'!B29) -> 5 | E29: =COUNTIFS(Suivi!F:F,"Oui",Suivi!J:J,'Nombre journalier'!B29) -> 0 | F29: =COUNTIFS(Suivi!G:G,"Oui",Suivi!J:J,'Nombre journalier'!B29) -> 2 | G29: =COUNTIFS(Suivi!H:H,"Oui",Suivi!J:J,'Nombre journalier'!B29) -> 0 | H29: =COUNTIFS(Suivi!I:I,"Oui",Suivi!J:J,'Nombre journalier'!B29) -> 0 | J29: =D29+#REF! -> #REF!
B30: =B25+7 -> 44601 | C30: =COUNTIFS(Suivi!$D:$D,"Oui",Suivi!$J:$J,'Nombre journalier'!$B30) -> 0 | D30: =COUNTIFS(Suivi!E:E,"Oui",Suivi!J:J,'Nombre journalier'!B30) -> 14 | E30: =COUNTIFS(Suivi!F:F,"Oui",Suivi!J:J,'Nombre journalier'!B30) -> 0 | F30: =COUNTIFS(Suivi!G:G,"Oui",Suivi!J:J,'Nombre journalier'!B30) -> 0 | G30: =COUNTIFS(Suivi!H:H,"Oui",Suivi!J:J,'Nombre journalier'!B30) -> 0 | H30: =COUNTIFS(Suivi!I:I,"Oui",Suivi!J:J,'Nombre journalier'!B30) -> 0 | J30: =D30+#REF! -> #REF!
B31: =B26+7 -> 44602 | C31: =COUNTIFS(Suivi!$D:$D,"Oui",Suivi!$J:$J,'Nombre journalier'!$B31) -> 0 | D31: =COUNTIFS(Suivi!E:E,"Oui",Suivi!J:J,'Nombre journalier'!B31) -> 19 | E31: =COUNTIFS(Suivi!F:F,"Oui",Suivi!J:J,'Nombre journalier'!B31) -> 0 | F31: =COUNTIFS(Suivi!G:G,"Oui",Suivi!J:J,'Nombre journalier'!B31) -> 0 | G31: =COUNTIFS(Suivi!H:H,"Oui",Suivi!J:J,'Nombre journalier'!B31) -> 0 | H31: =COUNTIFS(Suivi!I:I,"Oui",Suivi!J:J,'Nombre journalier'!B31) -> 0 | J31: =D31+#REF! -> #REF!
B32: 44603 | C32: =COUNTIFS(Suivi!$D:$D,"Oui",Suivi!$J:$J,'Nombre journalier'!$B32) -> 1 | D32: =COUNTIFS(Suivi!E:E,"Oui",Suivi!J:J,'Nombre journalier'!B32) -> 17 | E32: =COUNTIFS(Suivi!F:F,"Oui",Suivi!J:J,'Nombre journalier'!B32) -> 0 | F32: =COUNTIFS(Suivi!G:G,"Oui",Suivi!J:J,'Nombre journalier'!B32) -> 1 | G32: =COUNTIFS(Suivi!H:H,"Oui",Suivi!J:J,'Nombre journalier'!B32) -> 2 | H32: =COUNTIFS(Suivi!I:I,"Oui",Suivi!J:J,'Nombre journalier'!B32) -> 0 | J32: =D32+#REF! -> #REF!
B33: =B28+7 -> 44606 | C33: =COUNTIFS(Suivi!$D:$D,"Oui",Suivi!$J:$J,'Nombre journalier'!$B33) -> 0 | D33: =COUNTIFS(Suivi!$E:$E,"Oui",Suivi!$J:$J,'Nombre journalier'!$B33) -> 15 | E33: =COUNTIFS(Suivi!F:F,"Oui",Suivi!J:J,'Nombre journalier'!B33) -> 0 | F33: =COUNTIFS(Suivi!G:G,"Oui",Suivi!J:J,'Nombre journalier'!B33) -> 0 | G33: =COUNTIFS(Suivi!H:H,"Oui",Suivi!J:J,'Nombre journalier'!B33) -> 1 | H33: =COUNTIFS(Suivi!I:I,"Oui",Suivi!J:J,'Nombre journalier'!B33) -> 1 | J33: =D33+#REF! -> #REF!
B34: =B29+7 -> 44607 | C34: =COUNTIFS(Suivi!$D:$D,"Oui",Suivi!$J:$J,'Nombre journalier'!$B34) -> 0 | D34: =COUNTIFS(Suivi!E:E,"Oui",Suivi!J:J,'Nombre journalier'!B34) -> 14 | E34: =COUNTIFS(Suivi!F:F,"Oui",Suivi!J:J,'Nombre journalier'!B34) -> 1 | F34: =COUNTIFS(Suivi!G:G,"Oui",Suivi!J:J,'Nombre journalier'!B34) -> 0 | G34: =COUNTIFS(Suivi!H:H,"Oui",Suivi!J:J,'Nombre journalier'!B34) -> 0 | H34: =COUNTIFS(Suivi!I:I,"Oui",Suivi!J:J,'Nombre journalier'!B34) -> 0 | J34: =D34+#REF! -> #REF!
B35: =B30+7 -> 44608 | C35: =COUNTIFS(Suivi!$D:$D,"Oui",Suivi!$J:$J,'Nombre journalier'!$B35) -> 2 | D35: =COUNTIFS(Suivi!E:E,"Oui",Suivi!J:J,'Nombre journalier'!B35) -> 15 | E35: =COUNTIFS(Suivi!F:F,"Oui",Suivi!J:J,'Nombre journalier'!B35) -> 0 | F35: =COUNTIFS(Suivi!G:G,"Oui",Suivi!J:J,'Nombre journalier'!B35) -> 1 | G35: =COUNTIFS(Suivi!H:H,"Oui",Suivi!J:J,'Nombre journalier'!B35) -> 0 | H35: =COUNTIFS(Suivi!I:I,"Oui",Suivi!J:J,'Nombre journalier'!B35) -> 0 | J35: =D35+#REF! -> #REF!
B36: =B31+7 -> 44609 | C36: =COUNTIFS(Suivi!$D:$D,"Oui",Suivi!$J:$J,'Nombre journalier'!$B36) -> 0 | D36: =COUNTIFS(Suivi!E:E,"Oui",Suivi!J:J,'Nombre journalier'!B36) -> 17 | E36: =COUNTIFS(Suivi!F:F,"Oui",Suivi!J:J,'Nombre journalier'!B36) -> 0 | F36: =COUNTIFS(Suivi!G:G,"Oui",Suivi!J:J,'Nombre journalier'!B36) -> 0 | G36: =COUNTIFS(Suivi!H:H,"Oui",Suivi!J:J,'Nombre journalier'!B36) -> 0 | H36: =COUNTIFS(Suivi!I:I,"Oui",Suivi!J:J,'Nombre journalier'!B36) -> 0 | J36: =D36+#REF! -> #REF!
B37: =B32+7 -> 44610 | C37: =COUNTIFS(Suivi!$D:$D,"Oui",Suivi!$J:$J,'Nombre journalier'!$B37) -> 0 | D37: =COUNTIFS(Suivi!E:E,"Oui",Suivi!J:J,'Nombre journalier'!B37) -> 10 | E37: =COUNTIFS(Suivi!F:F,"Oui",Suivi!J:J,'Nombre journalier'!B37) -> 0 | F37: =COUNTIFS(Suivi!G:G,"Oui",Suivi!J:J,'Nombre journalier'!B37) -> 0 | G37: =COUNTIFS(Suivi!H:H,"Oui",Suivi!J:J,'Nombre journalier'!B37) -> 0 | H37: =COUNTIFS(Suivi!I:I,"Oui",Suivi!J:J,'Nombre journalier'!B37) -> 0 | J37: =D37+#REF! -> #REF!
B38: =B33+7 -> 44613 | C38: =COUNTIFS(Suivi!$D:$D,"Oui",Suivi!$J:$J,'Nombre journalier'!$B38) -> 1 | D38: =COUNTIFS(Suivi!E:E,"Oui",Suivi!J:J,'Nombre journalier'!B38) -> 11 | E38: =COUNTIFS(Suivi!F:F,"Oui",Suivi!J:J,'Nombre journalier'!B38) -> 1 | F38: =COUNTIFS(Suivi!G:G,"Oui",Suivi!J:J,'Nombre journalier'!B38) -> 1 | G38: =COUNTIFS(Suivi!H:H,"Oui",Suivi!J:J,'Nombre journalier'!B38) -> 0 | H38: =COUNTIFS(Suivi!I:I,"Oui",Suivi!J:J,'Nombre journalier'!B38) -> 3 | J38: =D38+#REF! -> #REF!
B39: =B34+7 -> 44614 | C39: =COUNTIFS(Suivi!$D:$D,"Oui",Suivi!$J:$J,'Nombre journalier'!$B39) -> 4 | D39: =COUNTIFS(Suivi!E:E,"Oui",Suivi!J:J,'Nombre journalier'!B39) -> 16 | E39: =COUNTIFS(Suivi!F:F,"Oui",Suivi!J:J,'Nombre journalier'!B39) -> 1 | F39: =COUNTIFS(Suivi!G:G,"Oui",Suivi!J:J,'Nombre journalier'!B39) -> 1 | G39: =COUNTIFS(Suivi!H:H,"Oui",Suivi!J:J,'Nombre journalier'!B39) -> 0 | H39: =COUNTIFS(Suivi!I:I,"Oui",Suivi!J:J,'Nombre journalier'!B39) -> 0 | J39: =D39+#REF! -> #REF!
B40: =B35+7 -> 44615 | C40: =COUNTIFS(Suivi!$D:$D,"Oui",Suivi!$J:$J,'Nombre journalier'!$B40) -> 0 | D40: =COUNTIFS(Suivi!E:E,"Oui",Suivi!J:J,'Nombre journalier'!B40) -> 15 | E40: =COUNTIFS(Suivi!F:F,"Oui",Suivi!J:J,'Nombre journalier'!B40) -> 5 | F40: =COUNTIFS(Suivi!G:G,"Oui",Suivi!J:J,'Nombre journalier'!B40) -> 0 | G40: =COUNTIFS(Suivi!H:H,"Oui",Suivi!J:J,'Nombre journalier'!B40) -> 0 | H40: =COUNTIFS(Suivi!I:I,"Oui",Suivi!J:J,'Nombre journalier'!B40) -> 0 | J40: =D40+#REF! -> #REF!
B41: =B36+7 -> 44616 | C41: =COUNTIFS(Suivi!$D:$D,"Oui",Suivi!$J:$J,'Nombre journalier'!$B41) -> 1 | D41: =COUNTIFS(Suivi!E:E,"Oui",Suivi!J:J,'Nombre journalier'!B41) -> 12 | E41: =COUNTIFS(Suivi!F:F,"Oui",Suivi!J:J,'Nombre journalier'!B41) -> 1 | F41: =COUNTIFS(Suivi!G:G,"Oui",Suivi!J:J,'Nombre journalier'!B41) -> 0 | G41: =COUNTIFS(Suivi!H:H,"Oui",Suivi!J:J,'Nombre journalier'!B41) -> 1 | H41: =COUNTIFS(Suivi!I:I,"Oui",Suivi!J:J,'Nombre journalier'!B41) -> 1 | J41: =D41+#REF! -> #REF!
B42: =B37+7 -> 44617 | C42: =COUNTIFS(Suivi!$D:$D,"Oui",Suivi!$J:$J,'Nombre journalier'!$B42) -> 0 | D42: =COUNTIFS(Suivi!E:E,"Oui",Suivi!J:J,'Nombre journalier'!B42) -> 0 | E42: =COUNTIFS(Suivi!F:F,"Oui",Suivi!J:J,'Nombre journalier'!B42) -> 0 | F42: =COUNTIFS(Suivi!G:G,"Oui",Suivi!J:J,'Nombre journalier'!B42) -> 0 | G42: =COUNTIFS(Suivi!H:H,"Oui",Suivi!J:J,'Nombre journalier'!B42) -> 0 | H42: =COUNTIFS(Suivi!I:I,"Oui",Suivi!J:J,'Nombre journalier'!B42) -> 0 | J42: =D42+#REF! -> #REF!
B43: =B38+7 -> 44620 | C43: =COUNTIFS(Suivi!$D:$D,"Oui",Suivi!$J:$J,'Nombre journalier'!$B43) -> 0 | D43: =COUNTIFS(Suivi!E:E,"Oui",Suivi!J:J,'Nombre journalier'!B43) -> 0 | E43: =COUNTIFS(Suivi!F:F,"Oui",Suivi!J:J,'Nombre journalier'!B43) -> 0 | F43: =COUNTIFS(Suivi!G:G,"Oui",Suivi!J:J,'Nombre journalier'!B43) -> 0 | G43: =COUNTIFS(Suivi!H:H,"Oui",Suivi!J:J,'Nombre journalier'!B43) -> 0 | H43: =COUNTIFS(Suivi!I:I,"Oui",Suivi!J:J,'Nombre journalier'!B43) -> 0 | J43: =D43+#REF! -> #REF!
B44: =B39+7 -> 44621 | C44: =COUNTIFS(Suivi!$D:$D,"Oui",Suivi!$J:$J,'Nombre journalier'!$B44) -> 0 | D44: =COUNTIFS(Suivi!E:E,"Oui",Suivi!J:J,'Nombre journalier'!B44) -> 0 | E44: =COUNTIFS(Suivi!F:F,"Oui",Suivi!J:J,'Nombre journalier'!B44) -> 0 | F44: =COUNTIFS(Suivi!G:G,"Oui",Suivi!J:J,'Nombre journalier'!B44) -> 0 | G44: =COUNTIFS(Suivi!H:H,"Oui",Suivi!J:J,'Nombre journalier'!B44) -> 0 | H44: =COUNTIFS(Suivi!I:I,"Oui",Suivi!J:J,'Nombre journalier'!B44) -> 0 | J44: =D44+#REF! -> #REF!
B45: =B40+7 -> 44622 | C45: =COUNTIFS(Suivi!$D:$D,"Oui",Suivi!$J:$J,'Nombre journalier'!$B45) -> 0 | D45: =COUNTIFS(Suivi!E:E,"Oui",Suivi!J:J,'Nombre journalier'!B45) -> 0 | E45: =COUNTIFS(Suivi!F:F,"Oui",Suivi!J:J,'Nombre journalier'!B45) -> 0 | F45: =COUNTIFS(Suivi!G:G,"Oui",Suivi!J:J,'Nombre journalier'!B45) -> 0 | G45: =COUNTIFS(Suivi!H:H,"Oui",Suivi!J:J,'Nombre journalier'!B45) -> 0 | H45: =COUNTIFS(Suivi!I:I,"Oui",Suivi!J:J,'Nombre journalier'!B45) -> 0 | J45: =D45+#REF! -> #REF!
... B62: =B57+7 -> 44645 | C62: =COUNTIFS(Suivi!$D:$D,"Oui",Suivi!$J:$J,'Nombre journalier'!$B62) -> 0 | D62: =COUNTIFS(Suivi!E:E,"Oui",Suivi!J:J,'Nombre journalier'!B62) -> 0 | E62: =COUNTIFS(Suivi!F:F,"Oui",Suivi!J:J,'Nombre journalier'!B62) -> 0 | F62: =COUNTIFS(Suivi!G:G,"Oui",Suivi!J:J,'Nombre journalier'!B62) -> 0 | G62: =COUNTIFS(Suivi!H:H,"Oui",Suivi!J:J,'Nombre journalier'!B62) -> 0 | H62: =COUNTIFS(Suivi!I:I,"Oui",Suivi!J:J,'Nombre journalier'!B62) -> 0 | J62: =D62+#REF! -> #REF!
C63: =COUNTIFS(Suivi!$D:$D,"Oui",Suivi!$J:$J,'Nombre journalier'!$B63) -> 0 | D63: =COUNTIFS(Suivi!E:E,"Oui",Suivi!J:J,'Nombre journalier'!B63) -> 0 | E63: =COUNTIFS(Suivi!F:F,"Oui",Suivi!J:J,'Nombre journalier'!B63) -> 0 | F63: =COUNTIFS(Suivi!G:G,"Oui",Suivi!J:J,'Nombre journalier'!B63) -> 0 | G63: =COUNTIFS(Suivi!H:H,"Oui",Suivi!J:J,'Nombre journalier'!B63) -> 0 | H63: =COUNTIFS(Suivi!I:I,"Oui",Suivi!J:J,'Nombre journalier'!B63) -> 0 | J63: =D63+#REF! -> #REF!
C64: =COUNTIFS(Suivi!$D:$D,"Oui",Suivi!$J:$J,'Nombre journalier'!$B64) -> 0 | D64: =COUNTIFS(Suivi!E:E,"Oui",Suivi!J:J,'Nombre journalier'!B64) -> 0 | E64: =COUNTIFS(Suivi!F:F,"Oui",Suivi!J:J,'Nombre journalier'!B64) -> 0 | F64: =COUNTIFS(Suivi!G:G,"Oui",Suivi!J:J,'Nombre journalier'!B64) -> 0 | G64: =COUNTIFS(Suivi!H:H,"Oui",Suivi!J:J,'Nombre journalier'!B64) -> 0 | H64: =COUNTIFS(Suivi!I:I,"Oui",Suivi!J:J,'Nombre journalier'!B64) -> 0 | J64: =D64+#REF! -> #REF!
C65: =COUNTIFS(Suivi!$D:$D,"Oui",Suivi!$J:$J,'Nombre journalier'!$B65) -> 0 | D65: =COUNTIFS(Suivi!E:E,"Oui",Suivi!J:J,'Nombre journalier'!B65) -> 0 | E65: =COUNTIFS(Suivi!F:F,"Oui",Suivi!J:J,'Nombre journalier'!B65) -> 0 | F65: =COUNTIFS(Suivi!G:G,"Oui",Suivi!J:J,'Nombre journalier'!B65) -> 0 | G65: =COUNTIFS(Suivi!H:H,"Oui",Suivi!J:J,'Nombre journalier'!B65) -> 0 | H65: =COUNTIFS(Suivi!I:I,"Oui",Suivi!J:J,'Nombre journalier'!B65) -> 0 | J65: =D65+#REF! -> #REF!
C66: =COUNTIFS(Suivi!$D:$D,"Oui",Suivi!$J:$J,'Nombre journalier'!$B66) -> 0 | D66: =COUNTIFS(Suivi!E:E,"Oui",Suivi!J:J,'Nombre journalier'!B66) -> 0 | E66: =COUNTIFS(Suivi!F:F,"Oui",Suivi!J:J,'Nombre journalier'!B66) -> 0 | F66: =COUNTIFS(Suivi!G:G,"Oui",Suivi!J:J,'Nombre journalier'!B66) -> 0 | G66: =COUNTIFS(Suivi!H:H,"Oui",Suivi!J:J,'Nombre journalier'!B66) -> 0 | H66: =COUNTIFS(Suivi!I:I,"Oui",Suivi!J:J,'Nombre journalier'!B66) -> 0 | J66: =D66+#REF! -> #REF!
C67: =COUNTIFS(Suivi!$D:$D,"Oui",Suivi!$J:$J,'Nombre journalier'!$B67) -> 0 | D67: =COUNTIFS(Suivi!E:E,"Oui",Suivi!J:J,'Nombre journalier'!B67) -> 0 | E67: =COUNTIFS(Suivi!F:F,"Oui",Suivi!J:J,'Nombre journalier'!B67) -> 0 | F67: =COUNTIFS(Suivi!G:G,"Oui",Suivi!J:J,'Nombre journalier'!B67) -> 0 | G67: =COUNTIFS(Suivi!H:H,"Oui",Suivi!J:J,'Nombre journalier'!B67) -> 0 | H67: =COUNTIFS(Suivi!I:I,"Oui",Suivi!J:J,'Nombre journalier'!B67) -> 0 | J67: =D67+#REF! -> #REF!
C68: =COUNTIFS(Suivi!$D:$D,"Oui",Suivi!$J:$J,'Nombre journalier'!$B68) -> 0 | D68: =COUNTIFS(Suivi!E:E,"Oui",Suivi!J:J,'Nombre journalier'!B68) -> 0 | E68: =COUNTIFS(Suivi!F:F,"Oui",Suivi!J:J,'Nombre journalier'!B68) -> 0 | F68: =COUNTIFS(Suivi!G:G,"Oui",Suivi!J:J,'Nombre journalier'!B68) -> 0 | G68: =COUNTIFS(Suivi!H:H,"Oui",Suivi!J:J,'Nombre journalier'!B68) -> 0 | H68: =COUNTIFS(Suivi!I:I,"Oui",Suivi!J:J,'Nombre journalier'!B68) -> 0 | J68: =D68+#REF! -> #REF!
C69: =COUNTIFS(Suivi!$D:$D,"Oui",Suivi!$J:$J,'Nombre journalier'!$B69) -> 0 | D69: =COUNTIFS(Suivi!E:E,"Oui",Suivi!J:J,'Nombre journalier'!B69) -> 0 | E69: =COUNTIFS(Suivi!F:F,"Oui",Suivi!J:J,'Nombre journalier'!B69) -> 0 | F69: =COUNTIFS(Suivi!G:G,"Oui",Suivi!J:J,'Nombre journalier'!B69) -> 0 | G69: =COUNTIFS(Suivi!H:H,"Oui",Suivi!J:J,'Nombre journalier'!B69) -> 0 | H69: =COUNTIFS(Suivi!I:I,"Oui",Suivi!J:J,'Nombre journalier'!B69) -> 0 | J69: =D69+#REF! -> #REF!
C70: =COUNTIFS(Suivi!$D:$D,"Oui",Suivi!$J:$J,'Nombre journalier'!$B70) -> 0 | D70: =COUNTIFS(Suivi!E:E,"Oui",Suivi!J:J,'Nombre journalier'!B70) -> 0 | E70: =COUNTIFS(Suivi!F:F,"Oui",Suivi!J:J,'Nombre journalier'!B70) -> 0 | F70: =COUNTIFS(Suivi!G:G,"Oui",Suivi!J:J,'Nombre journalier'!B70) -> 0 | G70: =COUNTIFS(Suivi!H:H,"Oui",Suivi!J:J,'Nombre journalier'!B70) -> 0 | H70: =COUNTIFS(Suivi!I:I,"Oui",Suivi!J:J,'Nombre journalier'!B70) -> 0 | J70: =D70+#REF! -> #REF!
C71: =COUNTIFS(Suivi!$D:$D,"Oui",Suivi!$J:$J,'Nombre journalier'!$B71) -> 0 | D71: =COUNTIFS(Suivi!E:E,"Oui",Suivi!J:J,'Nombre journalier'!B71) -> 0 | E71: =COUNTIFS(Suivi!F:F,"Oui",Suivi!J:J,'Nombre journalier'!B71) -> 0 | F71: =COUNTIFS(Suivi!G:G,"Oui",Suivi!J:J,'Nombre journalier'!B71) -> 0 | G71: =COUNTIFS(Suivi!H:H,"Oui",Suivi!J:J,'Nombre journalier'!B71) -> 0 | H71: =COUNTIFS(Suivi!I:I,"Oui",Suivi!J:J,'Nombre journalier'!B71) -> 0 | J71: =D71+#REF! -> #REF!
C72: =COUNTIFS(Suivi!$D:$D,"Oui",Suivi!$J:$J,'Nombre journalier'!$B72) -> 0 | D72: =COUNTIFS(Suivi!E:E,"Oui",Suivi!J:J,'Nombre journalier'!B72) -> 0 | E72: =COUNTIFS(Suivi!F:F,"Oui",Suivi!J:J,'Nombre journalier'!B72) -> 0 | F72: =COUNTIFS(Suivi!G:G,"Oui",Suivi!J:J,'Nombre journalier'!B72) -> 0 | G72: =COUNTIFS(Suivi!H:H,"Oui",Suivi!J:J,'Nombre journalier'!B72) -> 0 | H72: =COUNTIFS(Suivi!I:I,"Oui",Suivi!J:J,'Nombre journalier'!B72) -> 0 | J72: =D72+#REF! -> #REF!
C73: =COUNTIFS(Suivi!$D:$D,"Oui",Suivi!$J:$J,'Nombre journalier'!$B73) -> 0 | D73: =COUNTIFS(Suivi!E:E,"Oui",Suivi!J:J,'Nombre journalier'!B73) -> 0 | E73: =COUNTIFS(Suivi!F:F,"Oui",Suivi!J:J,'Nombre journalier'!B73) -> 0 | F73: =COUNTIFS(Suivi!G:G,"Oui",Suivi!J:J,'Nombre journalier'!B73) -> 0 | G73: =COUNTIFS(Suivi!H:H,"Oui",Suivi!J:J,'Nombre journalier'!B73) -> 0 | H73: =COUNTIFS(Suivi!I:I,"Oui",Suivi!J:J,'Nombre journalier'!B73) -> 0 | J73: =D73+#REF! -> #REF!
C74: =COUNTIFS(Suivi!$D:$D,"Oui",Suivi!$J:$J,'Nombre journalier'!$B74) -> 0 | D74: =COUNTIFS(Suivi!E:E,"Oui",Suivi!J:J,'Nombre journalier'!B74) -> 0 | E74: =COUNTIFS(Suivi!F:F,"Oui",Suivi!J:J,'Nombre journalier'!B74) -> 0 | F74: =COUNTIFS(Suivi!G:G,"Oui",Suivi!J:J,'Nombre journalier'!B74) -> 0 | G74: =COUNTIFS(Suivi!H:H,"Oui",Suivi!J:J,'Nombre journalier'!B74) -> 0 | H74: =COUNTIFS(Suivi!I:I,"Oui",Suivi!J:J,'Nombre journalier'!B74) -> 0 | J74: =D74+#REF! -> #REF!
... C122: =COUNTIFS(Suivi!$D:$D,"Oui",Suivi!$J:$J,'Nombre journalier'!$B122) -> 0 | D122: =COUNTIFS(Suivi!E:E,"Oui",Suivi!J:J,'Nombre journalier'!B122) -> 0 | E122: =COUNTIFS(Suivi!F:F,"Oui",Suivi!J:J,'Nombre journalier'!B122) -> 0 | F122: =COUNTIFS(Suivi!G:G,"Oui",Suivi!J:J,'Nombre journalier'!B122) -> 0 | G122: =COUNTIFS(Suivi!H:H,"Oui",Suivi!J:J,'Nombre journalier'!B122) -> 0 | H122: =COUNTIFS(Suivi!I:I,"Oui",Suivi!J:J,'Nombre journalier'!B122) -> 0 | J122: =D122+#REF! -> #REF!
J123: =D123+#REF! -> #REF!
J124: =D124+#REF! -> #REF!
J125: =D125+#REF! -> #REF!
J126: =D126+#REF! -> #REF!
J127: =D127+#REF! -> #REF!
J128: =D128+#REF! -> #REF!
J129: =D129+#REF! -> #REF!
J130: =D130+#REF! -> #REF!
J131: =D131+#REF! -> #REF!
J132: =D132+#REF! -> #REF!
J133: =D133+#REF! -> #REF!
J134: =D134+#REF! -> #REF!
... J178: =D178+#REF! -> #REF!

Sheet Rapport Journalier
B6: Tôles réalisées le : | G6: =TODAY() -> 44619
B7: Tôles | D7: 0.25 | E7: 0.5 | F7: 1 | G7: Sanction 0 | H7: Sanction 2 | I7: Sanction 3
B8: =IF(Suivi!J496='Rapport Journalier'!$G$6,Suivi!B496,"") | G8: X
B9: =IF(Suivi!J497='Rapport Journalier'!$G$6,Suivi!B497,"") | G9: X
B10: =IF(Suivi!J498='Rapport Journalier'!$G$6,Suivi!B498,"") | E10: X | G10: X
B11: =IF(Suivi!J499='Rapport Journalier'!$G$6,Suivi!B499,"") | G11: X
B12: =IF(Suivi!J500='Rapport Journalier'!$G$6,Suivi!B500,"") | G12: X
B13: =IF(Suivi!J501='Rapport Journalier'!$G$6,Suivi!B501,"") | D13: X | G13: X
B14: =IF(Suivi!J502='Rapport Journalier'!$G$6,Suivi!B502,"") | I14: X
B15: =IF(Suivi!J503='Rapport Journalier'!$G$6,Suivi!B503,"") | G15: X
B16: =IF(Suivi!J504='Rapport Journalier'!$G$6,Suivi!B504,"") | G16: X
B17: =IF(Suivi!J505='Rapport Journalier'!$G$6,Suivi!B505,"") | H17: X
B18: =IF(Suivi!J506='Rapport Journalier'!$G$6,Suivi!B506,"") | G18: X
B19: =IF(Suivi!J507='Rapport Journalier'!$G$6,Suivi!B507,"") | G19: X
B20: =IF(Suivi!J508='Rapport Journalier'!$G$6,Suivi!B508,"")
B21: =IF(Suivi!J509='Rapport Journalier'!$G$6,Suivi!B509,"")
B22: =IF(Suivi!J510='Rapport Journalier'!$G$6,Suivi!B510,"")
B23: =IF(Suivi!J511='Rapport Journalier'!$G$6,Suivi!B511,"")
B24: =IF(Suivi!J512='Rapport Journalier'!$G$6,Suivi!B512,"")
B25: =IF(Suivi!J513='Rapport Journalier'!$G$6,Suivi!B513,"")
B26: =IF(Suivi!J514='Rapport Journalier'!$G$6,Suivi!B514,"")
B27: =IF(Suivi!J515='Rapport Journalier'!$G$6,Suivi!B515,"")
B28: =IF(Suivi!J516='Rapport Journalier'!$G$6,Suivi!B516,"")
B29: =IF(Suivi!J517='Rapport Journalier'!$G$6,Suivi!B517,"")
B30: =IF(Suivi!J518='Rapport Journalier'!$G$6,Suivi!B518,"")
B31: =IF(Suivi!J637='Rapport Journalier'!$G$6,Suivi!B637,"")
B32: Total : | E32: =COUNTA(G8:I31) -> 12
B40: =IF(Suivi!J155='Rapport Journalier'!C39,Suivi!B155,"")
B41: =IF(Suivi!J156='Rapport Journalier'!C40,Suivi!B156,"")
B42: =IF(Suivi!J157='Rapport Journalier'!C41,Suivi!B157,"")
B43: =IF(Suivi!J158='Rapport Journalier'!C42,Suivi!B158,"")
B44: =IF(Suivi!J159='Rapport Journalier'!C43,Suivi!B159,"")
B45: =IF(Suivi!J160='Rapport Journalier'!C44,Suivi!B160,"")
B46: =IF(Suivi!J161='Rapport Journalier'!C45,Suivi!B161,"")
B47: =IF(Suivi!J162='Rapport Journalier'!C46,Suivi!B162,"")
B48: =IF(Suivi!J163='Rapport Journalier'!C47,Suivi!B163,"")
B49: =IF(Suivi!J164='Rapport Journalier'!C48,Suivi!B164,"")
B50: =IF(Suivi!J165='Rapport Journalier'!C49,Suivi!B165,"")
B51: =IF(Suivi!J166='Rapport Journalier'!C50,Suivi!B166,"")
... B104: =IF(Suivi!J219='Rapport Journalier'!C103,Suivi!B219,"")
