Workbook

Sheet Commandes
A1: date livraison | B1: Nom prénom | C1: Entreprise | D1: Montant Commande | E1: Remise | F1: Montant facturé | G1: Payé | H1: MP1 | I1: Date Paiement | J1: SOLDE
A2: Sem 04 | B2: Michel B | C2: TOTO | D2: 16.5 | E2: =INDEX(Entreprises!B:B,MATCH(Commandes!C2,Entreprises!A:A,0)) -> 0.97 | F2: =D2*E2 -> 16.005 | G2: 16.005 | H2: Esp | I2: sem 04 | J2: =G2-F2 -> 0
A3: Sem 04 | B3: Anne A | C3: TOTO | D3: 22.5 | E3: =INDEX(Entreprises!B:B,MATCH(Commandes!C3,Entreprises!A:A,0)) -> 0.97 | F3: =D3*E3 -> 21.825 | G3: 21.825 | H3: CH | I3: sem 04 | J3: =G3-F3 -> 0
A4: Sem 04 | B4: Laurent R | C4: TOTO | D4: 10 | E4: =INDEX(Entreprises!B:B,MATCH(Commandes!C4,Entreprises!A:A,0)) -> 0.97 | F4: =D4*E4 -> 9.7 | G4: 9.7 | H4: CH | I4: sem 04 | J4: =G4-F4 -> 0
A5: Sem 04 | B5: Bernard C | C5: TOTO | D5: 15 | E5: =INDEX(Entreprises!B:B,MATCH(Commandes!C5,Entreprises!A:A,0)) -> 0.97 | F5: =D5*E5 -> 14.55 | G5: 14.55 | H5: CH | I5: sem 04 | J5: =G5-F5 -> 0
A6: Sem 04 | B6: Julie B | C6: TOTO | D6: 10 | E6: =INDEX(Entreprises!B:B,MATCH(Commandes!C6,Entreprises!A:A,0)) -> 0.97 | F6: =D6*E6 -> 9.7 | G6: 9.7 | H6: CH | I6: sem 04 | J6: =G6-F6 -> 0
A7: Sem 04 | B7: David T | C7: TOTO | D7: 17.5 | E7: =INDEX(Entreprises!B:B,MATCH(Commandes!C7,Entreprises!A:A,0)) -> 0.97 | F7: =D7*E7 -> 16.975 | G7: 16.975 | H7: CH | I7: Sem 05 | J7: =G7-F7 -> 0
A8: Sem 04 | B8: Paul G | C8: TOTO | D8: 15 | E8: =INDEX(Entreprises!B:B,MATCH(Commandes!C8,Entreprises!A:A,0)) -> 0.97 | F8: =D8*E8 -> 14.55 | G8: 14.55 | H8: CH | I8: Sem 05 | J8: =G8-F8 -> 0
A9: Sem 04 | B9: Max E | C9: TOTO | D9: 10 | E9: =INDEX(Entreprises!B:B,MATCH(Commandes!C9,Entreprises!A:A,0)) -> 0.97 | F9: =D9*E9 -> 9.7 | G9: 9.7 | H9: CH | I9: Sem 05 | J9: =G9-F9 -> 0
A10: Sem 04 | B10: Thierry S | C10: TOTO | D10: 15 | E10: =INDEX(Entreprises!B:B,MATCH(Commandes!C10,Entreprises!A:A,0)) -> 0.97 | F10: =D10*E10 -> 14.55 | G10: 14.55 | H10: CH | I10: Sem 05 | J10: =G10-F10 -> 0
A11: Sem 04 | B11: Michel Z | C11: MAMA | D11: 10 | E11: =INDEX(Entreprises!B:B,MATCH(Commandes!C11,Entreprises!A:A,0)) -> 0.95 | F11: =D11*E11 -> 9.5 | G11: 9.5 | H11: CH | I11: sem 04 | J11: =G11-F11 -> 0
A12: Sem 04 | B12: Jeanne A | C12: MAMA | D12: 10 | E12: =INDEX(Entreprises!B:B,MATCH(Commandes!C12,Entreprises!A:A,0)) -> 0.95 | F12: =D12*E12 -> 9.5 | G12: 9.5 | H12: CH | I12: sem 04 | J12: =G12-F12 -> 0
A13: Sem 04 | B13: Mireille R | C13: MAMA | D13: 10 | E13: =INDEX(Entreprises!B:B,MATCH(Commandes!C13,Entreprises!A:A,0)) -> 0.95 | F13: =D13*E13 -> 9.5 | G13: 9.5 | H13: CH | I13: sem 04 | J13: =G13-F13 -> 0
... A40: Sem 05 | B40: Robert A | C40: LOU | D40: 15 | E40: =INDEX(Entreprises!B:B,MATCH(Commandes!C40,Entreprises!A:A,0)) -> 1 | F40: =D40*E40 -> 15 | G40: 15 | H40: CB | I40: sem 05 | J40: =G40-F40 -> 0

Sheet Entreprises
A1: ENTREPRISE | B1: REMISE | C1: NB COMMANDES MIN
A2: TOTO | B2: 0.97 | C2: 10
A3: MAMA | B3: 0.95 | C3: 5
A4: LOU | B4: 1 | C4: 0
A5: PER | B5: 0.95 | C5: 10
A6: POL | B6: 1 | C6: 0
A7: TATO | B7: 1 | C7: 0

Sheet Feuil2
A1: Somme de Payé
A2: Date Paiement | B2: MP1 | C2: Total
A3: sem 04 | B3: CH | C3: 103.275
B4: Esp | C4: 16.005
A5: Total sem 04 | C5: 119.28
A6: Sem 05 | B6: CB | C6: 71.79
B7: CH | C7: 186.525
B8: Esp | C8: 32.5
A9: Total Sem 05 | C9: 290.815
A10: sem 06 | B10: CH | C10: 145.56
B11: Esp | C11: 19
A12: Total sem 06 | C12: 164.56
A13: (vide) | B13: (vide)
A14: Total (vide)
A15: Total général | C15: 574.655
