Workbook
Name Année_civile: #REF!
Name badge: [1]!JoursFériés[Jours fériés]
Name Client: Chrono!$J$1:$AA$1
Name CNO: "Knapp 1"
Name ColumnTitleRegion..AC22.1: #REF!
Name GMD: Chrono!$R$2:$R$84
Name LEMAN: Chrono!$L$2:$L$4
Name lstCongés: [1]!JoursFériés[Jours fériés]
Name lstDatesD: [1]!Suivi_des_congés[Date de fin]
Name lstDatesF: [1]!Suivi_des_congés[Date de début]
Name lstEmployés: #REF!
Name lstNomsEmpl: [1]!Suivi_des_congés[Nom de l’employé]
Name lstTypesC: [1]!Suivi_des_congés[Type de congé]
Name lstTypesCongés: [1]!TypesCongés[Liste des types de congés]
Name MARTUR: Chrono!$N$2:$N$12
Name MM: Chrono!$T$2:$T$7
Name Nexteer: Chrono!$Q$2:$Q$18
Name ORHAN: Chrono!$S$2:$S$6
Name SNOP: Chrono!$J$2:$J$28
Name SOGEFI: Chrono!$K$2:$K$6
Name TESCA: Chrono!$U$2:$U$6
Name Titre1: #REF!
Name Titre2: [1]!Suivi_des_congés[[#Headers],[Nom de l’employé]]
Name TitreColonne3: #REF!
Name TitreColonne4: [1]!TypesCongés[[#Headers],[Liste des types de congés]]
Name TitreColonne5: [1]!JoursFériés[[#Headers],[Jours fériés]]
Name TOLIMAR: Chrono!$P$2:$P$22
Name TOOLPRESSE: Chrono!$M$2:$M$7
Name TUYAUTO: Chrono!$O$2:$O$16
Name valSelEmployé: #REF!

Sheet Calcul
A1: Date:
A3: Personne:
A5: Client | B5: Référence | C5: Charge | D5: Décharge | E5: Non prod | F5: Temps en h
F6: =IF(B6="","",((VLOOKUP(B6,Chrono!B:F,4,0)*Calcul!C6)+(VLOOKUP(B6,Chrono!B:F,5,0)*Calcul!D6))/60)
F7: =IF(B7="","",((VLOOKUP(B7,Chrono!B:F,4,0)*Calcul!C7)+(VLOOKUP(B7,Chrono!B:F,5,0)*Calcul!D7))/60)
F8: =IF(B8="","",((VLOOKUP(B8,Chrono!B:F,4,0)*Calcul!C8)+(VLOOKUP(B8,Chrono!B:F,5,0)*Calcul!D8))/60)
F9: =IF(B9="","",((VLOOKUP(B9,Chrono!B:F,4,0)*Calcul!C9)+(VLOOKUP(B9,Chrono!B:F,5,0)*Calcul!D9))/60)
F10: =IF(B10="","",((VLOOKUP(B10,Chrono!B:F,4,0)*Calcul!C10)+(VLOOKUP(B10,Chrono!B:F,5,0)*Calcul!D10))/60)
F11: =IF(B11="","",((VLOOKUP(B11,Chrono!B:F,4,0)*Calcul!C11)+(VLOOKUP(B11,Chrono!B:F,5,0)*Calcul!D11))/60)
F12: =IF(B12="","",((VLOOKUP(B12,Chrono!B:F,4,0)*Calcul!C12)+(VLOOKUP(B12,Chrono!B:F,5,0)*Calcul!D12))/60)
F13: =IF(B13="","",((VLOOKUP(B13,Chrono!B:F,4,0)*Calcul!C13)+(VLOOKUP(B13,Chrono!B:F,5,0)*Calcul!D13))/60)
F14: =IF(B14="","",((VLOOKUP(B14,Chrono!B:F,4,0)*Calcul!C14)+(VLOOKUP(B14,Chrono!B:F,5,0)*Calcul!D14))/60)
F15: =IF(B15="","",((VLOOKUP(B15,Chrono!B:F,4,0)*Calcul!C15)+(VLOOKUP(B15,Chrono!B:F,5,0)*Calcul!D15))/60)
F16: =IF(B16="","",((VLOOKUP(B16,Chrono!B:F,4,0)*Calcul!C16)+(VLOOKUP(B16,Chrono!B:F,5,0)*Calcul!D16))/60)
F17: =IF(B17="","",((VLOOKUP(B17,Chrono!B:F,4,0)*Calcul!C17)+(VLOOKUP(B17,Chrono!B:F,5,0)*Calcul!D17))/60)
... F19: =IF(B19="","",((VLOOKUP(B19,Chrono!B:F,4,0)*Calcul!C19)+(VLOOKUP(B19,Chrono!B:F,5,0)*Calcul!D19))/60)
D20: Total | E20: =SUM(E6:E19) -> 0 | F20: =SUM(F6:F19) -> 0

Sheet Chrono
C1: C1 | E1: C20 | J1: SNOP | K1: SOGEFI | L1: LEMAN | M1: TOOLPRESSE | N1: MARTUR | O1: TUYAUTO | P1: TOLIMAR | Q1: Nexteer | R1: GMD | S1: ORHAN | T1: MM | U1: TESCA
A2: Client | B2: Référence | C2: Charge | D2: Décharge | E2: Charge | F2: Décharge | G2: Marquage | J2: 108225 | K2: Z12007936 | L2: 90123164 | M2: 719027K | N2: M250SY520 | O2: 4620 | P2: 159925 | R2: M200323N01 | S2: LHD-465A28485R | T2: FRONT
A3: SNOP | B3: 108225 | E3: 35 | F3: 40 | J3: 108226 | K3: Z12007937 | M3: 719025K | N3: M250SY521 | O3: 4660 | P3: 158371 | R3: M000352N01 | S3: RHD-465A23473R | T3: REAR
A4: SNOP | B4: 108226 | E4: 35 | F4: 40 | J4: 108707 | M4: 719026K | N4: M250SY014 | O4: 4621 | P4: 158013 | R4: M100325N01 | T4: Retouche légère
A5: SNOP | B5: 108707 | E5: 22 | F5: 25 | J5: 109016 | N5: M250SY214 | P5: 158010 | R5: M000380N01 | T5: Retouche épaisse
A6: SNOP | B6: 109016 | E6: 20 | F6: 20 | J6: 109017 | N6: M250SY013 | P6: 158007 | R6: M000402N01
A7: SNOP | B7: 109017 | E7: 20 | F7: 20 | J7: 108398 | N7: M250SY011 | P7: 157993 | R7: M000403N01
A8: SNOP | B8: 108398 | E8: 30 | F8: 35 | J8: 108399 | N8: M250SY211 | P8: 134732 | R8: M100409N01
A9: SNOP | B9: 108399 | E9: 30 | F9: 35 | J9: 108062 | N9: M250SP211 | P9: 159399 | R9: M000407N01
A10: SNOP | B10: 108062 | E10: 20 | F10: 20 | J10: 108063 | P10: 133920 | R10: M000408N01
A11: SNOP | B11: 108063 | E11: 20 | F11: 20 | J11: 108708 | P11: 123114 | R11: M000406N01
A12: SNOP | B12: 108708 | E12: 8 | F12: 8 | J12: 108709 | P12: 152301 | R12: M000448N01
A13: SNOP | B13: 108709 | E13: 8 | F13: 8 | J13: 108704 | P13: 152302 | R13: M000447N01
A14: SNOP | B14: 108704 | E14: 10 | F14: 12 | J14: 108705 | P14: 159400 | R14: M000428N01
A15: SNOP | B15: 108705 | E15: 10 | F15: 12 | J15: 108047 | P15: 130813 | R15: M000449N01
A16: SNOP | B16: 108047 | E16: 20 | F16: 20 | J16: 108048 | P16: 158012 | R16: M000427N01
A17: SNOP | B17: 108048 | E17: 20 | F17: 20 | J17: 109908 | P17: 133914 | R17: M000324N01
A18: SNOP | B18: 109908 | E18: 25 | F18: 30 | J18: 109756 | R18: M000538N01
A19: SNOP | B19: 109756 | E19: 10 | F19: 15 | J19: 109755 | R19: M100541N01
A20: SNOP | B20: 109755 | E20: 25 | F20: 30 | J20: 109909 | R20: M000539N01
A21: SNOP | B21: 109909 | E21: 10 | F21: 15 | J21: 109751 | R21: M000583N01
A22: SNOP | B22: 109751 | E22: 15 | F22: 20 | R22: M000530N01
A23: SOGEFI | B23: Z12007936 | E23: 35 | F23: 30 | R23: M100589N01
A24: SOGEFI | B24: Z12007937 | E24: 25 | F24: 20 | G24: 0.0375 | R24: M000593N01
A25: LEMAN | B25: 90123164 | E25: 35 | F25: 20 | R25: M100563N01
A26: TOOLPRESSE | B26: 719027K | E26: 15 | F26: 25 | R26: M100548N01
A27: TOOLPRESSE | B27: 719025K | E27: 15 | F27: 25 | R27: M100545N02
A28: TOOLPRESSE | B28: 719026K | E28: 15 | F28: 25 | R28: M000537N01
A29: MARTUR | B29: M250SY520 | E29: 10 | F29: 30 | R29: M000566N01
A30: MARTUR | B30: M250SY521 | E30: 8 | F30: 30 | R30: M100582N01
A31: MARTUR | B31: M250SY014 | E31: 30 | F31: 35 | R31: M100587N01
A32: MARTUR | B32: M250SY214 | E32: 30 | F32: 35 | R32: M100564N01
A33: MARTUR | B33: M250SY013 | E33: 15 | F33: 25 | R33: M000580N02
A34: MARTUR | B34: M250SY011 | E34: 10 | F34: 15 | R34: M000577N01
A35: MARTUR | B35: M250SY211 | E35: 8 | F35: 12 | R35: M100565N01
A36: MARTUR | B36: M250SP211 | E36: 10 | F36: 20 | R36: M000573N01
A37: MARTUR | R37: M000570N01
A38: TUYAUTO | B38: 4620 | E38: 40 | F38: 35 | R38: M100606N01
A39: TUYAUTO | B39: 4660 | E39: 35 | F39: 25 | R39: M000561N01
A40: TUYAUTO | B40: 4621 | R40: M000592N01
A41: TOLIMAR | B41: 159925 | R41: M000562N01
A42: TOLIMAR | B42: 158371 | R42: M000604N01
A43: TOLIMAR | B43: 158013 | R43: M000601N01
A44: TOLIMAR | B44: 158010 | R44: M000600N01
A45: TOLIMAR | B45: 158007 | R45: M000599N02
A46: TOLIMAR | B46: 157993 | R46: M000438N01
A47: TOLIMAR | B47: 134732 | R47: M000450N01
A48: TOLIMAR | B48: 159399 | R48: M000529N02
A49: TOLIMAR | B49: 133920 | R49: M000590N02
A50: TOLIMAR | B50: 123114 | R50: M100560N01
A51: TOLIMAR | B51: 152301 | R51: M000598N01
... A56: TOLIMAR | B56: 133914 | R56: M000242N01
A57: Nexteer | R57: M000245N01
A58: Nexteer | R58: M000326D01
A59: Nexteer | R59: M000326G01
A60: Nexteer | R60: M000327D01
A61: Nexteer | R61: M000327G01
A62: GMD | B62: M200323N01 | E62: 4 | F62: 10 | R62: M000329N01
A63: GMD | B63: M000352N01 | E63: 15 | F63: 25 | R63: M000330D01
A64: GMD | B64: M100325N01 | E64: 25 | F64: 25 | R64: M000330G01
A65: GMD | B65: M000380N01 | E65: 30 | F65: 40 | R65: M000331D01
A66: GMD | B66: M000402N01 | E66: 35 | F66: 60 | R66: M000331G01
A67: GMD | B67: M000403N01 | E67: 20 | F67: 30 | R67: M000334N01
A68: GMD | B68: M100409N01 | E68: 12 | F68: 20 | R68: M000335D01
A69: GMD | B69: M000407N01 | E69: 50 | F69: 50 | R69: M000335G01
A70: GMD | B70: M000408N01 | E70: 40 | F70: 35 | R70: M000336D01
A71: GMD | B71: M000406N01 | E71: 30 | F71: 35 | R71: M000336G01
A72: GMD | B72: M000448N01 | E72: 30 | F72: 25 | R72: M000338N01
A73: GMD | B73: M000447N01 | E73: 20 | F73: 35 | R73: M000339N01
... A78: GMD | B78: M000538N01 | E78: 30 | F78: 45 | R78: M000404N01
A79: GMD | B79: M100541N01 | E79: 10 | F79: 15
A80: GMD | B80: M000539N01 | E80: 10 | F80: 10
A81: GMD | B81: M000583N01 | E81: 15 | F81: 20
A82: GMD | B82: M000530N01 | E82: 40 | F82: 20
A83: GMD | B83: M100589N01 | E83: 30 | F83: 50
A84: GMD | B84: M000593N01 | E84: 25 | F84: 55
A85: GMD | B85: M100563N01 | E85: 20 | F85: 30
A86: GMD | B86: M100548N01
A87: GMD | B87: M100545N02
A88: GMD | B88: M000537N01
A89: GMD | B89: M000566N01
A90: GMD | B90: M100582N01 | E90: 30 | F90: 35
A91: GMD | B91: M100587N01 | E91: 15 | F91: 15
A92: GMD | B92: M100564N01 | E92: 30 | F92: 50
A93: GMD | B93: M000580N02 | E93: 6 | F93: 5
A94: GMD | B94: M000577N01 | E94: 20 | F94: 30
A95: GMD | B95: M100565N01 | E95: 15 | F95: 30
A96: GMD | B96: M000573N01 | E96: 40 | F96: 45
A97: GMD | B97: M000570N01 | E97: 40 | F97: 45
A98: GMD | B98: M100606N01 | E98: 30 | F98: 25
A99: GMD | B99: M000561N01 | E99: 35 | F99: 60
A100: GMD | B100: M000592N01 | E100: 30 | F100: 35
A101: GMD | B101: M000562N01 | E101: 35 | F101: 60
A102: GMD | B102: M000604N01
A103: GMD | B103: M000601N01 | E103: 30 | F103: 35
A104: GMD | B104: M000600N01
A105: GMD | B105: M000599N02
A106: GMD | B106: M000438N01 | E106: 8 | F106: 12
A107: GMD | B107: M000450N01 | E107: 6 | F107: 10
A108: GMD | B108: M000529N02 | E108: 12 | F108: 15
...

Sheet Effectif
A1: M | B1: Nom & Prénom | C1: 44672 | E1: 44673 | G1: 44674 | I1: 44675 | K1: 44676 | M1: 44677 | O1: 44678 | Q1: 44679 | S1: 44680 | U1: 44681 | W1: 44682 | Y1: 44683 | AA1: 44684 | AC1: 44685 | AE1: 44686 | AG1: 44687 | AI1: 44688 | AK1: 44689 | AM1: 44690 | AO1: 44691 | AQ1: 44692 | AS1: 44693 | AU1: 44694 | AW1: 44695 | AY1: 44696 | BA1: 44697 | BC1: 44698 | BE1: 44699 | BG1: 44700 | BI1: 44701 | BM1: Jr travaillé | BN1: Heures travaillées | BO1: Heures non prod | BP1: Heures net | BQ1: Heures produites | BR1: Productivité
C2: HP | D2: HNP | E2: HP | F2: HNP | G2: HP | H2: HNP | I2: HP | J2: HNP | K2: HP | L2: HNP | M2: HP | N2: HNP | O2: HP | P2: HNP | Q2: HP | R2: HNP | S2: HP | T2: HNP | U2: HP | V2: HNP | W2: HP | X2: HNP | Y2: HP | Z2: HNP | AA2: HP | AB2: HNP | AC2: HP | AD2: HNP | AE2: HP | AF2: HNP | AG2: HP | AH2: HNP | AI2: HP | AJ2: HNP | AK2: HP | AL2: HNP | AM2: HP | AN2: HNP | AO2: HP | AP2: HNP | AQ2: HP | AR2: HNP | AS2: HP | AT2: HNP | AU2: HP | AV2: HNP | AW2: HP | AX2: HNP | AY2: HP | AZ2: HNP | BA2: HP | BB2: HNP | BC2: HP | BD2: HNP | BE2: HP | BF2: HNP | BG2: HP | BH2: HNP | BI2: HP | BJ2: HNP | BK2: HP | BL2: HNP
A3: 28 | B3: x | C3: =IF(C3="",IF(AND(Effectif!B3=Calcul!B3,Effectif!C1=Calcul!B1),Calcul!F20,C3)) -> 0 | BN3: =BM3*7.5 -> 0 | BO3: =D3+F3+H3+J3+L3+N3+P3+R3+T3+V3+X3+Z3+AB3+AD3+AF3+AH3+AJ3+AL3+AN3+AP3+AR3+AT3+AV3+AX3+AZ3+BB3+BD3+BF3+BH3+BJ3+BL3 -> 0 | BP3: =BN3-BO3 -> 0 | BQ3: =C3+E3+G3+I3+K3+M3+O3+Q3+S3+U3+W3+Y3+AA3+AC3+AE3+AG3+AI3+AK3+AM3+AO3+AQ3+AS3+AU3+AW3+AY3+BA3+BC3+BE3+BG3+BI3+BK3 -> 0 | BR3: =BQ3/BP3 -> #DIV/0!
A4: 32 | B4: x1 | C4: =IF(C4="",SUMIFS(Calcul!F$6:F$19,Calcul!$B$3,Effectif!$B4,Calcul!$B$1,Effectif!$C2),C4) -> 0 | BN4: =BM4*7.5 -> 0 | BO4: =D4+F4+H4+J4+L4+N4+P4+R4+T4+V4+X4+Z4+AB4+AD4+AF4+AH4+AJ4+AL4+AN4+AP4+AR4+AT4+AV4+AX4+AZ4+BB4+BD4+BF4+BH4+BJ4+BL4 -> 0 | BP4: =BN4-BO4 -> 0 | BQ4: =C4+E4+G4+I4+K4+M4+O4+Q4+S4+U4+W4+Y4+AA4+AC4+AE4+AG4+AI4+AK4+AM4+AO4+AQ4+AS4+AU4+AW4+AY4+BA4+BC4+BE4+BG4+BI4+BK4 -> 0 | BR4: =BQ4/BP4 -> #DIV/0!
A5: 33 | B5: x2 | C5: =IF(C5="",SUMIFS(Calcul!F$6:F$19,Calcul!$B$3,Effectif!$B5,Calcul!$B$1,Effectif!$C3),C5) -> 0 | BN5: =BM5*7.5 -> 0 | BO5: =D5+F5+H5+J5+L5+N5+P5+R5+T5+V5+X5+Z5+AB5+AD5+AF5+AH5+AJ5+AL5+AN5+AP5+AR5+AT5+AV5+AX5+AZ5+BB5+BD5+BF5+BH5+BJ5+BL5 -> 0 | BP5: =BN5-BO5 -> 0 | BQ5: =C5+E5+G5+I5+K5+M5+O5+Q5+S5+U5+W5+Y5+AA5+AC5+AE5+AG5+AI5+AK5+AM5+AO5+AQ5+AS5+AU5+AW5+AY5+BA5+BC5+BE5+BG5+BI5+BK5 -> 0 | BR5: =BQ5/BP5 -> #DIV/0!
A6: 43 | B6: x3 | C6: =IF(C6="",SUMIFS(Calcul!F$6:F$19,Calcul!$B$3,Effectif!$B6,Calcul!$B$1,Effectif!$C4),C6) -> 0 | BN6: =BM6*7.5 -> 0 | BO6: =D6+F6+H6+J6+L6+N6+P6+R6+T6+V6+X6+Z6+AB6+AD6+AF6+AH6+AJ6+AL6+AN6+AP6+AR6+AT6+AV6+AX6+AZ6+BB6+BD6+BF6+BH6+BJ6+BL6 -> 0 | BP6: =BN6-BO6 -> 0 | BQ6: =C6+E6+G6+I6+K6+M6+O6+Q6+S6+U6+W6+Y6+AA6+AC6+AE6+AG6+AI6+AK6+AM6+AO6+AQ6+AS6+AU6+AW6+AY6+BA6+BC6+BE6+BG6+BI6+BK6 -> 0 | BR6: =BQ6/BP6 -> #DIV/0!
A7: 44 | B7: x4 | C7: =IF(C7="",SUMIFS(Calcul!F$6:F$19,Calcul!$B$3,Effectif!$B7,Calcul!$B$1,Effectif!$C5),C7) -> 0 | BN7: =BM7*7.5 -> 0 | BO7: =D7+F7+H7+J7+L7+N7+P7+R7+T7+V7+X7+Z7+AB7+AD7+AF7+AH7+AJ7+AL7+AN7+AP7+AR7+AT7+AV7+AX7+AZ7+BB7+BD7+BF7+BH7+BJ7+BL7 -> 0 | BP7: =BN7-BO7 -> 0 | BQ7: =C7+E7+G7+I7+K7+M7+O7+Q7+S7+U7+W7+Y7+AA7+AC7+AE7+AG7+AI7+AK7+AM7+AO7+AQ7+AS7+AU7+AW7+AY7+BA7+BC7+BE7+BG7+BI7+BK7 -> 0 | BR7: =BQ7/BP7 -> #DIV/0!
A8: 47 | B8: x5 | C8: =IF(C8="",SUMIFS(Calcul!F$6:F$19,Calcul!$B$3,Effectif!$B8,Calcul!$B$1,Effectif!$C6),C8) -> 0 | BN8: =BM8*7.5 -> 0 | BO8: =D8+F8+H8+J8+L8+N8+P8+R8+T8+V8+X8+Z8+AB8+AD8+AF8+AH8+AJ8+AL8+AN8+AP8+AR8+AT8+AV8+AX8+AZ8+BB8+BD8+BF8+BH8+BJ8+BL8 -> 0 | BP8: =BN8-BO8 -> 0 | BQ8: =C8+E8+G8+I8+K8+M8+O8+Q8+S8+U8+W8+Y8+AA8+AC8+AE8+AG8+AI8+AK8+AM8+AO8+AQ8+AS8+AU8+AW8+AY8+BA8+BC8+BE8+BG8+BI8+BK8 -> 0 | BR8: =BQ8/BP8 -> #DIV/0!
A9: 55 | B9: x6 | C9: =IF(C9="",SUMIFS(Calcul!F$6:F$19,Calcul!$B$3,Effectif!$B9,Calcul!$B$1,Effectif!$C7),C9) -> 0 | BN9: =BM9*7.5 -> 0 | BO9: =D9+F9+H9+J9+L9+N9+P9+R9+T9+V9+X9+Z9+AB9+AD9+AF9+AH9+AJ9+AL9+AN9+AP9+AR9+AT9+AV9+AX9+AZ9+BB9+BD9+BF9+BH9+BJ9+BL9 -> 0 | BP9: =BN9-BO9 -> 0 | BQ9: =C9+E9+G9+I9+K9+M9+O9+Q9+S9+U9+W9+Y9+AA9+AC9+AE9+AG9+AI9+AK9+AM9+AO9+AQ9+AS9+AU9+AW9+AY9+BA9+BC9+BE9+BG9+BI9+BK9 -> 0 | BR9: =BQ9/BP9 -> #DIV/0!
A10: 56 | B10: x7 | C10: =IF(C10="",SUMIFS(Calcul!F$6:F$19,Calcul!$B$3,Effectif!$B10,Calcul!$B$1,Effectif!$C8),C10) -> 0 | BN10: =BM10*7.5 -> 0 | BO10: =D10+F10+H10+J10+L10+N10+P10+R10+T10+V10+X10+Z10+AB10+AD10+AF10+AH10+AJ10+AL10+AN10+AP10+AR10+AT10+AV10+AX10+AZ10+BB10+BD10+BF10+BH10+BJ10+BL10 -> 0 | BP10: =BN10-BO10 -> 0 | BQ10: =C10+E10+G10+I10+K10+M10+O10+Q10+S10+U10+W10+Y10+AA10+AC10+AE10+AG10+AI10+AK10+AM10+AO10+AQ10+AS10+AU10+AW10+AY10+BA10+BC10+BE10+BG10+BI10+BK10 -> 0 | BR10: =BQ10/BP10 -> #DIV/0!
A11: 58 | B11: x8 | C11: =IF(C11="",SUMIFS(Calcul!F$6:F$19,Calcul!$B$3,Effectif!$B11,Calcul!$B$1,Effectif!$C9),C11) -> 0 | BN11: =BM11*7.5 -> 0 | BO11: =D11+F11+H11+J11+L11+N11+P11+R11+T11+V11+X11+Z11+AB11+AD11+AF11+AH11+AJ11+AL11+AN11+AP11+AR11+AT11+AV11+AX11+AZ11+BB11+BD11+BF11+BH11+BJ11+BL11 -> 0 | BP11: =BN11-BO11 -> 0 | BQ11: =C11+E11+G11+I11+K11+M11+O11+Q11+S11+U11+W11+Y11+AA11+AC11+AE11+AG11+AI11+AK11+AM11+AO11+AQ11+AS11+AU11+AW11+AY11+BA11+BC11+BE11+BG11+BI11+BK11 -> 0 | BR11: =BQ11/BP11 -> #DIV/0!
A12: 61 | B12: x9 | C12: =IF(C12="",SUMIFS(Calcul!F$6:F$19,Calcul!$B$3,Effectif!$B12,Calcul!$B$1,Effectif!$C10),C12) -> 0 | BN12: =BM12*7.5 -> 0 | BO12: =D12+F12+H12+J12+L12+N12+P12+R12+T12+V12+X12+Z12+AB12+AD12+AF12+AH12+AJ12+AL12+AN12+AP12+AR12+AT12+AV12+AX12+AZ12+BB12+BD12+BF12+BH12+BJ12+BL12 -> 0 | BP12: =BN12-BO12 -> 0 | BQ12: =C12+E12+G12+I12+K12+M12+O12+Q12+S12+U12+W12+Y12+AA12+AC12+AE12+AG12+AI12+AK12+AM12+AO12+AQ12+AS12+AU12+AW12+AY12+BA12+BC12+BE12+BG12+BI12+BK12 -> 0 | BR12: =BQ12/BP12 -> #DIV/0!
A13: 67 | B13: x10 | C13: =IF(C13="",SUMIFS(Calcul!F$6:F$19,Calcul!$B$3,Effectif!$B13,Calcul!$B$1,Effectif!$C11),C13) -> 0 | BN13: =BM13*7.5 -> 0 | BO13: =D13+F13+H13+J13+L13+N13+P13+R13+T13+V13+X13+Z13+AB13+AD13+AF13+AH13+AJ13+AL13+AN13+AP13+AR13+AT13+AV13+AX13+AZ13+BB13+BD13+BF13+BH13+BJ13+BL13 -> 0 | BP13: =BN13-BO13 -> 0 | BQ13: =C13+E13+G13+I13+K13+M13+O13+Q13+S13+U13+W13+Y13+AA13+AC13+AE13+AG13+AI13+AK13+AM13+AO13+AQ13+AS13+AU13+AW13+AY13+BA13+BC13+BE13+BG13+BI13+BK13 -> 0 | BR13: =BQ13/BP13 -> #DIV/0!
A14: 68 | B14: x11 | C14: =IF(C14="",SUMIFS(Calcul!F$6:F$19,Calcul!$B$3,Effectif!$B14,Calcul!$B$1,Effectif!$C12),C14) -> 0 | BN14: =BM14*7.5 -> 0 | BO14: =D14+F14+H14+J14+L14+N14+P14+R14+T14+V14+X14+Z14+AB14+AD14+AF14+AH14+AJ14+AL14+AN14+AP14+AR14+AT14+AV14+AX14+AZ14+BB14+BD14+BF14+BH14+BJ14+BL14 -> 0 | BP14: =BN14-BO14 -> 0 | BQ14: =C14+E14+G14+I14+K14+M14+O14+Q14+S14+U14+W14+Y14+AA14+AC14+AE14+AG14+AI14+AK14+AM14+AO14+AQ14+AS14+AU14+AW14+AY14+BA14+BC14+BE14+BG14+BI14+BK14 -> 0 | BR14: =BQ14/BP14 -> #DIV/0!
A15: 71 | B15: x12 | C15: =IF(C15="",SUMIFS(Calcul!F$6:F$19,Calcul!$B$3,Effectif!$B15,Calcul!$B$1,Effectif!$C13),C15) -> 0 | BN15: =BM15*7.5 -> 0 | BO15: =D15+F15+H15+J15+L15+N15+P15+R15+T15+V15+X15+Z15+AB15+AD15+AF15+AH15+AJ15+AL15+AN15+AP15+AR15+AT15+AV15+AX15+AZ15+BB15+BD15+BF15+BH15+BJ15+BL15 -> 0 | BP15: =BN15-BO15 -> 0 | BQ15: =C15+E15+G15+I15+K15+M15+O15+Q15+S15+U15+W15+Y15+AA15+AC15+AE15+AG15+AI15+AK15+AM15+AO15+AQ15+AS15+AU15+AW15+AY15+BA15+BC15+BE15+BG15+BI15+BK15 -> 0 | BR15: =BQ15/BP15 -> #DIV/0!
... A46: 1087 | B46: x43 | C46: =IF(C46="",SUMIFS(Calcul!F$6:F$19,Calcul!$B$3,Effectif!$B46,Calcul!$B$1,Effectif!$C44),C46) -> 0 | BN46: =BM46*7.5 -> 0 | BO46: =D46+F46+H46+J46+L46+N46+P46+R46+T46+V46+X46+Z46+AB46+AD46+AF46+AH46+AJ46+AL46+AN46+AP46+AR46+AT46+AV46+AX46+AZ46+BB46+BD46+BF46+BH46+BJ46+BL46 -> 0 | BP46: =BN46-BO46 -> 0 | BQ46: =C46+E46+G46+I46+K46+M46+O46+Q46+S46+U46+W46+Y46+AA46+AC46+AE46+AG46+AI46+AK46+AM46+AO46+AQ46+AS46+AU46+AW46+AY46+BA46+BC46+BE46+BG46+BI46+BK46 -> 0 | BR46: =BQ46/BP46 -> #DIV/0!
C47: =IF(C47="",SUMIFS(Calcul!F$6:F$19,Calcul!$B$3,Effectif!$B47,Calcul!$B$1,Effectif!$C45),C47) -> 0 | BN47: =BM47*7.5 -> 0 | BO47: =D47+F47+H47+J47+L47+N47+P47+R47+T47+V47+X47+Z47+AB47+AD47+AF47+AH47+AJ47+AL47+AN47+AP47+AR47+AT47+AV47+AX47+AZ47+BB47+BD47+BF47+BH47+BJ47+BL47 -> 0 | BP47: =BN47-BO47 -> 0 | BQ47: =C47+E47+G47+I47+K47+M47+O47+Q47+S47+U47+W47+Y47+AA47+AC47+AE47+AG47+AI47+AK47+AM47+AO47+AQ47+AS47+AU47+AW47+AY47+BA47+BC47+BE47+BG47+BI47+BK47 -> 0 | BR47: =BQ47/BP47 -> #DIV/0!
C48: =IF(C48="",SUMIFS(Calcul!F$6:F$19,Calcul!$B$3,Effectif!$B48,Calcul!$B$1,Effectif!$C46),C48) -> 0 | BN48: =BM48*7.5 -> 0 | BO48: =D48+F48+H48+J48+L48+N48+P48+R48+T48+V48+X48+Z48+AB48+AD48+AF48+AH48+AJ48+AL48+AN48+AP48+AR48+AT48+AV48+AX48+AZ48+BB48+BD48+BF48+BH48+BJ48+BL48 -> 0 | BP48: =BN48-BO48 -> 0 | BQ48: =C48+E48+G48+I48+K48+M48+O48+Q48+S48+U48+W48+Y48+AA48+AC48+AE48+AG48+AI48+AK48+AM48+AO48+AQ48+AS48+AU48+AW48+AY48+BA48+BC48+BE48+BG48+BI48+BK48 -> 0 | BR48: =BQ48/BP48 -> #DIV/0!
C49: =IF(C49="",SUMIFS(Calcul!F$6:F$19,Calcul!$B$3,Effectif!$B49,Calcul!$B$1,Effectif!$C47),C49) -> 0 | BN49: =BM49*7.5 -> 0 | BO49: =D49+F49+H49+J49+L49+N49+P49+R49+T49+V49+X49+Z49+AB49+AD49+AF49+AH49+AJ49+AL49+AN49+AP49+AR49+AT49+AV49+AX49+AZ49+BB49+BD49+BF49+BH49+BJ49+BL49 -> 0 | BP49: =BN49-BO49 -> 0 | BQ49: =C49+E49+G49+I49+K49+M49+O49+Q49+S49+U49+W49+Y49+AA49+AC49+AE49+AG49+AI49+AK49+AM49+AO49+AQ49+AS49+AU49+AW49+AY49+BA49+BC49+BE49+BG49+BI49+BK49 -> 0 | BR49: =BQ49/BP49 -> #DIV/0!
C50: =IF(C50="",SUMIFS(Calcul!F$6:F$19,Calcul!$B$3,Effectif!$B50,Calcul!$B$1,Effectif!$C48),C50) -> 0 | BO50: =D50+F50+H50+J50+L50+N50+P50+R50+T50+V50+X50+Z50+AB50+AD50+AF50+AH50+AJ50+AL50+AN50+AP50+AR50+AT50+AV50+AX50+AZ50+BB50+BD50+BF50+BH50+BJ50+BL50 -> 0 | BQ50: =C50+E50+G50+I50+K50+M50+O50+Q50+S50+U50+W50+Y50+AA50+AC50+AE50+AG50+AI50+AK50+AM50+AO50+AQ50+AS50+AU50+AW50+AY50+BA50+BC50+BE50+BG50+BI50+BK50 -> 0
C51: =IF(C51="",SUMIFS(Calcul!F$6:F$19,Calcul!$B$3,Effectif!$B51,Calcul!$B$1,Effectif!$C49),C51) -> 0 | BO51: =D51+F51+H51+J51+L51+N51+P51+R51+T51+V51+X51+Z51+AB51+AD51+AF51+AH51+AJ51+AL51+AN51+AP51+AR51+AT51+AV51+AX51+AZ51+BB51+BD51+BF51+BH51+BJ51+BL51 -> 0 | BQ51: =C51+E51+G51+I51+K51+M51+O51+Q51+S51+U51+W51+Y51+AA51+AC51+AE51+AG51+AI51+AK51+AM51+AO51+AQ51+AS51+AU51+AW51+AY51+BA51+BC51+BE51+BG51+BI51+BK51 -> 0
C52: =IF(C52="",SUMIFS(Calcul!F$6:F$19,Calcul!$B$3,Effectif!$B52,Calcul!$B$1,Effectif!$C50),C52) -> 0 | BO52: =D52+F52+H52+J52+L52+N52+P52+R52+T52+V52+X52+Z52+AB52+AD52+AF52+AH52+AJ52+AL52+AN52+AP52+AR52+AT52+AV52+AX52+AZ52+BB52+BD52+BF52+BH52+BJ52+BL52 -> 0 | BQ52: =C52+E52+G52+I52+K52+M52+O52+Q52+S52+U52+W52+Y52+AA52+AC52+AE52+AG52+AI52+AK52+AM52+AO52+AQ52+AS52+AU52+AW52+AY52+BA52+BC52+BE52+BG52+BI52+BK52 -> 0
C53: =IF(C53="",SUMIFS(Calcul!F$6:F$19,Calcul!$B$3,Effectif!$B53,Calcul!$B$1,Effectif!$C51),C53) -> 0 | BO53: =D53+F53+H53+J53+L53+N53+P53+R53+T53+V53+X53+Z53+AB53+AD53+AF53+AH53+AJ53+AL53+AN53+AP53+AR53+AT53+AV53+AX53+AZ53+BB53+BD53+BF53+BH53+BJ53+BL53 -> 0 | BQ53: =C53+E53+G53+I53+K53+M53+O53+Q53+S53+U53+W53+Y53+AA53+AC53+AE53+AG53+AI53+AK53+AM53+AO53+AQ53+AS53+AU53+AW53+AY53+BA53+BC53+BE53+BG53+BI53+BK53 -> 0
C54: =IF(C54="",SUMIFS(Calcul!F$6:F$19,Calcul!$B$3,Effectif!$B54,Calcul!$B$1,Effectif!$C52),C54) -> 0 | BO54: =D54+F54+H54+J54+L54+N54+P54+R54+T54+V54+X54+Z54+AB54+AD54+AF54+AH54+AJ54+AL54+AN54+AP54+AR54+AT54+AV54+AX54+AZ54+BB54+BD54+BF54+BH54+BJ54+BL54 -> 0 | BQ54: =C54+E54+G54+I54+K54+M54+O54+Q54+S54+U54+W54+Y54+AA54+AC54+AE54+AG54+AI54+AK54+AM54+AO54+AQ54+AS54+AU54+AW54+AY54+BA54+BC54+BE54+BG54+BI54+BK54 -> 0
C55: =IF(C55="",SUMIFS(Calcul!F$6:F$19,Calcul!$B$3,Effectif!$B55,Calcul!$B$1,Effectif!$C53),C55) -> 0 | BO55: =D55+F55+H55+J55+L55+N55+P55+R55+T55+V55+X55+Z55+AB55+AD55+AF55+AH55+AJ55+AL55+AN55+AP55+AR55+AT55+AV55+AX55+AZ55+BB55+BD55+BF55+BH55+BJ55+BL55 -> 0 | BQ55: =C55+E55+G55+I55+K55+M55+O55+Q55+S55+U55+W55+Y55+AA55+AC55+AE55+AG55+AI55+AK55+AM55+AO55+AQ55+AS55+AU55+AW55+AY55+BA55+BC55+BE55+BG55+BI55+BK55 -> 0
C56: =IF(C56="",SUMIFS(Calcul!F$6:F$19,Calcul!$B$3,Effectif!$B56,Calcul!$B$1,Effectif!$C54),C56) -> 0 | BO56: =D56+F56+H56+J56+L56+N56+P56+R56+T56+V56+X56+Z56+AB56+AD56+AF56+AH56+AJ56+AL56+AN56+AP56+AR56+AT56+AV56+AX56+AZ56+BB56+BD56+BF56+BH56+BJ56+BL56 -> 0 | BQ56: =C56+E56+G56+I56+K56+M56+O56+Q56+S56+U56+W56+Y56+AA56+AC56+AE56+AG56+AI56+AK56+AM56+AO56+AQ56+AS56+AU56+AW56+AY56+BA56+BC56+BE56+BG56+BI56+BK56 -> 0
C57: =IF(C57="",SUMIFS(Calcul!F$6:F$19,Calcul!$B$3,Effectif!$B57,Calcul!$B$1,Effectif!$C55),C57) -> 0 | BO57: =D57+F57+H57+J57+L57+N57+P57+R57+T57+V57+X57+Z57+AB57+AD57+AF57+AH57+AJ57+AL57+AN57+AP57+AR57+AT57+AV57+AX57+AZ57+BB57+BD57+BF57+BH57+BJ57+BL57 -> 0 | BQ57: =C57+E57+G57+I57+K57+M57+O57+Q57+S57+U57+W57+Y57+AA57+AC57+AE57+AG57+AI57+AK57+AM57+AO57+AQ57+AS57+AU57+AW57+AY57+BA57+BC57+BE57+BG57+BI57+BK57 -> 0
C58: =IF(C58="",SUMIFS(Calcul!F$6:F$19,Calcul!$B$3,Effectif!$B58,Calcul!$B$1,Effectif!$C56),C58) -> 0 | BO58: =D58+F58+H58+J58+L58+N58+P58+R58+T58+V58+X58+Z58+AB58+AD58+AF58+AH58+AJ58+AL58+AN58+AP58+AR58+AT58+AV58+AX58+AZ58+BB58+BD58+BF58+BH58+BJ58+BL58 -> 0 | BQ58: =C58+E58+G58+I58+K58+M58+O58+Q58+S58+U58+W58+Y58+AA58+AC58+AE58+AG58+AI58+AK58+AM58+AO58+AQ58+AS58+AU58+AW58+AY58+BA58+BC58+BE58+BG58+BI58+BK58 -> 0
C59: =IF(C59="",SUMIFS(Calcul!F$6:F$19,Calcul!$B$3,Effectif!$B59,Calcul!$B$1,Effectif!$C57),C59) -> 0 | BO59: =D59+F59+H59+J59+L59+N59+P59+R59+T59+V59+X59+Z59+AB59+AD59+AF59+AH59+AJ59+AL59+AN59+AP59+AR59+AT59+AV59+AX59+AZ59+BB59+BD59+BF59+BH59+BJ59+BL59 -> 0 | BQ59: =C59+E59+G59+I59+K59+M59+O59+Q59+S59+U59+W59+Y59+AA59+AC59+AE59+AG59+AI59+AK59+AM59+AO59+AQ59+AS59+AU59+AW59+AY59+BA59+BC59+BE59+BG59+BI59+BK59 -> 0
C60: =IF(C60="",SUMIFS(Calcul!F$6:F$19,Calcul!$B$3,Effectif!$B60,Calcul!$B$1,Effectif!$C58),C60) -> 0 | BO60: =D60+F60+H60+J60+L60+N60+P60+R60+T60+V60+X60+Z60+AB60+AD60+AF60+AH60+AJ60+AL60+AN60+AP60+AR60+AT60+AV60+AX60+AZ60+BB60+BD60+BF60+BH60+BJ60+BL60 -> 0 | BQ60: =C60+E60+G60+I60+K60+M60+O60+Q60+S60+U60+W60+Y60+AA60+AC60+AE60+AG60+AI60+AK60+AM60+AO60+AQ60+AS60+AU60+AW60+AY60+BA60+BC60+BE60+BG60+BI60+BK60 -> 0
C61: =IF(C61="",SUMIFS(Calcul!F$6:F$19,Calcul!$B$3,Effectif!$B61,Calcul!$B$1,Effectif!$C59),C61) -> 0 | BO61: =D61+F61+H61+J61+L61+N61+P61+R61+T61+V61+X61+Z61+AB61+AD61+AF61+AH61+AJ61+AL61+AN61+AP61+AR61+AT61+AV61+AX61+AZ61+BB61+BD61+BF61+BH61+BJ61+BL61 -> 0 | BQ61: =C61+E61+G61+I61+K61+M61+O61+Q61+S61+U61+W61+Y61+AA61+AC61+AE61+AG61+AI61+AK61+AM61+AO61+AQ61+AS61+AU61+AW61+AY61+BA61+BC61+BE61+BG61+BI61+BK61 -> 0
... C101: =IF(C101="",SUMIFS(Calcul!F$6:F$19,Calcul!$B$3,Effectif!$B101,Calcul!$B$1,Effectif!$C99),C101) -> 0 | BO101: =D101+F101+H101+J101+L101+N101+P101+R101+T101+V101+X101+Z101+AB101+AD101+AF101+AH101+AJ101+AL101+AN101+AP101+AR101+AT101+AV101+AX101+AZ101+BB101+BD101+BF101+BH101+BJ101+BL101 -> 0 | BQ101: =C101+E101+G101+I101+K101+M101+O101+Q101+S101+U101+W101+Y101+AA101+AC101+AE101+AG101+AI101+AK101+AM101+AO101+AQ101+AS101+AU101+AW101+AY101+BA101+BC101+BE101+BG101+BI101+BK101 -> 0
