Workbook
Name ANCOURS: Tables!$F$12:$F$25
Name jours: Tables!$F$1:$F$7

Sheet Janvier
A1: Syndicat Professionnel des Assistants Maternels et Assistants Familiaux
A2: Bulletin de Salaire
A3: URSSAF de : | J3: Mois de : | L3: 42005
A4: Employeur Salarié
A5: Nom, prénom : | I5: Nom, prénom :
A6: Adresse : | I6: Adresse :
A9: N° URSSAF :
A10: N° Pajemploi : | I10: Emploi occupé :
A11: Adresse : | I11: N° Sécurité Sociale :
A13: Convention Collective des Assistants Maternels du Particulier Employeur, Code Naf : 88.91A.
A14: Jours | B14: =+L3 -> 42005 | C14: =+B14+1 -> 42006 | D14: =+C14+1 -> 42007 | E14: =+D14+1 -> 42008 | F14: =+E14+1 -> 42009 | G14: =+F14+1 -> 42010 | H14: =+G14+1 -> 42011 | I14: =+H14+1 -> 42012 | J14: =+I14+1 -> 42013 | ... Q14: =+P14+1 -> 42020
A15: Sem | B15: =WEEKNUM(B14) -> 1 | C15: =IF(WEEKDAY(C14,2)=1,WEEKNUM(C14),B15) -> 1 | F15: =IF(WEEKDAY(F14,2)=1,WEEKNUM(F14),E15) -> 2 | G15: =IF(WEEKDAY(G14,2)=1,WEEKNUM(G14),F15) -> 2 | H15: =IF(WEEKDAY(H14,2)=1,WEEKNUM(H14),G15) -> 2 | I15: =IF(WEEKDAY(I14,2)=1,WEEKNUM(I14),H15) -> 2 | J15: =IF(WEEKDAY(J14,2)=1,WEEKNUM(J14),I15) -> 2 | M15: =IF(WEEKDAY(M14,2)=1,WEEKNUM(M14),L15) -> 3 | N15: =IF(WEEKDAY(N14,2)=1,WEEKNUM(N14),M15) -> 3 | O15: =IF(WEEKDAY(O14,2)=1,WEEKNUM(O14),N15) -> 3 | P15: =IF(WEEKDAY(P14,2)=1,WEEKNUM(P14),O15) -> 3 | Q15: =IF(WEEKDAY(Q14,2)=1,WEEKNUM(Q14),P15) -> 3
A16: Heures | B16: 10 | C16: 12 | F16: 8 | G16: 8 | H16: 8 | I16: 8 | M16: 25 | N16: 11
A17: Jours | B17: =Q14+1 -> 42021 | C17: =B17+1 -> 42022 | D17: =C17+1 -> 42023 | E17: =D17+1 -> 42024 | F17: =E17+1 -> 42025 | G17: =F17+1 -> 42026 | H17: =G17+1 -> 42027 | I17: =H17+1 -> 42028 | J17: =I17+1 -> 42029 | ... P17: =O17+1 -> 42035
A18: Sem | B18: =IF(WEEKDAY(B17,2)=1,WEEKNUM(B17),Q15) -> 3 | E18: =IF(WEEKDAY(E17,2)=1,WEEKNUM(E17),D18) -> 0 | F18: =IF(WEEKDAY(F17,2)=1,WEEKNUM(F17),E18) -> 0 | G18: =IF(WEEKDAY(G17,2)=1,WEEKNUM(G17),F18) -> 0 | H18: =IF(WEEKDAY(H17,2)=1,WEEKNUM(H17),G18) -> 0 | I18: =IF(WEEKDAY(I17,2)=1,WEEKNUM(I17),H18) -> 0 | L18: =IF(WEEKDAY(L17,2)=1,WEEKNUM(L17),K18) -> 0 | M18: =IF(WEEKDAY(M17,2)=1,WEEKNUM(M17),L18) -> 0 | N18: =IF(WEEKDAY(N17,2)=1,WEEKNUM(N17),M18) -> 0 | O18: =IF(WEEKDAY(O17,2)=1,WEEKNUM(O17),N18) -> 0 | P18: =IF(WEEKDAY(P17,2)=1,WEEKNUM(P17),O18) -> 0
A19: Heures | E19: 10 | G19: 12 | H19: 5 | I19: 10
A21: H/Sup sem | C21: =IF(WEEKDAY(B14,2)>5,"Sem "&B15+1,"Sem "&B15) -> Sem 1 | D21: =IF((SUMIF($B$15:$Q$15,VALUE(RIGHT(C21,2)),$B$16:$Q$16)+SUMIF(Mars!$B$18:$Q$18,VALUE(RIGHT(C21,2)),Mars!$B$19:$Q$19)-25)<=0,0,SUMIF($B$15:$Q$15,VALUE(RIGHT(C21,2)),$B$16:$Q$16)+SUMIF(Mars!$B$18:$Q$18,VALUE(RIGHT($C21,2)),Mars!$B$19:$Q$19)-25) -> 0 | E21: ="Sem "&VALUE(RIGHT(C21,2))+1 -> Sem 2 | F21: =IF((SUMIF($B$15:$Q$15,VALUE(RIGHT(E21,2)),$B$16:$Q$16)+SUMIF($B$18:$Q$18,VALUE(RIGHT(E21,2)),$B$19:$Q$19)-25)<=0,0,SUMIF($B$15:$Q$15,VALUE(RIGHT(E21,2)),$B$16:$Q$16)+SUMIF($B$18:$Q$18,VALUE(RIGHT($E21,2)),$B$19:$Q$19)-25) -> 7 | G21: ="Sem "&VALUE(RIGHT(E21,2))+1 -> Sem 3 | H21: =IF((SUMIF($B$15:$Q$15,VALUE(RIGHT(G21,2)),$B$16:$Q$16)+SUMIF($B$18:$Q$18,VALUE(RIGHT(G21,2)),$B$19:$Q$19)-25)<=0,0,SUMIF($B$15:$Q$15,VALUE(RIGHT(G21,2)),$B$16:$Q$16)+SUMIF($B$18:$Q$18,VALUE(RIGHT($G21,2)),$B$19:$Q$19)-25) -> 11 | I21: ="Sem "&VALUE(RIGHT(G21,2))+1 -> Sem 4 | J21: =IF(OR(ISERROR(VALUE(RIGHT(I21,2))),SUMIF($B$15:$Q$15,VALUE(RIGHT(I21,2)),$B$16:$Q$16)+SUMIF($B$18:$Q$18,VALUE(RIGHT(I21,2)),$B$19:$Q$19)-25<=0),0,SUMIF($B$15:$Q$15,VALUE(RIGHT(I21,2)),$B$16:$Q$16)+SUMIF($B$18:$Q$18,VALUE(RIGHT($I21,2)),$B$19:$Q$19)-25) -> 0 | K21: =IF(WEEKDAY(Q17,2)>=5,"Sem "&VALUE(RIGHT(I21,2))+1,"") -> Sem 5 | L21: =IF(OR(ISERROR(VALUE(RIGHT(K21,2))),SUMIF($B$15:$Q$15,VALUE(RIGHT(K21,2)),$B$16:$Q$16)+SUMIF($B$18:$Q$18,VALUE(RIGHT(K21,2)),$B$19:$Q$19)-25<=0),0,SUMIF($B$15:$Q$15,VALUE(RIGHT(K21,2)),$B$16:$Q$16)+SUMIF($B$18:$Q$18,VALUE(RIGHT($K21,2)),$B$19:$Q$19)-25) -> 0
A23: Nombre d'heures d'accueil dans le mois | I23: =SUM(B16:Q16)+SUM(B19:Q19) -> 127 | K23: Mensualisation | P23: 97.91
K24: Heures supp. mensualisées
A25: Nombre de jours d'accueil dans le mois | I25: =COUNTIF(B16:P16,">"&0)+COUNTIF(B19:Q19,">"&0) -> 12 | K25: Salaire horaire brut de base | P25: 4.49
A27: Rémunération : | L27: Base | N27: Nombre | P27: Montant
A28: Salaire de base mensuel | L28: =P25 -> 4.49 | N28: =P23 -> 97.91 | P28: =L28*N28 -> 439.6159
A29: Heures suppléméntaires | L29: =P25 -> 4.49 | N29: =D21+F21+H21+J21+L21 -> 18 | P29: =L29*N29 -> 80.82
A30: Heures congés sans solde | P30: =L30*N30 -> 0
A31: Heures complémentaires | P31: =SUM(L31*N31) -> 0
A33: Congés payés Heures supplémentaires | L33: 0.44 | N33: 0 | P33: =(L33*N33) -> 0
A34: Maladies enfant
A35: Congés payés | L35: 0.44 | N35: =P23 -> 97.91 | P35: =SUM(L35*N35) -> 43.0804
L36: Salaire Brut | P36: =SUM(P28:P35) -> 563.5163
A38: Cotisations sociales | M38: Part Salariale
L39: Base | N39: Nombre | P39: Montant
A40: Sécurité sociale | L40: =P36 -> 563.5163 | N40: 0.0075 | P40: =L40*N40 -> 4.2263722
A41: Sécurité sociale vieillesse | L41: =P36 -> 563.5163 | N41: 0.068 | P41: =L41*N41 -> 38.319108
A42: Assurance chômage | L42: =P36 -> 563.5163 | N42: 0.024 | P42: =L42*N42 -> 13.524391
A43: vieillesse | L43: =P36 -> 563.5163 | N43: 0.0025 | P43: =L43*N43 -> 1.4087908
A44: AGFF | L44: =P36 -> 563.5163 | N44: 0.008 | P44: =L44*N44 -> 4.5081304
A45: Retraite IRCEM | L45: =P36 -> 563.5163 | N45: 0.0305 | P45: =L45*N45 -> 17.187247
A46: Prévoyance | L46: =P36 -> 563.5163 | N46: 0.0115 | P46: =L46*N46 -> 6.4804375
A47: CSG 5,1%*98,25% salaire déductible | L47: =P36*98.25% -> 553.65476 | N47: 0.051 | P47: =L47*N47 -> 28.236393
A48: CGS 2,4%*98,25 | L48: =P36*0.9825 -> 553.65476 | N48: 0.024 | P48: =L48*N48 -> 13.287714
...

Sheet Février
A1: Syndicat Professionnel des Assistants Maternels et Assistants Familiaux
A2: Bulletin de Salaire
A3: URSSAF de : | J3: Mois de : | L3: 42401
A4: Employeur Salarié
A5: Nom, prénom : | I5: Nom, prénom :
A6: Adresse : | I6: Adresse :
A9: N° URSSAF :
A10: N° Pajemploi : | I10: Emploi occupé :
A11: Adresse : | I11: N° Sécurité Sociale :
A13: Convention Collective des Assistants Maternels du Particulier Employeur, Code Naf : 88.91A.
A14: Jours | B14: =+L3 -> 42401 | C14: =+B14+1 -> 42402 | D14: =+C14+1 -> 42403 | E14: =+D14+1 -> 42404 | F14: =+E14+1 -> 42405 | G14: =+F14+1 -> 42406 | H14: =+G14+1 -> 42407 | I14: =+H14+1 -> 42408 | J14: =+I14+1 -> 42409 | ... Q14: =+P14+1 -> 42416
A15: Sem | B15: =WEEKNUM(B14,2) -> 6 | C15: =WEEKNUM(C14,2) -> 6 | D15: =WEEKNUM(D14,2) -> 6 | E15: =WEEKNUM(E14,2) -> 6 | F15: =WEEKNUM(F14,2) -> 6 | G15: =WEEKNUM(G14,2) -> 6 | H15: =WEEKNUM(H14,2) -> 6 | I15: =WEEKNUM(I14,2) -> 7 | ... Q15: =WEEKNUM(Q14,2) -> 8
A16: Heures | C16: 12 | E16: 10 | F16: 8 | G16: 8 | M16: 25 | N16: 11
A17: Jours | B17: =Q14+1 -> 42417 | C17: =B17+1 -> 42418 | D17: =C17+1 -> 42419 | E17: =D17+1 -> 42420 | F17: =E17+1 -> 42421 | G17: =F17+1 -> 42422 | H17: =G17+1 -> 42423 | I17: =H17+1 -> 42424 | J17: =I17+1 -> 42425 | ... M17: =L17+1 -> 42428 | N17: =IF(MOD(YEAR(L3),4)=0,M17+1,"") -> 42429
A18: Sem | B18: =WEEKNUM(B17,2) -> 8 | C18: =WEEKNUM(C17,2) -> 8 | D18: =WEEKNUM(D17,2) -> 8 | E18: =WEEKNUM(E17,2) -> 8 | F18: =WEEKNUM(F17,2) -> 8 | G18: =WEEKNUM(G17,2) -> 9 | H18: =WEEKNUM(H17,2) -> 9 | I18: =WEEKNUM(I17,2) -> 9 | ... M18: =WEEKNUM(M17,2) -> 9 | N18: =IFERROR(WEEKNUM(N17,2),"") -> 10
A19: Heures | C19: 26 | E19: 10 | I19: 10 | J19: 25 | K19: 10
A21: H/Sup sem | C21: =IF(WEEKDAY(B14,2)>5,"Sem "&B15+1,"Sem "&B15) -> Sem 6 | D21: =IF((SUMIF($B$15:$Q$15,VALUE(RIGHT(C21,2)),$B$16:$Q$16)+SUMIF(Mars!$B$18:$Q$18,VALUE(RIGHT(C21,2)),Mars!$B$19:$Q$19)-25)<=0,0,SUMIF($B$15:$Q$15,VALUE(RIGHT(C21,2)),$B$16:$Q$16)+SUMIF(Mars!$B$18:$Q$18,VALUE(RIGHT($C21,2)),Mars!$B$19:$Q$19)-25) -> 13 | E21: ="Sem "&VALUE(RIGHT(C21,2))+1 -> Sem 7 | F21: =IF((SUMIF($B$15:$Q$15,VALUE(RIGHT(E21,2)),$B$16:$Q$16)+SUMIF($B$18:$Q$18,VALUE(RIGHT(E21,2)),$B$19:$Q$19)-25)<=0,0,SUMIF($B$15:$Q$15,VALUE(RIGHT(E21,2)),$B$16:$Q$16)+SUMIF($B$18:$Q$18,VALUE(RIGHT($E21,2)),$B$19:$Q$19)-25) -> 11 | G21: ="Sem "&VALUE(RIGHT(E21,2))+1 -> Sem 8 | H21: =IF((SUMIF($B$15:$Q$15,VALUE(RIGHT(G21,2)),$B$16:$Q$16)+SUMIF($B$18:$Q$18,VALUE(RIGHT(G21,2)),$B$19:$Q$19)-25)<=0,0,SUMIF($B$15:$Q$15,VALUE(RIGHT(G21,2)),$B$16:$Q$16)+SUMIF($B$18:$Q$18,VALUE(RIGHT($G21,2)),$B$19:$Q$19)-25) -> 11 | I21: ="Sem "&VALUE(RIGHT(G21,2))+1 -> Sem 9 | J21: =IF(OR(ISERROR(VALUE(RIGHT(I21,2))),SUMIF($B$15:$Q$15,VALUE(RIGHT(I21,2)),$B$16:$Q$16)+SUMIF($B$18:$Q$18,VALUE(RIGHT(I21,2)),$B$19:$Q$19)-25<=0),0,SUMIF($B$15:$Q$15,VALUE(RIGHT(I21,2)),$B$16:$Q$16)+SUMIF($B$18:$Q$18,VALUE(RIGHT($I21,2)),$B$19:$Q$19)-25) -> 20 | K21: =IF(MOD(YEAR($L$3),4)=0,IF(WEEKDAY(N17,2)<5,"Sem "&VALUE(RIGHT(I21,2))+1,""),IF(WEEKDAY(M17,2)>=5,"Sem "&VALUE(RIGHT(I21,2))+1,"")) -> Sem 10 | L21: =IF(OR(ISERROR(VALUE(RIGHT(K21,2))),SUMIF($B$15:$Q$15,VALUE(RIGHT(K21,2)),$B$16:$Q$16)+SUMIF($B$18:$Q$18,VALUE(RIGHT(K21,2)),$B$19:$Q$19)-25<=0),0,SUMIF($B$15:$Q$15,VALUE(RIGHT(K21,2)),$B$16:$Q$16)+SUMIF($B$18:$Q$18,VALUE(RIGHT($K21,2)),$B$19:$Q$19)-25) -> 0
A23: Nombre d'heures d'accueil dans le mois | I23: =SUM(B16:Q16)+SUM(B19:Q19) -> 155 | K23: Mensualisation | P23: 97.91
K24: Heures supp. mensualisées
A25: Nombre de jours d'accueil dans le mois | I25: =COUNTIF(B16:P16,">"&0)+COUNTIF(B19:Q19,">"&0) -> 11 | K25: Salaire horaire brut de base | P25: 4.49
A27: Rémunération : | L27: Base | N27: Nombre | P27: Montant
A28: Salaire de base mensuel | L28: =P25 -> 4.49 | N28: =P23 -> 97.91 | P28: =L28*N28 -> 439.6159
A29: Heures suppléméntaires | L29: =P25 -> 4.49 | N29: =D21+F21+H21+J21+L21 -> 55 | P29: =L29*N29 -> 246.95
A30: Heures congés sans solde | P30: =L30*N30 -> 0
A31: Heures complémentaires | P31: =SUM(L31*N31) -> 0
A33: Congés payés Heures supplémentaires | L33: 0.44 | N33: 0 | P33: =(L33*N33) -> 0
A34: Maladies enfant
A35: Congés payés | L35: 0.44 | N35: =P23 -> 97.91 | P35: =SUM(L35*N35) -> 43.0804
L36: Salaire Brut | P36: =SUM(P28:P35) -> 729.6463
A38: Cotisations sociales | M38: Part Salariale
L39: Base | N39: Nombre | P39: Montant
A40: Sécurité sociale | L40: =P36 -> 729.6463 | N40: 0.0075 | P40: =L40*N40 -> 5.4723473
A41: Sécurité sociale vieillesse | L41: =P36 -> 729.6463 | N41: 0.068 | P41: =L41*N41 -> 49.615948
A42: Assurance chômage | L42: =P36 -> 729.6463 | N42: 0.024 | P42: =L42*N42 -> 17.511511
A43: vieillesse | L43: =P36 -> 729.6463 | N43: 0.0025 | P43: =L43*N43 -> 1.8241158
A44: AGFF | L44: =P36 -> 729.6463 | N44: 0.008 | P44: =L44*N44 -> 5.8371704
A45: Retraite IRCEM | L45: =P36 -> 729.6463 | N45: 0.0305 | P45: =L45*N45 -> 22.254212
A46: Prévoyance | L46: =P36 -> 729.6463 | N46: 0.0115 | P46: =L46*N46 -> 8.3909325
A47: CSG 5,1%*98,25% salaire déductible | L47: =P36*98.25% -> 716.87749 | N47: 0.051 | P47: =L47*N47 -> 36.560752
A48: CGS 2,4%*98,25 | L48: =P36*0.9825 -> 716.87749 | N48: 0.024 | P48: =L48*N48 -> 17.20506
...

Sheet Mars
A1: Syndicat Professionnel des Assistants Maternels et Assistants Familiaux
A2: Bulletin de Salaire
A3: URSSAF de : | J3: Mois de : | L3: 42064
A4: Employeur Salarié | T4: =WEEKNUM(L3,2) -> 9
A5: Nom, prénom : | I5: Nom, prénom :
A6: Adresse : | I6: Adresse :
A9: N° URSSAF :
A10: N° Pajemploi : | I10: Emploi occupé :
A11: Adresse : | I11: N° Sécurité Sociale :
A13: Convention Collective des Assistants Maternels du Particulier Employeur, Code Naf : 88.91A.
A14: Jours | B14: =+L3 -> 42064 | C14: =+B14+1 -> 42065 | D14: =+C14+1 -> 42066 | E14: =+D14+1 -> 42067 | F14: =+E14+1 -> 42068 | G14: =+F14+1 -> 42069 | H14: =+G14+1 -> 42070 | I14: =+H14+1 -> 42071 | J14: =+I14+1 -> 42072 | ... Q14: =+P14+1 -> 42079
A15: Sem | B15: =WEEKNUM(B14,2) -> 9 | C15: =WEEKNUM(C14,2) -> 10 | D15: =WEEKNUM(D14,2) -> 10 | E15: =WEEKNUM(E14,2) -> 10 | F15: =WEEKNUM(F14,2) -> 10 | G15: =WEEKNUM(G14,2) -> 10 | H15: =WEEKNUM(H14,2) -> 10 | I15: =WEEKNUM(I14,2) -> 10 | ... Q15: =WEEKNUM(Q14,2) -> 12
A16: Heures | C16: 12 | E16: 10 | F16: 8 | G16: 8 | M16: 25 | N16: 11 | Q16: 25
A17: Jours | B17: =Q14+1 -> 42080 | C17: =B17+1 -> 42081 | D17: =C17+1 -> 42082 | E17: =D17+1 -> 42083 | F17: =E17+1 -> 42084 | G17: =F17+1 -> 42085 | H17: =G17+1 -> 42086 | I17: =H17+1 -> 42087 | J17: =I17+1 -> 42088 | ... P17: =O17+1 -> 42094
A18: Sem | B18: =WEEKNUM(B17,2) -> 12 | C18: =WEEKNUM(C17,2) -> 12 | D18: =WEEKNUM(D17,2) -> 12 | E18: =WEEKNUM(E17,2) -> 12 | F18: =WEEKNUM(F17,2) -> 12 | G18: =WEEKNUM(G17,2) -> 12 | H18: =WEEKNUM(H17,2) -> 13 | I18: =WEEKNUM(I17,2) -> 13 | ... P18: =WEEKNUM(P17,2) -> 14
A19: Heures | C19: 26 | E19: 10 | I19: 10 | J19: 25 | K19: 10 | O19: 20 | P19: 20
A21: H/Sup sem | C21: =IF(WEEKDAY(B14,2)>5,"Sem "&B15+1,"Sem "&B15) -> Sem 10 | D21: =IF((SUMIF($B$15:$Q$15,VALUE(RIGHT(C21,2)),$B$16:$Q$16)+SUMIF(Mars!$B$18:$Q$18,VALUE(RIGHT(C21,2)),Mars!$B$19:$Q$19)-25)<=0,0,SUMIF($B$15:$Q$15,VALUE(RIGHT(C21,2)),$B$16:$Q$16)+SUMIF(Mars!$B$18:$Q$18,VALUE(RIGHT($C21,2)),Mars!$B$19:$Q$19)-25) -> 13 | E21: ="Sem "&VALUE(RIGHT(C21,2))+1 -> Sem 11 | F21: =IF((SUMIF($B$15:$Q$15,VALUE(RIGHT(E21,2)),$B$16:$Q$16)+SUMIF($B$18:$Q$18,VALUE(RIGHT(E21,2)),$B$19:$Q$19)-25)<=0,0,SUMIF($B$15:$Q$15,VALUE(RIGHT(E21,2)),$B$16:$Q$16)+SUMIF($B$18:$Q$18,VALUE(RIGHT($E21,2)),$B$19:$Q$19)-25) -> 11 | G21: ="Sem "&VALUE(RIGHT(E21,2))+1 -> Sem 12 | H21: =IF((SUMIF($B$15:$Q$15,VALUE(RIGHT(G21,2)),$B$16:$Q$16)+SUMIF($B$18:$Q$18,VALUE(RIGHT(G21,2)),$B$19:$Q$19)-25)<=0,0,SUMIF($B$15:$Q$15,VALUE(RIGHT(G21,2)),$B$16:$Q$16)+SUMIF($B$18:$Q$18,VALUE(RIGHT($G21,2)),$B$19:$Q$19)-25) -> 36 | I21: ="Sem "&VALUE(RIGHT(G21,2))+1 -> Sem 13 | J21: =IF(OR(ISERROR(VALUE(RIGHT(I21,2))),SUMIF($B$15:$Q$15,VALUE(RIGHT(I21,2)),$B$16:$Q$16)+SUMIF($B$18:$Q$18,VALUE(RIGHT(I21,2)),$B$19:$Q$19)-25<=0),0,SUMIF($B$15:$Q$15,VALUE(RIGHT(I21,2)),$B$16:$Q$16)+SUMIF($B$18:$Q$18,VALUE(RIGHT($I21,2)),$B$19:$Q$19)-25) -> 20 | K21: =IF(WEEKDAY(P17,2)>=5,"Sem "&VALUE(RIGHT(I21,2))+1,"") | L21: =IF(OR(ISERROR(VALUE(RIGHT(K21,2))),SUMIF($B$15:$Q$15,VALUE(RIGHT(K21,2)),$B$16:$Q$16)+SUMIF($B$18:$Q$18,VALUE(RIGHT(K21,2)),$B$19:$Q$19)-25<=0),0,SUMIF($B$15:$Q$15,VALUE(RIGHT(K21,2)),$B$16:$Q$16)+SUMIF($B$18:$Q$18,VALUE(RIGHT($K21,2)),$B$19:$Q$19)-25) -> 0
A23: Nombre d'heures d'accueil dans le mois | I23: =SUM(B16:Q16)+SUM(B19:Q19) -> 220 | K23: Mensualisation | P23: 97.91
K24: Heures supp. mensualisées
A25: Nombre de jours d'accueil dans le mois | I25: =COUNTIF(B16:P16,">"&0)+COUNTIF(B19:Q19,">"&0) -> 13 | K25: Salaire horaire brut de base | P25: 4.49
A27: Rémunération : | L27: Base | N27: Nombre | P27: Montant
A28: Salaire de base mensuel | L28: =P25 -> 4.49 | N28: =P23 -> 97.91 | P28: =L28*N28 -> 439.6159
A29: Heures suppléméntaires | L29: =P25 -> 4.49 | N29: =D21+F21+H21+J21+L21 -> 80 | P29: =L29*N29 -> 359.2
A30: Heures congés sans solde | P30: =L30*N30 -> 0
A31: Heures complémentaires | P31: =SUM(L31*N31) -> 0
A33: Congés payés Heures supplémentaires | L33: 0.44 | N33: 0 | P33: =(L33*N33) -> 0
A34: Maladies enfant
A35: Congés payés | L35: 0.44 | N35: =P23 -> 97.91 | P35: =SUM(L35*N35) -> 43.0804
L36: Salaire Brut | P36: =SUM(P28:P35) -> 841.8963
A38: Cotisations sociales | M38: Part Salariale
L39: Base | N39: Nombre | P39: Montant
A40: Sécurité sociale | L40: =P36 -> 841.8963 | N40: 0.0075 | P40: =L40*N40 -> 6.3142223
A41: Sécurité sociale vieillesse | L41: =P36 -> 841.8963 | N41: 0.068 | P41: =L41*N41 -> 57.248948
A42: Assurance chômage | L42: =P36 -> 841.8963 | N42: 0.024 | P42: =L42*N42 -> 20.205511
A43: vieillesse | L43: =P36 -> 841.8963 | N43: 0.0025 | P43: =L43*N43 -> 2.1047408
A44: AGFF | L44: =P36 -> 841.8963 | N44: 0.008 | P44: =L44*N44 -> 6.7351704
A45: Retraite IRCEM | L45: =P36 -> 841.8963 | N45: 0.0305 | P45: =L45*N45 -> 25.677837
A46: Prévoyance | L46: =P36 -> 841.8963 | N46: 0.0115 | P46: =L46*N46 -> 9.6818075
A47: CSG 5,1%*98,25% salaire déductible | L47: =P36*98.25% -> 827.16311 | N47: 0.051 | P47: =L47*N47 -> 42.185319
A48: CGS 2,4%*98,25 | L48: =P36*0.9825 -> 827.16311 | N48: 0.024 | P48: =L48*N48 -> 19.851915
...

Sheet Avril
A1: Syndicat Professionnel des Assistants Maternels et Assistants Familiaux
A2: Bulletin de Salaire
A3: URSSAF de : | J3: Mois de : | L3: 42095
A4: Employeur Salarié
A5: Nom, prénom : | I5: Nom, prénom :
A6: Adresse : | I6: Adresse :
A9: N° URSSAF :
A10: N° Pajemploi : | I10: Emploi occupé :
A11: Adresse : | I11: N° Sécurité Sociale :
A13: Convention Collective des Assistants Maternels du Particulier Employeur, Code Naf : 88.91A.
A14: Jours | B14: =+L3 -> 42095 | C14: =+B14+1 -> 42096 | D14: =+C14+1 -> 42097 | E14: =+D14+1 -> 42098 | F14: =+E14+1 -> 42099 | G14: =+F14+1 -> 42100 | H14: =+G14+1 -> 42101 | I14: =+H14+1 -> 42102 | J14: =+I14+1 -> 42103 | ... Q14: =+P14+1 -> 42110
A15: Sem | B15: =WEEKNUM(B14,2) -> 14 | C15: =WEEKNUM(C14,2) -> 14 | D15: =WEEKNUM(D14,2) -> 14 | E15: =WEEKNUM(E14,2) -> 14 | F15: =WEEKNUM(F14,2) -> 14 | G15: =WEEKNUM(G14,2) -> 15 | H15: =WEEKNUM(H14,2) -> 15 | I15: =WEEKNUM(I14,2) -> 15 | ... Q15: =WEEKNUM(Q14,2) -> 16
A16: Heures | C16: 12 | G16: 8 | N16: 11 | P16: 35
A17: Jours | B17: =Q14+1 -> 42111 | C17: =B17+1 -> 42112 | D17: =C17+1 -> 42113 | E17: =D17+1 -> 42114 | F17: =E17+1 -> 42115 | G17: =F17+1 -> 42116 | H17: =G17+1 -> 42117 | I17: =H17+1 -> 42118 | J17: =I17+1 -> 42119 | ... O17: =N17+1 -> 42124
A18: Sem | B18: =WEEKNUM(B17,2) -> 16 | C18: =WEEKNUM(C17,2) -> 16 | D18: =WEEKNUM(D17,2) -> 16 | E18: =WEEKNUM(E17,2) -> 17 | F18: =WEEKNUM(F17,2) -> 17 | G18: =WEEKNUM(G17,2) -> 17 | H18: =WEEKNUM(H17,2) -> 17 | I18: =WEEKNUM(I17,2) -> 17 | ... O18: =WEEKNUM(O17,2) -> 18
A19: Heures | J19: 25 | N19: 35 | O19: 10
A21: H/Sup sem | C21: =IF(WEEKDAY(B14,2)>5,"Sem "&B15+1,"Sem "&B15) -> Sem 14 | D21: =IF((SUMIF($B$15:$Q$15,VALUE(RIGHT(C21,2)),$B$16:$Q$16)+SUMIF(Mars!$B$18:$Q$18,VALUE(RIGHT(C21,2)),Mars!$B$19:$Q$19)-25)<=0,0,SUMIF($B$15:$Q$15,VALUE(RIGHT(C21,2)),$B$16:$Q$16)+SUMIF(Mars!$B$18:$Q$18,VALUE(RIGHT($C21,2)),Mars!$B$19:$Q$19)-25) -> 27 | E21: ="Sem "&VALUE(RIGHT(C21,2))+1 -> Sem 15 | F21: =IF((SUMIF($B$15:$Q$15,VALUE(RIGHT(E21,2)),$B$16:$Q$16)+SUMIF($B$18:$Q$18,VALUE(RIGHT(E21,2)),$B$19:$Q$19)-25)<=0,0,SUMIF($B$15:$Q$15,VALUE(RIGHT(E21,2)),$B$16:$Q$16)+SUMIF($B$18:$Q$18,VALUE(RIGHT($E21,2)),$B$19:$Q$19)-25) -> 0 | G21: ="Sem "&VALUE(RIGHT(E21,2))+1 -> Sem 16 | H21: =IF((SUMIF($B$15:$Q$15,VALUE(RIGHT(G21,2)),$B$16:$Q$16)+SUMIF($B$18:$Q$18,VALUE(RIGHT(G21,2)),$B$19:$Q$19)-25)<=0,0,SUMIF($B$15:$Q$15,VALUE(RIGHT(G21,2)),$B$16:$Q$16)+SUMIF($B$18:$Q$18,VALUE(RIGHT($G21,2)),$B$19:$Q$19)-25) -> 21 | I21: ="Sem "&VALUE(RIGHT(G21,2))+1 -> Sem 17 | J21: =IF(OR(ISERROR(VALUE(RIGHT(I21,2))),SUMIF($B$15:$Q$15,VALUE(RIGHT(I21,2)),$B$16:$Q$16)+SUMIF($B$18:$Q$18,VALUE(RIGHT(I21,2)),$B$19:$Q$19)-25<=0),0,SUMIF($B$15:$Q$15,VALUE(RIGHT(I21,2)),$B$16:$Q$16)+SUMIF($B$18:$Q$18,VALUE(RIGHT($I21,2)),$B$19:$Q$19)-25) -> 0 | K21: =IF(WEEKDAY(O17,2)>=5,"Sem "&VALUE(RIGHT(I21,2))+1,"") | L21: =IF(OR(ISERROR(VALUE(RIGHT(K21,2))),SUMIF($B$15:$Q$15,VALUE(RIGHT(K21,2)),$B$16:$Q$16)+SUMIF($B$18:$Q$18,VALUE(RIGHT(K21,2)),$B$19:$Q$19)-25<=0),0,SUMIF($B$15:$Q$15,VALUE(RIGHT(K21,2)),$B$16:$Q$16)+SUMIF($B$18:$Q$18,VALUE(RIGHT($K21,2)),$B$19:$Q$19)-25) -> 0
A23: Nombre d'heures d'accueil dans le mois | I23: =SUM(B16:Q16)+SUM(B19:Q19) -> 136 | K23: Mensualisation | P23: 97.91
K24: Heures supp. mensualisées
A25: Nombre de jours d'accueil dans le mois | I25: =COUNTIF(B16:P16,">"&0)+COUNTIF(B19:Q19,">"&0) -> 7 | K25: Salaire horaire brut de base | P25: 4.49
A27: Rémunération : | L27: Base | N27: Nombre | P27: Montant
A28: Salaire de base mensuel | L28: =P25 -> 4.49 | N28: =P23 -> 97.91 | P28: =L28*N28 -> 439.6159
A29: Heures suppléméntaires | L29: =P25 -> 4.49 | N29: =D21+F21+H21+J21+L21 -> 48 | P29: =L29*N29 -> 215.52
A30: Heures congés sans solde | P30: =L30*N30 -> 0
A31: Heures complémentaires | P31: =SUM(L31*N31) -> 0
A33: Congés payés Heures supplémentaires | L33: 0.44 | N33: 0 | P33: =(L33*N33) -> 0
A34: Maladies enfant
A35: Congés payés | L35: 0.44 | N35: =P23 -> 97.91 | P35: =SUM(L35*N35) -> 43.0804
L36: Salaire Brut | P36: =SUM(P28:P35) -> 698.2163
A38: Cotisations sociales | M38: Part Salariale
L39: Base | N39: Nombre | P39: Montant
A40: Sécurité sociale | L40: =P36 -> 698.2163 | N40: 0.0075 | P40: =L40*N40 -> 5.2366222
A41: Sécurité sociale vieillesse | L41: =P36 -> 698.2163 | N41: 0.068 | P41: =L41*N41 -> 47.478708
A42: Assurance chômage | L42: =P36 -> 698.2163 | N42: 0.024 | P42: =L42*N42 -> 16.757191
A43: vieillesse | L43: =P36 -> 698.2163 | N43: 0.0025 | P43: =L43*N43 -> 1.7455408
A44: AGFF | L44: =P36 -> 698.2163 | N44: 0.008 | P44: =L44*N44 -> 5.5857304
A45: Retraite IRCEM | L45: =P36 -> 698.2163 | N45: 0.0305 | P45: =L45*N45 -> 21.295597
A46: Prévoyance | L46: =P36 -> 698.2163 | N46: 0.0115 | P46: =L46*N46 -> 8.0294874
A47: CSG 5,1%*98,25% salaire déductible | L47: =P36*98.25% -> 685.99751 | N47: 0.051 | P47: =L47*N47 -> 34.985873
A48: CGS 2,4%*98,25 | L48: =P36*0.9825 -> 685.99751 | N48: 0.024 | P48: =L48*N48 -> 16.46394
...

Sheet Mai
A1: Syndicat Professionnel des Assistants Maternels et Assistants Familiaux
A2: Bulletin de Salaire
A3: URSSAF de : | J3: Mois de : | L3: 42125
A4: Employeur Salarié | T4: =WEEKNUM(L3,2) -> 18
A5: Nom, prénom : | I5: Nom, prénom :
A6: Adresse : | I6: Adresse :
A9: N° URSSAF :
A10: N° Pajemploi : | I10: Emploi occupé :
A11: Adresse : | I11: N° Sécurité Sociale :
A13: Convention Collective des Assistants Maternels du Particulier Employeur, Code Naf : 88.91A.
A14: Jours | B14: =+L3 -> 42125 | C14: =+B14+1 -> 42126 | D14: =+C14+1 -> 42127 | E14: =+D14+1 -> 42128 | F14: =+E14+1 -> 42129 | G14: =+F14+1 -> 42130 | H14: =+G14+1 -> 42131 | I14: =+H14+1 -> 42132 | J14: =+I14+1 -> 42133 | ... Q14: =+P14+1 -> 42140
A15: Sem | B15: =WEEKNUM(B14,2) -> 18 | C15: =WEEKNUM(C14,2) -> 18 | D15: =WEEKNUM(D14,2) -> 18 | E15: =WEEKNUM(E14,2) -> 19 | F15: =WEEKNUM(F14,2) -> 19 | G15: =WEEKNUM(G14,2) -> 19 | H15: =WEEKNUM(H14,2) -> 19 | I15: =WEEKNUM(I14,2) -> 19 | ... Q15: =WEEKNUM(Q14,2) -> 20
A16: Heures | E16: 10 | F16: 8 | G16: 8 | M16: 25 | N16: 11 | Q16: 25
A17: Jours | B17: =Q14+1 -> 42141 | C17: =B17+1 -> 42142 | D17: =C17+1 -> 42143 | E17: =D17+1 -> 42144 | F17: =E17+1 -> 42145 | G17: =F17+1 -> 42146 | H17: =G17+1 -> 42147 | I17: =H17+1 -> 42148 | J17: =I17+1 -> 42149 | ... P17: =O17+1 -> 42155
A18: Sem | B18: =WEEKNUM(B17,2) -> 20 | C18: =WEEKNUM(C17,2) -> 21 | D18: =WEEKNUM(D17,2) -> 21 | E18: =WEEKNUM(E17,2) -> 21 | F18: =WEEKNUM(F17,2) -> 21 | G18: =WEEKNUM(G17,2) -> 21 | H18: =WEEKNUM(H17,2) -> 21 | I18: =WEEKNUM(I17,2) -> 21 | ... P18: =WEEKNUM(P17,2) -> 22
A19: Heures | C19: 26 | E19: 10 | I19: 10 | J19: 25 | K19: 10
A21: H/Sup sem | C21: =IF(WEEKDAY(B14,2)>5,"Sem "&B15+1,"Sem "&B15) -> Sem 18 | D21: =IF((SUMIF($B$15:$Q$15,VALUE(RIGHT(C21,2)),$B$16:$Q$16)+SUMIF(Avril!$B$18:$Q$18,VALUE(RIGHT(C21,2)),Avril!$B$19:$Q$19)-25)<=0,0,SUMIF($B$15:$Q$15,VALUE(RIGHT(C21,2)),$B$16:$Q$16)+SUMIF(Avril!$B$18:$Q$18,VALUE(RIGHT($C21,2)),Avril!$B$19:$Q$19)-25) -> 20 | E21: ="Sem "&VALUE(RIGHT(C21,2))+1 -> Sem 19 | F21: =IF((SUMIF($B$15:$Q$15,VALUE(RIGHT(E21,2)),$B$16:$Q$16)+SUMIF($B$18:$Q$18,VALUE(RIGHT(E21,2)),$B$19:$Q$19)-25)<=0,0,SUMIF($B$15:$Q$15,VALUE(RIGHT(E21,2)),$B$16:$Q$16)+SUMIF($B$18:$Q$18,VALUE(RIGHT($E21,2)),$B$19:$Q$19)-25) -> 1 | G21: ="Sem "&VALUE(RIGHT(E21,2))+1 -> Sem 20 | H21: =IF((SUMIF($B$15:$Q$15,VALUE(RIGHT(G21,2)),$B$16:$Q$16)+SUMIF($B$18:$Q$18,VALUE(RIGHT(G21,2)),$B$19:$Q$19)-25)<=0,0,SUMIF($B$15:$Q$15,VALUE(RIGHT(G21,2)),$B$16:$Q$16)+SUMIF($B$18:$Q$18,VALUE(RIGHT($G21,2)),$B$19:$Q$19)-25) -> 36 | I21: ="Sem "&VALUE(RIGHT(G21,2))+1 -> Sem 21 | J21: =IF(OR(ISERROR(VALUE(RIGHT(I21,2))),SUMIF($B$15:$Q$15,VALUE(RIGHT(I21,2)),$B$16:$Q$16)+SUMIF($B$18:$Q$18,VALUE(RIGHT(I21,2)),$B$19:$Q$19)-25<=0),0,SUMIF($B$15:$Q$15,VALUE(RIGHT(I21,2)),$B$16:$Q$16)+SUMIF($B$18:$Q$18,VALUE(RIGHT($I21,2)),$B$19:$Q$19)-25) -> 21 | K21: =IF(WEEKDAY(P17,2)>=5,"Sem "&VALUE(RIGHT(I21,2))+1,"") -> Sem 22 | L21: =IF(OR(ISERROR(VALUE(RIGHT(K21,2))),SUMIF($B$15:$Q$15,VALUE(RIGHT(K21,2)),$B$16:$Q$16)+SUMIF($B$18:$Q$18,VALUE(RIGHT(K21,2)),$B$19:$Q$19)-25<=0),0,SUMIF($B$15:$Q$15,VALUE(RIGHT(K21,2)),$B$16:$Q$16)+SUMIF($B$18:$Q$18,VALUE(RIGHT($K21,2)),$B$19:$Q$19)-25) -> 10
A23: Nombre d'heures d'accueil dans le mois | I23: =SUM(B16:Q16)+SUM(B19:Q19) -> 168 | K23: Mensualisation | P23: 97.91
K24: Heures supp. mensualisées
A25: Nombre de jours d'accueil dans le mois | I25: =COUNTIF(B16:P16,">"&0)+COUNTIF(B19:Q19,">"&0) -> 10 | K25: Salaire horaire brut de base | P25: 4.49
A27: Rémunération : | L27: Base | N27: Nombre | P27: Montant
A28: Salaire de base mensuel | L28: =P25 -> 4.49 | N28: =P23 -> 97.91 | P28: =L28*N28 -> 439.6159
A29: Heures suppléméntaires | L29: =P25 -> 4.49 | N29: =D21+F21+H21+J21+L21 -> 88 | P29: =L29*N29 -> 395.12
A30: Heures congés sans solde | P30: =L30*N30 -> 0
A31: Heures complémentaires | P31: =SUM(L31*N31) -> 0
A33: Congés payés Heures supplémentaires | L33: 0.44 | N33: 0 | P33: =(L33*N33) -> 0
A34: Maladies enfant
A35: Congés payés | L35: 0.44 | N35: =P23 -> 97.91 | P35: =SUM(L35*N35) -> 43.0804
L36: Salaire Brut | P36: =SUM(P28:P35) -> 877.8163
A38: Cotisations sociales | M38: Part Salariale
L39: Base | N39: Nombre | P39: Montant
A40: Sécurité sociale | L40: =P36 -> 877.8163 | N40: 0.0075 | P40: =L40*N40 -> 6.5836222
A41: Sécurité sociale vieillesse | L41: =P36 -> 877.8163 | N41: 0.068 | P41: =L41*N41 -> 59.691508
A42: Assurance chômage | L42: =P36 -> 877.8163 | N42: 0.024 | P42: =L42*N42 -> 21.067591
A43: vieillesse | L43: =P36 -> 877.8163 | N43: 0.0025 | P43: =L43*N43 -> 2.1945407
A44: AGFF | L44: =P36 -> 877.8163 | N44: 0.008 | P44: =L44*N44 -> 7.0225304
A45: Retraite IRCEM | L45: =P36 -> 877.8163 | N45: 0.0305 | P45: =L45*N45 -> 26.773397
A46: Prévoyance | L46: =P36 -> 877.8163 | N46: 0.0115 | P46: =L46*N46 -> 10.094887
A47: CSG 5,1%*98,25% salaire déductible | L47: =P36*98.25% -> 862.45451 | N47: 0.051 | P47: =L47*N47 -> 43.98518
A48: CGS 2,4%*98,25 | L48: =P36*0.9825 -> 862.45451 | N48: 0.024 | P48: =L48*N48 -> 20.698908
...

Sheet Juin
A1: Syndicat Professionnel des Assistants Maternels et Assistants Familiaux
A2: Bulletin de Salaire
A3: URSSAF de : | J3: Mois de : | L3: 42156
A4: Employeur Salarié
A5: Nom, prénom : | I5: Nom, prénom :
A6: Adresse : | I6: Adresse :
A9: N° URSSAF :
A10: N° Pajemploi : | I10: Emploi occupé :
A11: Adresse : | I11: N° Sécurité Sociale :
A13: Convention Collective des Assistants Maternels du Particulier Employeur, Code Naf : 88.91A.
A14: Jours | B14: =+L3 -> 42156 | C14: =+B14+1 -> 42157 | D14: =+C14+1 -> 42158 | E14: =+D14+1 -> 42159 | F14: =+E14+1 -> 42160 | G14: =+F14+1 -> 42161 | H14: =+G14+1 -> 42162 | I14: =+H14+1 -> 42163 | J14: =+I14+1 -> 42164 | ... Q14: =+P14+1 -> 42171
A15: Sem | B15: =WEEKNUM(B14,2) -> 23 | C15: =WEEKNUM(C14,2) -> 23 | D15: =WEEKNUM(D14,2) -> 23 | E15: =WEEKNUM(E14,2) -> 23 | F15: =WEEKNUM(F14,2) -> 23 | G15: =WEEKNUM(G14,2) -> 23 | H15: =WEEKNUM(H14,2) -> 23 | I15: =WEEKNUM(I14,2) -> 24 | ... Q15: =WEEKNUM(Q14,2) -> 25
A16: Heures
A17: Jours | B17: =Q14+1 -> 42172 | C17: =B17+1 -> 42173 | D17: =C17+1 -> 42174 | E17: =D17+1 -> 42175 | F17: =E17+1 -> 42176 | G17: =F17+1 -> 42177 | H17: =G17+1 -> 42178 | I17: =H17+1 -> 42179 | J17: =I17+1 -> 42180 | ... O17: =N17+1 -> 42185
A18: Sem | B18: =WEEKNUM(B17,2) -> 25 | C18: =WEEKNUM(C17,2) -> 25 | D18: =WEEKNUM(D17,2) -> 25 | E18: =WEEKNUM(E17,2) -> 25 | F18: =WEEKNUM(F17,2) -> 25 | G18: =WEEKNUM(G17,2) -> 26 | H18: =WEEKNUM(H17,2) -> 26 | I18: =WEEKNUM(I17,2) -> 26 | ... O18: =WEEKNUM(O17,2) -> 27
A19: Heures | N19: 30
A21: H/Sup sem | C21: =IF(WEEKDAY(B14,2)>5,"Sem "&B15+1,"Sem "&B15) -> Sem 23 | D21: =IF((SUMIF($B$15:$Q$15,VALUE(RIGHT(C21,2)),$B$16:$Q$16)+SUMIF(Mai!$B$18:$Q$18,VALUE(RIGHT(C21,2)),Mai!$B$19:$Q$19)-25)<=0,0,SUMIF($B$15:$Q$15,VALUE(RIGHT(C21,2)),$B$16:$Q$16)+SUMIF(Mai!$B$18:$Q$18,VALUE(RIGHT($C21,2)),Mai!$B$19:$Q$19)-25) -> 0 | E21: ="Sem "&VALUE(RIGHT(C21,2))+1 -> Sem 24 | F21: =IF((SUMIF($B$15:$Q$15,VALUE(RIGHT(E21,2)),$B$16:$Q$16)+SUMIF($B$18:$Q$18,VALUE(RIGHT(E21,2)),$B$19:$Q$19)-25)<=0,0,SUMIF($B$15:$Q$15,VALUE(RIGHT(E21,2)),$B$16:$Q$16)+SUMIF($B$18:$Q$18,VALUE(RIGHT($E21,2)),$B$19:$Q$19)-25) -> 0 | G21: ="Sem "&VALUE(RIGHT(E21,2))+1 -> Sem 25 | H21: =IF((SUMIF($B$15:$Q$15,VALUE(RIGHT(G21,2)),$B$16:$Q$16)+SUMIF($B$18:$Q$18,VALUE(RIGHT(G21,2)),$B$19:$Q$19)-25)<=0,0,SUMIF($B$15:$Q$15,VALUE(RIGHT(G21,2)),$B$16:$Q$16)+SUMIF($B$18:$Q$18,VALUE(RIGHT($G21,2)),$B$19:$Q$19)-25) -> 0 | I21: ="Sem "&VALUE(RIGHT(G21,2))+1 -> Sem 26 | J21: =IF(OR(ISERROR(VALUE(RIGHT(I21,2))),SUMIF($B$15:$Q$15,VALUE(RIGHT(I21,2)),$B$16:$Q$16)+SUMIF($B$18:$Q$18,VALUE(RIGHT(I21,2)),$B$19:$Q$19)-25<=0),0,SUMIF($B$15:$Q$15,VALUE(RIGHT(I21,2)),$B$16:$Q$16)+SUMIF($B$18:$Q$18,VALUE(RIGHT($I21,2)),$B$19:$Q$19)-25) -> 0 | K21: =IF(WEEKDAY(17,2)>=5,"Sem "&VALUE(RIGHT(I21,2))+1,"") | L21: =IF(OR(ISERROR(VALUE(RIGHT(K21,2))),SUMIF($B$15:$Q$15,VALUE(RIGHT(K21,2)),$B$16:$Q$16)+SUMIF($B$18:$Q$18,VALUE(RIGHT(K21,2)),$B$19:$Q$19)-25<=0),0,SUMIF($B$15:$Q$15,VALUE(RIGHT(K21,2)),$B$16:$Q$16)+SUMIF($B$18:$Q$18,VALUE(RIGHT($K21,2)),$B$19:$Q$19)-25) -> 0
A23: Nombre d'heures d'accueil dans le mois | I23: =SUM(B16:Q16)+SUM(B19:Q19) -> 30 | K23: Mensualisation | P23: 97.91
K24: Heures supp. mensualisées
A25: Nombre de jours d'accueil dans le mois | I25: =COUNTIF(B16:P16,">"&0)+COUNTIF(B19:Q19,">"&0) -> 1 | K25: Salaire horaire brut de base | P25: 4.49
A27: Rémunération : | L27: Base | N27: Nombre | P27: Montant
A28: Salaire de base mensuel | L28: =P25 -> 4.49 | N28: =P23 -> 97.91 | P28: =L28*N28 -> 439.6159
A29: Heures suppléméntaires | L29: =P25 -> 4.49 | N29: =D21+F21+H21+J21+L21 -> 0 | P29: =L29*N29 -> 0
A30: Heures congés sans solde | P30: =L30*N30 -> 0
A31: Heures complémentaires | P31: =SUM(L31*N31) -> 0
A33: Congés payés Heures supplémentaires | L33: 0.44 | N33: 0 | P33: =(L33*N33) -> 0
A34: Maladies enfant
A35: Congés payés | L35: 0.44 | N35: =P23 -> 97.91 | P35: =SUM(L35*N35) -> 43.0804
L36: Salaire Brut | P36: =SUM(P28:P35) -> 482.6963
A38: Cotisations sociales | M38: Part Salariale
L39: Base | N39: Nombre | P39: Montant
A40: Sécurité sociale | L40: =P36 -> 482.6963 | N40: 0.0075 | P40: =L40*N40 -> 3.6202222
A41: Sécurité sociale vieillesse | L41: =P36 -> 482.6963 | N41: 0.068 | P41: =L41*N41 -> 32.823348
A42: Assurance chômage | L42: =P36 -> 482.6963 | N42: 0.024 | P42: =L42*N42 -> 11.584711
A43: vieillesse | L43: =P36 -> 482.6963 | N43: 0.0025 | P43: =L43*N43 -> 1.2067408
A44: AGFF | L44: =P36 -> 482.6963 | N44: 0.008 | P44: =L44*N44 -> 3.8615704
A45: Retraite IRCEM | L45: =P36 -> 482.6963 | N45: 0.0305 | P45: =L45*N45 -> 14.722237
A46: Prévoyance | L46: =P36 -> 482.6963 | N46: 0.0115 | P46: =L46*N46 -> 5.5510075
A47: CSG 5,1%*98,25% salaire déductible | L47: =P36*98.25% -> 474.24911 | N47: 0.051 | P47: =L47*N47 -> 24.186705
A48: CGS 2,4%*98,25 | L48: =P36*0.9825 -> 474.24911 | N48: 0.024 | P48: =L48*N48 -> 11.381979
...

Sheet Juillet
A1: Syndicat Professionnel des Assistants Maternels et Assistants Familiaux
A2: Bulletin de Salaire
A3: URSSAF de : | J3: Mois de : | L3: 42186
A4: Employeur Salarié
A5: Nom, prénom : | I5: Nom, prénom :
A6: Adresse : | I6: Adresse :
A9: N° URSSAF :
A10: N° Pajemploi : | I10: Emploi occupé :
A11: Adresse : | I11: N° Sécurité Sociale :
A13: Convention Collective des Assistants Maternels du Particulier Employeur, Code Naf : 88.91A.
A14: Jours | B14: =+L3 -> 42186 | C14: =+B14+1 -> 42187 | D14: =+C14+1 -> 42188 | E14: =+D14+1 -> 42189 | F14: =+E14+1 -> 42190 | G14: =+F14+1 -> 42191 | H14: =+G14+1 -> 42192 | I14: =+H14+1 -> 42193 | J14: =+I14+1 -> 42194 | ... Q14: =+P14+1 -> 42201
A15: Sem | B15: =WEEKNUM(B14,2) -> 27 | C15: =WEEKNUM(C14,2) -> 27 | D15: =WEEKNUM(D14,2) -> 27 | E15: =WEEKNUM(E14,2) -> 27 | F15: =WEEKNUM(F14,2) -> 27 | G15: =WEEKNUM(G14,2) -> 28 | H15: =WEEKNUM(H14,2) -> 28 | I15: =WEEKNUM(I14,2) -> 28 | ... Q15: =WEEKNUM(Q14,2) -> 29
A16: Heures | B16: 35
A17: Jours | B17: =Q14+1 -> 42202 | C17: =B17+1 -> 42203 | D17: =C17+1 -> 42204 | E17: =D17+1 -> 42205 | F17: =E17+1 -> 42206 | G17: =F17+1 -> 42207 | H17: =G17+1 -> 42208 | I17: =H17+1 -> 42209 | J17: =I17+1 -> 42210 | ... P17: =O17+1 -> 42216
A18: Sem | B18: =WEEKNUM(B17,2) -> 29 | C18: =WEEKNUM(C17,2) -> 29 | D18: =WEEKNUM(D17,2) -> 29 | E18: =WEEKNUM(E17,2) -> 30 | F18: =WEEKNUM(F17,2) -> 30 | G18: =WEEKNUM(G17,2) -> 30 | H18: =WEEKNUM(H17,2) -> 30 | I18: =WEEKNUM(I17,2) -> 30 | ... P18: =WEEKNUM(P17,2) -> 31
A19: Heures
A21: H/Sup sem | C21: =IF(WEEKDAY(B14,2)>5,"Sem "&B15+1,"Sem "&B15) -> Sem 27 | D21: =IF((SUMIF($B$15:$Q$15,VALUE(RIGHT(C21,2)),$B$16:$Q$16)+SUMIF(Juin!$B$18:$Q$18,VALUE(RIGHT(C21,2)),Juin!$B$19:$Q$19)-25)<=0,0,SUMIF($B$15:$Q$15,VALUE(RIGHT(C21,2)),$B$16:$Q$16)+SUMIF(Juin!$B$18:$Q$18,VALUE(RIGHT($C21,2)),Juin!$B$19:$Q$19)-25) -> 40 | E21: ="Sem "&VALUE(RIGHT(C21,2))+1 -> Sem 28 | F21: =IF((SUMIF($B$15:$Q$15,VALUE(RIGHT(E21,2)),$B$16:$Q$16)+SUMIF($B$18:$Q$18,VALUE(RIGHT(E21,2)),$B$19:$Q$19)-25)<=0,0,SUMIF($B$15:$Q$15,VALUE(RIGHT(E21,2)),$B$16:$Q$16)+SUMIF($B$18:$Q$18,VALUE(RIGHT($E21,2)),$B$19:$Q$19)-25) -> 0 | G21: ="Sem "&VALUE(RIGHT(E21,2))+1 -> Sem 29 | H21: =IF((SUMIF($B$15:$Q$15,VALUE(RIGHT(G21,2)),$B$16:$Q$16)+SUMIF($B$18:$Q$18,VALUE(RIGHT(G21,2)),$B$19:$Q$19)-25)<=0,0,SUMIF($B$15:$Q$15,VALUE(RIGHT(G21,2)),$B$16:$Q$16)+SUMIF($B$18:$Q$18,VALUE(RIGHT($G21,2)),$B$19:$Q$19)-25) -> 0 | I21: ="Sem "&VALUE(RIGHT(G21,2))+1 -> Sem 30 | J21: =IF(OR(ISERROR(VALUE(RIGHT(I21,2))),SUMIF($B$15:$Q$15,VALUE(RIGHT(I21,2)),$B$16:$Q$16)+SUMIF($B$18:$Q$18,VALUE(RIGHT(I21,2)),$B$19:$Q$19)-25<=0),0,SUMIF($B$15:$Q$15,VALUE(RIGHT(I21,2)),$B$16:$Q$16)+SUMIF($B$18:$Q$18,VALUE(RIGHT($I21,2)),$B$19:$Q$19)-25) -> 0 | K21: =IF(WEEKDAY(P17,2)>=5,"Sem "&VALUE(RIGHT(I21,2))+1,"") -> Sem 31 | L21: =IF(OR(ISERROR(VALUE(RIGHT(K21,2))),SUMIF($B$15:$Q$15,VALUE(RIGHT(K21,2)),$B$16:$Q$16)+SUMIF($B$18:$Q$18,VALUE(RIGHT(K21,2)),$B$19:$Q$19)-25<=0),0,SUMIF($B$15:$Q$15,VALUE(RIGHT(K21,2)),$B$16:$Q$16)+SUMIF($B$18:$Q$18,VALUE(RIGHT($K21,2)),$B$19:$Q$19)-25) -> 0
A23: Nombre d'heures d'accueil dans le mois | I23: =SUM(B16:Q16)+SUM(B19:Q19) -> 35 | K23: Mensualisation | P23: 97.91
K24: Heures supp. mensualisées
A25: Nombre de jours d'accueil dans le mois | I25: =COUNTIF(B16:P16,">"&0)+COUNTIF(B19:Q19,">"&0) -> 1 | K25: Salaire horaire brut de base | P25: 4.49
A27: Rémunération : | L27: Base | N27: Nombre | P27: Montant
A28: Salaire de base mensuel | L28: =P25 -> 4.49 | N28: =P23 -> 97.91 | P28: =L28*N28 -> 439.6159
A29: Heures suppléméntaires | L29: =P25 -> 4.49 | N29: =D21+F21+H21+J21+L21 -> 40 | P29: =L29*N29 -> 179.6
A30: Heures congés sans solde | P30: =L30*N30 -> 0
A31: Heures complémentaires | P31: =SUM(L31*N31) -> 0
A33: Congés payés Heures supplémentaires | L33: 0.44 | N33: 0 | P33: =(L33*N33) -> 0
A34: Maladies enfant
A35: Congés payés | L35: 0.44 | N35: =P23 -> 97.91 | P35: =SUM(L35*N35) -> 43.0804
L36: Salaire Brut | P36: =SUM(P28:P35) -> 662.2963
A38: Cotisations sociales | M38: Part Salariale
L39: Base | N39: Nombre | P39: Montant
A40: Sécurité sociale | L40: =P36 -> 662.2963 | N40: 0.0075 | P40: =L40*N40 -> 4.9672222
A41: Sécurité sociale vieillesse | L41: =P36 -> 662.2963 | N41: 0.068 | P41: =L41*N41 -> 45.036148
A42: Assurance chômage | L42: =P36 -> 662.2963 | N42: 0.024 | P42: =L42*N42 -> 15.895111
A43: vieillesse | L43: =P36 -> 662.2963 | N43: 0.0025 | P43: =L43*N43 -> 1.6557407
A44: AGFF | L44: =P36 -> 662.2963 | N44: 0.008 | P44: =L44*N44 -> 5.2983704
A45: Retraite IRCEM | L45: =P36 -> 662.2963 | N45: 0.0305 | P45: =L45*N45 -> 20.200037
A46: Prévoyance | L46: =P36 -> 662.2963 | N46: 0.0115 | P46: =L46*N46 -> 7.6164074
A47: CSG 5,1%*98,25% salaire déductible | L47: =P36*98.25% -> 650.70611 | N47: 0.051 | P47: =L47*N47 -> 33.186012
A48: CGS 2,4%*98,25 | L48: =P36*0.9825 -> 650.70611 | N48: 0.024 | P48: =L48*N48 -> 15.616947
...

Sheet Aout
A1: Syndicat Professionnel des Assistants Maternels et Assistants Familiaux
A2: Bulletin de Salaire
A3: URSSAF de : | J3: Mois de : | L3: 42217
A4: Employeur Salarié
A5: Nom, prénom : | I5: Nom, prénom :
A6: Adresse : | I6: Adresse :
A9: N° URSSAF :
A10: N° Pajemploi : | I10: Emploi occupé :
A11: Adresse : | I11: N° Sécurité Sociale :
A13: Convention Collective des Assistants Maternels du Particulier Employeur, Code Naf : 88.91A.
A14: Jours | B14: =+L3 -> 42217 | C14: =+B14+1 -> 42218 | D14: =+C14+1 -> 42219 | E14: =+D14+1 -> 42220 | F14: =+E14+1 -> 42221 | G14: =+F14+1 -> 42222 | H14: =+G14+1 -> 42223 | I14: =+H14+1 -> 42224 | J14: =+I14+1 -> 42225 | ... Q14: =+P14+1 -> 42232
A15: Sem | B15: =WEEKNUM(B14,2) -> 31 | C15: =WEEKNUM(C14,2) -> 31 | D15: =WEEKNUM(D14,2) -> 32 | E15: =WEEKNUM(E14,2) -> 32 | F15: =WEEKNUM(F14,2) -> 32 | G15: =WEEKNUM(G14,2) -> 32 | H15: =WEEKNUM(H14,2) -> 32 | I15: =WEEKNUM(I14,2) -> 32 | ... Q15: =WEEKNUM(Q14,2) -> 33
A16: Heures
A17: Jours | B17: =Q14+1 -> 42233 | C17: =B17+1 -> 42234 | D17: =C17+1 -> 42235 | E17: =D17+1 -> 42236 | F17: =E17+1 -> 42237 | G17: =F17+1 -> 42238 | H17: =G17+1 -> 42239 | I17: =H17+1 -> 42240 | J17: =I17+1 -> 42241 | ... P17: =O17+1 -> 42247
A18: Sem | B18: =WEEKNUM(B17,2) -> 34 | C18: =WEEKNUM(C17,2) -> 34 | D18: =WEEKNUM(D17,2) -> 34 | E18: =WEEKNUM(E17,2) -> 34 | F18: =WEEKNUM(F17,2) -> 34 | G18: =WEEKNUM(G17,2) -> 34 | H18: =WEEKNUM(H17,2) -> 34 | I18: =WEEKNUM(I17,2) -> 35 | ... P18: =WEEKNUM(P17,2) -> 36
A19: Heures
A21: H/Sup sem | C21: =IF(WEEKDAY(B14,2)>5,"Sem "&B15+1,"Sem "&B15) -> Sem 32 | D21: =IF((SUMIF($B$15:$Q$15,VALUE(RIGHT(C21,2)),$B$16:$Q$16)+SUMIF(Juillet!$B$18:$Q$18,VALUE(RIGHT(C21,2)),Juillet!$B$19:$Q$19)-25)<=0,0,SUMIF($B$15:$Q$15,VALUE(RIGHT(C21,2)),$B$16:$Q$16)+SUMIF(Juillet!$B$18:$Q$18,VALUE(RIGHT($C21,2)),Juillet!$B$19:$Q$19)-25) -> 0 | E21: ="Sem "&VALUE(RIGHT(C21,2))+1 -> Sem 33 | F21: =IF((SUMIF($B$15:$Q$15,VALUE(RIGHT(E21,2)),$B$16:$Q$16)+SUMIF($B$18:$Q$18,VALUE(RIGHT(E21,2)),$B$19:$Q$19)-25)<=0,0,SUMIF($B$15:$Q$15,VALUE(RIGHT(E21,2)),$B$16:$Q$16)+SUMIF($B$18:$Q$18,VALUE(RIGHT($E21,2)),$B$19:$Q$19)-25) -> 0 | G21: ="Sem "&VALUE(RIGHT(E21,2))+1 -> Sem 34 | H21: =IF((SUMIF($B$15:$Q$15,VALUE(RIGHT(G21,2)),$B$16:$Q$16)+SUMIF($B$18:$Q$18,VALUE(RIGHT(G21,2)),$B$19:$Q$19)-25)<=0,0,SUMIF($B$15:$Q$15,VALUE(RIGHT(G21,2)),$B$16:$Q$16)+SUMIF($B$18:$Q$18,VALUE(RIGHT($G21,2)),$B$19:$Q$19)-25) -> 0 | I21: ="Sem "&VALUE(RIGHT(G21,2))+1 -> Sem 35 | J21: =IF(OR(ISERROR(VALUE(RIGHT(I21,2))),SUMIF($B$15:$Q$15,VALUE(RIGHT(I21,2)),$B$16:$Q$16)+SUMIF($B$18:$Q$18,VALUE(RIGHT(I21,2)),$B$19:$Q$19)-25<=0),0,SUMIF($B$15:$Q$15,VALUE(RIGHT(I21,2)),$B$16:$Q$16)+SUMIF($B$18:$Q$18,VALUE(RIGHT($I21,2)),$B$19:$Q$19)-25) -> 0 | K21: =IF(WEEKDAY(P17,2)>=5,"Sem "&VALUE(RIGHT(I21,2))+1,"") | L21: =IF(OR(ISERROR(VALUE(RIGHT(K21,2))),SUMIF($B$15:$Q$15,VALUE(RIGHT(K21,2)),$B$16:$Q$16)+SUMIF($B$18:$Q$18,VALUE(RIGHT(K21,2)),$B$19:$Q$19)-25<=0),0,SUMIF($B$15:$Q$15,VALUE(RIGHT(K21,2)),$B$16:$Q$16)+SUMIF($B$18:$Q$18,VALUE(RIGHT($K21,2)),$B$19:$Q$19)-25) -> 0
A23: Nombre d'heures d'accueil dans le mois | I23: =SUM(B16:Q16)+SUM(B19:Q19) -> 0 | K23: Mensualisation | P23: 97.91
K24: Heures supp. mensualisées
A25: Nombre de jours d'accueil dans le mois | I25: =COUNTIF(B16:P16,">"&0)+COUNTIF(B19:Q19,">"&0) -> 0 | K25: Salaire horaire brut de base | P25: 4.49
A27: Rémunération : | L27: Base | N27: Nombre | P27: Montant
A28: Salaire de base mensuel | L28: =P25 -> 4.49 | N28: =P23 -> 97.91 | P28: =L28*N28 -> 439.6159
A29: Heures suppléméntaires | L29: =P25 -> 4.49 | N29: =D21+F21+H21+J21+L21 -> 0 | P29: =L29*N29 -> 0
A30: Heures congés sans solde | P30: =L30*N30 -> 0
A31: Heures complémentaires | P31: =SUM(L31*N31) -> 0
A33: Congés payés Heures supplémentaires | L33: 0.44 | N33: 0 | P33: =(L33*N33) -> 0
A34: Maladies enfant
A35: Congés payés | L35: 0.44 | N35: =P23 -> 97.91 | P35: =SUM(L35*N35) -> 43.0804
L36: Salaire Brut | P36: =SUM(P28:P35) -> 482.6963
A38: Cotisations sociales | M38: Part Salariale
L39: Base | N39: Nombre | P39: Montant
A40: Sécurité sociale | L40: =P36 -> 482.6963 | N40: 0.0075 | P40: =L40*N40 -> 3.6202222
A41: Sécurité sociale vieillesse | L41: =P36 -> 482.6963 | N41: 0.068 | P41: =L41*N41 -> 32.823348
A42: Assurance chômage | L42: =P36 -> 482.6963 | N42: 0.024 | P42: =L42*N42 -> 11.584711
A43: vieillesse | L43: =P36 -> 482.6963 | N43: 0.0025 | P43: =L43*N43 -> 1.2067408
A44: AGFF | L44: =P36 -> 482.6963 | N44: 0.008 | P44: =L44*N44 -> 3.8615704
A45: Retraite IRCEM | L45: =P36 -> 482.6963 | N45: 0.0305 | P45: =L45*N45 -> 14.722237
A46: Prévoyance | L46: =P36 -> 482.6963 | N46: 0.0115 | P46: =L46*N46 -> 5.5510075
A47: CSG 5,1%*98,25% salaire déductible | L47: =P36*98.25% -> 474.24911 | N47: 0.051 | P47: =L47*N47 -> 24.186705
A48: CGS 2,4%*98,25 | L48: =P36*0.9825 -> 474.24911 | N48: 0.024 | P48: =L48*N48 -> 11.381979
...

Sheet Septembre
A1: Syndicat Professionnel des Assistants Maternels et Assistants Familiaux
A2: Bulletin de Salaire
A3: URSSAF de : | J3: Mois de : | L3: 42248
A4: Employeur Salarié
A5: Nom, prénom : | I5: Nom, prénom :
A6: Adresse : | I6: Adresse :
A9: N° URSSAF :
A10: N° Pajemploi : | I10: Emploi occupé :
A11: Adresse : | I11: N° Sécurité Sociale :
A13: Convention Collective des Assistants Maternels du Particulier Employeur, Code Naf : 88.91A.
A14: Jours | B14: =+L3 -> 42248 | C14: =+B14+1 -> 42249 | D14: =+C14+1 -> 42250 | E14: =+D14+1 -> 42251 | F14: =+E14+1 -> 42252 | G14: =+F14+1 -> 42253 | H14: =+G14+1 -> 42254 | I14: =+H14+1 -> 42255 | J14: =+I14+1 -> 42256 | ... Q14: =+P14+1 -> 42263
A15: Sem | B15: =WEEKNUM(B14,2) -> 36 | C15: =WEEKNUM(C14,2) -> 36 | D15: =WEEKNUM(D14,2) -> 36 | E15: =WEEKNUM(E14,2) -> 36 | F15: =WEEKNUM(F14,2) -> 36 | G15: =WEEKNUM(G14,2) -> 36 | H15: =WEEKNUM(H14,2) -> 37 | I15: =WEEKNUM(I14,2) -> 37 | ... Q15: =WEEKNUM(Q14,2) -> 38
A16: Heures | B16: 35
A17: Jours | B17: =Q14+1 -> 42264 | C17: =B17+1 -> 42265 | D17: =C17+1 -> 42266 | E17: =D17+1 -> 42267 | F17: =E17+1 -> 42268 | G17: =F17+1 -> 42269 | H17: =G17+1 -> 42270 | I17: =H17+1 -> 42271 | J17: =I17+1 -> 42272 | ... O17: =N17+1 -> 42277
A18: Sem | B18: =WEEKNUM(B17,2) -> 38 | C18: =WEEKNUM(C17,2) -> 38 | D18: =WEEKNUM(D17,2) -> 38 | E18: =WEEKNUM(E17,2) -> 38 | F18: =WEEKNUM(F17,2) -> 39 | G18: =WEEKNUM(G17,2) -> 39 | H18: =WEEKNUM(H17,2) -> 39 | I18: =WEEKNUM(I17,2) -> 39 | ... O18: =WEEKNUM(O17,2) -> 40
A19: Heures
A21: H/Sup sem | C21: =IF(WEEKDAY(B14,2)>5,"Sem "&B15+1,"Sem "&B15) -> Sem 36 | D21: =IF((SUMIF($B$15:$Q$15,VALUE(RIGHT(C21,2)),$B$16:$Q$16)+SUMIF(Aout!$B$18:$Q$18,VALUE(RIGHT(C21,2)),Aout!$B$19:$Q$19)-25)<=0,0,SUMIF($B$15:$Q$15,VALUE(RIGHT(C21,2)),$B$16:$Q$16)+SUMIF(Aout!$B$18:$Q$18,VALUE(RIGHT($C21,2)),Aout!$B$19:$Q$19)-25) -> 10 | E21: ="Sem "&VALUE(RIGHT(C21,2))+1 -> Sem 37 | F21: =IF((SUMIF($B$15:$Q$15,VALUE(RIGHT(E21,2)),$B$16:$Q$16)+SUMIF($B$18:$Q$18,VALUE(RIGHT(E21,2)),$B$19:$Q$19)-25)<=0,0,SUMIF($B$15:$Q$15,VALUE(RIGHT(E21,2)),$B$16:$Q$16)+SUMIF($B$18:$Q$18,VALUE(RIGHT($E21,2)),$B$19:$Q$19)-25) -> 0 | G21: ="Sem "&VALUE(RIGHT(E21,2))+1 -> Sem 38 | H21: =IF((SUMIF($B$15:$Q$15,VALUE(RIGHT(G21,2)),$B$16:$Q$16)+SUMIF($B$18:$Q$18,VALUE(RIGHT(G21,2)),$B$19:$Q$19)-25)<=0,0,SUMIF($B$15:$Q$15,VALUE(RIGHT(G21,2)),$B$16:$Q$16)+SUMIF($B$18:$Q$18,VALUE(RIGHT($G21,2)),$B$19:$Q$19)-25) -> 0 | I21: ="Sem "&VALUE(RIGHT(G21,2))+1 -> Sem 39 | J21: =IF(OR(ISERROR(VALUE(RIGHT(I21,2))),SUMIF($B$15:$Q$15,VALUE(RIGHT(I21,2)),$B$16:$Q$16)+SUMIF($B$18:$Q$18,VALUE(RIGHT(I21,2)),$B$19:$Q$19)-25<=0),0,SUMIF($B$15:$Q$15,VALUE(RIGHT(I21,2)),$B$16:$Q$16)+SUMIF($B$18:$Q$18,VALUE(RIGHT($I21,2)),$B$19:$Q$19)-25) -> 0 | K21: =IF(WEEKDAY(17,2)>=5,"Sem "&VALUE(RIGHT(I21,2))+1,"") | L21: =IF(OR(ISERROR(VALUE(RIGHT(K21,2))),SUMIF($B$15:$Q$15,VALUE(RIGHT(K21,2)),$B$16:$Q$16)+SUMIF($B$18:$Q$18,VALUE(RIGHT(K21,2)),$B$19:$Q$19)-25<=0),0,SUMIF($B$15:$Q$15,VALUE(RIGHT(K21,2)),$B$16:$Q$16)+SUMIF($B$18:$Q$18,VALUE(RIGHT($K21,2)),$B$19:$Q$19)-25) -> 0
A23: Nombre d'heures d'accueil dans le mois | I23: =SUM(B16:Q16)+SUM(B19:Q19) -> 35 | K23: Mensualisation | P23: 97.91
K24: Heures supp. mensualisées
A25: Nombre de jours d'accueil dans le mois | I25: =COUNTIF(B16:P16,">"&0)+COUNTIF(B19:Q19,">"&0) -> 1 | K25: Salaire horaire brut de base | P25: 4.49
A27: Rémunération : | L27: Base | N27: Nombre | P27: Montant
A28: Salaire de base mensuel | L28: =P25 -> 4.49 | N28: =P23 -> 97.91 | P28: =L28*N28 -> 439.6159
A29: Heures suppléméntaires | L29: =P25 -> 4.49 | N29: =D21+F21+H21+J21+L21 -> 10 | P29: =L29*N29 -> 44.9
A30: Heures congés sans solde | P30: =L30*N30 -> 0
A31: Heures complémentaires | P31: =SUM(L31*N31) -> 0
A33: Congés payés Heures supplémentaires | L33: 0.44 | N33: 0 | P33: =(L33*N33) -> 0
A34: Maladies enfant
A35: Congés payés | L35: 0.44 | N35: =P23 -> 97.91 | P35: =SUM(L35*N35) -> 43.0804
L36: Salaire Brut | P36: =SUM(P28:P35) -> 527.5963
A38: Cotisations sociales | M38: Part Salariale
L39: Base | N39: Nombre | P39: Montant
A40: Sécurité sociale | L40: =P36 -> 527.5963 | N40: 0.0075 | P40: =L40*N40 -> 3.9569722
A41: Sécurité sociale vieillesse | L41: =P36 -> 527.5963 | N41: 0.068 | P41: =L41*N41 -> 35.876548
A42: Assurance chômage | L42: =P36 -> 527.5963 | N42: 0.024 | P42: =L42*N42 -> 12.662311
A43: vieillesse | L43: =P36 -> 527.5963 | N43: 0.0025 | P43: =L43*N43 -> 1.3189907
A44: AGFF | L44: =P36 -> 527.5963 | N44: 0.008 | P44: =L44*N44 -> 4.2207704
A45: Retraite IRCEM | L45: =P36 -> 527.5963 | N45: 0.0305 | P45: =L45*N45 -> 16.091687
A46: Prévoyance | L46: =P36 -> 527.5963 | N46: 0.0115 | P46: =L46*N46 -> 6.0673574
A47: CSG 5,1%*98,25% salaire déductible | L47: =P36*98.25% -> 518.36336 | N47: 0.051 | P47: =L47*N47 -> 26.436532
A48: CGS 2,4%*98,25 | L48: =P36*0.9825 -> 518.36336 | N48: 0.024 | P48: =L48*N48 -> 12.440721
...

Sheet Octobre
A1: Syndicat Professionnel des Assistants Maternels et Assistants Familiaux
A2: Bulletin de Salaire
A3: URSSAF de : | J3: Mois de : | L3: 42278
A4: Employeur Salarié
A5: Nom, prénom : | I5: Nom, prénom :
A6: Adresse : | I6: Adresse :
A9: N° URSSAF :
A10: N° Pajemploi : | I10: Emploi occupé :
A11: Adresse : | I11: N° Sécurité Sociale :
A13: Convention Collective des Assistants Maternels du Particulier Employeur, Code Naf : 88.91A.
A14: Jours | B14: =+L3 -> 42278 | C14: =+B14+1 -> 42279 | D14: =+C14+1 -> 42280 | E14: =+D14+1 -> 42281 | F14: =+E14+1 -> 42282 | G14: =+F14+1 -> 42283 | H14: =+G14+1 -> 42284 | I14: =+H14+1 -> 42285 | J14: =+I14+1 -> 42286 | ... Q14: =+P14+1 -> 42293
A15: Sem | B15: =WEEKNUM(B14,2) -> 40 | C15: =WEEKNUM(C14,2) -> 40 | D15: =WEEKNUM(D14,2) -> 40 | E15: =WEEKNUM(E14,2) -> 40 | F15: =WEEKNUM(F14,2) -> 41 | G15: =WEEKNUM(G14,2) -> 41 | H15: =WEEKNUM(H14,2) -> 41 | I15: =WEEKNUM(I14,2) -> 41 | ... Q15: =WEEKNUM(Q14,2) -> 42
A16: Heures | B16: 35
A17: Jours | B17: =Q14+1 -> 42294 | C17: =B17+1 -> 42295 | D17: =C17+1 -> 42296 | E17: =D17+1 -> 42297 | F17: =E17+1 -> 42298 | G17: =F17+1 -> 42299 | H17: =G17+1 -> 42300 | I17: =H17+1 -> 42301 | J17: =I17+1 -> 42302 | ... P17: =O17+1 -> 42308
A18: Sem | B18: =WEEKNUM(B17,2) -> 42 | C18: =WEEKNUM(C17,2) -> 42 | D18: =WEEKNUM(D17,2) -> 43 | E18: =WEEKNUM(E17,2) -> 43 | F18: =WEEKNUM(F17,2) -> 43 | G18: =WEEKNUM(G17,2) -> 43 | H18: =WEEKNUM(H17,2) -> 43 | I18: =WEEKNUM(I17,2) -> 43 | ... P18: =WEEKNUM(P17,2) -> 44
A19: Heures
A21: H/Sup sem | C21: =IF(WEEKDAY(B14,2)>5,"Sem "&B15+1,"Sem "&B15) -> Sem 40 | D21: =IF((SUMIF($B$15:$Q$15,VALUE(RIGHT(C21,2)),$B$16:$Q$16)+SUMIF(Septembre!$B$18:$Q$18,VALUE(RIGHT(C21,2)),Septembre!$B$19:$Q$19)-25)<=0,0,SUMIF($B$15:$Q$15,VALUE(RIGHT(C21,2)),$B$16:$Q$16)+SUMIF(Septembre!$B$18:$Q$18,VALUE(RIGHT($C21,2)),Septembre!$B$19:$Q$19)-25) -> 10 | E21: ="Sem "&VALUE(RIGHT(C21,2))+1 -> Sem 41 | F21: =IF((SUMIF($B$15:$Q$15,VALUE(RIGHT(E21,2)),$B$16:$Q$16)+SUMIF($B$18:$Q$18,VALUE(RIGHT(E21,2)),$B$19:$Q$19)-25)<=0,0,SUMIF($B$15:$Q$15,VALUE(RIGHT(E21,2)),$B$16:$Q$16)+SUMIF($B$18:$Q$18,VALUE(RIGHT($E21,2)),$B$19:$Q$19)-25) -> 0 | G21: ="Sem "&VALUE(RIGHT(E21,2))+1 -> Sem 42 | H21: =IF((SUMIF($B$15:$Q$15,VALUE(RIGHT(G21,2)),$B$16:$Q$16)+SUMIF($B$18:$Q$18,VALUE(RIGHT(G21,2)),$B$19:$Q$19)-25)<=0,0,SUMIF($B$15:$Q$15,VALUE(RIGHT(G21,2)),$B$16:$Q$16)+SUMIF($B$18:$Q$18,VALUE(RIGHT($G21,2)),$B$19:$Q$19)-25) -> 0 | I21: ="Sem "&VALUE(RIGHT(G21,2))+1 -> Sem 43 | J21: =IF(OR(ISERROR(VALUE(RIGHT(I21,2))),SUMIF($B$15:$Q$15,VALUE(RIGHT(I21,2)),$B$16:$Q$16)+SUMIF($B$18:$Q$18,VALUE(RIGHT(I21,2)),$B$19:$Q$19)-25<=0),0,SUMIF($B$15:$Q$15,VALUE(RIGHT(I21,2)),$B$16:$Q$16)+SUMIF($B$18:$Q$18,VALUE(RIGHT($I21,2)),$B$19:$Q$19)-25) -> 0 | K21: =IF(WEEKDAY(P17,2)>=5,"Sem "&VALUE(RIGHT(I21,2))+1,"") -> Sem 44 | L21: =IF(OR(ISERROR(VALUE(RIGHT(K21,2))),SUMIF($B$15:$Q$15,VALUE(RIGHT(K21,2)),$B$16:$Q$16)+SUMIF($B$18:$Q$18,VALUE(RIGHT(K21,2)),$B$19:$Q$19)-25<=0),0,SUMIF($B$15:$Q$15,VALUE(RIGHT(K21,2)),$B$16:$Q$16)+SUMIF($B$18:$Q$18,VALUE(RIGHT($K21,2)),$B$19:$Q$19)-25) -> 0
A23: Nombre d'heures d'accueil dans le mois | I23: =SUM(B16:Q16)+SUM(B19:Q19) -> 35 | K23: Mensualisation | P23: 97.91
K24: Heures supp. mensualisées
A25: Nombre de jours d'accueil dans le mois | I25: =COUNTIF(B16:P16,">"&0)+COUNTIF(B19:Q19,">"&0) -> 1 | K25: Salaire horaire brut de base | P25: 4.49
A27: Rémunération : | L27: Base | N27: Nombre | P27: Montant
A28: Salaire de base mensuel | L28: =P25 -> 4.49 | N28: =P23 -> 97.91 | P28: =L28*N28 -> 439.6159
A29: Heures suppléméntaires | L29: =P25 -> 4.49 | N29: =D21+F21+H21+J21+L21 -> 10 | P29: =L29*N29 -> 44.9
A30: Heures congés sans solde | P30: =L30*N30 -> 0
A31: Heures complémentaires | P31: =SUM(L31*N31) -> 0
A33: Congés payés Heures supplémentaires | L33: 0.44 | N33: 0 | P33: =(L33*N33) -> 0
A34: Maladies enfant
A35: Congés payés | L35: 0.44 | N35: =P23 -> 97.91 | P35: =SUM(L35*N35) -> 43.0804
L36: Salaire Brut | P36: =SUM(P28:P35) -> 527.5963
A38: Cotisations sociales | M38: Part Salariale
L39: Base | N39: Nombre | P39: Montant
A40: Sécurité sociale | L40: =P36 -> 527.5963 | N40: 0.0075 | P40: =L40*N40 -> 3.9569722
A41: Sécurité sociale vieillesse | L41: =P36 -> 527.5963 | N41: 0.068 | P41: =L41*N41 -> 35.876548
A42: Assurance chômage | L42: =P36 -> 527.5963 | N42: 0.024 | P42: =L42*N42 -> 12.662311
A43: vieillesse | L43: =P36 -> 527.5963 | N43: 0.0025 | P43: =L43*N43 -> 1.3189907
A44: AGFF | L44: =P36 -> 527.5963 | N44: 0.008 | P44: =L44*N44 -> 4.2207704
A45: Retraite IRCEM | L45: =P36 -> 527.5963 | N45: 0.0305 | P45: =L45*N45 -> 16.091687
A46: Prévoyance | L46: =P36 -> 527.5963 | N46: 0.0115 | P46: =L46*N46 -> 6.0673574
A47: CSG 5,1%*98,25% salaire déductible | L47: =P36*98.25% -> 518.36336 | N47: 0.051 | P47: =L47*N47 -> 26.436532
A48: CGS 2,4%*98,25 | L48: =P36*0.9825 -> 518.36336 | N48: 0.024 | P48: =L48*N48 -> 12.440721
...

Sheet Novembre
A1: Syndicat Professionnel des Assistants Maternels et Assistants Familiaux
A2: Bulletin de Salaire
A3: URSSAF de : | J3: Mois de : | L3: 42309
A4: Employeur Salarié
A5: Nom, prénom : | I5: Nom, prénom :
A6: Adresse : | I6: Adresse :
A9: N° URSSAF :
A10: N° Pajemploi : | I10: Emploi occupé :
A11: Adresse : | I11: N° Sécurité Sociale :
A13: Convention Collective des Assistants Maternels du Particulier Employeur, Code Naf : 88.91A.
A14: Jours | B14: =+L3 -> 42309 | C14: =+B14+1 -> 42310 | D14: =+C14+1 -> 42311 | E14: =+D14+1 -> 42312 | F14: =+E14+1 -> 42313 | G14: =+F14+1 -> 42314 | H14: =+G14+1 -> 42315 | I14: =+H14+1 -> 42316 | J14: =+I14+1 -> 42317 | ... Q14: =+P14+1 -> 42324
A15: Sem | B15: =WEEKNUM(B14,2) -> 44 | C15: =WEEKNUM(C14,2) -> 45 | D15: =WEEKNUM(D14,2) -> 45 | E15: =WEEKNUM(E14,2) -> 45 | F15: =WEEKNUM(F14,2) -> 45 | G15: =WEEKNUM(G14,2) -> 45 | H15: =WEEKNUM(H14,2) -> 45 | I15: =WEEKNUM(I14,2) -> 45 | ... Q15: =WEEKNUM(Q14,2) -> 47
A16: Heures | B16: 35
A17: Jours | B17: =Q14+1 -> 42325 | C17: =B17+1 -> 42326 | D17: =C17+1 -> 42327 | E17: =D17+1 -> 42328 | F17: =E17+1 -> 42329 | G17: =F17+1 -> 42330 | H17: =G17+1 -> 42331 | I17: =H17+1 -> 42332 | J17: =I17+1 -> 42333 | ... O17: =N17+1 -> 42338
A18: Sem | B18: =WEEKNUM(B17,2) -> 47 | C18: =WEEKNUM(C17,2) -> 47 | D18: =WEEKNUM(D17,2) -> 47 | E18: =WEEKNUM(E17,2) -> 47 | F18: =WEEKNUM(F17,2) -> 47 | G18: =WEEKNUM(G17,2) -> 47 | H18: =WEEKNUM(H17,2) -> 48 | I18: =WEEKNUM(I17,2) -> 48 | ... O18: =WEEKNUM(O17,2) -> 49
A19: Heures
A21: H/Sup sem | C21: =IF(WEEKDAY(B14,2)>5,"Sem "&B15+1,"Sem "&B15) -> Sem 45 | D21: =IF((SUMIF($B$15:$Q$15,VALUE(RIGHT(C21,2)),$B$16:$Q$16)+SUMIF(Octobre!$B$18:$Q$18,VALUE(RIGHT(C21,2)),Octobre!$B$19:$Q$19)-25)<=0,0,SUMIF($B$15:$Q$15,VALUE(RIGHT(C21,2)),$B$16:$Q$16)+SUMIF(Octobre!$B$18:$Q$18,VALUE(RIGHT($C21,2)),Octobre!$B$19:$Q$19)-25) -> 0 | E21: ="Sem "&VALUE(RIGHT(C21,2))+1 -> Sem 46 | F21: =IF((SUMIF($B$15:$Q$15,VALUE(RIGHT(E21,2)),$B$16:$Q$16)+SUMIF($B$18:$Q$18,VALUE(RIGHT(E21,2)),$B$19:$Q$19)-25)<=0,0,SUMIF($B$15:$Q$15,VALUE(RIGHT(E21,2)),$B$16:$Q$16)+SUMIF($B$18:$Q$18,VALUE(RIGHT($E21,2)),$B$19:$Q$19)-25) -> 0 | G21: ="Sem "&VALUE(RIGHT(E21,2))+1 -> Sem 47 | H21: =IF((SUMIF($B$15:$Q$15,VALUE(RIGHT(G21,2)),$B$16:$Q$16)+SUMIF($B$18:$Q$18,VALUE(RIGHT(G21,2)),$B$19:$Q$19)-25)<=0,0,SUMIF($B$15:$Q$15,VALUE(RIGHT(G21,2)),$B$16:$Q$16)+SUMIF($B$18:$Q$18,VALUE(RIGHT($G21,2)),$B$19:$Q$19)-25) -> 0 | I21: ="Sem "&VALUE(RIGHT(G21,2))+1 -> Sem 48 | J21: =IF(OR(ISERROR(VALUE(RIGHT(I21,2))),SUMIF($B$15:$Q$15,VALUE(RIGHT(I21,2)),$B$16:$Q$16)+SUMIF($B$18:$Q$18,VALUE(RIGHT(I21,2)),$B$19:$Q$19)-25<=0),0,SUMIF($B$15:$Q$15,VALUE(RIGHT(I21,2)),$B$16:$Q$16)+SUMIF($B$18:$Q$18,VALUE(RIGHT($I21,2)),$B$19:$Q$19)-25) -> 0 | K21: =IF(WEEKDAY(O17,2)>=5,"Sem "&VALUE(RIGHT(I21,2))+1,"") | L21: =IF(OR(ISERROR(VALUE(RIGHT(K21,2))),SUMIF($B$15:$Q$15,VALUE(RIGHT(K21,2)),$B$16:$Q$16)+SUMIF($B$18:$Q$18,VALUE(RIGHT(K21,2)),$B$19:$Q$19)-25<=0),0,SUMIF($B$15:$Q$15,VALUE(RIGHT(K21,2)),$B$16:$Q$16)+SUMIF($B$18:$Q$18,VALUE(RIGHT($K21,2)),$B$19:$Q$19)-25) -> 0
A23: Nombre d'heures d'accueil dans le mois | I23: =SUM(B16:Q16)+SUM(B19:Q19) -> 35 | K23: Mensualisation | P23: 97.91
K24: Heures supp. mensualisées
A25: Nombre de jours d'accueil dans le mois | I25: =COUNTIF(B16:P16,">"&0)+COUNTIF(B19:Q19,">"&0) -> 1 | K25: Salaire horaire brut de base | P25: 4.49
A27: Rémunération : | L27: Base | N27: Nombre | P27: Montant
A28: Salaire de base mensuel | L28: =P25 -> 4.49 | N28: =P23 -> 97.91 | P28: =L28*N28 -> 439.6159
A29: Heures suppléméntaires | L29: =P25 -> 4.49 | N29: =D21+F21+H21+J21+L21 -> 0 | P29: =L29*N29 -> 0
A30: Heures congés sans solde | P30: =L30*N30 -> 0
A31: Heures complémentaires | P31: =SUM(L31*N31) -> 0
A33: Congés payés Heures supplémentaires | L33: 0.44 | N33: 0 | P33: =(L33*N33) -> 0
A34: Maladies enfant
A35: Congés payés | L35: 0.44 | N35: =P23 -> 97.91 | P35: =SUM(L35*N35) -> 43.0804
L36: Salaire Brut | P36: =SUM(P28:P35) -> 482.6963
A38: Cotisations sociales | M38: Part Salariale
L39: Base | N39: Nombre | P39: Montant
A40: Sécurité sociale | L40: =P36 -> 482.6963 | N40: 0.0075 | P40: =L40*N40 -> 3.6202222
A41: Sécurité sociale vieillesse | L41: =P36 -> 482.6963 | N41: 0.068 | P41: =L41*N41 -> 32.823348
A42: Assurance chômage | L42: =P36 -> 482.6963 | N42: 0.024 | P42: =L42*N42 -> 11.584711
A43: vieillesse | L43: =P36 -> 482.6963 | N43: 0.0025 | P43: =L43*N43 -> 1.2067408
A44: AGFF | L44: =P36 -> 482.6963 | N44: 0.008 | P44: =L44*N44 -> 3.8615704
A45: Retraite IRCEM | L45: =P36 -> 482.6963 | N45: 0.0305 | P45: =L45*N45 -> 14.722237
A46: Prévoyance | L46: =P36 -> 482.6963 | N46: 0.0115 | P46: =L46*N46 -> 5.5510075
A47: CSG 5,1%*98,25% salaire déductible | L47: =P36*98.25% -> 474.24911 | N47: 0.051 | P47: =L47*N47 -> 24.186705
A48: CGS 2,4%*98,25 | L48: =P36*0.9825 -> 474.24911 | N48: 0.024 | P48: =L48*N48 -> 11.381979
...

Sheet Décembre
A1: Syndicat Professionnel des Assistants Maternels et Assistants Familiaux
A2: Bulletin de Salaire
A3: URSSAF de : | J3: Mois de : | L3: 42339
A4: Employeur Salarié
A5: Nom, prénom : | I5: Nom, prénom :
A6: Adresse : | I6: Adresse :
A9: N° URSSAF :
A10: N° Pajemploi : | I10: Emploi occupé :
A11: Adresse : | I11: N° Sécurité Sociale :
A13: Convention Collective des Assistants Maternels du Particulier Employeur, Code Naf : 88.91A.
A14: Jours | B14: =+L3 -> 42339 | C14: =+B14+1 -> 42340 | D14: =+C14+1 -> 42341 | E14: =+D14+1 -> 42342 | F14: =+E14+1 -> 42343 | G14: =+F14+1 -> 42344 | H14: =+G14+1 -> 42345 | I14: =+H14+1 -> 42346 | J14: =+I14+1 -> 42347 | ... Q14: =+P14+1 -> 42354
A15: Sem | B15: =WEEKNUM(B14,2) -> 49 | C15: =WEEKNUM(C14,2) -> 49 | D15: =WEEKNUM(D14,2) -> 49 | E15: =WEEKNUM(E14,2) -> 49 | F15: =WEEKNUM(F14,2) -> 49 | G15: =WEEKNUM(G14,2) -> 49 | H15: =WEEKNUM(H14,2) -> 50 | I15: =WEEKNUM(I14,2) -> 50 | ... Q15: =WEEKNUM(Q14,2) -> 51
A16: Heures | B16: 35
A17: Jours | B17: =Q14+1 -> 42355 | C17: =B17+1 -> 42356 | D17: =C17+1 -> 42357 | E17: =D17+1 -> 42358 | F17: =E17+1 -> 42359 | G17: =F17+1 -> 42360 | H17: =G17+1 -> 42361 | I17: =H17+1 -> 42362 | J17: =I17+1 -> 42363 | ... P17: =O17+1 -> 42369
A18: Sem | B18: =WEEKNUM(B17,2) -> 51 | C18: =WEEKNUM(C17,2) -> 51 | D18: =WEEKNUM(D17,2) -> 51 | E18: =WEEKNUM(E17,2) -> 51 | F18: =WEEKNUM(F17,2) -> 52 | G18: =WEEKNUM(G17,2) -> 52 | H18: =WEEKNUM(H17,2) -> 52 | I18: =WEEKNUM(I17,2) -> 52 | ... P18: =WEEKNUM(P17,2) -> 53
A19: Heures
A21: H/Sup sem | C21: =IF(WEEKDAY(B14,2)>5,"Sem "&B15+1,"Sem "&B15) -> Sem 49 | D21: =IF((SUMIF($B$15:$Q$15,VALUE(RIGHT(C21,2)),$B$16:$Q$16)+SUMIF(Novembre!$B$18:$Q$18,VALUE(RIGHT(C21,2)),Novembre!$B$19:$Q$19)-25)<=0,0,SUMIF($B$15:$Q$15,VALUE(RIGHT(C21,2)),$B$16:$Q$16)+SUMIF(Novembre!$B$18:$Q$18,VALUE(RIGHT($C21,2)),Novembre!$B$19:$Q$19)-25) -> 10 | E21: ="Sem "&VALUE(RIGHT(C21,2))+1 -> Sem 50 | F21: =IF((SUMIF($B$15:$Q$15,VALUE(RIGHT(E21,2)),$B$16:$Q$16)+SUMIF($B$18:$Q$18,VALUE(RIGHT(E21,2)),$B$19:$Q$19)-25)<=0,0,SUMIF($B$15:$Q$15,VALUE(RIGHT(E21,2)),$B$16:$Q$16)+SUMIF($B$18:$Q$18,VALUE(RIGHT($E21,2)),$B$19:$Q$19)-25) -> 0 | G21: ="Sem "&VALUE(RIGHT(E21,2))+1 -> Sem 51 | H21: =IF((SUMIF($B$15:$Q$15,VALUE(RIGHT(G21,2)),$B$16:$Q$16)+SUMIF($B$18:$Q$18,VALUE(RIGHT(G21,2)),$B$19:$Q$19)-25)<=0,0,SUMIF($B$15:$Q$15,VALUE(RIGHT(G21,2)),$B$16:$Q$16)+SUMIF($B$18:$Q$18,VALUE(RIGHT($G21,2)),$B$19:$Q$19)-25) -> 0 | I21: ="Sem "&VALUE(RIGHT(G21,2))+1 -> Sem 52 | J21: =IF(OR(ISERROR(VALUE(RIGHT(I21,2))),SUMIF($B$15:$Q$15,VALUE(RIGHT(I21,2)),$B$16:$Q$16)+SUMIF($B$18:$Q$18,VALUE(RIGHT(I21,2)),$B$19:$Q$19)-25<=0),0,SUMIF($B$15:$Q$15,VALUE(RIGHT(I21,2)),$B$16:$Q$16)+SUMIF($B$18:$Q$18,VALUE(RIGHT($I21,2)),$B$19:$Q$19)-25) -> 0 | K21: =IF(WEEKDAY(P17,2)>=5,"Sem "&VALUE(RIGHT(I21,2))+1,"") | L21: =IF(OR(ISERROR(VALUE(RIGHT(K21,2))),SUMIF($B$15:$Q$15,VALUE(RIGHT(K21,2)),$B$16:$Q$16)+SUMIF($B$18:$Q$18,VALUE(RIGHT(K21,2)),$B$19:$Q$19)-25<=0),0,SUMIF($B$15:$Q$15,VALUE(RIGHT(K21,2)),$B$16:$Q$16)+SUMIF($B$18:$Q$18,VALUE(RIGHT($K21,2)),$B$19:$Q$19)-25) -> 0
A23: Nombre d'heures d'accueil dans le mois | I23: =SUM(B16:Q16)+SUM(B19:Q19) -> 35 | K23: Mensualisation | P23: 97.91
K24: Heures supp. mensualisées
A25: Nombre de jours d'accueil dans le mois | I25: =COUNTIF(B16:P16,">"&0)+COUNTIF(B19:Q19,">"&0) -> 1 | K25: Salaire horaire brut de base | P25: 4.49
A27: Rémunération : | L27: Base | N27: Nombre | P27: Montant
A28: Salaire de base mensuel | L28: =P25 -> 4.49 | N28: =P23 -> 97.91 | P28: =L28*N28 -> 439.6159
A29: Heures suppléméntaires | L29: =P25 -> 4.49 | N29: =D21+F21+H21+J21+L21 -> 10 | P29: =L29*N29 -> 44.9
A30: Heures congés sans solde | P30: =L30*N30 -> 0
A31: Heures complémentaires | P31: =SUM(L31*N31) -> 0
A33: Congés payés Heures supplémentaires | L33: 0.44 | N33: 0 | P33: =(L33*N33) -> 0
A34: Maladies enfant
A35: Congés payés | L35: 0.44 | N35: =P23 -> 97.91 | P35: =SUM(L35*N35) -> 43.0804
L36: Salaire Brut | P36: =SUM(P28:P35) -> 527.5963
A38: Cotisations sociales | M38: Part Salariale
L39: Base | N39: Nombre | P39: Montant
A40: Sécurité sociale | L40: =P36 -> 527.5963 | N40: 0.0075 | P40: =L40*N40 -> 3.9569722
A41: Sécurité sociale vieillesse | L41: =P36 -> 527.5963 | N41: 0.068 | P41: =L41*N41 -> 35.876548
A42: Assurance chômage | L42: =P36 -> 527.5963 | N42: 0.024 | P42: =L42*N42 -> 12.662311
A43: vieillesse | L43: =P36 -> 527.5963 | N43: 0.0025 | P43: =L43*N43 -> 1.3189907
A44: AGFF | L44: =P36 -> 527.5963 | N44: 0.008 | P44: =L44*N44 -> 4.2207704
A45: Retraite IRCEM | L45: =P36 -> 527.5963 | N45: 0.0305 | P45: =L45*N45 -> 16.091687
A46: Prévoyance | L46: =P36 -> 527.5963 | N46: 0.0115 | P46: =L46*N46 -> 6.0673574
A47: CSG 5,1%*98,25% salaire déductible | L47: =P36*98.25% -> 518.36336 | N47: 0.051 | P47: =L47*N47 -> 26.436532
