Workbook
Name Nomb: Feuil2!$C$3:$C$15
Name refA: Feuil1!$A$3:$A$15
Name refB: Feuil2!$A$3:$A$15
Name vala: Feuil1!$B$3:$B$15
Name valB: Feuil2!$B$3:$B$15

Sheet Result
A3: refA | B3: Valfeil1 | C3: Valfeil2 | D3: Nomfeuil2
A4: ab01 | B4: =IFERROR(OFFSET(Feuil1!$A$2,MATCH(Result!$A4,refA,0),1),"-") -> 110 | C4: =IFERROR(OFFSET(Feuil2!$A$2,MATCH(Result!$A4,refB,0),1),"-") -> 110 | D4: =IFERROR(OFFSET(Feuil2!$A$2,MATCH(Result!$A4,refB,0),2),"-") -> bb
A5: ab02 | B5: =IFERROR(OFFSET(Feuil1!$A$2,MATCH(Result!$A5,refA,0),1),"-") -> 120 | C5: =IFERROR(OFFSET(Feuil2!$A$2,MATCH(Result!$A5,refB,0),1),"-") -> 120 | D5: =IFERROR(OFFSET(Feuil2!$A$2,MATCH(Result!$A5,refB,0),2),"-") -> bbb
A6: ab03 | B6: =IFERROR(OFFSET(Feuil1!$A$2,MATCH(Result!$A6,refA,0),1),"-") -> 130 | C6: =IFERROR(OFFSET(Feuil2!$A$2,MATCH(Result!$A6,refB,0),1),"-") -> 130 | D6: =IFERROR(OFFSET(Feuil2!$A$2,MATCH(Result!$A6,refB,0),2),"-") -> cc
A7: ab04 | B7: =IFERROR(OFFSET(Feuil1!$A$2,MATCH(Result!$A7,refA,0),1),"-") -> 140 | C7: =IFERROR(OFFSET(Feuil2!$A$2,MATCH(Result!$A7,refB,0),1),"-") -> 140 | D7: =IFERROR(OFFSET(Feuil2!$A$2,MATCH(Result!$A7,refB,0),2),"-") -> dd
A8: ab05 | B8: =IFERROR(OFFSET(Feuil1!$A$2,MATCH(Result!$A8,refA,0),1),"-") -> 150 | C8: =IFERROR(OFFSET(Feuil2!$A$2,MATCH(Result!$A8,refB,0),1),"-") -> - | D8: =IFERROR(OFFSET(Feuil2!$A$2,MATCH(Result!$A8,refB,0),2),"-") -> -
A9: ab06 | B9: =IFERROR(OFFSET(Feuil1!$A$2,MATCH(Result!$A9,refA,0),1),"-") -> 160 | C9: =IFERROR(OFFSET(Feuil2!$A$2,MATCH(Result!$A9,refB,0),1),"-") -> - | D9: =IFERROR(OFFSET(Feuil2!$A$2,MATCH(Result!$A9,refB,0),2),"-") -> -
A10: ab07 | B10: =IFERROR(OFFSET(Feuil1!$A$2,MATCH(Result!$A10,refA,0),1),"-") -> 170 | C10: =IFERROR(OFFSET(Feuil2!$A$2,MATCH(Result!$A10,refB,0),1),"-") -> - | D10: =IFERROR(OFFSET(Feuil2!$A$2,MATCH(Result!$A10,refB,0),2),"-") -> -
A11: ab08 | B11: =IFERROR(OFFSET(Feuil1!$A$2,MATCH(Result!$A11,refA,0),1),"-") -> 180 | C11: =IFERROR(OFFSET(Feuil2!$A$2,MATCH(Result!$A11,refB,0),1),"-") -> - | D11: =IFERROR(OFFSET(Feuil2!$A$2,MATCH(Result!$A11,refB,0),2),"-") -> -
A12: ab09 | B12: =IFERROR(OFFSET(Feuil1!$A$2,MATCH(Result!$A12,refA,0),1),"-") -> 190 | C12: =IFERROR(OFFSET(Feuil2!$A$2,MATCH(Result!$A12,refB,0),1),"-") -> 150 | D12: =IFERROR(OFFSET(Feuil2!$A$2,MATCH(Result!$A12,refB,0),2),"-") -> rr
A13: ab10 | B13: =IFERROR(OFFSET(Feuil1!$A$2,MATCH(Result!$A13,refA,0),1),"-") -> 200 | C13: =IFERROR(OFFSET(Feuil2!$A$2,MATCH(Result!$A13,refB,0),1),"-") -> 160 | D13: =IFERROR(OFFSET(Feuil2!$A$2,MATCH(Result!$A13,refB,0),2),"-") -> gg
A14: ab11 | B14: =IFERROR(OFFSET(Feuil1!$A$2,MATCH(Result!$A14,refA,0),1),"-") -> 210 | C14: =IFERROR(OFFSET(Feuil2!$A$2,MATCH(Result!$A14,refB,0),1),"-") -> 170 | D14: =IFERROR(OFFSET(Feuil2!$A$2,MATCH(Result!$A14,refB,0),2),"-") -> hh
A15: ab12 | B15: =IFERROR(OFFSET(Feuil1!$A$2,MATCH(Result!$A15,refA,0),1),"-") -> 220 | C15: =IFERROR(OFFSET(Feuil2!$A$2,MATCH(Result!$A15,refB,0),1),"-") -> 180 | D15: =IFERROR(OFFSET(Feuil2!$A$2,MATCH(Result!$A15,refB,0),2),"-") -> kk
A16: ab13 | B16: =IFERROR(OFFSET(Feuil1!$A$2,MATCH(Result!$A16,refA,0),1),"-") -> 230 | C16: =IFERROR(OFFSET(Feuil2!$A$2,MATCH(Result!$A16,refB,0),1),"-") -> 190 | D16: =IFERROR(OFFSET(Feuil2!$A$2,MATCH(Result!$A16,refB,0),2),"-") -> ss

Sheet Feuil1
A2: refA | B2: vala
A3: ab01 | B3: 110
A4: ab02 | B4: 120
A5: ab03 | B5: 130
A6: ab04 | B6: 140
A7: ab05 | B7: 150
A8: ab06 | B8: 160
A9: ab07 | B9: 170
A10: ab08 | B10: 180
A11: ab09 | B11: 190
A12: ab10 | B12: 200
A13: ab11 | B13: 210
A14: ab12 | B14: 220
A15: ab13 | B15: 230

Sheet Feuil2
A2: refB | B2: valB | C2: Nomb
A3: ab01 | B3: 110 | C3: bb
A4: ab02 | B4: 120 | C4: bbb
A5: ab03 | B5: 130 | C5: cc
A6: ab04 | B6: 140 | C6: dd
A7: ab09 | B7: 150 | C7: rr
A8: ab10 | B8: 160 | C8: gg
A9: ab11 | B9: 170 | C9: hh
A10: ab12 | B10: 180 | C10: kk
A11: ab13 | B11: 190 | C11: ss
A12: ab14 | B12: 200 | C12: cc
A13: ab21 | B13: 210 | C13: aa
A14: ab23 | B14: 220 | C14: zz
A15: ab25 | B15: 230 | C15: yy
