Workbook
Name based: Feuil1!$D$5:$S$9
Name Dates: Feuil1!$D$3:$S$3
Name feries: '[1]total annuel'!$I$4:$J$16
Name Semaine: Feuil1!$D$4:$S$4

Sheet expli
A3: Trouvé une formule que j'ai adaptée après bien des tatonnements
A5: Préliminaires
A7: nommer: | B7: Nom | C7: Zone
B8: Dates | C8: de C3==> dernière cellule remplie de la ligne | D8: Meme colonne de fin pour les trois zones
B9: Semaine | C9: de C4==> dernière cellule remplie de la ligne
B10: BaseD | C10: de D5 à la dernière cellule remplie du tableau
A13: Formule à saisir dans feuil2 cellule B3
B16: =NB(1/FREQUENCE(SI((Semaine=Feuil2!B$2)*(based=Feuil2!$A3);Dates);Dates))
B17: (copier coller de la celluel à partir de =)
C18: adapter le nom final des feuilles t Feuil1 et 2)
C20: valider avec CTR+Maj +enter

Sheet Feuil1
D2: 42005
C3: Dates | D3: =D2 -> 42005 | E3: =D3+1 -> 42006 | F3: =E3+1 -> 42007 | G3: =F3+1 -> 42008 | H3: =G3+1 -> 42009 | I3: =H3+1 -> 42010 | J3: =I3+1 -> 42011 | K3: =J3+1 -> 42012 | L3: =K3+1 -> 42013 | ... S3: =R3+1 -> 42020
C4: Semaine | D4: =WEEKNUM(D3) -> 1 | E4: =WEEKNUM(E3) -> 1 | F4: =WEEKNUM(F3) -> 1 | G4: =WEEKNUM(G3) -> 2 | H4: =WEEKNUM(H3) -> 2 | I4: =WEEKNUM(I3) -> 2 | J4: =WEEKNUM(J3) -> 2 | K4: =WEEKNUM(K3) -> 2 | ... S4: =WEEKNUM(S3) -> 3
C5: intérim 1 | M5: 2 | N5: 3
C6: intérim 2 | D6: sy | E6: sy | H6: sy | I6: sy | J6: sy | K6: sy | L6: sy | P6: sy | Q6: sy
C7: intérim 3 | H7: hercule | I7: olivier | J7: olivier | K7: silvana | L7: silvana | O7: olivier | P7: olivier | Q7: silvana | R7: silvana | S7: silvana
C8: intérim 4 | D8: kébé | E8: kébé | I8: kébé | J8: kébé | K8: kébé | P8: hercule | Q8: hercule | R8: hercule
C9: intérim 4 | P9: kébé | R9: kébé

Sheet Feuil2
A2: prénom | B2: 1 | C2: 2 | D2: 3
A3: sy | B3: {=COUNT(1/FREQUENCY(IF((Semaine=Feuil2!B$2)*(based=Feuil2!$A3),Dates),Dates))} -> 2 | C3: {=COUNT(1/FREQUENCY(IF((Semaine=Feuil2!C$2)*(based=Feuil2!$A3),Dates),Dates))} -> 5 | D3: {=COUNT(1/FREQUENCY(IF((Semaine=Feuil2!D$2)*(based=Feuil2!$A3),Dates),Dates))} -> 2
A4: kébé | B4: {=COUNT(1/FREQUENCY(IF((Semaine=Feuil2!B$2)*(based=Feuil2!$A4),Dates),Dates))} -> 2 | C4: {=COUNT(1/FREQUENCY(IF((Semaine=Feuil2!C$2)*(based=Feuil2!$A4),Dates),Dates))} -> 3 | D4: {=COUNT(1/FREQUENCY(IF((Semaine=Feuil2!D$2)*(based=Feuil2!$A4),Dates),Dates))} -> 2
A5: lionel | B5: {=COUNT(1/FREQUENCY(IF((Semaine=Feuil2!B$2)*(based=Feuil2!$A5),Dates),Dates))} -> 0 | C5: {=COUNT(1/FREQUENCY(IF((Semaine=Feuil2!C$2)*(based=Feuil2!$A5),Dates),Dates))} -> 0 | D5: {=COUNT(1/FREQUENCY(IF((Semaine=Feuil2!D$2)*(based=Feuil2!$A5),Dates),Dates))} -> 0
A6: olivier | B6: {=COUNT(1/FREQUENCY(IF((Semaine=Feuil2!B$2)*(based=Feuil2!$A6),Dates),Dates))} -> 0 | C6: {=COUNT(1/FREQUENCY(IF((Semaine=Feuil2!C$2)*(based=Feuil2!$A6),Dates),Dates))} -> 2 | D6: {=COUNT(1/FREQUENCY(IF((Semaine=Feuil2!D$2)*(based=Feuil2!$A6),Dates),Dates))} -> 2
A7: silvana | B7: {=COUNT(1/FREQUENCY(IF((Semaine=Feuil2!B$2)*(based=Feuil2!$A7),Dates),Dates))} -> 0 | C7: {=COUNT(1/FREQUENCY(IF((Semaine=Feuil2!C$2)*(based=Feuil2!$A7),Dates),Dates))} -> 2 | D7: {=COUNT(1/FREQUENCY(IF((Semaine=Feuil2!D$2)*(based=Feuil2!$A7),Dates),Dates))} -> 3
A8: hercule | B8: {=COUNT(1/FREQUENCY(IF((Semaine=Feuil2!B$2)*(based=Feuil2!$A8),Dates),Dates))} -> 0 | C8: {=COUNT(1/FREQUENCY(IF((Semaine=Feuil2!C$2)*(based=Feuil2!$A8),Dates),Dates))} -> 1 | D8: {=COUNT(1/FREQUENCY(IF((Semaine=Feuil2!D$2)*(based=Feuil2!$A8),Dates),Dates))} -> 3
