Workbook
Name FORMATION: Base!$D$2:$D$31
Name MAILLON: Base!$B$2:$B$31
Name Maillon1: Paramètres!$A$2:$A$6
Name Maillon2: Paramètres!$B$2:$B$6
Name Maillon3: Paramètres!$C$2:$C$6
Name NOMag: Base!$A$2:$A$31
Name NOMS: Base!$A$2:$A$31
Name POSTE: Base!$C$2:$C$31
Name Secteur: Paramètres!$A$10:$A$12

Sheet Paramètres
A1: Maillon1 | B1: Maillon2 | C1: Maillon3
A2: postea | B2: posteA | C2: poste1
A3: posteb | B3: posteB | C3: poste2
A4: postec | B4: posteC | C4: poste3
A5: posted | B5: posteD | C5: poste4
A6: postee | B6: posteE | C6: poste5
A10: Maillon1
A11: Maillon2
A12: Maillon3

Sheet Base
A1: NOMag | B1: MAILLON | C1: POSTE | D1: FORMATION
A2: Tata | B2: Maillon2 | C2: posteA | D2: OUI
A3: Tata | B3: Maillon2 | C3: posteB | D3: OUI
A4: Tata | B4: Maillon2 | C4: posteC | D4: OUI
A5: Tata | B5: Maillon2 | C5: posteD | D5: OUI
A6: Tata | B6: Maillon2 | C6: posteE | D6: OUI
A7: Tata | B7: Maillon3 | C7: poste1 | D7: NON
A8: Tata | B8: Maillon3 | C8: poste5 | D8: NON
A9: Tata | B9: Maillon3 | C9: poste2 | D9: OUI
A10: Tata | B10: Maillon3 | C10: poste3 | D10: OUI
A11: Tata | B11: Maillon3 | C11: poste4 | D11: OUI
A12: Titi | B12: Maillon1 | C12: postea | D12: OUI
... A31: Toto | B31: Maillon2 | C31: posteE | D31: OUI

Sheet Synthèse
A1: Polyvalence par maillon | C1: Toto | D1: Tata | E1: Titi
A2: Maillon1 | B2: =SUMPRODUCT((Base!$B$2:$B$31=$A2)*(Base!$D$2:$D$31="OUI"))/(COUNTA(INDIRECT($A2))*COUNTA(NOMS)) -> 0.06 | C2: =SUMPRODUCT((Base!$A$2:$A$31=C$1)*(Base!$B$2:$B$31=$A2)*(Base!$D$2:$D$31="OUI"))/COUNTA(INDIRECT($A2)) -> 0.8 | D2: =SUMPRODUCT((Base!$A$2:$A$31=D$1)*(Base!$B$2:$B$31=$A2)*(Base!$D$2:$D$31="OUI"))/COUNTA(INDIRECT($A2)) -> 0 | E2: =SUMPRODUCT((Base!$A$2:$A$31=E$1)*(Base!$B$2:$B$31=$A2)*(Base!$D$2:$D$31="OUI"))/COUNTA(INDIRECT($A2)) -> 1
A3: Maillon2 | C3: =SUMPRODUCT((Base!$A$2:$A$31=C$1)*(Base!$B$2:$B$31=$A3)*(Base!$D$2:$D$31="OUI"))/COUNTA(INDIRECT($A3)) -> 0.6 | D3: =SUMPRODUCT((Base!$A$2:$A$31=D$1)*(Base!$B$2:$B$31=$A3)*(Base!$D$2:$D$31="OUI"))/COUNTA(INDIRECT($A3)) -> 1 | E3: =SUMPRODUCT((Base!$A$2:$A$31=E$1)*(Base!$B$2:$B$31=$A3)*(Base!$D$2:$D$31="OUI"))/COUNTA(INDIRECT($A3)) -> 1
A4: Maillon3 | C4: =SUMPRODUCT((Base!$A$2:$A$31=C$1)*(Base!$B$2:$B$31=$A4)*(Base!$D$2:$D$31="OUI"))/COUNTA(INDIRECT($A4)) -> 0 | D4: =SUMPRODUCT((Base!$A$2:$A$31=D$1)*(Base!$B$2:$B$31=$A4)*(Base!$D$2:$D$31="OUI"))/COUNTA(INDIRECT($A4)) -> 0.6 | E4: =SUMPRODUCT((Base!$A$2:$A$31=E$1)*(Base!$B$2:$B$31=$A4)*(Base!$D$2:$D$31="OUI"))/COUNTA(INDIRECT($A4)) -> 0
A8: Polyvalence par maillon | C8: Toto | D8: Tata | E8: Titi
A9: Maillon1 | C9: =IFERROR(COUNTIFS(NOMag,C$8,MAILLON,Synthèse!$A9,FORMATION,"oui")/COUNTIFS(NOMag,C$8,MAILLON,$A9),0) -> 0.8 | D9: =IFERROR(COUNTIFS(NOMag,D$8,MAILLON,Synthèse!$A9,FORMATION,"oui")/COUNTIFS(NOMag,D$8,MAILLON,$A9),0) -> 0 | E9: =IFERROR(COUNTIFS(NOMag,E$8,MAILLON,Synthèse!$A9,FORMATION,"oui")/COUNTIFS(NOMag,E$8,MAILLON,$A9),0) -> 1
A10: Maillon2 | C10: =IFERROR(COUNTIFS(NOMag,C$8,MAILLON,Synthèse!$A10,FORMATION,"oui")/COUNTIFS(NOMag,C$8,MAILLON,$A10),0) -> 0.6 | D10: =IFERROR(COUNTIFS(NOMag,D$8,MAILLON,Synthèse!$A10,FORMATION,"oui")/COUNTIFS(NOMag,D$8,MAILLON,$A10),0) -> 1 | E10: =IFERROR(COUNTIFS(NOMag,E$8,MAILLON,Synthèse!$A10,FORMATION,"oui")/COUNTIFS(NOMag,E$8,MAILLON,$A10),0) -> 1
A11: Maillon3 | C11: =IFERROR(COUNTIFS(NOMag,C$8,MAILLON,Synthèse!$A11,FORMATION,"oui")/COUNTIFS(NOMag,C$8,MAILLON,$A11),0) -> 0 | D11: =IFERROR(COUNTIFS(NOMag,D$8,MAILLON,Synthèse!$A11,FORMATION,"oui")/COUNTIFS(NOMag,D$8,MAILLON,$A11),0) -> 0.6 | E11: =IFERROR(COUNTIFS(NOMag,E$8,MAILLON,Synthèse!$A11,FORMATION,"oui")/COUNTIFS(NOMag,E$8,MAILLON,$A11),0) -> 0
B14: Maillon1 | C14: =COUNTIFS(MAILLON,$B14,FORMATION,"oui")/COUNTIFS(MAILLON,$B14) -> 0.9
B15: Maillon2 | C15: =COUNTIFS(MAILLON,$B15,FORMATION,"oui")/COUNTIFS(MAILLON,$B15) -> 0.86666667
B16: Maillon3 | C16: =COUNTIFS(MAILLON,$B16,FORMATION,"oui")/COUNTIFS(MAILLON,$B16) -> 0.6
