Workbook
Name Jours: 'prix chambre'!$A$3:$A$33

Sheet résa
A2: Check in
A3: Arrivée | B3: Départ | C3: Type de chambre | D3: Nombre de nuits | E3: Total
A4: 41763 | B4: 41800 | C4: Double | D4: =IF(MONTH(A$4)<>MONTH(B$4),DATE(YEAR(A4),MONTH(A4)+1,1)-A4) -> 28 | E4: =SUM(C7:C54) -> 4210
A6: Journées de présence | C6: Tarif Jour
A7: =A4 -> 41763 | C7: =IF(A7<>"",OFFSET('prix chambre'!$A$2,MATCH(DAY(résa!$A7),Jours,0),IF(résa!$C$4="Single",(MONTH(résa!A7)*2)-1,MONTH(résa!A7)*2)),0) -> 70
A8: =IF(A7="","",IF(A7+1<$B$4,A7+1,"")) -> 41764 | C8: =IF(A8<>"",OFFSET('prix chambre'!$A$2,MATCH(DAY(résa!$A8),Jours,0),IF(résa!$C$4="Single",(MONTH(résa!A8)*2)-1,MONTH(résa!A8)*2)),0) -> 80
A9: =IF(A8="","",IF(A8+1<$B$4,A8+1,"")) -> 41765 | C9: =IF(A9<>"",OFFSET('prix chambre'!$A$2,MATCH(DAY(résa!$A9),Jours,0),IF(résa!$C$4="Single",(MONTH(résa!A9)*2)-1,MONTH(résa!A9)*2)),0) -> 80
A10: =IF(A9="","",IF(A9+1<$B$4,A9+1,"")) -> 41766 | C10: =IF(A10<>"",OFFSET('prix chambre'!$A$2,MATCH(DAY(résa!$A10),Jours,0),IF(résa!$C$4="Single",(MONTH(résa!A10)*2)-1,MONTH(résa!A10)*2)),0) -> 80
A11: =IF(A10="","",IF(A10+1<$B$4,A10+1,"")) -> 41767 | C11: =IF(A11<>"",OFFSET('prix chambre'!$A$2,MATCH(DAY(résa!$A11),Jours,0),IF(résa!$C$4="Single",(MONTH(résa!A11)*2)-1,MONTH(résa!A11)*2)),0) -> 80
A12: =IF(A11="","",IF(A11+1<$B$4,A11+1,"")) -> 41768 | C12: =IF(A12<>"",OFFSET('prix chambre'!$A$2,MATCH(DAY(résa!$A12),Jours,0),IF(résa!$C$4="Single",(MONTH(résa!A12)*2)-1,MONTH(résa!A12)*2)),0) -> 80
A13: =IF(A12="","",IF(A12+1<$B$4,A12+1,"")) -> 41769 | C13: =IF(A13<>"",OFFSET('prix chambre'!$A$2,MATCH(DAY(résa!$A13),Jours,0),IF(résa!$C$4="Single",(MONTH(résa!A13)*2)-1,MONTH(résa!A13)*2)),0) -> 80
A14: =IF(A13="","",IF(A13+1<$B$4,A13+1,"")) -> 41770 | C14: =IF(A14<>"",OFFSET('prix chambre'!$A$2,MATCH(DAY(résa!$A14),Jours,0),IF(résa!$C$4="Single",(MONTH(résa!A14)*2)-1,MONTH(résa!A14)*2)),0) -> 70
A15: =IF(A14="","",IF(A14+1<$B$4,A14+1,"")) -> 41771 | C15: =IF(A15<>"",OFFSET('prix chambre'!$A$2,MATCH(DAY(résa!$A15),Jours,0),IF(résa!$C$4="Single",(MONTH(résa!A15)*2)-1,MONTH(résa!A15)*2)),0) -> 160
A16: =IF(A15="","",IF(A15+1<$B$4,A15+1,"")) -> 41772 | C16: =IF(A16<>"",OFFSET('prix chambre'!$A$2,MATCH(DAY(résa!$A16),Jours,0),IF(résa!$C$4="Single",(MONTH(résa!A16)*2)-1,MONTH(résa!A16)*2)),0) -> 160
A17: =IF(A16="","",IF(A16+1<$B$4,A16+1,"")) -> 41773 | C17: =IF(A17<>"",OFFSET('prix chambre'!$A$2,MATCH(DAY(résa!$A17),Jours,0),IF(résa!$C$4="Single",(MONTH(résa!A17)*2)-1,MONTH(résa!A17)*2)),0) -> 160
A18: =IF(A17="","",IF(A17+1<$B$4,A17+1,"")) -> 41774 | C18: =IF(A18<>"",OFFSET('prix chambre'!$A$2,MATCH(DAY(résa!$A18),Jours,0),IF(résa!$C$4="Single",(MONTH(résa!A18)*2)-1,MONTH(résa!A18)*2)),0) -> 130
A19: =IF(A18="","",IF(A18+1<$B$4,A18+1,"")) -> 41775 | C19: =IF(A19<>"",OFFSET('prix chambre'!$A$2,MATCH(DAY(résa!$A19),Jours,0),IF(résa!$C$4="Single",(MONTH(résa!A19)*2)-1,MONTH(résa!A19)*2)),0) -> 90
... A43: =IF(A42="","",IF(A42+1<$B$4,A42+1,"")) -> 41799 | C43: =IF(A43<>"",OFFSET('prix chambre'!$A$2,MATCH(DAY(résa!$A43),Jours,0),IF(résa!$C$4="Single",(MONTH(résa!A43)*2)-1,MONTH(résa!A43)*2)),0) -> 80
A44: =IF(A43="","",IF(A43+1<$B$4,A43+1,"")) | B44: =IF(A44<>"",OFFSET('prix chambre'!$A$2,MATCH(DAY(résa!$A44),Jours,0),IF(résa!$C$4="Single",(MONTH(résa!A44)*2)-1,MONTH(résa!A44)*2)),0) -> 0
A45: =IF(A44="","",IF(A44+1<$B$4,A44+1,"")) | B45: =IF(A45<>"",OFFSET('prix chambre'!$A$2,MATCH(DAY(résa!$A45),Jours,0),IF(résa!$C$4="Single",(MONTH(résa!A45)*2)-1,MONTH(résa!A45)*2)),0) -> 0
A46: =IF(A45="","",IF(A45+1<$B$4,A45+1,"")) | B46: =IF(A46<>"",OFFSET('prix chambre'!$A$2,MATCH(DAY(résa!$A46),Jours,0),IF(résa!$C$4="Single",(MONTH(résa!A46)*2)-1,MONTH(résa!A46)*2)),0) -> 0
A47: =IF(A46="","",IF(A46+1<$B$4,A46+1,"")) | B47: =IF(A47<>"",OFFSET('prix chambre'!$A$2,MATCH(DAY(résa!$A47),Jours,0),IF(résa!$C$4="Single",(MONTH(résa!A47)*2)-1,MONTH(résa!A47)*2)),0) -> 0
A48: =IF(A47="","",IF(A47+1<$B$4,A47+1,"")) | B48: =IF(A48<>"",OFFSET('prix chambre'!$A$2,MATCH(DAY(résa!$A48),Jours,0),IF(résa!$C$4="Single",(MONTH(résa!A48)*2)-1,MONTH(résa!A48)*2)),0) -> 0
A49: =IF(A48="","",IF(A48+1<$B$4,A48+1,"")) | B49: =IF(A49<>"",OFFSET('prix chambre'!$A$2,MATCH(DAY(résa!$A49),Jours,0),IF(résa!$C$4="Single",(MONTH(résa!A49)*2)-1,MONTH(résa!A49)*2)),0) -> 0
A50: =IF(A49="","",IF(A49+1<$B$4,A49+1,"")) | B50: =IF(A50<>"",OFFSET('prix chambre'!$A$2,MATCH(DAY(résa!$A50),Jours,0),IF(résa!$C$4="Single",(MONTH(résa!A50)*2)-1,MONTH(résa!A50)*2)),0) -> 0
A51: =IF(A50="","",IF(A50+1<$B$4,A50+1,"")) | B51: =IF(A51<>"",OFFSET('prix chambre'!$A$2,MATCH(DAY(résa!$A51),Jours,0),IF(résa!$C$4="Single",(MONTH(résa!A51)*2)-1,MONTH(résa!A51)*2)),0) -> 0
A52: =IF(A51="","",IF(A51+1<$B$4,A51+1,"")) | B52: =IF(A52<>"",OFFSET('prix chambre'!$A$2,MATCH(DAY(résa!$A52),Jours,0),IF(résa!$C$4="Single",(MONTH(résa!A52)*2)-1,MONTH(résa!A52)*2)),0) -> 0
A53: =IF(A52="","",IF(A52+1<$B$4,A52+1,"")) | B53: =IF(A53<>"",OFFSET('prix chambre'!$A$2,MATCH(DAY(résa!$A53),Jours,0),IF(résa!$C$4="Single",(MONTH(résa!A53)*2)-1,MONTH(résa!A53)*2)),0) -> 0
A54: =IF(A53="","",IF(A53+1<$B$4,A53+1,"")) | B54: =IF(A54<>"",OFFSET('prix chambre'!$A$2,MATCH(DAY(résa!$A54),Jours,0),IF(résa!$C$4="Single",(MONTH(résa!A54)*2)-1,MONTH(résa!A54)*2)),0) -> 0

Sheet prix chambre
A1: 2014 | B1: JANVIER | D1: FEVRIER | F1: MARS | H1: AVRIL | J1: MAI | L1: JUIN | N1: JUILLET | P1: AOUT | R1: SEPTEMBRE | T1: OCTOBRE | V1: NOVEMBRE | X1: DECEMBRE
A2: Jours | B2: Single | C2: Double | D2: Single | E2: Double | F2: Single | G2: Double | H2: Single | I2: Double | J2: Single | K2: Double | L2: Single | M2: Double | N2: Single | O2: Double | P2: Single | Q2: Double | R2: Single | S2: Double | T2: Single | U2: Double | V2: Single | W2: Double | X2: Single | Y2: Double
A3: 1 | B3: 75 | C3: 75 | D3: 65 | E3: 65 | F3: 60 | G3: 60 | H3: 130 | I3: 140 | J3: 80 | K3: 80 | L3: 70 | M3: 80 | N3: 150 | O3: 160 | P3: 70 | Q3: 75 | R3: 100 | S3: 110 | T3: 150 | U3: 160 | V3: 100 | W3: 110 | X3: 120 | Y3: 130
A4: 2 | B4: 75 | C4: 75 | D4: 65 | E4: 65 | F4: 60 | G4: 60 | H4: 130 | I4: 140 | J4: 100 | K4: 110 | L4: 150 | M4: 160 | N4: 150 | O4: 160 | P4: 70 | Q4: 75 | R4: 110 | S4: 120 | T4: 150 | U4: 160 | V4: 100 | W4: 110 | X4: 130 | Y4: 140
A5: 3 | B5: 75 | C5: 75 | D5: 100 | E5: 110 | F5: 95 | G5: 105 | H5: 80 | I5: 90 | J5: 100 | K5: 110 | L5: 150 | M5: 160 | N5: 160 | O5: 170 | P5: 70 | Q5: 70 | R5: 110 | S5: 120 | T5: 150 | U5: 160 | V5: 120 | W5: 130 | X5: 130 | Y5: 140
A6: 4 | B6: 75 | C6: 75 | D6: 150 | E6: 160 | F6: 95 | G6: 105 | H6: 80 | I6: 80 | J6: 70 | K6: 70 | L6: 150 | M6: 160 | N6: 100 | O6: 110 | P6: 70 | Q6: 75 | R6: 110 | S6: 120 | T6: 150 | U6: 160 | V6: 130 | W6: 140 | X6: 120 | Y6: 130
A7: 5 | B7: 75 | C7: 75 | D7: 150 | E7: 160 | F7: 95 | G7: 105 | H7: 110 | I7: 120 | J7: 80 | K7: 80 | L7: 150 | M7: 160 | N7: 100 | O7: 110 | P7: 70 | Q7: 75 | R7: 110 | S7: 120 | T7: 100 | U7: 110 | V7: 130 | W7: 140 | X7: 100 | Y7: 110
A8: 6 | B8: 90 | C8: 100 | D8: 80 | E8: 90 | F8: 80 | G8: 85 | H8: 80 | I8: 80 | J8: 80 | K8: 80 | L8: 90 | M8: 100 | N8: 90 | O8: 100 | P8: 70 | Q8: 75 | R8: 110 | S8: 120 | T8: 150 | U8: 160 | V8: 120 | W8: 130 | X8: 100 | Y8: 110
A9: 7 | B9: 90 | C9: 100 | D9: 60 | E9: 60 | F9: 80 | G9: 85 | H9: 130 | I9: 140 | J9: 80 | K9: 80 | L9: 90 | M9: 100 | N9: 120 | O9: 130 | P9: 70 | Q9: 75 | R9: 90 | S9: 100 | T9: 150 | U9: 160 | V9: 100 | W9: 110 | X9: 100 | Y9: 110
A10: 8 | B10: 90 | C10: 100 | D10: 60 | E10: 60 | F10: 80 | G10: 85 | H10: 150 | I10: 160 | J10: 80 | K10: 80 | L10: 70 | M10: 80 | N10: 130 | O10: 140 | P10: 70 | Q10: 75 | R10: 130 | S10: 140 | T10: 150 | U10: 160 | V10: 100 | W10: 110 | X10: 120 | Y10: 130
A11: 9 | B11: 90 | C11: 100 | D11: 60 | E11: 60 | F11: 80 | G11: 85 | H11: 150 | I11: 160 | J11: 80 | K11: 80 | L11: 70 | M11: 80 | N11: 130 | O11: 140 | P11: 70 | Q11: 75 | R11: 140 | S11: 150 | T11: 150 | U11: 160 | V11: 100 | W11: 110 | X11: 130 | Y11: 140
A12: 10 | B12: 65 | C12: 65 | D12: 110 | E12: 120 | F12: 140 | G12: 150 | H12: 130 | I12: 140 | J12: 80 | K12: 80 | L12: 150 | M12: 160 | N12: 120 | O12: 130 | P12: 70 | Q12: 70 | R12: 140 | S12: 150 | T12: 100 | U12: 110 | V12: 100 | W12: 110 | X12: 130 | Y12: 140
A13: 11 | B13: 65 | C13: 65 | D13: 110 | E13: 120 | F13: 100 | G13: 110 | H13: 80 | I13: 85 | J13: 70 | K13: 70 | L13: 150 | M13: 160 | N13: 80 | O13: 90 | P13: 70 | Q13: 75 | R13: 130 | S13: 140 | T13: 100 | U13: 110 | V13: 100 | W13: 110 | X13: 120 | Y13: 130
A14: 12 | B14: 65 | C14: 65 | D14: 110 | E14: 120 | F14: 150 | G14: 160 | H14: 80 | I14: 85 | J14: 150 | K14: 160 | L14: 150 | M14: 160 | N14: 80 | O14: 90 | P14: 70 | Q14: 75 | R14: 90 | S14: 100 | T14: 100 | U14: 110 | V14: 130 | W14: 140 | X14: 90 | Y14: 100
... A30: 28 | B30: 140 | C30: 150 | D30: 60 | E30: 60 | F30: 80 | G30: 90 | H30: 140 | I30: 150 | J30: 80 | K30: 90 | L30: 70 | M30: 80 | N30: 70 | O30: 75 | P30: 90 | Q30: 100 | R30: 100 | S30: 110 | T30: 130 | U30: 140 | V30: 100 | W30: 110 | X30: 90 | Y30: 100
A31: 29 | B31: 140 | C31: 150 | F31: 80 | G31: 90 | H31: 140 | I31: 150 | J31: 90 | K31: 100 | L31: 60 | M31: 70 | N31: 70 | O31: 75 | P31: 70 | Q31: 75 | R31: 130 | S31: 140 | T31: 130 | U31: 140 | V31: 100 | W31: 110 | X31: 130 | Y31: 140
A32: 30 | B32: 110 | C32: 120 | F32: 80 | G32: 90 | H32: 80 | I32: 80 | J32: 90 | K32: 100 | L32: 130 | M32: 140 | N32: 70 | O32: 75 | P32: 70 | Q32: 75 | R32: 140 | S32: 150 | T32: 120 | U32: 130 | V32: 100 | W32: 110 | X32: 150 | Y32: 160
A33: 31 | B33: 65 | C33: 65 | F33: 120 | G33: 130 | J33: 90 | K33: 100 | N33: 70 | O33: 75 | P33: 70 | Q33: 70 | T33: 100 | U33: 110 | X33: 150 | Y33: 160

Sheet calcul inter
A1: JANVIER | C1: FEVRIER | E1: MARS | G1: AVRIL | I1: MAI | K1: JUIN | M1: JUILLET | O1: AOUT | Q1: SEPTEMBRE | S1: OCTOBRE | U1: NOVEMBRE | W1: DECEMBRE
A2: 1 | C2: 2 | E2: 3 | G2: 4 | I2: 5 | K2: 6 | M2: 7 | O2: 8 | Q2: 9 | S2: 10 | U2: 11 | W2: 12
A5: mois CI | B5: =HLOOKUP(résa!B4,A1:X2,2,FALSE) -> #N/A
A6: mois CO | B6: =HLOOKUP(résa!#REF!,A1:X2,2,FALSE) -> #REF!
A10: date CI | B10: =DATE('prix chambre'!$A$1,'calcul inter'!B5,résa!A4) -> #N/A
A11: date CO | B11: =DATE('prix chambre'!$A$1,'calcul inter'!B6,résa!#REF!) -> #REF!
