Workbook
Name AN: RAP!$C$2
Name Debut: Saisie!$D$3:$D$14
Name Fin: Saisie!$E$3:$E$14
Name LIEU: Saisie!$C$3:$C$14
Name Mois: Listes!$B$2:$B$5
Name MoisVille: Saisie!$F$3:$F$14
Name Noms: Saisie!$B$3:$B$14
Name Nomvilles: Listes!$E$2:$E$6
Name QUANTITE: Saisie!$I$3:$I$14
Name rrrr01: Saisie!$G$3:$G$14
Name rrrr02: Saisie!$H$3:$H$14

Sheet Saisie
B2: Noms | C2: LIEU | D2: Debut | E2: Fin | F2: MoisVille | G2: rrrr01 | H2: rrrr02 | I2: QUANTITE
B3: FORMULE 1 | C3: BUCAREST | D3: 41649 | E3: 41649 | F3: =MONTH(D3)&"-"&C3 -> 1-BUCAREST | I3: 500
B4: FORMULE 2 | C4: PARIS | D4: 41672 | E4: 41675 | F4: =MONTH(D4)&"-"&C4 -> 2-PARIS | I4: 200
B5: FORMULE 3 | C5: ORLEANS | D5: 41644 | E5: 41646 | F5: =MONTH(D5)&"-"&C5 -> 1-ORLEANS | I5: 200
B6: FORMULE 4 | C6: MARSEILLE | D6: 41641 | E6: 41644 | F6: =MONTH(D6)&"-"&C6 -> 1-MARSEILLE | I6: 200
B7: FORMULE 5 | C7: NICE | D7: 41643 | E7: 41643 | F7: =MONTH(D7)&"-"&C7 -> 1-NICE | I7: 200
B8: FORMULE 2 | C8: PARIS | D8: 41672 | E8: 41674 | F8: =MONTH(D8)&"-"&C8 -> 2-PARIS | I8: 450
B9: FORMULE 2 | C9: PARIS | D9: 41672 | E9: 41674 | F9: =MONTH(D9)&"-"&C9 -> 2-PARIS | I9: 451
B10: FORMULE 3 | C10: PARIS | D10: 41649 | E10: 41650 | F10: =MONTH(D10)&"-"&C10 -> 1-PARIS | I10: 452
B11: FORMULE 3 | C11: PARIS | D11: 41734 | E11: 41736 | F11: =MONTH(D11)&"-"&C11 -> 4-PARIS | I11: 452
B12: FORMULE 3 | C12: PARIS | D12: 41702 | E12: 41704 | F12: =MONTH(D12)&"-"&C12 -> 3-PARIS | I12: 452
B13: FORMULE 5 | C13: NICE | D13: 41648 | E13: 41649 | F13: =MONTH(D13)&"-"&C13 -> 1-NICE
B14: FORMULE 5 | C14: NICE | D14: 41646 | E14: 41646 | F14: =MONTH(D14)&"-"&C14 -> 1-NICE
C18: =SUMIFS(QUANTITE,Noms,B4,LIEU,RAP!G2) -> 0
B21: FORMULE 1
B22: FORMULE 2
B23: FORMULE 3
B24: FORMULE 4
B25: FORMULE 5

Sheet RAP
A1: 2014
A2: =UPPER(TEXT(C1,"mmmm")) -> JANVIER | C2: 41640 | G2: MARSEILLE
A4: FORMULEs | B4: =AN -> 41640 | C4: =B4+1 -> 41641 | D4: =C4+1 -> 41642 | E4: =D4+1 -> 41643 | F4: =E4+1 -> 41644 | G4: =F4+1 -> 41645 | H4: =G4+1 -> 41646 | I4: =H4+1 -> 41647 | J4: =I4+1 -> 41648 | ... AE4: =AD4+1 -> 41669
B5: =B4 -> 41640 | C5: =C4 -> 41641 | D5: =D4 -> 41642 | E5: =E4 -> 41643 | F5: =F4 -> 41644 | G5: =G4 -> 41645 | H5: =H4 -> 41646 | I5: =I4 -> 41647 | ... AE5: =AE4 -> 41669
A6: FORMULE 1 | B6: =SUMIFS(QUANTITE,Noms,$A6,LIEU,$G$2,Debut,"<="&B$5,Fin,">="&B$5) -> 0 | C6: =SUMIFS(QUANTITE,Noms,$A6,LIEU,$G$2,Debut,"<="&C$5,Fin,">="&C$5) -> 0 | D6: =SUMIFS(QUANTITE,Noms,$A6,LIEU,$G$2,Debut,"<="&D$5,Fin,">="&D$5) -> 0 | E6: =SUMIFS(QUANTITE,Noms,$A6,LIEU,$G$2,Debut,"<="&E$5,Fin,">="&E$5) -> 0 | F6: =SUMIFS(QUANTITE,Noms,$A6,LIEU,$G$2,Debut,"<="&F$5,Fin,">="&F$5) -> 0 | G6: =SUMIFS(QUANTITE,Noms,$A6,LIEU,$G$2,Debut,"<="&G$5,Fin,">="&G$5) -> 0 | H6: =SUMIFS(QUANTITE,Noms,$A6,LIEU,$G$2,Debut,"<="&H$5,Fin,">="&H$5) -> 0 | I6: =SUMIFS(QUANTITE,Noms,$A6,LIEU,$G$2,Debut,"<="&I$5,Fin,">="&I$5) -> 0 | ... AE6: =SUMIFS(QUANTITE,Noms,$A6,LIEU,$G$2,Debut,"<="&AE$5,Fin,">="&AE$5) -> 0
A7: FORMULE 2 | B7: =SUMIFS(QUANTITE,Noms,$A7,LIEU,$G$2,Debut,"<="&B$5,Fin,">="&B$5) -> 0 | C7: =SUMIFS(QUANTITE,Noms,$A7,LIEU,$G$2,Debut,"<="&C$5,Fin,">="&C$5) -> 0 | D7: =SUMIFS(QUANTITE,Noms,$A7,LIEU,$G$2,Debut,"<="&D$5,Fin,">="&D$5) -> 0 | E7: =SUMIFS(QUANTITE,Noms,$A7,LIEU,$G$2,Debut,"<="&E$5,Fin,">="&E$5) -> 0 | F7: =SUMIFS(QUANTITE,Noms,$A7,LIEU,$G$2,Debut,"<="&F$5,Fin,">="&F$5) -> 0 | G7: =SUMIFS(QUANTITE,Noms,$A7,LIEU,$G$2,Debut,"<="&G$5,Fin,">="&G$5) -> 0 | H7: =SUMIFS(QUANTITE,Noms,$A7,LIEU,$G$2,Debut,"<="&H$5,Fin,">="&H$5) -> 0 | I7: =SUMIFS(QUANTITE,Noms,$A7,LIEU,$G$2,Debut,"<="&I$5,Fin,">="&I$5) -> 0 | ... AE7: =SUMIFS(QUANTITE,Noms,$A7,LIEU,$G$2,Debut,"<="&AE$5,Fin,">="&AE$5) -> 0
A8: FORMULE 3 | B8: =SUMIFS(QUANTITE,Noms,$A8,LIEU,$G$2,Debut,"<="&B$5,Fin,">="&B$5) -> 0 | C8: =SUMIFS(QUANTITE,Noms,$A8,LIEU,$G$2,Debut,"<="&C$5,Fin,">="&C$5) -> 0 | D8: =SUMIFS(QUANTITE,Noms,$A8,LIEU,$G$2,Debut,"<="&D$5,Fin,">="&D$5) -> 0 | E8: =SUMIFS(QUANTITE,Noms,$A8,LIEU,$G$2,Debut,"<="&E$5,Fin,">="&E$5) -> 0 | F8: =SUMIFS(QUANTITE,Noms,$A8,LIEU,$G$2,Debut,"<="&F$5,Fin,">="&F$5) -> 0 | G8: =SUMIFS(QUANTITE,Noms,$A8,LIEU,$G$2,Debut,"<="&G$5,Fin,">="&G$5) -> 0 | H8: =SUMIFS(QUANTITE,Noms,$A8,LIEU,$G$2,Debut,"<="&H$5,Fin,">="&H$5) -> 0 | I8: =SUMIFS(QUANTITE,Noms,$A8,LIEU,$G$2,Debut,"<="&I$5,Fin,">="&I$5) -> 0 | ... AE8: =SUMIFS(QUANTITE,Noms,$A8,LIEU,$G$2,Debut,"<="&AE$5,Fin,">="&AE$5) -> 0
A9: FORMULE 4 | B9: =SUMIFS(QUANTITE,Noms,$A9,LIEU,$G$2,Debut,"<="&B$5,Fin,">="&B$5) -> 0 | C9: =SUMIFS(QUANTITE,Noms,$A9,LIEU,$G$2,Debut,"<="&C$5,Fin,">="&C$5) -> 200 | D9: =SUMIFS(QUANTITE,Noms,$A9,LIEU,$G$2,Debut,"<="&D$5,Fin,">="&D$5) -> 200 | E9: =SUMIFS(QUANTITE,Noms,$A9,LIEU,$G$2,Debut,"<="&E$5,Fin,">="&E$5) -> 200 | F9: =SUMIFS(QUANTITE,Noms,$A9,LIEU,$G$2,Debut,"<="&F$5,Fin,">="&F$5) -> 200 | G9: =SUMIFS(QUANTITE,Noms,$A9,LIEU,$G$2,Debut,"<="&G$5,Fin,">="&G$5) -> 0 | H9: =SUMIFS(QUANTITE,Noms,$A9,LIEU,$G$2,Debut,"<="&H$5,Fin,">="&H$5) -> 0 | I9: =SUMIFS(QUANTITE,Noms,$A9,LIEU,$G$2,Debut,"<="&I$5,Fin,">="&I$5) -> 0 | ... AE9: =SUMIFS(QUANTITE,Noms,$A9,LIEU,$G$2,Debut,"<="&AE$5,Fin,">="&AE$5) -> 0
A10: FORMULE 5 | B10: =SUMIFS(QUANTITE,Noms,$A10,LIEU,$G$2,Debut,"<="&B$5,Fin,">="&B$5) -> 0 | C10: =SUMIFS(QUANTITE,Noms,$A10,LIEU,$G$2,Debut,"<="&C$5,Fin,">="&C$5) -> 0 | D10: =SUMIFS(QUANTITE,Noms,$A10,LIEU,$G$2,Debut,"<="&D$5,Fin,">="&D$5) -> 0 | E10: =SUMIFS(QUANTITE,Noms,$A10,LIEU,$G$2,Debut,"<="&E$5,Fin,">="&E$5) -> 0 | F10: =SUMIFS(QUANTITE,Noms,$A10,LIEU,$G$2,Debut,"<="&F$5,Fin,">="&F$5) -> 0 | G10: =SUMIFS(QUANTITE,Noms,$A10,LIEU,$G$2,Debut,"<="&G$5,Fin,">="&G$5) -> 0 | H10: =SUMIFS(QUANTITE,Noms,$A10,LIEU,$G$2,Debut,"<="&H$5,Fin,">="&H$5) -> 0 | I10: =SUMIFS(QUANTITE,Noms,$A10,LIEU,$G$2,Debut,"<="&I$5,Fin,">="&I$5) -> 0 | ... AE10: =SUMIFS(QUANTITE,Noms,$A10,LIEU,$G$2,Debut,"<="&AE$5,Fin,">="&AE$5) -> 0
B13: =SUMIFS(QUANTITE,Noms,$A6,LIEU,RAP!$G$2,Debut,"<="&RAP!B$5,Fin,">="&RAP!B&5) -> 0 | C13: =SUMIFS(QUANTITE,Noms,$A6,LIEU,RAP!$G$2,Debut,"<="&RAP!C$5,Fin,">="&RAP!B&5) -> 0 | D13: =SUMIFS(QUANTITE,Noms,$A6,LIEU,RAP!$G$2,Debut,"<="&RAP!D$5,Fin,">="&RAP!B&5) -> 0 | E13: =SUMIFS(QUANTITE,Noms,$A6,LIEU,RAP!$G$2,Debut,"<="&RAP!E$5,Fin,">="&RAP!B&5) -> 0 | F13: =SUMIFS(QUANTITE,Noms,$A6,LIEU,RAP!$G$2,Debut,"<="&RAP!F$5,Fin,">="&RAP!B&5) -> 0 | G13: =SUMIFS(QUANTITE,Noms,$A6,LIEU,RAP!$G$2,Debut,"<="&RAP!G$5,Fin,">="&RAP!B&5) -> 0 | H13: =SUMIFS(QUANTITE,Noms,$A6,LIEU,RAP!$G$2,Debut,"<="&RAP!H$5,Fin,">="&RAP!B&5) -> 0 | I13: =SUMIFS(QUANTITE,Noms,$A6,LIEU,RAP!$G$2,Debut,"<="&RAP!I$5,Fin,">="&RAP!B&5) -> 0 | ... K13: =SUMIFS(QUANTITE,Noms,$A6,LIEU,RAP!$G$2,Debut,"<="&RAP!K$5,Fin,">="&RAP!B&5) -> 0
B23: form
B24: =SUMPRODUCT(((Noms=$A6)*(B$4>=Debut)*(B$4<=Fin))) -> 0 | N24: je voudrais rapatrier en colonne A les noms saisiS sur l'onglet saisie en fonction du mois en A2 et de la ville en G2
N26: dans la cellule A6= formule avec index equiv QUI NE MARCHE PAS
N27: dans les cellules de A7 à a10 = formule matriciElle qui marche bien mais uniquement pour le mois - ne rapatrie pas en fonCtion de la cellule G2

Sheet Listes
B1: Mois | E1: Nomvilles
B2: Janvier | E2: BUCAREST
B3: Février | E3: PARIS
B4: Mars | E4: ORLEANS
B5: Avril | E5: MARSEILLE
E6: NICE
