Workbook

Sheet Feuil5
A1: MoisPay
A3: Étiquettes de lignes | B3: Somme de MontFact
A4: 41331 | B4: 780
A5: 41355 | B5: 2516.25
A6: 41593 | B6: 700
A7: 41626 | B7: 210
A8: 41718 | B8: 3171
A9: 41723 | B9: 1470
A10: 41775 | B10: 5268
A11: 41801 | B11: 1680
A12: 41808 | B12: 700
A13: 41955 | B13: 1287.3
A14: 41977 | B14: 1008
A15: 41989 | B15: 4743
... A17: 42010 | B17: 1008
A18: Total général | B18: 27901.55

Sheet Base
A1: SECTEUR | B1: MonFact | C1: DatFact | D1: ReFact | E1: NrFact | F1: MontPay | G1: MoisPay
A2: A | B2: 1890 | C2: 40984 | D2: VFBB | E2: 15966 | F2: =+B2 -> 1890 | G2: 41009
A3: A | B3: 1950 | C3: 41040 | D3: VFBY | E3: 16391 | F3: =+B3 -> 1950 | G3: 41086
A4: A | B4: 1260 | C4: 41054 | D4: VFBB | E4: 16123 | F4: =+B4 -> 1260 | G4: 41144
A5: A | B5: 1680 | C5: 41068 | D5: VFEZ VAEZ | E5: 15883/90096 | F5: =+B5 -> 1680 | G5: 41179
A6: A | B6: 1275 | C6: 41075 | D6: VFGM | E6: 15321 | F6: =+B6 -> 1275 | G6: 41179
A7: B | B7: 2355 | C7: 41096 | D7: VFBB | E7: 16257 | F7: =B7 -> 2355 | G7: 41144
A8: B | B8: 1050 | C8: 41096 | D8: VFBB | E8: 16261 | F8: =+B8 -> 1050 | G8: 41533
A9: A | B9: 2415 | C9: 41138 | D9: VFSP | E9: 1899 | F9: =+B9 -> 2415 | G9: 41186
A10: B | B10: 990 | C10: 41187 | D10: VFEZ | E10: 16006 | F10: =+B10 -> 990 | G10: 41207
A11: C | B11: 1680 | C11: 41187 | D11: VFBB | E11: 16501 | F11: =B11 -> 1680 | G11: 41249
A12: B | B12: 447.49 | C12: 41229 | D12: VFBY | E12: 16662 | F12: =B12 -> 447.49 | G12: 41249
A13: B | B13: 45 | C13: 41250 | D13: VFSP | E13: 22142 | F13: =+B13 -> 45 | G13: 41408
A14: D | B14: 1281 | C14: 41250 | D14: VFBB | E14: 16703 | F14: =+B14 -> 1281 | G14: 41264
A15: A | B15: 930 | C15: 41257 | D15: BFBY | E15: 16701 | F15: =+B15 -> 930 | G15: 41274
A16: C | B16: 1680 | C16: 41257 | D16: VFBY | E16: 16702 | F16: =+B16 -> 1680 | G16: 41272
A17: B | B17: 3392 | C17: 41313 | D17: VFGM | E17: 15583 | F17: =+B17 -> 3392 | G17: 41389
A18: C | B18: 780 | C18: 41330 | D18: VFSP | E18: 22259 22247 000000174 | F18: =B18 -> 780 | G18: 41408
A19: C | B19: 3450 | C19: 41331 | D19: VFBB | E19: 16850
A20: B | B20: 2516.25 | C20: 41332 | D20: VFSP | E20: 22267 | F20: =B20 -> 2516.25 | G20: 41408
A21: A | B21: 495 | C21: 41355 | D21: VFSP | E21: 22299
A22: D | B22: 1950 | C22: 41418 | D22: 2013-23/05A | E22: D30000000150 | F22: =+B22 -> 1950 | G22: 41425
A23: A | B23: 2100 | C23: 41474 | D23: J60FF | E23: 000000084 | F23: =+B23 -> 2100 | G23: 41555
A24: A | B24: 700 | C24: 41474 | D24: J60FF | E24: 000000086 | F24: =+B24 -> 700 | G24: 41548
A25: A | B25: 1470 | C25: 41593 | D25: D30 | E25: 000000240
A26: A | B26: 1608.75 | C26: 41597 | D26: J60FF | E26: 000000267 | F26: =+B26 -> 1608.75 | G26: 41626
A27: B | B27: 1050 | C27: 41620 | D27: d30-000000314 | F27: =B27 -> 1050 | G27: 41626
A28: A | B28: 1764 | C28: 41626 | D28: D30 | E28: 000000328 | F28: =+B28 -> 1764 | G28: 41687
A29: A | B29: 1568 | C29: 41626 | D29: D30 | E29: 000000327 | F29: =+B29 -> 1568 | G29: 41687
A30: A | B30: 490 | C30: 41626 | D30: D30 | E30: 000000340 | F30: =+B30 -> 490 | G30: 41687
A31: A | B31: 700 | C31: 41626 | D31: D30 | E31: 000000335 | F31: =+B31 -> 700 | G31: 41687
A32: A | B32: 1008 | C32: 41626 | D32: D30 | E32: 000000331 | F32: =+B32 -> 1008 | G32: 41687
A33: A | B33: 210 | C33: 41626 | D33: D30 | E33: 000000332 | F33: =+B33 -> 210 | G33: 41687
A34: B | B34: 980 | C34: 41626 | D34: J60FF | E34: 000000300
A35: B | B35: 600 | C35: 41626 | D35: D30 | E35: 000000330 | F35: =+B35 -> 600 | G35: 41687
A36: D | B36: 150 | C36: 41626 | D36: D30 | E36: 000000329 | F36: =+B36 -> 150 | G36: 41667
A37: B | B37: 1050 | C37: 41660 | D37: J60 | E37: 000000354 | F37: =+B37 -> 1050 | G37: 41710
A38: B | B38: 882 | C38: 41669 | D38: D30 | E38: 000000389 | F38: =+B38 -> 882 | G38: 41731
A39: B | B39: 700 | C39: 41669 | D39: D30 | E39: 000000380 | F39: =+B39 -> 700 | G39: 41710
A40: B | B40: 1421 | C40: 41669 | D40: D30 | E40: 000000388 | F40: =+B40 -> 1421 | G40: 41710
A41: A | B41: 1750 | C41: 41718 | D41: J60FF | E41: 400
A42: A | B42: 1470 | C42: 41718 | D42: D30 | E42: 0000421
A43: B | B43: 1680 | C43: 41723 | D43: D30 | E43: 0000454 | F43: =+B43 -> 1680 | G43: 41771
A44: B | B44: 1470 | C44: 41723 | D44: D30 | E44: 0000411 | F44: =+B44 -> 1470 | G44: 41771
A45: C | B45: 2233 | C45: 41723 | D45: D30 | E45: 0000455
A46: A | B46: 2832 | C46: 41775 | D46: J60FF | E46: 000000468 | F46: =+B46 -> 2832 | G46: 41858
A47: A | B47: 6825 | C47: 41775 | D47: D30 | E47: 000000503
A48: A | B48: 1400 | C48: 41775 | D48: J60FF | E48: 000000466 | F48: =+B48 -> 1400 | G48: 41901
A49: A | B49: 1036 | C49: 41775 | D49: J60FF | E49: 000000465 | F49: =+B49 -> 1036 | G49: 41858
A50: B | B50: 1470 | C50: 41775 | D50: D30 | E50: 000000505
A51: B | B51: 1372 | C51: 41775 | D51: J60FF | E51: 000000467 | F51: =+B51 -> 1372 | G51: 41901
A52: C | B52: 1400 | C52: 41775 | D52: D30 | E52: 000000496 | F52: =+B52 -> 1400 | G52: 41912
A53: C | B53: 280 | C53: 41775 | D53: D30 | E53: 0000501
A54: D | B54: 3178 | C54: 41775 | D54: D30FF | E54: 000000502 | F54: =+B54 -> 3178 | G54: 41912
A55: A | B55: 1680 | C55: 41801 | D55: D30 | E55: 00000555 | F55: =+B55 -> 1680 | G55: 41886
A56: C | B56: 700 | C56: 41801 | D56: D30 | E56: 00000554
A57: C | B57: 1680 | C57: 41808 | D57: D30 | E57: 000000559
A58: A | B58: 1368 | C58: 41820 | D58: D30 | E58: 000606 | F58: =+B58 -> 1368 | G58: 41927
A59: B | B59: 1960 | C59: 41820 | D59: D30 | E59: 000604 | F59: =+B59 -> 1960 | G59: 41904
A60: C | B60: 1400 | C60: 41820 | D60: D30 | E60: 0000607 | F60: =+B60 -> 1400 | G60: 41884
A61: D | B61: 2100 | C61: 41870 | D61: D30FF | E61: 000650 | F61: =+B61 -> 2100 | G61: 41912
A62: A | B62: 1470 | C62: 41942 | D62: D30FF | E62: 000704 | F62: =+B62 -> 1470 | G62: 41978
A63: D | B63: 1512 | C63: 41942 | D63: D30FF | E63: 000705 | F63: =+B63 -> 1512 | G63: 41978
A64: A | B64: 1044 | C64: 41943 | D64: D30FF | E64: 000722 | F64: =+B64 -> 1044 | G64: 41969
A65: B | B65: 242 | C65: 41943 | D65: D30FF | E65: 000713 | F65: =B65 -> 242 | G65: 41977
A66: B | B66: 279.3 | C66: 41946 | D66: J60FF | E66: 000548 | F66: =+B66 -> 279.3 | G66: 41978
A67: A | B67: 1428 | C67: 41955 | D67: D30FF | E67: 000740 00142
A68: A | B68: 1008 | C68: 41955 | D68: D30FF | E68: 000741 | F68: =+B68 -> 1008 | G68: 41981
A69: A | B69: 2394 | C69: 41955 | D69: D30FF | E69: 000742
A70: A | B70: 1820 | C70: 41955 | D70: D30FF | E70: 000743 | F70: =+B70 -> 1820 | G70: 41985
A71: D | B71: 1008 | C71: 41955 | D71: D30FF | E71: 000744 | F71: =+B71 -> 1008 | G71: 41982
A72: A | B72: 1372 | C72: 41971 | D72: D30FF | E72: 000771 | F72: =+B72 -> 1372 | G72: 41988
A73: D | B73: 1008 | C73: 41971 | D73: D30FF | E73: 000772 | F73: =+B73 -> 1008 | G73: 42016
A74: A | B74: 2100 | C74: 41977 | D74: D30FF | E74: 000798
A75: A | B75: 1700 | C75: 41977 | D75: D30FF | E75: 000797 | F75: =+B75 -> 1700 | G75: 42009
A76: D | B76: 504 | C76: 41977 | D76: D30FF | E76: 00799 | F76: =+B76 -> 504 | G76: 41991
A77: A | B77: 693 | C77: 41981 | D77: J60FF | E77: 000572 0055 000753 | F77: =+B77 -> 693 | G77: 41988
A78: A | B78: 1680 | C78: 41989 | D78: D30FF | E78: 000693
A79: A | B79: 1680 | C79: 41989 | D79: D30FF | E79: 000806
A80: B | B80: 690 | C80: 41989 | D80: D30FF | E80: 000805
A81: B | B81: 3360 | C81: 41989 | D81: D30FF | E81: 000807
A82: B | B82: 1008 | C82: 42004 | D82: J600FF | E82: 000609
A83: B | B83: 1008 | C83: 42010 | D83: D30FF | E83: 000877

Sheet Erreurs
A2: zone incohérente en saisie avec leel reste
A3: A | B3: 752.51 | C3: acompte | D3: acompte | F3: =+B3 -> 752.51 | G3: 41222 | H3: =DATE(YEAR(C3),MONTH(C3),DAY(C3)) -> #VALUE!
A4: B | B4: -752.51 | F4: =+B4 -> -752.51 | H4: =DATE(YEAR(C4),MONTH(C4),DAY(C4)) -> 0

Sheet Feuil2
A1: date de facture 1 | B1: Zone1 | C1: Zone2 | D1: Zone3 | E1: Zone4 | F1: Total | I1: form Date convert
A2: 40984 | B2: =SUMIFS(Base!$B$2:$B$56,Base!$C$2:$C$56,Feuil2!$A2,Base!$F$2:$F$56,"") -> 0 | C2: =SUMIFS(Base!$B$57:$B$83,Base!$C$57:$C$83,Feuil2!$A2,Base!$F$57:$F$83,"") -> 0 | D2: =SUMIFS(Erreurs!$B$4:$B$4,Erreurs!$C$4:$C$4,Feuil2!$A2,Erreurs!$F$4:$F$4,"") -> 0 | E2: =SUMIFS(Base!#REF!,Base!#REF!,Feuil2!$A2,Base!#REF!,"") -> #REF! | F2: =SUM(B2:E2) -> #REF! | I2: =+DATE(YEAR(A2),MONTH(A2),DAY(A2)) -> 40984
A3: 41040 | B3: =SUMIFS(Base!$B$2:$B$56,Base!$C$2:$C$56,Feuil2!$A3,Base!$F$2:$F$56,"") -> 0 | C3: =SUMIFS(Base!$B$57:$B$83,Base!$C$57:$C$83,Feuil2!$A3,Base!$F$57:$F$83,"") -> 0 | D3: =SUMIFS(Erreurs!$B$4:$B$4,Erreurs!$C$4:$C$4,Feuil2!$A3,Erreurs!$F$4:$F$4,"") -> 0 | E3: =SUMIFS(Base!#REF!,Base!#REF!,Feuil2!$A3,Base!#REF!,"") -> #REF! | F3: =SUM(B3:E3) -> #REF! | I3: =+DATE(YEAR(A3),MONTH(A3),DAY(A3)) -> 41040
A4: 41054 | B4: =SUMIFS(Base!$B$2:$B$56,Base!$C$2:$C$56,Feuil2!$A4,Base!$F$2:$F$56,"") -> 0 | C4: =SUMIFS(Base!$B$57:$B$83,Base!$C$57:$C$83,Feuil2!$A4,Base!$F$57:$F$83,"") -> 0 | D4: =SUMIFS(Erreurs!$B$4:$B$4,Erreurs!$C$4:$C$4,Feuil2!$A4,Erreurs!$F$4:$F$4,"") -> 0 | E4: =SUMIFS(Base!#REF!,Base!#REF!,Feuil2!$A4,Base!#REF!,"") -> #REF! | F4: =SUM(B4:E4) -> #REF! | I4: =+DATE(YEAR(A4),MONTH(A4),DAY(A4)) -> 41054
A5: 41068 | B5: =SUMIFS(Base!$B$2:$B$56,Base!$C$2:$C$56,Feuil2!$A5,Base!$F$2:$F$56,"") -> 0 | C5: =SUMIFS(Base!$B$57:$B$83,Base!$C$57:$C$83,Feuil2!$A5,Base!$F$57:$F$83,"") -> 0 | D5: =SUMIFS(Erreurs!$B$4:$B$4,Erreurs!$C$4:$C$4,Feuil2!$A5,Erreurs!$F$4:$F$4,"") -> 0 | E5: =SUMIFS(Base!#REF!,Base!#REF!,Feuil2!$A5,Base!#REF!,"") -> #REF! | F5: =SUM(B5:E5) -> #REF! | I5: =+DATE(YEAR(A5),MONTH(A5),DAY(A5)) -> 41068
A6: 41075 | B6: =SUMIFS(Base!$B$2:$B$56,Base!$C$2:$C$56,Feuil2!$A6,Base!$F$2:$F$56,"") -> 0 | C6: =SUMIFS(Base!$B$57:$B$83,Base!$C$57:$C$83,Feuil2!$A6,Base!$F$57:$F$83,"") -> 0 | D6: =SUMIFS(Erreurs!$B$4:$B$4,Erreurs!$C$4:$C$4,Feuil2!$A6,Erreurs!$F$4:$F$4,"") -> 0 | E6: =SUMIFS(Base!#REF!,Base!#REF!,Feuil2!$A6,Base!#REF!,"") -> #REF! | F6: =SUM(B6:E6) -> #REF! | I6: =+DATE(YEAR(A6),MONTH(A6),DAY(A6)) -> 41075
A7: 41096 | B7: =SUMIFS(Base!$B$2:$B$56,Base!$C$2:$C$56,Feuil2!$A7,Base!$F$2:$F$56,"") -> 0 | C7: =SUMIFS(Base!$B$57:$B$83,Base!$C$57:$C$83,Feuil2!$A7,Base!$F$57:$F$83,"") -> 0 | D7: =SUMIFS(Erreurs!$B$4:$B$4,Erreurs!$C$4:$C$4,Feuil2!$A7,Erreurs!$F$4:$F$4,"") -> 0 | E7: =SUMIFS(Base!#REF!,Base!#REF!,Feuil2!$A7,Base!#REF!,"") -> #REF! | F7: =SUM(B7:E7) -> #REF! | I7: =+DATE(YEAR(A7),MONTH(A7),DAY(A7)) -> 41096
A8: 41138 | B8: =SUMIFS(Base!$B$2:$B$56,Base!$C$2:$C$56,Feuil2!$A8,Base!$F$2:$F$56,"") -> 0 | C8: =SUMIFS(Base!$B$57:$B$83,Base!$C$57:$C$83,Feuil2!$A8,Base!$F$57:$F$83,"") -> 0 | D8: =SUMIFS(Erreurs!$B$4:$B$4,Erreurs!$C$4:$C$4,Feuil2!$A8,Erreurs!$F$4:$F$4,"") -> 0 | E8: =SUMIFS(Base!#REF!,Base!#REF!,Feuil2!$A8,Base!#REF!,"") -> #REF! | F8: =SUM(B8:E8) -> #REF! | I8: =+DATE(YEAR(A8),MONTH(A8),DAY(A8)) -> 41138
A9: 41187 | B9: =SUMIFS(Base!$B$2:$B$56,Base!$C$2:$C$56,Feuil2!$A9,Base!$F$2:$F$56,"") -> 0 | C9: =SUMIFS(Base!$B$57:$B$83,Base!$C$57:$C$83,Feuil2!$A9,Base!$F$57:$F$83,"") -> 0 | D9: =SUMIFS(Erreurs!$B$4:$B$4,Erreurs!$C$4:$C$4,Feuil2!$A9,Erreurs!$F$4:$F$4,"") -> 0 | E9: =SUMIFS(Base!#REF!,Base!#REF!,Feuil2!$A9,Base!#REF!,"") -> #REF! | F9: =SUM(B9:E9) -> #REF! | I9: =+DATE(YEAR(A9),MONTH(A9),DAY(A9)) -> 41187
A10: 41229 | B10: =SUMIFS(Base!$B$2:$B$56,Base!$C$2:$C$56,Feuil2!$A10,Base!$F$2:$F$56,"") -> 0 | C10: =SUMIFS(Base!$B$57:$B$83,Base!$C$57:$C$83,Feuil2!$A10,Base!$F$57:$F$83,"") -> 0 | D10: =SUMIFS(Erreurs!$B$4:$B$4,Erreurs!$C$4:$C$4,Feuil2!$A10,Erreurs!$F$4:$F$4,"") -> 0 | E10: =SUMIFS(Base!#REF!,Base!#REF!,Feuil2!$A10,Base!#REF!,"") -> #REF! | F10: =SUM(B10:E10) -> #REF! | I10: =+DATE(YEAR(A10),MONTH(A10),DAY(A10)) -> 41229
A11: 41250 | B11: =SUMIFS(Base!$B$2:$B$56,Base!$C$2:$C$56,Feuil2!$A11,Base!$F$2:$F$56,"") -> 0 | C11: =SUMIFS(Base!$B$57:$B$83,Base!$C$57:$C$83,Feuil2!$A11,Base!$F$57:$F$83,"") -> 0 | D11: =SUMIFS(Erreurs!$B$4:$B$4,Erreurs!$C$4:$C$4,Feuil2!$A11,Erreurs!$F$4:$F$4,"") -> 0 | E11: =SUMIFS(Base!#REF!,Base!#REF!,Feuil2!$A11,Base!#REF!,"") -> #REF! | F11: =SUM(B11:E11) -> #REF! | I11: =+DATE(YEAR(A11),MONTH(A11),DAY(A11)) -> 41250
A12: 41257 | B12: =SUMIFS(Base!$B$2:$B$56,Base!$C$2:$C$56,Feuil2!$A12,Base!$F$2:$F$56,"") -> 0 | C12: =SUMIFS(Base!$B$57:$B$83,Base!$C$57:$C$83,Feuil2!$A12,Base!$F$57:$F$83,"") -> 0 | D12: =SUMIFS(Erreurs!$B$4:$B$4,Erreurs!$C$4:$C$4,Feuil2!$A12,Erreurs!$F$4:$F$4,"") -> 0 | E12: =SUMIFS(Base!#REF!,Base!#REF!,Feuil2!$A12,Base!#REF!,"") -> #REF! | F12: =SUM(B12:E12) -> #REF! | I12: =+DATE(YEAR(A12),MONTH(A12),DAY(A12)) -> 41257
A13: 41313 | B13: =SUMIFS(Base!$B$2:$B$56,Base!$C$2:$C$56,Feuil2!$A13,Base!$F$2:$F$56,"") -> 0 | C13: =SUMIFS(Base!$B$57:$B$83,Base!$C$57:$C$83,Feuil2!$A13,Base!$F$57:$F$83,"") -> 0 | D13: =SUMIFS(Erreurs!$B$4:$B$4,Erreurs!$C$4:$C$4,Feuil2!$A13,Erreurs!$F$4:$F$4,"") -> 0 | E13: =SUMIFS(Base!#REF!,Base!#REF!,Feuil2!$A13,Base!#REF!,"") -> #REF! | F13: =SUM(B13:E13) -> #REF! | I13: =+DATE(YEAR(A13),MONTH(A13),DAY(A13)) -> 41313
... A26: 41718 | B26: =SUMIFS(Base!$B$2:$B$56,Base!$C$2:$C$56,Feuil2!$A26,Base!$F$2:$F$56,"") -> 3220 | C26: =SUMIFS(Base!$B$57:$B$83,Base!$C$57:$C$83,Feuil2!$A26,Base!$F$57:$F$83,"") -> 0 | D26: =SUMIFS(Erreurs!$B$4:$B$4,Erreurs!$C$4:$C$4,Feuil2!$A26,Erreurs!$F$4:$F$4,"") -> 0 | E26: =SUMIFS(Base!#REF!,Base!#REF!,Feuil2!$A26,Base!#REF!,"") -> #REF! | F26: =SUM(B26:E26) -> #REF! | I26: =+DATE(YEAR(A26),MONTH(A26),DAY(A26)) -> 41718
A27: 41723 | B27: =SUMIFS(Base!$B$2:$B$56,Base!$C$2:$C$56,Feuil2!$A28,Base!$F$2:$F$56,"") -> 8575 | C27: =SUMIFS(Base!$B$57:$B$83,Base!$C$57:$C$83,Feuil2!$A28,Base!$F$57:$F$83,"") -> 0 | D27: =SUMIFS(Erreurs!$B$4:$B$4,Erreurs!$C$4:$C$4,Feuil2!$A28,Erreurs!$F$4:$F$4,"") -> 0 | E27: =SUMIFS(Base!#REF!,Base!#REF!,Feuil2!$A28,Base!#REF!,"") -> #REF! | F27: =SUM(B27:E27) -> #REF! | I27: =+DATE(YEAR(A27),MONTH(A27),DAY(A27)) -> 41723
A28: 41775 | B28: =SUMIFS(Base!$B$2:$B$56,Base!$C$2:$C$56,Feuil2!$A29,Base!$F$2:$F$56,"") -> 700 | C28: =SUMIFS(Base!$B$57:$B$83,Base!$C$57:$C$83,Feuil2!$A29,Base!$F$57:$F$83,"") -> 0 | D28: =SUMIFS(Erreurs!$B$4:$B$4,Erreurs!$C$4:$C$4,Feuil2!$A29,Erreurs!$F$4:$F$4,"") -> 0 | E28: =SUMIFS(Base!#REF!,Base!#REF!,Feuil2!$A29,Base!#REF!,"") -> #REF! | F28: =SUM(B28:E28) -> #REF! | I28: =+DATE(YEAR(A28),MONTH(A28),DAY(A28)) -> 41775
A29: 41801 | B29: =SUMIFS(Base!$B$2:$B$56,Base!$C$2:$C$56,Feuil2!$A30,Base!$F$2:$F$56,"") -> 0 | C29: =SUMIFS(Base!$B$57:$B$83,Base!$C$57:$C$83,Feuil2!$A30,Base!$F$57:$F$83,"") -> 1680 | D29: =SUMIFS(Erreurs!$B$4:$B$4,Erreurs!$C$4:$C$4,Feuil2!$A30,Erreurs!$F$4:$F$4,"") -> 0 | E29: =SUMIFS(Base!#REF!,Base!#REF!,Feuil2!$A30,Base!#REF!,"") -> #REF! | F29: =SUM(B29:E29) -> #REF! | I29: =+DATE(YEAR(A29),MONTH(A29),DAY(A29)) -> 41801
A30: 41808 | B30: =SUMIFS(Base!$B$2:$B$56,Base!$C$2:$C$56,Feuil2!$A31,Base!$F$2:$F$56,"") -> 0 | C30: =SUMIFS(Base!$B$57:$B$83,Base!$C$57:$C$83,Feuil2!$A31,Base!$F$57:$F$83,"") -> 0 | D30: =SUMIFS(Erreurs!$B$4:$B$4,Erreurs!$C$4:$C$4,Feuil2!$A31,Erreurs!$F$4:$F$4,"") -> 0 | E30: =SUMIFS(Base!#REF!,Base!#REF!,Feuil2!$A31,Base!#REF!,"") -> #REF! | F30: =SUM(B30:E30) -> #REF! | I30: =+DATE(YEAR(A30),MONTH(A30),DAY(A30)) -> 41808
A31: 41820 | B31: =SUMIFS(Base!$B$2:$B$56,Base!$C$2:$C$56,Feuil2!$A32,Base!$F$2:$F$56,"") -> 0 | C31: =SUMIFS(Base!$B$57:$B$83,Base!$C$57:$C$83,Feuil2!$A32,Base!$F$57:$F$83,"") -> 0 | D31: =SUMIFS(Erreurs!$B$4:$B$4,Erreurs!$C$4:$C$4,Feuil2!$A32,Erreurs!$F$4:$F$4,"") -> 0 | E31: =SUMIFS(Base!#REF!,Base!#REF!,Feuil2!$A32,Base!#REF!,"") -> #REF! | F31: =SUM(B31:E31) -> #REF! | I31: =+DATE(YEAR(A31),MONTH(A31),DAY(A31)) -> 41820
A32: 41870 | B32: =SUMIFS(Base!$B$2:$B$56,Base!$C$2:$C$56,Feuil2!$A33,Base!$F$2:$F$56,"") -> 0 | C32: =SUMIFS(Base!$B$57:$B$83,Base!$C$57:$C$83,Feuil2!$A33,Base!$F$57:$F$83,"") -> 0 | D32: =SUMIFS(Erreurs!$B$4:$B$4,Erreurs!$C$4:$C$4,Feuil2!$A33,Erreurs!$F$4:$F$4,"") -> 0 | E32: =SUMIFS(Base!#REF!,Base!#REF!,Feuil2!$A33,Base!#REF!,"") -> #REF! | F32: =SUM(B32:E32) -> #REF! | I32: =+DATE(YEAR(A32),MONTH(A32),DAY(A32)) -> 41870
A33: 41942 | B33: =SUMIFS(Base!$B$2:$B$56,Base!$C$2:$C$56,Feuil2!$A34,Base!$F$2:$F$56,"") -> 0 | C33: =SUMIFS(Base!$B$57:$B$83,Base!$C$57:$C$83,Feuil2!$A34,Base!$F$57:$F$83,"") -> 0 | D33: =SUMIFS(Erreurs!$B$4:$B$4,Erreurs!$C$4:$C$4,Feuil2!$A34,Erreurs!$F$4:$F$4,"") -> 0 | E33: =SUMIFS(Base!#REF!,Base!#REF!,Feuil2!$A34,Base!#REF!,"") -> #REF! | F33: =SUM(B33:E33) -> #REF! | I33: =+DATE(YEAR(A33),MONTH(A33),DAY(A33)) -> 41942
A34: 41943 | B34: =SUMIFS(Base!$B$2:$B$56,Base!$C$2:$C$56,Feuil2!$A35,Base!$F$2:$F$56,"") -> 0 | C34: =SUMIFS(Base!$B$57:$B$83,Base!$C$57:$C$83,Feuil2!$A35,Base!$F$57:$F$83,"") -> 0 | D34: =SUMIFS(Erreurs!$B$4:$B$4,Erreurs!$C$4:$C$4,Feuil2!$A35,Erreurs!$F$4:$F$4,"") -> 0 | E34: =SUMIFS(Base!#REF!,Base!#REF!,Feuil2!$A35,Base!#REF!,"") -> #REF! | F34: =SUM(B34:E34) -> #REF! | I34: =+DATE(YEAR(A34),MONTH(A34),DAY(A34)) -> 41943
A35: 41946 | B35: =SUMIFS(Base!$B$2:$B$56,Base!$C$2:$C$56,Feuil2!$A36,Base!$F$2:$F$56,"") -> 0 | C35: =SUMIFS(Base!$B$57:$B$83,Base!$C$57:$C$83,Feuil2!$A36,Base!$F$57:$F$83,"") -> 3822 | D35: =SUMIFS(Erreurs!$B$4:$B$4,Erreurs!$C$4:$C$4,Feuil2!$A36,Erreurs!$F$4:$F$4,"") -> 0 | E35: =SUMIFS(Base!#REF!,Base!#REF!,Feuil2!$A36,Base!#REF!,"") -> #REF! | F35: =SUM(B35:E35) -> #REF! | I35: =+DATE(YEAR(A35),MONTH(A35),DAY(A35)) -> 41946
A36: 41955 | B36: =SUMIFS(Base!$B$2:$B$56,Base!$C$2:$C$56,Feuil2!$A37,Base!$F$2:$F$56,"") -> 0 | C36: =SUMIFS(Base!$B$57:$B$83,Base!$C$57:$C$83,Feuil2!$A37,Base!$F$57:$F$83,"") -> 0 | D36: =SUMIFS(Erreurs!$B$4:$B$4,Erreurs!$C$4:$C$4,Feuil2!$A37,Erreurs!$F$4:$F$4,"") -> 0 | E36: =SUMIFS(Base!#REF!,Base!#REF!,Feuil2!$A37,Base!#REF!,"") -> #REF! | F36: =SUM(B36:E36) -> #REF! | I36: =+DATE(YEAR(A36),MONTH(A36),DAY(A36)) -> 41955
A37: 41971 | B37: =SUMIFS(Base!$B$2:$B$56,Base!$C$2:$C$56,Feuil2!$A38,Base!$F$2:$F$56,"") -> 0 | C37: =SUMIFS(Base!$B$57:$B$83,Base!$C$57:$C$83,Feuil2!$A38,Base!$F$57:$F$83,"") -> 2100 | D37: =SUMIFS(Erreurs!$B$4:$B$4,Erreurs!$C$4:$C$4,Feuil2!$A38,Erreurs!$F$4:$F$4,"") -> 0 | E37: =SUMIFS(Base!#REF!,Base!#REF!,Feuil2!$A38,Base!#REF!,"") -> #REF! | F37: =SUM(B37:E37) -> #REF! | I37: =+DATE(YEAR(A37),MONTH(A37),DAY(A37)) -> 41971
A38: 41977 | B38: =SUMIFS(Base!$B$2:$B$56,Base!$C$2:$C$56,Feuil2!$A39,Base!$F$2:$F$56,"") -> 0 | C38: =SUMIFS(Base!$B$57:$B$83,Base!$C$57:$C$83,Feuil2!$A39,Base!$F$57:$F$83,"") -> 0 | D38: =SUMIFS(Erreurs!$B$4:$B$4,Erreurs!$C$4:$C$4,Feuil2!$A39,Erreurs!$F$4:$F$4,"") -> 0 | E38: =SUMIFS(Base!#REF!,Base!#REF!,Feuil2!$A39,Base!#REF!,"") -> #REF! | F38: =SUM(B38:E38) -> #REF! | I38: =+DATE(YEAR(A38),MONTH(A38),DAY(A38)) -> 41977
... A42: 42010 | B42: =SUMIFS(Base!$B$2:$B$56,Base!$C$2:$C$56,Feuil2!$A43,Base!$F$2:$F$56,"") -> 0 | C42: =SUMIFS(Base!$B$57:$B$83,Base!$C$57:$C$83,Feuil2!$A43,Base!$F$57:$F$83,"") -> 0 | D42: =SUMIFS(Erreurs!$B$4:$B$4,Erreurs!$C$4:$C$4,Feuil2!$A43,Erreurs!$F$4:$F$4,"") -> 0 | E42: =SUMIFS(Base!#REF!,Base!#REF!,Feuil2!$A43,Base!#REF!,"") -> #REF! | F42: =SUM(B42:E42) -> #REF! | I42: =+DATE(YEAR(A42),MONTH(A42),DAY(A42)) -> 42010
