Workbook
Name equipe: Sheet1!$G$5:$G$9
Name groupe: Sheet1!$F$5:$F$9
Name NomPrénom: Sheet1!$E$5:$E$9
Name Numéro: Sheet1!$D$5:$D$9

Sheet Sheet1
D4: Numéro | E4: NomPrénom | F4: groupe | G4: equipe
D5: 1 | E5: AA | F5: X | G5: matin
D6: 2 | E6: BB | F6: Y | G6: après midi
D7: 3 | E7: CC | F7: Z | G7: matin
D8: 4 | E8: DD | F8: T | G8: soir
D9: 5 | E9: EE | F9: X | G9: soir
E11: Tableau 1

Sheet Sheet2
A3: matin | C3: après midi | E3: Soir
A4: Numéro | B4: Nom & prénom | C4: Numéro | D4: Nom & prénom | E4: Numéro | F4: Nom & prénom
A5: Groupe X
A6: 1 | B6: =IF(COUNTIFS(equipe,$A$3,Numéro,$A6,groupe,RIGHT($A$5,1))>0,OFFSET(Sheet1!$D$4,MATCH($A6,Numéro,0),1),"") -> AA | C6: 1 | D6: =IF(COUNTIFS(equipe,$C$3,Numéro,$C6,groupe,RIGHT($A$5,1))>0,OFFSET(Sheet1!$D$4,MATCH($A6,Numéro,0),1),"") | E6: 1 | F6: =IF(COUNTIFS(equipe,$E$3,Numéro,$E6,groupe,RIGHT($A$5,1))>0,OFFSET(Sheet1!$D$4,MATCH($C6,Numéro,0),1),"")
A7: 2 | B7: =IF(COUNTIFS(equipe,$A$3,Numéro,$A7,groupe,RIGHT($A$5,1))>0,OFFSET(Sheet1!$D$4,MATCH($A7,Numéro,0),1),"") | C7: 2 | D7: =IF(COUNTIFS(equipe,$C$3,Numéro,$C7,groupe,RIGHT($A$5,1))>0,OFFSET(Sheet1!$D$4,MATCH($A7,Numéro,0),1),"") | E7: 2 | F7: =IF(COUNTIFS(equipe,$E$3,Numéro,$E7,groupe,RIGHT($A$5,1))>0,OFFSET(Sheet1!$D$4,MATCH($C7,Numéro,0),1),"")
A8: 3 | B8: =IF(COUNTIFS(equipe,$A$3,Numéro,$A8,groupe,RIGHT($A$5,1))>0,OFFSET(Sheet1!$D$4,MATCH($A8,Numéro,0),1),"") | C8: 3 | D8: =IF(COUNTIFS(equipe,$C$3,Numéro,$C8,groupe,RIGHT($A$5,1))>0,OFFSET(Sheet1!$D$4,MATCH($A8,Numéro,0),1),"") | E8: 3 | F8: =IF(COUNTIFS(equipe,$E$3,Numéro,$E8,groupe,RIGHT($A$5,1))>0,OFFSET(Sheet1!$D$4,MATCH($C8,Numéro,0),1),"")
A9: 4 | B9: =IF(COUNTIFS(equipe,$A$3,Numéro,$A9,groupe,RIGHT($A$5,1))>0,OFFSET(Sheet1!$D$4,MATCH($A9,Numéro,0),1),"") | C9: 4 | D9: =IF(COUNTIFS(equipe,$C$3,Numéro,$C9,groupe,RIGHT($A$5,1))>0,OFFSET(Sheet1!$D$4,MATCH($A9,Numéro,0),1),"") | E9: 4 | F9: =IF(COUNTIFS(equipe,$E$3,Numéro,$E9,groupe,RIGHT($A$5,1))>0,OFFSET(Sheet1!$D$4,MATCH($C9,Numéro,0),1),"")
A10: 5 | B10: =IF(COUNTIFS(equipe,$A$3,Numéro,$A10,groupe,RIGHT($A$5,1))>0,OFFSET(Sheet1!$D$4,MATCH($A10,Numéro,0),1),"") | C10: 5 | D10: =IF(COUNTIFS(equipe,$C$3,Numéro,$C10,groupe,RIGHT($A$5,1))>0,OFFSET(Sheet1!$D$4,MATCH($A10,Numéro,0),1),"") | E10: 5 | F10: =IF(COUNTIFS(equipe,$E$3,Numéro,$E10,groupe,RIGHT($A$5,1))>0,OFFSET(Sheet1!$D$4,MATCH($C10,Numéro,0),1),"") -> EE
A11: 6 | B11: =IF(COUNTIFS(equipe,$A$3,Numéro,$A11,groupe,RIGHT($A$5,1))>0,OFFSET(Sheet1!$D$4,MATCH($A11,Numéro,0),1),"") | C11: 6 | D11: =IF(COUNTIFS(equipe,$C$3,Numéro,$C11,groupe,RIGHT($A$5,1))>0,OFFSET(Sheet1!$D$4,MATCH($A11,Numéro,0),1),"") | E11: 6 | F11: =IF(COUNTIFS(equipe,$E$3,Numéro,$E11,groupe,RIGHT($A$5,1))>0,OFFSET(Sheet1!$D$4,MATCH($C11,Numéro,0),1),"")
A13: Groupe Y
A14: 1 | B14: =IF(COUNTIFS(equipe,$A$3,Numéro,$A14,groupe,RIGHT($A$13,1))>0,OFFSET(Sheet1!$D$4,MATCH($A14,Numéro,0),1),"") | C14: 1 | D14: =IF(COUNTIFS(equipe,$C$3,Numéro,$C14,groupe,RIGHT($A$13,1))>0,OFFSET(Sheet1!$D$4,MATCH($A14,Numéro,0),1),"") | E14: 1 | F14: =IF(COUNTIFS(equipe,$E$3,Numéro,$E14,groupe,RIGHT($A$13,1))>0,OFFSET(Sheet1!$D$4,MATCH($C14,Numéro,0),1),"")
A15: 2 | B15: =IF(COUNTIFS(equipe,$A$3,Numéro,$A15,groupe,RIGHT($A$13,1))>0,OFFSET(Sheet1!$D$4,MATCH($A15,Numéro,0),1),"") | C15: 2 | D15: =IF(COUNTIFS(equipe,$C$3,Numéro,$C15,groupe,RIGHT($A$13,1))>0,OFFSET(Sheet1!$D$4,MATCH($A15,Numéro,0),1),"") -> BB | E15: 2 | F15: =IF(COUNTIFS(equipe,$E$3,Numéro,$E15,groupe,RIGHT($A$13,1))>0,OFFSET(Sheet1!$D$4,MATCH($C15,Numéro,0),1),"")
A16: 3 | B16: =IF(COUNTIFS(equipe,$A$3,Numéro,$A16,groupe,RIGHT($A$13,1))>0,OFFSET(Sheet1!$D$4,MATCH($A16,Numéro,0),1),"") | C16: 3 | D16: =IF(COUNTIFS(equipe,$C$3,Numéro,$C16,groupe,RIGHT($A$13,1))>0,OFFSET(Sheet1!$D$4,MATCH($A16,Numéro,0),1),"") | E16: 3 | F16: =IF(COUNTIFS(equipe,$E$3,Numéro,$E16,groupe,RIGHT($A$13,1))>0,OFFSET(Sheet1!$D$4,MATCH($C16,Numéro,0),1),"")
A17: 4 | B17: =IF(COUNTIFS(equipe,$A$3,Numéro,$A17,groupe,RIGHT($A$13,1))>0,OFFSET(Sheet1!$D$4,MATCH($A17,Numéro,0),1),"") | C17: 4 | D17: =IF(COUNTIFS(equipe,$C$3,Numéro,$C17,groupe,RIGHT($A$13,1))>0,OFFSET(Sheet1!$D$4,MATCH($A17,Numéro,0),1),"") | E17: 4 | F17: =IF(COUNTIFS(equipe,$E$3,Numéro,$E17,groupe,RIGHT($A$13,1))>0,OFFSET(Sheet1!$D$4,MATCH($C17,Numéro,0),1),"")
A18: 5 | B18: =IF(COUNTIFS(equipe,$A$3,Numéro,$A18,groupe,RIGHT($A$13,1))>0,OFFSET(Sheet1!$D$4,MATCH($A18,Numéro,0),1),"") | C18: 5 | D18: =IF(COUNTIFS(equipe,$C$3,Numéro,$C18,groupe,RIGHT($A$13,1))>0,OFFSET(Sheet1!$D$4,MATCH($A18,Numéro,0),1),"") | E18: 5 | F18: =IF(COUNTIFS(equipe,$E$3,Numéro,$E18,groupe,RIGHT($A$13,1))>0,OFFSET(Sheet1!$D$4,MATCH($C18,Numéro,0),1),"")
A19: 6 | B19: =IF(COUNTIFS(equipe,$A$3,Numéro,$A19,groupe,RIGHT($A$13,1))>0,OFFSET(Sheet1!$D$4,MATCH($A19,Numéro,0),1),"") | C19: 6 | D19: =IF(COUNTIFS(equipe,$C$3,Numéro,$C19,groupe,RIGHT($A$13,1))>0,OFFSET(Sheet1!$D$4,MATCH($A19,Numéro,0),1),"") | E19: 6 | F19: =IF(COUNTIFS(equipe,$E$3,Numéro,$E19,groupe,RIGHT($A$13,1))>0,OFFSET(Sheet1!$D$4,MATCH($C19,Numéro,0),1),"")
A21: Groupe Z
A22: 1 | B22: =IF(COUNTIFS(equipe,$A$3,Numéro,$A22,groupe,RIGHT($A$21,1))>0,OFFSET(Sheet1!$D$4,MATCH($A22,Numéro,0),1),"") | C22: 1 | D22: =IF(COUNTIFS(equipe,$C$3,Numéro,$C22,groupe,RIGHT($A$21,1))>0,OFFSET(Sheet1!$D$4,MATCH($A22,Numéro,0),1),"") | E22: 1 | F22: =IF(COUNTIFS(equipe,$E$3,Numéro,$E22,groupe,RIGHT($A$21,1))>0,OFFSET(Sheet1!$D$4,MATCH($C22,Numéro,0),1),"")
A23: 2 | B23: =IF(COUNTIFS(equipe,$A$3,Numéro,$A23,groupe,RIGHT($A$21,1))>0,OFFSET(Sheet1!$D$4,MATCH($A23,Numéro,0),1),"") | C23: 2 | D23: =IF(COUNTIFS(equipe,$C$3,Numéro,$C23,groupe,RIGHT($A$21,1))>0,OFFSET(Sheet1!$D$4,MATCH($A23,Numéro,0),1),"") | E23: 2 | F23: =IF(COUNTIFS(equipe,$E$3,Numéro,$E23,groupe,RIGHT($A$21,1))>0,OFFSET(Sheet1!$D$4,MATCH($C23,Numéro,0),1),"")
A24: 3 | B24: =IF(COUNTIFS(equipe,$A$3,Numéro,$A24,groupe,RIGHT($A$21,1))>0,OFFSET(Sheet1!$D$4,MATCH($A24,Numéro,0),1),"") -> CC | C24: 3 | D24: =IF(COUNTIFS(equipe,$C$3,Numéro,$C24,groupe,RIGHT($A$21,1))>0,OFFSET(Sheet1!$D$4,MATCH($A24,Numéro,0),1),"") | E24: 3 | F24: =IF(COUNTIFS(equipe,$E$3,Numéro,$E24,groupe,RIGHT($A$21,1))>0,OFFSET(Sheet1!$D$4,MATCH($C24,Numéro,0),1),"")
A25: 4 | B25: =IF(COUNTIFS(equipe,$A$3,Numéro,$A25,groupe,RIGHT($A$21,1))>0,OFFSET(Sheet1!$D$4,MATCH($A25,Numéro,0),1),"") | C25: 4 | D25: =IF(COUNTIFS(equipe,$C$3,Numéro,$C25,groupe,RIGHT($A$21,1))>0,OFFSET(Sheet1!$D$4,MATCH($A25,Numéro,0),1),"") | E25: 4 | F25: =IF(COUNTIFS(equipe,$E$3,Numéro,$E25,groupe,RIGHT($A$21,1))>0,OFFSET(Sheet1!$D$4,MATCH($C25,Numéro,0),1),"")
A26: 5 | B26: =IF(COUNTIFS(equipe,$A$3,Numéro,$A26,groupe,RIGHT($A$21,1))>0,OFFSET(Sheet1!$D$4,MATCH($A26,Numéro,0),1),"") | C26: 5 | D26: =IF(COUNTIFS(equipe,$C$3,Numéro,$C26,groupe,RIGHT($A$21,1))>0,OFFSET(Sheet1!$D$4,MATCH($A26,Numéro,0),1),"") | E26: 5 | F26: =IF(COUNTIFS(equipe,$E$3,Numéro,$E26,groupe,RIGHT($A$21,1))>0,OFFSET(Sheet1!$D$4,MATCH($C26,Numéro,0),1),"")
A27: 6 | B27: =IF(COUNTIFS(equipe,$A$3,Numéro,$A27,groupe,RIGHT($A$21,1))>0,OFFSET(Sheet1!$D$4,MATCH($A27,Numéro,0),1),"") | C27: 6 | D27: =IF(COUNTIFS(equipe,$C$3,Numéro,$C27,groupe,RIGHT($A$21,1))>0,OFFSET(Sheet1!$D$4,MATCH($A27,Numéro,0),1),"") | E27: 6 | F27: =IF(COUNTIFS(equipe,$E$3,Numéro,$E27,groupe,RIGHT($A$21,1))>0,OFFSET(Sheet1!$D$4,MATCH($C27,Numéro,0),1),"")
A29: Groupe T
A30: 1 | B30: =IF(COUNTIFS(equipe,$A$3,Numéro,$A30,groupe,RIGHT($A$29,1))>0,OFFSET(Sheet1!$D$4,MATCH($A30,Numéro,0),1),"") | C30: 1 | D30: =IF(COUNTIFS(equipe,$C$3,Numéro,$C30,groupe,RIGHT($A$29,1))>0,OFFSET(Sheet1!$D$4,MATCH($A30,Numéro,0),1),"") | E30: 1 | F30: =IF(COUNTIFS(equipe,$E$3,Numéro,$E30,groupe,RIGHT($A$29,1))>0,OFFSET(Sheet1!$D$4,MATCH($C30,Numéro,0),1),"")
A31: 2 | B31: =IF(COUNTIFS(equipe,$A$3,Numéro,$A31,groupe,RIGHT($A$29,1))>0,OFFSET(Sheet1!$D$4,MATCH($A31,Numéro,0),1),"") | C31: 2 | D31: =IF(COUNTIFS(equipe,$C$3,Numéro,$C31,groupe,RIGHT($A$29,1))>0,OFFSET(Sheet1!$D$4,MATCH($A31,Numéro,0),1),"") | E31: 2 | F31: =IF(COUNTIFS(equipe,$E$3,Numéro,$E31,groupe,RIGHT($A$29,1))>0,OFFSET(Sheet1!$D$4,MATCH($C31,Numéro,0),1),"")
A32: 3 | B32: =IF(COUNTIFS(equipe,$A$3,Numéro,$A32,groupe,RIGHT($A$29,1))>0,OFFSET(Sheet1!$D$4,MATCH($A32,Numéro,0),1),"") | C32: 3 | D32: =IF(COUNTIFS(equipe,$C$3,Numéro,$C32,groupe,RIGHT($A$29,1))>0,OFFSET(Sheet1!$D$4,MATCH($A32,Numéro,0),1),"") | E32: 3 | F32: =IF(COUNTIFS(equipe,$E$3,Numéro,$E32,groupe,RIGHT($A$29,1))>0,OFFSET(Sheet1!$D$4,MATCH($C32,Numéro,0),1),"")
A33: 4 | B33: =IF(COUNTIFS(equipe,$A$3,Numéro,$A33,groupe,RIGHT($A$29,1))>0,OFFSET(Sheet1!$D$4,MATCH($A33,Numéro,0),1),"") | C33: 4 | D33: =IF(COUNTIFS(equipe,$C$3,Numéro,$C33,groupe,RIGHT($A$29,1))>0,OFFSET(Sheet1!$D$4,MATCH($A33,Numéro,0),1),"") | E33: 4 | F33: =IF(COUNTIFS(equipe,$E$3,Numéro,$E33,groupe,RIGHT($A$29,1))>0,OFFSET(Sheet1!$D$4,MATCH($C33,Numéro,0),1),"") -> DD
A34: 5 | B34: =IF(COUNTIFS(equipe,$A$3,Numéro,$A34,groupe,RIGHT($A$29,1))>0,OFFSET(Sheet1!$D$4,MATCH($A34,Numéro,0),1),"") | C34: 5 | D34: =IF(COUNTIFS(equipe,$C$3,Numéro,$C34,groupe,RIGHT($A$29,1))>0,OFFSET(Sheet1!$D$4,MATCH($A34,Numéro,0),1),"") | E34: 5 | F34: =IF(COUNTIFS(equipe,$E$3,Numéro,$E34,groupe,RIGHT($A$29,1))>0,OFFSET(Sheet1!$D$4,MATCH($C34,Numéro,0),1),"")
A35: 6 | B35: =IF(COUNTIFS(equipe,$A$3,Numéro,$A35,groupe,RIGHT($A$29,1))>0,OFFSET(Sheet1!$D$4,MATCH($A35,Numéro,0),1),"") | C35: 6 | D35: =IF(COUNTIFS(equipe,$C$3,Numéro,$C35,groupe,RIGHT($A$29,1))>0,OFFSET(Sheet1!$D$4,MATCH($A35,Numéro,0),1),"") | E35: 6 | F35: =IF(COUNTIFS(equipe,$E$3,Numéro,$E35,groupe,RIGHT($A$29,1))>0,OFFSET(Sheet1!$D$4,MATCH($C35,Numéro,0),1),"")
C38: Tableau 2

Sheet Sheet3
