Workbook
Name Codh: Table!$A$3:$A$6
Name LibHor: Table!$B$3:$B$6

Sheet Planning
A4: Planing
B5: 41640 | C5: 41641 | D5: 41642 | E5: 41643 | F5: 41644
A6: Paul | B6: A1 | C6: A2
A7: Emile | B7: A3 | D7: A3 | E7: A3
A8: Victor | B8: A4 | C8: A5
A9: Jules | B9: A1
A15: Horaires
B16: =B5 -> 41640 | C16: =C5 -> 41641 | D16: =D5 -> 41642 | E16: =E5 -> 41643 | F16: =F5 -> 41644
A17: =A6 -> Paul | B17: =IFERROR(OFFSET(Table!$A$2,MATCH(Planning!B6,Codh,0),1),"") -> 6h30-14h30 | C17: =IFERROR(OFFSET(Table!$A$2,MATCH(Planning!C6,Codh,0),1),"") -> 7h30-15h30 | D17: =IFERROR(OFFSET(Table!$A$2,MATCH(Planning!D6,Codh,0),1),"") | E17: =IFERROR(OFFSET(Table!$A$2,MATCH(Planning!E6,Codh,0),1),"") | F17: =IFERROR(OFFSET(Table!$A$2,MATCH(Planning!F6,Codh,0),1),"")
A18: =A7 -> Emile | B18: =IFERROR(OFFSET(Table!$A$2,MATCH(Planning!B7,Codh,0),1),"") -> 8h00-16h00 | C18: =IFERROR(OFFSET(Table!$A$2,MATCH(Planning!C7,Codh,0),1),"") | D18: =IFERROR(OFFSET(Table!$A$2,MATCH(Planning!D7,Codh,0),1),"") -> 8h00-16h00 | E18: =IFERROR(OFFSET(Table!$A$2,MATCH(Planning!E7,Codh,0),1),"") -> 8h00-16h00 | F18: =IFERROR(OFFSET(Table!$A$2,MATCH(Planning!F7,Codh,0),1),"")
A19: =A8 -> Victor | B19: =IFERROR(OFFSET(Table!$A$2,MATCH(Planning!B8,Codh,0),1),"") -> 9h00-17h00 | C19: =IFERROR(OFFSET(Table!$A$2,MATCH(Planning!C8,Codh,0),1),"") | D19: =IFERROR(OFFSET(Table!$A$2,MATCH(Planning!D8,Codh,0),1),"") | E19: =IFERROR(OFFSET(Table!$A$2,MATCH(Planning!E8,Codh,0),1),"") | F19: =IFERROR(OFFSET(Table!$A$2,MATCH(Planning!F8,Codh,0),1),"")
A20: =A9 -> Jules | B20: =IFERROR(OFFSET(Table!$A$2,MATCH(Planning!B9,Codh,0),1),"") -> 6h30-14h30 | C20: =IFERROR(OFFSET(Table!$A$2,MATCH(Planning!C9,Codh,0),1),"") | D20: =IFERROR(OFFSET(Table!$A$2,MATCH(Planning!D9,Codh,0),1),"") | E20: =IFERROR(OFFSET(Table!$A$2,MATCH(Planning!E9,Codh,0),1),"") | F20: =IFERROR(OFFSET(Table!$A$2,MATCH(Planning!F9,Codh,0),1),"")
A21: =A14 -> 0

Sheet Table
A2: Codh | B2: LibHor
A3: A1 | B3: 6h30-14h30
A4: A2 | B4: 7h30-15h30
A5: A3 | B5: 8h00-16h00
A6: A4 | B6: 9h00-17h00

Sheet Feuil3
