Workbook
Name Joueur: résults!$D$2:$D$13
Name Pays: résults!$A$2:$A$13
Name paysport: résults!$C$2:$C$13
Name Pts: résults!$E$2:$E$13
Name Sport: résults!$B$2:$B$13

Sheet simulation
B1: rang | J1: Exemple:
A2: Canada | B2: 2 | E2: Tableau 1 | J2: Si j'ai | K2: Rang
A3: Usa | B3: 3 | E3: Le rang peut changer de 1 à 4 à tout moment | J3: Canada | K3: 2
A4: Chine | B4: 4 | J4: USA | K4: 3
A5: France | B5: 1 | J5: France | K5: 1
A7: tableau 2: l'ordre est toujours ski en premier ensuite hockey et ensuite patinage | C7: =OFFSET(résults!$C$1,MATCH((OFFSET($B$1,MATCH(1,$B$2:$B$5,0),-1)&"-Ski"),paysport,0),2) -> 100 | J7: Alors
A8: 1 | B8: =OFFSET(résults!$C$1,MATCH((OFFSET($B$1,MATCH(1,$B$2:$B$5,0),-1)&"-Ski"),paysport,0),1) -> robert | C8: =OFFSET(résults!$C$1,MATCH((OFFSET($B$1,MATCH(2,$B$2:$B$5,0),-1)&"-Ski"),paysport,0),2) -> 500 | I8: ski | J8: 1 | K8: robert | L8: 100pts
A9: 2 | B9: =OFFSET(résults!$C$1,MATCH((OFFSET($B$1,MATCH(2,$B$2:$B$5,0),-1)&"-Ski"),paysport,0),1) -> michel | C9: =OFFSET(résults!$C$1,MATCH((OFFSET($B$1,MATCH(3,$B$2:$B$5,0),-1)&"-Ski"),paysport,0),2) -> 500 | J9: 2 | K9: michel | L9: 500pts
A10: 3 | B10: =OFFSET(résults!$C$1,MATCH((OFFSET($B$1,MATCH(3,$B$2:$B$5,0),-1)&"-Ski"),paysport,0),1) -> alex | C10: =OFFSET(résults!$C$1,MATCH((OFFSET($B$1,MATCH(1,$B$2:$B$5,0),-1)&"-hockey"),paysport,0),2) -> 500 | J10: 3 | K10: alex | L10: 500pts
A11: 4 | B11: =OFFSET(résults!$C$1,MATCH((OFFSET($B$1,MATCH(4,$B$2:$B$5,0),-1)&"-Ski"),paysport,0),1) -> Tang | C11: =OFFSET(résults!$C$1,MATCH((OFFSET($B$1,MATCH(4,$B$2:$B$5,0),-1)&"-Ski"),paysport,0),2) -> 10 | I11: hockey | J11: 4 | K11: patrice | L11: 500pts
A12: 5 | B12: =OFFSET(résults!$C$1,MATCH((OFFSET($B$1,MATCH(1,$B$2:$B$5,0),-1)&"-hockey"),paysport,0),1) -> patrice | C12: =OFFSET(résults!$C$1,MATCH((OFFSET($B$1,MATCH(1,$B$2:$B$5,0),-1)&"-hockey"),paysport,0),2) -> 500 | J12: 5 | K12: daniel | L12: 1000pts
A13: 6 | B13: =OFFSET(résults!$C$1,MATCH((OFFSET($B$1,MATCH(2,$B$2:$B$5,0),-1)&"-hockey"),paysport,0),1) -> daniel | C13: =OFFSET(résults!$C$1,MATCH((OFFSET($B$1,MATCH(2,$B$2:$B$5,0),-1)&"-hockey"),paysport,0),2) -> 1000 | J13: 6 | K13: phil | L13: 500pts
A14: 7 | B14: =OFFSET(résults!$C$1,MATCH((OFFSET($B$1,MATCH(3,$B$2:$B$5,0),-1)&"-hockey"),paysport,0),1) -> phil | C14: =OFFSET(résults!$C$1,MATCH((OFFSET($B$1,MATCH(3,$B$2:$B$5,0),-1)&"-patinage"),paysport,0),2) -> 500 | I14: patinage | J14: 7 | K14: eugene | L14: 1000pts
A15: 8 | B15: =OFFSET(résults!$C$1,MATCH((OFFSET($B$1,MATCH(4,$B$2:$B$5,0),-1)&"-hockey"),paysport,0),1) -> Ming | C15: =OFFSET(résults!$C$1,MATCH((OFFSET($B$1,MATCH(4,$B$2:$B$5,0),-1)&"-patinage"),paysport,0),2) -> 30 | J15: 8 | K15: simon | L15: 100pts
A16: 9 | B16: =OFFSET(résults!$C$1,MATCH((OFFSET($B$1,MATCH(1,$B$2:$B$5,0),-1)&"-patinage"),paysport,0),1) -> eugene | C16: =OFFSET(résults!$C$1,MATCH((OFFSET($B$1,MATCH(1,$B$2:$B$5,0),-1)&"-patinage"),paysport,0),2) -> 1000 | J16: 9 | K16: michael | L16: 500pts
A17: 10 | B17: =OFFSET(résults!$C$1,MATCH((OFFSET($B$1,MATCH(2,$B$2:$B$5,0),-1)&"-patinage"),paysport,0),1) -> simon | C17: =OFFSET(résults!$C$1,MATCH((OFFSET($B$1,MATCH(2,$B$2:$B$5,0),-1)&"-patinage"),paysport,0),2) -> 100
A18: 11 | B18: =OFFSET(résults!$C$1,MATCH((OFFSET($B$1,MATCH(3,$B$2:$B$5,0),-1)&"-patinage"),paysport,0),1) -> michael | C18: =OFFSET(résults!$C$1,MATCH((OFFSET($B$1,MATCH(3,$B$2:$B$5,0),-1)&"-patinage"),paysport,0),2) -> 500
A19: 12 | B19: =OFFSET(résults!$C$1,MATCH((OFFSET($B$1,MATCH(4,$B$2:$B$5,0),-1)&"-patinage"),paysport,0),1) -> LI | C19: =OFFSET(résults!$C$1,MATCH((OFFSET($B$1,MATCH(4,$B$2:$B$5,0),-1)&"-patinage"),paysport,0),2) -> 30

Sheet résults
A1: Pays | B1: Sport | C1: paysport | D1: Joueur | E1: Pts
A2: Canada | B2: ski | C2: =A2&"-"&B2 -> Canada-ski | D2: michel | E2: 500
A3: Canada | B3: hockey | C3: =A3&"-"&B3 -> Canada-hockey | D3: daniel | E3: 1000
A4: Canada | B4: patinage | C4: =A4&"-"&B4 -> Canada-patinage | D4: simon | E4: 100
A5: USA | B5: ski | C5: =A5&"-"&B5 -> USA-ski | D5: alex | E5: 500
A6: USA | B6: hockey | C6: =A6&"-"&B6 -> USA-hockey | D6: phil | E6: 500
A7: USA | B7: patinage | C7: =A7&"-"&B7 -> USA-patinage | D7: michael | E7: 500
A8: France | B8: ski | C8: =A8&"-"&B8 -> France-ski | D8: robert | E8: 100
A9: France | B9: hockey | C9: =A9&"-"&B9 -> France-hockey | D9: patrice | E9: 500
A10: France | B10: patinage | C10: =A10&"-"&B10 -> France-patinage | D10: eugene | E10: 1000
A11: Chine | B11: ski | C11: =A11&"-"&B11 -> Chine-ski | D11: Tang | E11: 10
A12: Chine | B12: hockey | C12: =A12&"-"&B12 -> Chine-hockey | D12: Ming | E12: 20
A13: Chine | B13: patinage | C13: =A13&"-"&B13 -> Chine-patinage | D13: LI | E13: 30
