Workbook
Name CatSugg: OFFSET(Tables!$H$3,0,0,COUNTA(Tables!$H$3:$H$30),1)
Name Domaines: Tables!$N$3:$N$8
Name EnqDistri: Tables!$C$14:$C$19
Name Etablissement: Tables!$A$14:$A$19
Name Fréquence: Tables!$L$3:$L$8
Name Intitulé: Tables!$B$36:$B$67
Name Intlong: Tables!$B$14:$B$19
Name Numero: Tables!$A$36:$A$67
Name Q0_0: Saisie!$B$5:$B$7
Name Q1_0: Saisie!$C$5:$C$7
Name Q1_1: Saisie!$D$5:$D$7
Name Q2_1: Saisie!$E$5:$E$7
Name Q2_2: Saisie!$F$5:$F$7
Name Q2_3: Saisie!$G$5:$G$7
Name Q2_4: Saisie!$H$5:$H$7
Name Q2_5: Saisie!$I$5:$I$7
Name Q2_6: Saisie!$J$5:$J$7
Name Q3_0: Saisie!$K$5:$K$7
Name Q4_0: Saisie!$L$5:$L$7
Name Q4_1: Saisie!$M$5:$M$7
Name Q4_2: Saisie!$N$5:$N$7
Name Q4_3: Saisie!$O$5:$O$7
Name Q4_4: Saisie!$P$5:$P$7
Name Q4_5: Saisie!$Q$5:$Q$7
Name Q5_0: Saisie!$R$5:$R$7
Name Q6_1: Saisie!$S$5:$S$7
Name Q6_2: Saisie!$T$5:$T$7
Name Q6_3: Saisie!$U$5:$U$7
Name Q6_4: Saisie!$V$5:$V$7
Name Q6_5: Saisie!$W$5:$W$7
Name Q6_6: Saisie!$X$5:$X$7
Name Q7_0: Saisie!$Y$5:$Y$7
Name Q8_1: Saisie!$Z$5:$Z$7
Name Q8_2: Saisie!$AA$5:$AA$7
Name Q8_3: Saisie!$AB$5:$AB$7
Name Q8_4: Saisie!$AC$5:$AC$7
Name Q8_5: Saisie!$AD$5:$AD$7
Name Q8_6: Saisie!$AE$5:$AE$7
Name Q8_7: Saisie!$AF$5:$AF$7
Name Q8_8: Saisie!$AG$5:$AG$7
Name Question: Saisie!$A$5:$A$7
Name RepAccord: Tables!$E$3:$E$7
Name RepON: Tables!$C$3:$C$5
Name Satisfaction: Tables!$A$3:$A$7
Name Satisfait: Tables!$J$3:$J$7

Sheet  ResGlobal
A2: RESULTATS GLOBAUX DE L'ENQUETE DE SATISFACTION
C7: Distribués | D7: Retournés | E7: %
A8: Nb questionnaires | C8: 10 | D8: =COUNTA(Question) -> 3 | E8: =IFERROR(D8/C8,0) -> 0.3
A11: Q1-0 | B11: =IF(A11<>0,IFERROR(OFFSET(Tables!$A$35,MATCH(' ResGlobal'!A11,Numero,0),1),"nr question incorrect ou inexistant"),"") -> Avant mon arrivée et lors de mon 1er contact, l’accueil a été :
B13: Très satisfaisant | C13: Satisfaisant | D13: Peu satisfaisant | E13: Pas du tout satisfaisant | F13: NR | G13: Total expl
B14: =COUNTIF(INDIRECT(SUBSTITUTE($A11,"-","_")),B13) -> 0 | C14: =COUNTIF(INDIRECT(SUBSTITUTE($A11,"-","_")),C13) -> 1 | D14: =COUNTIF(INDIRECT(SUBSTITUTE($A11,"-","_")),D13) -> 1 | E14: =COUNTIF(INDIRECT(SUBSTITUTE($A11,"-","_")),E13) -> 1 | F14: =COUNTIF(INDIRECT(SUBSTITUTE($A11,"-","_")),F13) -> 0 | G14: =SUM(B14:E14) -> 3
B15: =IFERROR(B14/$G14,0) -> 0 | C15: =IFERROR(C14/$G14,0) -> 0.33333333 | D15: =IFERROR(D14/$G14,0) -> 0.33333333 | E15: =IFERROR(E14/$G14,0) -> 0.33333333
B16: =B14+C14 -> 1 | D16: =D14+E14 -> 2
A21: Q2-0 | B21: =IF(A21<>0,IFERROR(OFFSET(Tables!$A$35,MATCH(' ResGlobal'!A21,Numero,0),1),"nr question incorrect ou inexistant"),"") -> J’ai reçu les informations que je souhaitais
A23: Q2-1 | B23: =IF(A23<>0,IFERROR(OFFSET(Tables!$A$35,MATCH(' ResGlobal'!A23,Numero,0),1),"nr question incorrect ou inexistant"),"") -> Sur les tarifs :
B25: Oui | C25: Non | D25: NR | E25: Total expl
B26: =COUNTIF(INDIRECT(SUBSTITUTE($A23,"-","_")),B25) -> 1 | C26: =COUNTIF(INDIRECT(SUBSTITUTE($A23,"-","_")),C25) -> 2 | D26: =COUNTIF(INDIRECT(SUBSTITUTE($A23,"-","_")),D25) -> 0 | E26: =SUM(B26:C26) -> 3
B27: =IFERROR(B26/$E26,0) -> 0.33333333 | C27: =IFERROR(C26/$E26,0) -> 0.66666667
A37: Q2-2 | B37: =IF(A37<>0,IFERROR(OFFSET(Tables!$A$35,MATCH(' ResGlobal'!A37,Numero,0),1),"nr question incorrect ou inexistant"),"") -> Sur les documents administratifs à renseigner :
B39: Oui | C39: Non | D39: NR | E39: Total expl
B40: =COUNTIF(INDIRECT(SUBSTITUTE($A37,"-","_")),B39) -> 1 | C40: =COUNTIF(INDIRECT(SUBSTITUTE($A37,"-","_")),C39) -> 2 | D40: =COUNTIF(INDIRECT(SUBSTITUTE($A37,"-","_")),D39) -> 0 | E40: =SUM(B40:C40) -> 3
B41: =IFERROR(B40/$E40,0) -> 0.33333333 | C41: =IFERROR(C40/$E40,0) -> 0.66666667
A49: Q2-3 | B49: =IF(A49<>0,IFERROR(OFFSET(Tables!$A$35,MATCH(' ResGlobal'!A49,Numero,0),1),"nr question incorrect ou inexistant"),"") -> Sur les aides dont je pouvais disposer :
B51: Oui | C51: Non | D51: NR | E51: Total expl
B52: =COUNTIF(INDIRECT(SUBSTITUTE($A49,"-","_")),B51) -> 1 | C52: =COUNTIF(INDIRECT(SUBSTITUTE($A49,"-","_")),C51) -> 2 | D52: =COUNTIF(INDIRECT(SUBSTITUTE($A49,"-","_")),D51) -> 0 | E52: =SUM(B52:C52) -> 3
B53: =IFERROR(B52/$E52,0) -> 0.33333333 | C53: =IFERROR(C52/$E52,0) -> 0.66666667
A62: Q2-4 | B62: =IF(A62<>0,IFERROR(OFFSET(Tables!$A$35,MATCH(' ResGlobal'!A62,Numero,0),1),"nr question incorrect ou inexistant"),"") -> Sur les services proposés en plus du logement :
B64: Oui | C64: Non | D64: NR | E64: Total expl
B65: =COUNTIF(INDIRECT(SUBSTITUTE($A62,"-","_")),B64) -> 2 | C65: =COUNTIF(INDIRECT(SUBSTITUTE($A62,"-","_")),C64) -> 1 | D65: =COUNTIF(INDIRECT(SUBSTITUTE($A62,"-","_")),D64) -> 0 | E65: =SUM(B65:C65) -> 3
B66: =IFERROR(B65/$E65,0) -> 0.66666667 | C66: =IFERROR(C65/$E65,0) -> 0.33333333
A75: Q2-5 | B75: =IF(A75<>0,IFERROR(OFFSET(Tables!$A$35,MATCH(' ResGlobal'!A75,Numero,0),1),"nr question incorrect ou inexistant"),"") -> Sur l’accompagnement pour m’aider dans mon projet :
B77: Oui | C77: Non | D77: NR | E77: Total expl
B78: =COUNTIF(INDIRECT(SUBSTITUTE($A75,"-","_")),B77) -> 2 | C78: =COUNTIF(INDIRECT(SUBSTITUTE($A75,"-","_")),C77) -> 1 | D78: =COUNTIF(INDIRECT(SUBSTITUTE($A75,"-","_")),D77) -> 0 | E78: =SUM(B78:C78) -> 3
B79: =IFERROR(B78/$E78,0) -> 0.66666667 | C79: =IFERROR(C78/$E78,0) -> 0.33333333
A90: Q2-6 | B90: =IF(A90<>0,IFERROR(OFFSET(Tables!$A$35,MATCH(' ResGlobal'!A90,Numero,0),1),"nr question incorrect ou inexistant"),"") -> Sur les animations proposées :
B92: Oui | C92: Non | D92: NR | E92: Total expl
B93: =COUNTIF(INDIRECT(SUBSTITUTE($A90,"-","_")),B92) -> 1 | C93: =COUNTIF(INDIRECT(SUBSTITUTE($A90,"-","_")),C92) -> 2 | D93: =COUNTIF(INDIRECT(SUBSTITUTE($A90,"-","_")),D92) -> 0 | E93: =SUM(B93:C93) -> 3
B94: =IFERROR(B93/$E93,0) -> 0.33333333 | C94: =IFERROR(C93/$E93,0) -> 0.66666667
A102: Q3-0 | B102: =IF(A102<>0,IFERROR(OFFSET(Tables!$A$35,MATCH(' ResGlobal'!A102,Numero,0),1),"nr question incorrect ou inexistant"),"") -> A mon arrivée, j’ai effectué et signé un état des lieux de mon logement avec un membre de l’équipe
B104: Oui | C104: Non | D104: NR | E104: Total expl
B105: =COUNTIF(INDIRECT(SUBSTITUTE($A102,"-","_")),B104) -> 2 | C105: =COUNTIF(INDIRECT(SUBSTITUTE($A102,"-","_")),C104) -> 1 | D105: =COUNTIF(INDIRECT(SUBSTITUTE($A102,"-","_")),D104) -> 0 | E105: =SUM(B105:C105) -> 3
B106: =IFERROR(B105/$E105,0) -> 0.66666667 | C106: =IFERROR(C105/$E105,0) -> 0.33333333
A113: Q4-0 | B113: =IF(A113<>0,IFERROR(OFFSET(Tables!$A$35,MATCH(' ResGlobal'!A113,Numero,0),1),"nr question incorrect ou inexistant"),"") -> Le logement proposé correspondait à mes attentes
B115: Oui | C115: Non | D115: NR | E115: Total expl
B116: =COUNTIF(INDIRECT(SUBSTITUTE($A113,"-","_")),B115) -> 1 | C116: =COUNTIF(INDIRECT(SUBSTITUTE($A113,"-","_")),C115) -> 2 | D116: =COUNTIF(INDIRECT(SUBSTITUTE($A113,"-","_")),D115) -> 0 | E116: =SUM(B116:C116) -> 3
B117: =IFERROR(B116/$E116,0) -> 0.33333333 | C117: =IFERROR(C116/$E116,0) -> 0.66666667
A126: Q4-2 | B126: =IF(A126<>0,IFERROR(OFFSET(Tables!$A$35,MATCH(' ResGlobal'!A126,Numero,0),1),"nr question incorrect ou inexistant"),"") -> J'ai trouvé le prix intéressant :
B128: Tout à fait d'accord | C128: Plutôt d'accord | D128: Plutôt pas d'accord | E128: Pas d'accord du tout | F128: NR | G128: Total expl
B129: =COUNTIF(INDIRECT(SUBSTITUTE($A126,"-","_")),B128) -> 1 | C129: =COUNTIF(INDIRECT(SUBSTITUTE($A126,"-","_")),C128) -> 2 | D129: =COUNTIF(INDIRECT(SUBSTITUTE($A126,"-","_")),D128) -> 0 | E129: =COUNTIF(INDIRECT(SUBSTITUTE($A126,"-","_")),E128) -> 0 | F129: =COUNTIF(INDIRECT(SUBSTITUTE($A126,"-","_")),F128) -> 0 | G129: =SUM(B129:E129) -> 3
B130: =IFERROR(B129/$G129,0) -> 0.33333333 | C130: =IFERROR(C129/$G129,0) -> 0.66666667 | D130: =IFERROR(D129/$G129,0) -> 0 | E130: =IFERROR(E129/$G129,0) -> 0
B131: =B129+C129 -> 3 | D131: =D129+E129 -> 0
A138: Q4-3 | B138: =IF(A138<>0,IFERROR(OFFSET(Tables!$A$35,MATCH(' ResGlobal'!A138,Numero,0),1),"nr question incorrect ou inexistant"),"") -> J'ai trouvé le logement confortable :
B140: Tout à fait d'accord | C140: Plutôt d'accord | D140: Plutôt pas d'accord | E140: Pas d'accord du tout | F140: NR | G140: Total expl
B141: =COUNTIF(INDIRECT(SUBSTITUTE($A138,"-","_")),B140) -> 0 | C141: =COUNTIF(INDIRECT(SUBSTITUTE($A138,"-","_")),C140) -> 1 | D141: =COUNTIF(INDIRECT(SUBSTITUTE($A138,"-","_")),D140) -> 0 | E141: =COUNTIF(INDIRECT(SUBSTITUTE($A138,"-","_")),E140) -> 2 | F141: =COUNTIF(INDIRECT(SUBSTITUTE($A138,"-","_")),F140) -> 0 | G141: =SUM(B141:E141) -> 3
B142: =IFERROR(B141/$G141,0) -> 0 | C142: =IFERROR(C141/$G141,0) -> 0.33333333 | D142: =IFERROR(D141/$G141,0) -> 0 | E142: =IFERROR(E141/$G141,0) -> 0.66666667
B143: =B141+C141 -> 1 | D143: =D141+E141 -> 2
A150: Q4-4 | B150: =IF(A150<>0,IFERROR(OFFSET(Tables!$A$35,MATCH(' ResGlobal'!A150,Numero,0),1),"nr question incorrect ou inexistant"),"") -> J'ai trouvé que les équipements étaient adaptés :
B152: Tout à fait d'accord | C152: Plutôt d'accord | D152: Plutôt pas d'accord | E152: Pas d'accord du tout | F152: NR | G152: Total expl
B153: =COUNTIF(INDIRECT(SUBSTITUTE($A150,"-","_")),B152) -> 1 | C153: =COUNTIF(INDIRECT(SUBSTITUTE($A150,"-","_")),C152) -> 0 | D153: =COUNTIF(INDIRECT(SUBSTITUTE($A150,"-","_")),D152) -> 2 | E153: =COUNTIF(INDIRECT(SUBSTITUTE($A150,"-","_")),E152) -> 0 | F153: =COUNTIF(INDIRECT(SUBSTITUTE($A150,"-","_")),F152) -> 0 | G153: =SUM(B153:E153) -> 3
B154: =IFERROR(B153/$G153,0) -> 0.33333333 | C154: =IFERROR(C153/$G153,0) -> 0 | D154: =IFERROR(D153/$G153,0) -> 0.66666667 | E154: =IFERROR(E153/$G153,0) -> 0
B155: =B153+C153 -> 1 | D155: =D153+E153 -> 2
A162: Q4-5 | B162: =IF(A162<>0,IFERROR(OFFSET(Tables!$A$35,MATCH(' ResGlobal'!A162,Numero,0),1),"nr question incorrect ou inexistant"),"") -> J'ai trouvé le logement propre :
B164: Tout à fait d'accord | C164: Plutôt d'accord | D164: Plutôt pas d'accord | E164: Pas d'accord du tout | F164: NR | G164: Total expl
B165: =COUNTIF(INDIRECT(SUBSTITUTE($A162,"-","_")),B164) -> 2 | C165: =COUNTIF(INDIRECT(SUBSTITUTE($A162,"-","_")),C164) -> 0 | D165: =COUNTIF(INDIRECT(SUBSTITUTE($A162,"-","_")),D164) -> 1 | E165: =COUNTIF(INDIRECT(SUBSTITUTE($A162,"-","_")),E164) -> 0 | F165: =COUNTIF(INDIRECT(SUBSTITUTE($A162,"-","_")),F164) -> 0 | G165: =SUM(B165:E165) -> 3
B166: =IFERROR(B165/$G165,0) -> 0.66666667 | C166: =IFERROR(C165/$G165,0) -> 0 | D166: =IFERROR(D165/$G165,0) -> 0.33333333 | E166: =IFERROR(E165/$G165,0) -> 0
B167: =B165+C165 -> 2 | D167: =D165+E165 -> 1
A173: Q5-0 | B173: =IF(A173<>0,IFERROR(OFFSET(Tables!$A$35,MATCH(' ResGlobal'!A173,Numero,0),1),"nr question incorrect ou inexistant"),"") -> Quand j’ai eu besoin, j’ai trouvé les membres de l’équipe disponible pour m’écouter
A175: Très souvent | B175: Assez souvent | C175: Occasionnellement | D175: Rarement | E175: Jamais | F175: NR | G175: Total expl
A176: =COUNTIF(INDIRECT(SUBSTITUTE($A173,"-","_")),A175) -> 0 | B176: =COUNTIF(INDIRECT(SUBSTITUTE($A173,"-","_")),B175) -> 0 | C176: =COUNTIF(INDIRECT(SUBSTITUTE($A173,"-","_")),C175) -> 2 | D176: =COUNTIF(INDIRECT(SUBSTITUTE($A173,"-","_")),D175) -> 1 | E176: =COUNTIF(INDIRECT(SUBSTITUTE($A173,"-","_")),E175) -> 0 | F176: =COUNTIF(INDIRECT(SUBSTITUTE($A173,"-","_")),F175) -> 0 | G176: =SUM(A176:E176) -> 3
A177: =IFERROR(A176/$G176,0) -> 0 | B177: =IFERROR(B176/$G176,0) -> 0 | C177: =IFERROR(C176/$G176,0) -> 0.66666667 | D177: =IFERROR(D176/$G176,0) -> 0.33333333 | E177: =IFERROR(E176/$G176,0) -> 0
A184: Q6-0 | B184: =IF(A184<>0,IFERROR(OFFSET(Tables!$A$35,MATCH(' ResGlobal'!A184,Numero,0),1),"nr question incorrect ou inexistant"),"") -> Grâce à mon séjour, je me sens plus à l’aise dans les domaines suivants:
C186: Pos1 | D186: Pos2 | E186: Pos3 | F186: Pos4 | G186: Pos5 | H186: Pos6
B187: Pond | C187: 10 | D187: 8 | E187: 6 | F187: 4 | G187: 3 | H187: 1 | I187: Points | J187: Rang
A188: Santé | C188: =COUNTIF(Q6_1,1) -> 1 | D188: =COUNTIF(Q6_1,2) -> 0 | E188: =COUNTIF(Q6_1,3) -> 0 | F188: =COUNTIF(Q6_1,4) -> 1 | G188: =COUNTIF(Q6_1,5) -> 0 | H188: =COUNTIF(Q6_1,6) -> 1 | I188: {=SUM($C$187:$H$187*(C188:H188))} -> 15 | J188: =RANK(I188,$I$188:$I$193,0) -> 4
A189: Emploi, stage, formation | C189: =COUNTIF(Q6_2,1) -> 1 | D189: =COUNTIF(Q6_2,2) -> 1 | E189: =COUNTIF(Q6_2,3) -> 1 | F189: =COUNTIF(Q6_2,4) -> 0 | G189: =COUNTIF(Q6_2,5) -> 0 | H189: =COUNTIF(Q6_2,6) -> 0 | I189: {=SUM($C$187:$H$187*(C189:H189))} -> 24 | J189: =RANK(I189,$I$188:$I$193,0) -> 1
A190: Logement | C190: =COUNTIF(Q6_3,1) -> 0 | D190: =COUNTIF(Q6_3,2) -> 1 | E190: =COUNTIF(Q6_3,3) -> 1 | F190: =COUNTIF(Q6_3,4) -> 1 | G190: =COUNTIF(Q6_3,5) -> 0 | H190: =COUNTIF(Q6_3,6) -> 0 | I190: {=SUM($C$187:$H$187*(C190:H190))} -> 18 | J190: =RANK(I190,$I$188:$I$193,0) -> 3
A191: Transport | C191: =COUNTIF(Q6_4,1) -> 1 | D191: =COUNTIF(Q6_4,2) -> 0 | E191: =COUNTIF(Q6_4,3) -> 1 | F191: =COUNTIF(Q6_4,4) -> 1 | G191: =COUNTIF(Q6_4,5) -> 0 | H191: =COUNTIF(Q6_4,6) -> 0 | I191: {=SUM($C$187:$H$187*(C191:H191))} -> 20 | J191: =RANK(I191,$I$188:$I$193,0) -> 2
A192: Administratif | C192: =COUNTIF(Q6_5,1) -> 0 | D192: =COUNTIF(Q6_5,2) -> 1 | E192: =COUNTIF(Q6_5,3) -> 0 | F192: =COUNTIF(Q6_5,4) -> 0 | G192: =COUNTIF(Q6_5,5) -> 2 | H192: =COUNTIF(Q6_5,6) -> 0 | I192: {=SUM($C$187:$H$187*(C192:H192))} -> 14 | J192: =RANK(I192,$I$188:$I$193,0) -> 5
A193: Budget | C193: =COUNTIF(Q6_6,1) -> 0 | D193: =COUNTIF(Q6_6,2) -> 0 | E193: =COUNTIF(Q6_6,3) -> 0 | F193: =COUNTIF(Q6_6,4) -> 0 | G193: =COUNTIF(Q6_6,5) -> 1 | H193: =COUNTIF(Q6_6,6) -> 2 | I193: {=SUM($C$187:$H$187*(C193:H193))} -> 5 | J193: =RANK(I193,$I$188:$I$193,0) -> 6
A211: Q7-0 | B211: =IF(A211<>0,IFERROR(OFFSET(Tables!$A$35,MATCH(' ResGlobal'!A211,Numero,0),1),"nr question incorrect ou inexistant"),"") -> Globalement, concernant mon séjour je suis :
B213: Très satisfait | C213: Satisfait | D213: Peu satisfait | E213: Pas du tout satisfait | F213: NR | G213: Total expl
B214: =COUNTIF(INDIRECT(SUBSTITUTE($A211,"-","_")),B213) -> 0 | C214: =COUNTIF(INDIRECT(SUBSTITUTE($A211,"-","_")),C213) -> 2 | D214: =COUNTIF(INDIRECT(SUBSTITUTE($A211,"-","_")),D213) -> 0 | E214: =COUNTIF(INDIRECT(SUBSTITUTE($A211,"-","_")),E213) -> 1 | F214: =COUNTIF(INDIRECT(SUBSTITUTE($A211,"-","_")),F213) -> 0 | G214: =SUM(B214:E214) -> 3
B215: =IFERROR(B214/$G214,0) -> 0 | C215: =IFERROR(C214/$G214,0) -> 0.66666667 | D215: =IFERROR(D214/$G214,0) -> 0 | E215: =IFERROR(E214/$G214,0) -> 0.33333333
B216: =B214+C214 -> 2 | D216: =D214+E214 -> 1

Sheet REsEtab
A2: RESULTATS PAR ETABLISSEMENT DE L'ENQUETE DE SATISFACTION
B4: Site | C4: Galop
C7: Distribués | D7: Retournés | E7: %
A8: Nb questionnaires | C8: =OFFSET(Tables!$A$13,MATCH(REsEtab!$C$4,Etablissement,0),2) -> 20 | D8: =COUNTIF(Q0_0,$C$4) -> 2 | E8: =IFERROR(D8/C8,0) -> 0.1
A11: Q1-0 | B11: =IF(A11<>0,IFERROR(OFFSET(Tables!$A$35,MATCH(REsEtab!A11,Numero,0),1),"nr question incorrect ou inexistant"),"") -> Avant mon arrivée et lors de mon 1er contact, l’accueil a été :
B13: Très satisfaisant | C13: Satisfaisant | D13: Peu satisfaisant | E13: Pas du tout satisfaisant | F13: NR | G13: Total expl
B14: =COUNTIFS(Q0_0,$C$4,INDIRECT(SUBSTITUTE($A11,"-","_")),B13) -> 0 | C14: =COUNTIFS(Q0_0,$C$4,INDIRECT(SUBSTITUTE($A11,"-","_")),C13) -> 0 | D14: =COUNTIFS(Q0_0,$C$4,INDIRECT(SUBSTITUTE($A11,"-","_")),D13) -> 1 | E14: =COUNTIFS(Q0_0,$C$4,INDIRECT(SUBSTITUTE($A11,"-","_")),E13) -> 1 | F14: =COUNTIFS(Q0_0,$C$4,INDIRECT(SUBSTITUTE($A11,"-","_")),F13) -> 0 | G14: =SUM(B14:E14) -> 2
B15: =IFERROR(B14/$G14,0) -> 0 | C15: =IFERROR(C14/$G14,0) -> 0 | D15: =IFERROR(D14/$G14,0) -> 0.5 | E15: =IFERROR(E14/$G14,0) -> 0.5
B16: =B14+C14 -> 0 | D16: =D14+E14 -> 2
A21: Q2-0 | B21: =IF(A21<>0,IFERROR(OFFSET(Tables!$A$35,MATCH(REsEtab!A21,Numero,0),1),"nr question incorrect ou inexistant"),"") -> J’ai reçu les informations que je souhaitais
A23: Q2-1 | B23: =IF(A23<>0,IFERROR(OFFSET(Tables!$A$35,MATCH(REsEtab!A23,Numero,0),1),"nr question incorrect ou inexistant"),"") -> Sur les tarifs :
B25: Oui | C25: Non | D25: NR | E25: Total expl
B26: =COUNTIFS(Q0_0,$C$4,INDIRECT(SUBSTITUTE($A23,"-","_")),B25) -> 1 | C26: =COUNTIFS(Q0_0,$C$4,INDIRECT(SUBSTITUTE($A23,"-","_")),C25) -> 1 | D26: =COUNTIFS(Q0_0,$C$4,INDIRECT(SUBSTITUTE($A23,"-","_")),D25) -> 0 | E26: =SUM(B26:C26) -> 2
B27: =IFERROR(B26/$E26,0) -> 0.5 | C27: =IFERROR(C26/$E26,0) -> 0.5
A37: Q2-2 | B37: =IF(A37<>0,IFERROR(OFFSET(Tables!$A$35,MATCH(REsEtab!A37,Numero,0),1),"nr question incorrect ou inexistant"),"") -> Sur les documents administratifs à renseigner :
B39: Oui | C39: Non | D39: NR | E39: Total expl
B40: =COUNTIFS(Q0_0,$C$4,INDIRECT(SUBSTITUTE($A37,"-","_")),B39) -> 1 | C40: =COUNTIFS(Q0_0,$C$4,INDIRECT(SUBSTITUTE($A37,"-","_")),C39) -> 1 | D40: =COUNTIFS(Q0_0,$C$4,INDIRECT(SUBSTITUTE($A37,"-","_")),D39) -> 0 | E40: =SUM(B40:C40) -> 2
B41: =IFERROR(B40/$E40,0) -> 0.5 | C41: =IFERROR(C40/$E40,0) -> 0.5
A49: Q2-3 | B49: =IF(A49<>0,IFERROR(OFFSET(Tables!$A$35,MATCH(REsEtab!A49,Numero,0),1),"nr question incorrect ou inexistant"),"") -> Sur les aides dont je pouvais disposer :
B51: Oui | C51: Non | D51: NR | E51: Total expl
B52: =COUNTIFS(Q0_0,$C$4,INDIRECT(SUBSTITUTE($A49,"-","_")),B51) -> 1 | C52: =COUNTIFS(Q0_0,$C$4,INDIRECT(SUBSTITUTE($A49,"-","_")),C51) -> 1 | D52: =COUNTIFS(Q0_0,$C$4,INDIRECT(SUBSTITUTE($A49,"-","_")),D51) -> 0 | E52: =SUM(B52:C52) -> 2
B53: =IFERROR(B52/$E52,0) -> 0.5 | C53: =IFERROR(C52/$E52,0) -> 0.5
A62: Q2-4 | B62: =IF(A62<>0,IFERROR(OFFSET(Tables!$A$35,MATCH(REsEtab!A62,Numero,0),1),"nr question incorrect ou inexistant"),"") -> Sur les services proposés en plus du logement :
B64: Oui | C64: Non | D64: NR | E64: Total expl
B65: =COUNTIFS(Q0_0,$C$4,INDIRECT(SUBSTITUTE($A62,"-","_")),B64) -> 1 | C65: =COUNTIFS(Q0_0,$C$4,INDIRECT(SUBSTITUTE($A62,"-","_")),C64) -> 1 | D65: =COUNTIFS(Q0_0,$C$4,INDIRECT(SUBSTITUTE($A62,"-","_")),D64) -> 0 | E65: =SUM(B65:C65) -> 2
B66: =IFERROR(B65/$E65,0) -> 0.5 | C66: =IFERROR(C65/$E65,0) -> 0.5
A75: Q2-5 | B75: =IF(A75<>0,IFERROR(OFFSET(Tables!$A$35,MATCH(REsEtab!A75,Numero,0),1),"nr question incorrect ou inexistant"),"") -> Sur l’accompagnement pour m’aider dans mon projet :
B77: Oui | C77: Non | D77: NR | E77: Total expl
B78: =COUNTIFS(Q0_0,$C$4,INDIRECT(SUBSTITUTE($A75,"-","_")),B77) -> 1 | C78: =COUNTIFS(Q0_0,$C$4,INDIRECT(SUBSTITUTE($A75,"-","_")),C77) -> 1 | D78: =COUNTIFS(Q0_0,$C$4,INDIRECT(SUBSTITUTE($A75,"-","_")),D77) -> 0 | E78: =SUM(B78:C78) -> 2
B79: =IFERROR(B78/$E78,0) -> 0.5 | C79: =IFERROR(C78/$E78,0) -> 0.5
A90: Q2-6 | B90: =IF(A90<>0,IFERROR(OFFSET(Tables!$A$35,MATCH(REsEtab!A90,Numero,0),1),"nr question incorrect ou inexistant"),"") -> Sur les animations proposées :
B92: Oui | C92: Non | D92: NR | E92: Total expl
B93: =COUNTIFS(Q0_0,$C$4,INDIRECT(SUBSTITUTE($A90,"-","_")),B92) -> 0 | C93: =COUNTIFS(Q0_0,$C$4,INDIRECT(SUBSTITUTE($A90,"-","_")),C92) -> 2 | D93: =COUNTIFS(Q0_0,$C$4,INDIRECT(SUBSTITUTE($A90,"-","_")),D92) -> 0 | E93: =SUM(B93:C93) -> 2
B94: =IFERROR(B93/$E93,0) -> 0 | C94: =IFERROR(C93/$E93,0) -> 1
A102: Q3-0 | B102: =IF(A102<>0,IFERROR(OFFSET(Tables!$A$35,MATCH(REsEtab!A102,Numero,0),1),"nr question incorrect ou inexistant"),"") -> A mon arrivée, j’ai effectué et signé un état des lieux de mon logement avec un membre de l’équipe
B104: Oui | C104: Non | D104: NR | E104: Total expl
B105: =COUNTIFS(Q0_0,$C$4,INDIRECT(SUBSTITUTE($A102,"-","_")),B104) -> 1 | C105: =COUNTIFS(Q0_0,$C$4,INDIRECT(SUBSTITUTE($A102,"-","_")),C104) -> 1 | D105: =COUNTIFS(Q0_0,$C$4,INDIRECT(SUBSTITUTE($A102,"-","_")),D104) -> 0 | E105: =SUM(B105:C105) -> 2
B106: =IFERROR(B105/$E105,0) -> 0.5 | C106: =IFERROR(C105/$E105,0) -> 0.5
A113: Q4-0 | B113: =IF(A113<>0,IFERROR(OFFSET(Tables!$A$35,MATCH(REsEtab!A113,Numero,0),1),"nr question incorrect ou inexistant"),"") -> Le logement proposé correspondait à mes attentes
B115: Oui | C115: Non | D115: NR | E115: Total expl
B116: =COUNTIFS(Q0_0,$C$4,INDIRECT(SUBSTITUTE($A113,"-","_")),B115) -> 1 | C116: =COUNTIFS(Q0_0,$C$4,INDIRECT(SUBSTITUTE($A113,"-","_")),C115) -> 1 | D116: =COUNTIFS(Q0_0,$C$4,INDIRECT(SUBSTITUTE($A113,"-","_")),D115) -> 0 | E116: =SUM(B116:C116) -> 2
B117: =IFERROR(B116/$E116,0) -> 0.5 | C117: =IFERROR(C116/$E116,0) -> 0.5
A126: Q4-2 | B126: =IF(A126<>0,IFERROR(OFFSET(Tables!$A$35,MATCH(REsEtab!A126,Numero,0),1),"nr question incorrect ou inexistant"),"") -> J'ai trouvé le prix intéressant :
B128: Tout à fait d'accord | C128: Plutôt d'accord | D128: Plutôt pas d'accord | E128: Pas d'accord du tout | F128: NR | G128: Total expl
B129: =COUNTIFS(Q0_0,$C$4,INDIRECT(SUBSTITUTE($A126,"-","_")),B128) -> 0 | C129: =COUNTIFS(Q0_0,$C$4,INDIRECT(SUBSTITUTE($A126,"-","_")),C128) -> 2 | D129: =COUNTIFS(Q0_0,$C$4,INDIRECT(SUBSTITUTE($A126,"-","_")),D128) -> 0 | E129: =COUNTIFS(Q0_0,$C$4,INDIRECT(SUBSTITUTE($A126,"-","_")),E128) -> 0 | F129: =COUNTIFS(Q0_0,$C$4,INDIRECT(SUBSTITUTE($A126,"-","_")),F128) -> 0 | G129: =SUM(B129:E129) -> 2
B130: =IFERROR(B129/$G129,0) -> 0 | C130: =IFERROR(C129/$G129,0) -> 1 | D130: =IFERROR(D129/$G129,0) -> 0 | E130: =IFERROR(E129/$G129,0) -> 0
B131: =B129+C129 -> 2 | D131: =D129+E129 -> 0
A138: Q4-3 | B138: =IF(A138<>0,IFERROR(OFFSET(Tables!$A$35,MATCH(REsEtab!A138,Numero,0),1),"nr question incorrect ou inexistant"),"") -> J'ai trouvé le logement confortable :
B140: Tout à fait d'accord | C140: Plutôt d'accord | D140: Plutôt pas d'accord | E140: Pas d'accord du tout | F140: NR | G140: Total expl
B141: =COUNTIFS(Q0_0,$C$4,INDIRECT(SUBSTITUTE($A138,"-","_")),B140) -> 0 | C141: =COUNTIFS(Q0_0,$C$4,INDIRECT(SUBSTITUTE($A138,"-","_")),C140) -> 1 | D141: =COUNTIFS(Q0_0,$C$4,INDIRECT(SUBSTITUTE($A138,"-","_")),D140) -> 0 | E141: =COUNTIFS(Q0_0,$C$4,INDIRECT(SUBSTITUTE($A138,"-","_")),E140) -> 1 | F141: =COUNTIFS(Q0_0,$C$4,INDIRECT(SUBSTITUTE($A138,"-","_")),F140) -> 0 | G141: =SUM(B141:E141) -> 2
B142: =IFERROR(B141/$G141,0) -> 0 | C142: =IFERROR(C141/$G141,0) -> 0.5 | D142: =IFERROR(D141/$G141,0) -> 0 | E142: =IFERROR(E141/$G141,0) -> 0.5
B143: =B141+C141 -> 1 | D143: =D141+E141 -> 1
A150: Q4-4 | B150: =IF(A150<>0,IFERROR(OFFSET(Tables!$A$35,MATCH(REsEtab!A150,Numero,0),1),"nr question incorrect ou inexistant"),"") -> J'ai trouvé que les équipements étaient adaptés :
B152: Tout à fait d'accord | C152: Plutôt d'accord | D152: Plutôt pas d'accord | E152: Pas d'accord du tout | F152: NR | G152: Total expl
B153: =COUNTIFS(Q0_0,$C$4,INDIRECT(SUBSTITUTE($A150,"-","_")),B152) -> 1 | C153: =COUNTIFS(Q0_0,$C$4,INDIRECT(SUBSTITUTE($A150,"-","_")),C152) -> 0 | D153: =COUNTIFS(Q0_0,$C$4,INDIRECT(SUBSTITUTE($A150,"-","_")),D152) -> 1 | E153: =COUNTIFS(Q0_0,$C$4,INDIRECT(SUBSTITUTE($A150,"-","_")),E152) -> 0 | F153: =COUNTIFS(Q0_0,$C$4,INDIRECT(SUBSTITUTE($A150,"-","_")),F152) -> 0 | G153: =SUM(B153:E153) -> 2
B154: =IFERROR(B153/$G153,0) -> 0.5 | C154: =IFERROR(C153/$G153,0) -> 0 | D154: =IFERROR(D153/$G153,0) -> 0.5 | E154: =IFERROR(E153/$G153,0) -> 0
B155: =B153+C153 -> 1 | D155: =D153+E153 -> 1
A162: Q4-5 | B162: =IF(A162<>0,IFERROR(OFFSET(Tables!$A$35,MATCH(REsEtab!A162,Numero,0),1),"nr question incorrect ou inexistant"),"") -> J'ai trouvé le logement propre :
B164: Tout à fait d'accord | C164: Plutôt d'accord | D164: Plutôt pas d'accord | E164: Pas d'accord du tout | F164: NR | G164: Total expl
B165: =COUNTIFS(Q0_0,$C$4,INDIRECT(SUBSTITUTE($A162,"-","_")),B164) -> 1 | C165: =COUNTIFS(Q0_0,$C$4,INDIRECT(SUBSTITUTE($A162,"-","_")),C164) -> 0 | D165: =COUNTIFS(Q0_0,$C$4,INDIRECT(SUBSTITUTE($A162,"-","_")),D164) -> 1 | E165: =COUNTIFS(Q0_0,$C$4,INDIRECT(SUBSTITUTE($A162,"-","_")),E164) -> 0 | F165: =COUNTIFS(Q0_0,$C$4,INDIRECT(SUBSTITUTE($A162,"-","_")),F164) -> 0 | G165: =SUM(B165:E165) -> 2
B166: =IFERROR(B165/$G165,0) -> 0.5 | C166: =IFERROR(C165/$G165,0) -> 0 | D166: =IFERROR(D165/$G165,0) -> 0.5 | E166: =IFERROR(E165/$G165,0) -> 0
B167: =B165+C165 -> 1 | D167: =D165+E165 -> 1
A173: Q5-0 | B173: =IF(A173<>0,IFERROR(OFFSET(Tables!$A$35,MATCH(REsEtab!A173,Numero,0),1),"nr question incorrect ou inexistant"),"") -> Quand j’ai eu besoin, j’ai trouvé les membres de l’équipe disponible pour m’écouter
A175: Très souvent | B175: Assez souvent | C175: Occasionnellement | D175: Rarement | E175: Jamais | F175: NR | G175: Total expl
A176: =COUNTIFS(Q0_0,$C$4,INDIRECT(SUBSTITUTE($A173,"-","_")),A175) -> 0 | B176: =COUNTIFS(Q0_0,$C$4,INDIRECT(SUBSTITUTE($A173,"-","_")),B175) -> 0 | C176: =COUNTIFS(Q0_0,$C$4,INDIRECT(SUBSTITUTE($A173,"-","_")),C175) -> 2 | D176: =COUNTIFS(Q0_0,$C$4,INDIRECT(SUBSTITUTE($A173,"-","_")),D175) -> 0 | E176: =COUNTIFS(Q0_0,$C$4,INDIRECT(SUBSTITUTE($A173,"-","_")),E175) -> 0 | F176: =COUNTIFS(Q0_0,$C$4,INDIRECT(SUBSTITUTE($A173,"-","_")),F175) -> 0 | G176: =SUM(A176:E176) -> 2
A177: =IFERROR(A176/$G176,0) -> 0 | B177: =IFERROR(B176/$G176,0) -> 0 | C177: =IFERROR(C176/$G176,0) -> 1 | D177: =IFERROR(D176/$G176,0) -> 0 | E177: =IFERROR(E176/$G176,0) -> 0
A184: Q6-0 | B184: =IF(A184<>0,IFERROR(OFFSET(Tables!$A$35,MATCH(REsEtab!A184,Numero,0),1),"nr question incorrect ou inexistant"),"") -> Grâce à mon séjour, je me sens plus à l’aise dans les domaines suivants:
C186: Pos1 | D186: Pos2 | E186: Pos3 | F186: Pos4 | G186: Pos5 | H186: Pos6
B187: Pond | C187: 10 | D187: 8 | E187: 6 | F187: 4 | G187: 3 | H187: 1 | I187: Points | J187: Rang
A188: Santé | C188: =COUNTIFS(Q0_0,$C$4,Q6_1,1) -> 1 | D188: =COUNTIFS(Q0_0,$C$4,Q6_1,2) -> 0 | E188: =COUNTIFS(Q0_0,$C$4,Q6_1,3) -> 0 | F188: =COUNTIFS(Q0_0,$C$4,Q6_1,4) -> 0 | G188: =COUNTIFS(Q0_0,$C$4,Q6_1,5) -> 0 | H188: =COUNTIFS(Q0_0,$C$4,Q6_1,6) -> 1 | I188: {=SUM($C$187:$H$187*(C188:H188))} -> 11 | J188: =RANK(I188,$I$188:$I$193,0) -> 2
A189: Emploi, stage, formation | C189: =COUNTIFS(Q0_0,$C$4,Q6_2,1) -> 1 | D189: =COUNTIFS(Q0_0,$C$4,Q6_2,2) -> 1 | E189: =COUNTIFS(Q0_0,$C$4,Q6_2,3) -> 0 | F189: =COUNTIFS(Q0_0,$C$4,Q6_2,4) -> 0 | G189: =COUNTIFS(Q0_0,$C$4,Q6_2,5) -> 0 | H189: =COUNTIFS(Q0_0,$C$4,Q6_2,6) -> 0 | I189: {=SUM($C$187:$H$187*(C189:H189))} -> 18 | J189: =RANK(I189,$I$188:$I$193,0) -> 1
A190: Logement | C190: =COUNTIFS(Q0_0,$C$4,Q6_3,1) -> 0 | D190: =COUNTIFS(Q0_0,$C$4,Q6_3,2) -> 0 | E190: =COUNTIFS(Q0_0,$C$4,Q6_3,3) -> 1 | F190: =COUNTIFS(Q0_0,$C$4,Q6_3,4) -> 1 | G190: =COUNTIFS(Q0_0,$C$4,Q6_3,5) -> 0 | H190: =COUNTIFS(Q0_0,$C$4,Q6_3,6) -> 0 | I190: {=SUM($C$187:$H$187*(C190:H190))} -> 10 | J190: =RANK(I190,$I$188:$I$193,0) -> 4
A191: Transport | C191: =COUNTIFS(Q0_0,$C$4,Q6_4,1) -> 0 | D191: =COUNTIFS(Q0_0,$C$4,Q6_4,2) -> 0 | E191: =COUNTIFS(Q0_0,$C$4,Q6_4,3) -> 1 | F191: =COUNTIFS(Q0_0,$C$4,Q6_4,4) -> 1 | G191: =COUNTIFS(Q0_0,$C$4,Q6_4,5) -> 0 | H191: =COUNTIFS(Q0_0,$C$4,Q6_4,6) -> 0 | I191: {=SUM($C$187:$H$187*(C191:H191))} -> 10 | J191: =RANK(I191,$I$188:$I$193,0) -> 4
A192: Administratif | C192: =COUNTIFS(Q0_0,$C$4,Q6_5,1) -> 0 | D192: =COUNTIFS(Q0_0,$C$4,Q6_5,2) -> 1 | E192: =COUNTIFS(Q0_0,$C$4,Q6_5,3) -> 0 | F192: =COUNTIFS(Q0_0,$C$4,Q6_5,4) -> 0 | G192: =COUNTIFS(Q0_0,$C$4,Q6_5,5) -> 1 | H192: =COUNTIFS(Q0_0,$C$4,Q6_5,6) -> 0 | I192: {=SUM($C$187:$H$187*(C192:H192))} -> 11 | J192: =RANK(I192,$I$188:$I$193,0) -> 2
A193: Budget | C193: =COUNTIFS(Q0_0,$C$4,Q6_6,1) -> 0 | D193: =COUNTIFS(Q0_0,$C$4,Q6_6,2) -> 0 | E193: =COUNTIFS(Q0_0,$C$4,Q6_6,3) -> 0 | F193: =COUNTIFS(Q0_0,$C$4,Q6_6,4) -> 0 | G193: =COUNTIFS(Q0_0,$C$4,Q6_6,5) -> 1 | H193: =COUNTIFS(Q0_0,$C$4,Q6_6,6) -> 1 | I193: {=SUM($C$187:$H$187*(C193:H193))} -> 4 | J193: =RANK(I193,$I$188:$I$193,0) -> 6
A211: Q7-0 | B211: =IF(A211<>0,IFERROR(OFFSET(Tables!$A$35,MATCH(REsEtab!A211,Numero,0),1),"nr question incorrect ou inexistant"),"") -> Globalement, concernant mon séjour je suis :
B213: Très satisfait | C213: Satisfait | D213: Peu satisfait | E213: Pas du tout satisfait | F213: NR | G213: Total expl
B214: =COUNTIFS(Q0_0,$C$4,INDIRECT(SUBSTITUTE($A211,"-","_")),B213) -> 0 | C214: =COUNTIFS(Q0_0,$C$4,INDIRECT(SUBSTITUTE($A211,"-","_")),C213) -> 1 | D214: =COUNTIFS(Q0_0,$C$4,INDIRECT(SUBSTITUTE($A211,"-","_")),D213) -> 0 | E214: =COUNTIFS(Q0_0,$C$4,INDIRECT(SUBSTITUTE($A211,"-","_")),E213) -> 1 | F214: =COUNTIFS(Q0_0,$C$4,INDIRECT(SUBSTITUTE($A211,"-","_")),F213) -> 0 | G214: =SUM(B214:E214) -> 2
B215: =IFERROR(B214/$G214,0) -> 0 | C215: =IFERROR(C214/$G214,0) -> 0.5 | D215: =IFERROR(D214/$G214,0) -> 0 | E215: =IFERROR(E214/$G214,0) -> 0.5
B216: =B214+C214 -> 1 | D216: =D214+E214 -> 1

Sheet Saisie
C1: Accueil arrivée et 1er contact | E1: J’ai reçu les informations que je souhaitais | L1: Logement proposé correspond aux attentes | S1: Je suis plus à l’aise dans les domaines suivants: | Z1: Suggestions
A3: NRRep | B3: Etablissement | C3: Accueil arrivée | D3: Pourquoi | E3: Les tarifs | F3: Les documents administratifs | G3: Les aides | H3: Les services en plus | I3: L'aide dans mon projet | J3: Les animations | K3: Etat des lieux | L3: Logement correspond | M3: Parce que | N3: Prix intéressant | O3: Logement confortable | P3: Equipements adaptés | Q3: Logement propre | R3: Membres dispo pour écoute | S3: Santé | T3: Emploi, stage, formation | U3: Logement | V3: Transport | W3: Administratif | X3: Budget | Y3: Globalement je suis : | Z3: Suggestion 1 | AA3: Catégorie | AB3: Suggestion 2 | AC3: Catégorie | AD3: Suggestion 3 | AE3: Catégorie | AF3: Suggestion 4 | AG3: Catégorie
A4: Question | B4: Q0-0 | C4: Q1-0 | D4: Q1-1 | E4: Q2-1 | F4: Q2-2 | G4: Q2-3 | H4: Q2-4 | I4: Q2-5 | J4: Q2-6 | K4: Q3-0 | L4: Q4-0 | M4: Q4-1 | N4: Q4-2 | O4: Q4-3 | P4: Q4-4 | Q4: Q4-5 | R4: Q5-0 | S4: Q6-1 | T4: Q6-2 | U4: Q6-3 | V4: Q6-4 | W4: Q6-5 | X4: Q6-6 | Y4: Q7-0 | Z4: Q8-1 | AA4: Q8-2 | AB4: Q8-3 | AC4: Q8-4 | AD4: Q8-5 | AE4: Q8-6 | AF4: Q8-7 | AG4: Q8-8
A5: 1 | B5: Galop | C5: Pas du tout satisfaisant | D5: Bureau fermé | E5: Oui | F5: Non | G5: Non | H5: Oui | I5: Oui | J5: Non | K5: Oui | L5: Oui | M5: Orienté plein sud | N5: Plutôt d'accord | O5: Plutôt d'accord | P5: Tout à fait d'accord | Q5: Plutôt pas d'accord | R5: Occasionnellement | S5: 6 | T5: 1 | U5: 4 | V5: 3 | W5: 2 | X5: 5 | Y5: Pas du tout satisfait | Z5: Changer d'hotesse d'accueil | AA5: Comportement
A6: 2 | B6: JeuArc | C6: Satisfaisant | E6: Non | F6: Non | G6: Non | H6: Oui | I6: Oui | J6: Oui | K6: Oui | L6: Non | M6: Au dernier étage | N6: Tout à fait d'accord | O6: Pas d'accord du tout | P6: Plutôt pas d'accord | Q6: Tout à fait d'accord | R6: Rarement | S6: 4 | T6: 3 | U6: 2 | V6: 1 | W6: 5 | X6: 6 | Y6: Satisfait
A7: 3 | B7: Galop | C7: Peu satisfaisant | E7: Non | F7: Oui | G7: Oui | H7: Non | I7: Non | J7: Non | K7: Non | L7: Non | N7: Plutôt d'accord | O7: Pas d'accord du tout | P7: Plutôt pas d'accord | Q7: Tout à fait d'accord | R7: Occasionnellement | S7: 1 | T7: 2 | U7: 3 | V7: 4 | W7: 5 | X7: 6 | Y7: Satisfait

Sheet Tables
A2: Satisfaction | C2: RepON | E2: RepAccord | H2: CatSugg | J2: Satisfait | L2: Fréquence | N2: Domaines
A3: Très satisfaisant | C3: Oui | E3: Tout à fait d'accord | H3: Logement | J3: Très satisfait | L3: Très souvent | N3: Santé
A4: Satisfaisant | C4: Non | E4: Plutôt d'accord | H4: Formalités | J4: Satisfait | L4: Assez souvent | N4: Emploi, stage, formation
A5: Peu satisfaisant | C5: NR | E5: Plutôt pas d'accord | H5: Comportement | J5: Peu satisfait | L5: Occasionnellement | N5: Logement
A6: Pas du tout satisfaisant | E6: Pas d'accord du tout | H6: Vie sociale | J6: Pas du tout satisfait | L6: Rarement | N6: Transport
A7: NR | E7: NR | J7: NR | L7: Jamais | N7: Administratif
L8: NR | N8: Budget
A13: Etablissement | B13: Intlong | C13: EnqDistri
A14: Galop | B14: Résidence du Galop | C14: 20
A15: JeuArc | B15: Maison du Jeu d'Arc | C15: 15
A16: HautLisse | B16: Résidence de la Haute Lisse | C16: 36
A17: Marron | B17: Résidence des Marronniers | C17: 45
A18: Fruitaie | B18: Résidence la Fruitaie
A19: 3Rois | B19: Résidences des Trois Rois
A35: Numero | B35: Intitulé
A36: Q1-0 | B36: Avant mon arrivée et lors de mon 1er contact, l’accueil a été :
A37: Q2-0 | B37: J’ai reçu les informations que je souhaitais
A38: Q2-1 | B38: Sur les tarifs :
A39: Q2-2 | B39: Sur les documents administratifs à renseigner :
A40: Q2-3 | B40: Sur les aides dont je pouvais disposer :
A41: Q2-4 | B41: Sur les services proposés en plus du logement :
A42: Q2-5 | B42: Sur l’accompagnement pour m’aider dans mon projet :
A43: Q2-6 | B43: Sur les animations proposées :
A44: Q3-0 | B44: A mon arrivée, j’ai effectué et signé un état des lieux de mon logement avec un membre de l’équipe
... A67: Q8-8 | B67: Catégorie
