Workbook
Name aEntreg: extract!$E$3:$E$14
Name cent: Tables!$J$14:$J$19
Name cprod: Tables!$D$14:$D$22
Name creg: Tables!$G$14:$G$22
Name listprod: extract!$F$2:$N$2
Name noment: Tables!$K$14:$K$19
Name nprod: Tables!$E$14:$E$22
Name Nreg: Tables!$H$14:$H$22

Sheet bd
C1: Bases de données
A3: Code_Ent | B3: Entreprise | C3: Cod_Region | D3: Region | E3: codentreg | F3: CodProduits | G3: Produits | H3: Production Janvier 2014
A4: 440 | B4: =OFFSET(Tables!$J$13,MATCH(bd!A4,cent,0),1) -> laf | C4: 10 | D4: =OFFSET(Tables!$G$13,MATCH(C4,creg,0),1) -> rhône | E4: =A4&"-"&C4 -> 440-10 | F4: 430 | G4: =OFFSET(Tables!$D$13,MATCH(bd!F4,cprod,0),1) -> Produit 2 | H4: =OFFSET(extract!$E$2,MATCH(bd!E4,aEntreg,0),MATCH(bd!G4,listprod,0)) -> 1500 | K4: 1500
A5: 440 | B5: =OFFSET(Tables!$J$13,MATCH(bd!A5,cent,0),1) -> laf | C5: 10 | D5: =OFFSET(Tables!$G$13,MATCH(C5,creg,0),1) -> rhône | E5: =A5&"-"&C5 -> 440-10 | F5: 901 | G5: =OFFSET(Tables!$D$13,MATCH(bd!F5,cprod,0),1) -> Produit 6 | H5: =OFFSET(extract!$E$2,MATCH(bd!E5,aEntreg,0),MATCH(bd!G5,listprod,0)) -> 3000 | K5: 3000
A6: 440 | B6: =OFFSET(Tables!$J$13,MATCH(bd!A6,cent,0),1) -> laf | C6: 2 | D6: =OFFSET(Tables!$G$13,MATCH(C6,creg,0),1) -> pays de loire | E6: =A6&"-"&C6 -> 440-2 | F6: 440 | G6: =OFFSET(Tables!$D$13,MATCH(bd!F6,cprod,0),1) -> Produit 3 | H6: =OFFSET(extract!$E$2,MATCH(bd!E6,aEntreg,0),MATCH(bd!G6,listprod,0)) -> 45000 | K6: 45000
A7: 440 | B7: =OFFSET(Tables!$J$13,MATCH(bd!A7,cent,0),1) -> laf | C7: 2 | D7: =OFFSET(Tables!$G$13,MATCH(C7,creg,0),1) -> pays de loire | E7: =A7&"-"&C7 -> 440-2 | F7: 460 | G7: =OFFSET(Tables!$D$13,MATCH(bd!F7,cprod,0),1) -> Produit 8 | H7: =OFFSET(extract!$E$2,MATCH(bd!E7,aEntreg,0),MATCH(bd!G7,listprod,0)) -> 50 | K7: 50
A8: 35063 | B8: =OFFSET(Tables!$J$13,MATCH(bd!A8,cent,0),1) -> hol | C8: 8 | D8: =OFFSET(Tables!$G$13,MATCH(C8,creg,0),1) -> nord | E8: =A8&"-"&C8 -> 35063-8 | F8: 450 | G8: =OFFSET(Tables!$D$13,MATCH(bd!F8,cprod,0),1) -> Produit 4 | H8: =OFFSET(extract!$E$2,MATCH(bd!E8,aEntreg,0),MATCH(bd!G8,listprod,0)) -> 8856 | K8: 8856
A9: 35063 | B9: =OFFSET(Tables!$J$13,MATCH(bd!A9,cent,0),1) -> hol | C9: 8 | D9: =OFFSET(Tables!$G$13,MATCH(C9,creg,0),1) -> nord | E9: =A9&"-"&C9 -> 35063-8 | F9: 901 | G9: =OFFSET(Tables!$D$13,MATCH(bd!F9,cprod,0),1) -> Produit 6 | H9: =OFFSET(extract!$E$2,MATCH(bd!E9,aEntreg,0),MATCH(bd!G9,listprod,0)) -> 22100 | K9: 22100
A10: 35063 | B10: =OFFSET(Tables!$J$13,MATCH(bd!A10,cent,0),1) -> hol | C10: 8 | D10: =OFFSET(Tables!$G$13,MATCH(C10,creg,0),1) -> nord | E10: =A10&"-"&C10 -> 35063-8 | F10: 423 | G10: =OFFSET(Tables!$D$13,MATCH(bd!F10,cprod,0),1) -> Produit 9 | H10: =OFFSET(extract!$E$2,MATCH(bd!E10,aEntreg,0),MATCH(bd!G10,listprod,0)) -> 223 | K10: 223
A11: 215 | B11: =OFFSET(Tables!$J$13,MATCH(bd!A11,cent,0),1) -> st georges | C11: 19 | D11: =OFFSET(Tables!$G$13,MATCH(C11,creg,0),1) -> poitou | E11: =A11&"-"&C11 -> 215-19 | F11: 460 | G11: =OFFSET(Tables!$D$13,MATCH(bd!F11,cprod,0),1) -> Produit 8 | H11: =OFFSET(extract!$E$2,MATCH(bd!E11,aEntreg,0),MATCH(bd!G11,listprod,0)) -> 4425 | K11: 4425
A12: 22100 | B12: =OFFSET(Tables!$J$13,MATCH(bd!A12,cent,0),1) -> moulin | C12: 15 | D12: =OFFSET(Tables!$G$13,MATCH(C12,creg,0),1) -> provence | E12: =A12&"-"&C12 -> 22100-15 | F12: 430 | G12: =OFFSET(Tables!$D$13,MATCH(bd!F12,cprod,0),1) -> Produit 2 | H12: =OFFSET(extract!$E$2,MATCH(bd!E12,aEntreg,0),MATCH(bd!G12,listprod,0)) -> 0
A13: 22100 | B13: =OFFSET(Tables!$J$13,MATCH(bd!A13,cent,0),1) -> moulin | C13: 15 | D13: =OFFSET(Tables!$G$13,MATCH(C13,creg,0),1) -> provence | E13: =A13&"-"&C13 -> 22100-15 | F13: 423 | G13: =OFFSET(Tables!$D$13,MATCH(bd!F13,cprod,0),1) -> Produit 9 | H13: =OFFSET(extract!$E$2,MATCH(bd!E13,aEntreg,0),MATCH(bd!G13,listprod,0)) -> 0
A14: 22100 | B14: =OFFSET(Tables!$J$13,MATCH(bd!A14,cent,0),1) -> moulin | C14: 9 | D14: =OFFSET(Tables!$G$13,MATCH(C14,creg,0),1) -> lorraine | E14: =A14&"-"&C14 -> 22100-9 | F14: 430 | G14: =OFFSET(Tables!$D$13,MATCH(bd!F14,cprod,0),1) -> Produit 2 | H14: =OFFSET(extract!$E$2,MATCH(bd!E14,aEntreg,0),MATCH(bd!G14,listprod,0)) -> 4258 | K14: 4258
A15: 22100 | B15: =OFFSET(Tables!$J$13,MATCH(bd!A15,cent,0),1) -> moulin | C15: 1 | D15: =OFFSET(Tables!$G$13,MATCH(C15,creg,0),1) -> alsace | E15: =A15&"-"&C15 -> 22100-1 | F15: 420 | G15: =OFFSET(Tables!$D$13,MATCH(bd!F15,cprod,0),1) -> Produit 1 | H15: =OFFSET(extract!$E$2,MATCH(bd!E15,aEntreg,0),MATCH(bd!G15,listprod,0)) -> 425 | K15: 425
A16: 22100 | B16: =OFFSET(Tables!$J$13,MATCH(bd!A16,cent,0),1) -> moulin | C16: 1 | D16: =OFFSET(Tables!$G$13,MATCH(C16,creg,0),1) -> alsace | E16: =A16&"-"&C16 -> 22100-1 | F16: 450 | G16: =OFFSET(Tables!$D$13,MATCH(bd!F16,cprod,0),1) -> Produit 4 | H16: =OFFSET(extract!$E$2,MATCH(bd!E16,aEntreg,0),MATCH(bd!G16,listprod,0)) -> 800 | K16: 800
A17: 22100 | B17: =OFFSET(Tables!$J$13,MATCH(bd!A17,cent,0),1) -> moulin | C17: 1 | D17: =OFFSET(Tables!$G$13,MATCH(C17,creg,0),1) -> alsace | E17: =A17&"-"&C17 -> 22100-1 | F17: 901 | G17: =OFFSET(Tables!$D$13,MATCH(bd!F17,cprod,0),1) -> Produit 6 | H17: =OFFSET(extract!$E$2,MATCH(bd!E17,aEntreg,0),MATCH(bd!G17,listprod,0)) -> 5000 | K17: 5000
A18: 22100 | B18: =OFFSET(Tables!$J$13,MATCH(bd!A18,cent,0),1) -> moulin | C18: 1 | D18: =OFFSET(Tables!$G$13,MATCH(C18,creg,0),1) -> alsace | E18: =A18&"-"&C18 -> 22100-1 | F18: 460 | G18: =OFFSET(Tables!$D$13,MATCH(bd!F18,cprod,0),1) -> Produit 8 | H18: =OFFSET(extract!$E$2,MATCH(bd!E18,aEntreg,0),MATCH(bd!G18,listprod,0)) -> 600 | K18: 600
A19: 17343 | B19: =OFFSET(Tables!$J$13,MATCH(bd!A19,cent,0),1) -> satma | C19: 7 | D19: =OFFSET(Tables!$G$13,MATCH(C19,creg,0),1) -> ile de France | E19: =A19&"-"&C19 -> 17343-7 | F19: 423 | G19: =OFFSET(Tables!$D$13,MATCH(bd!F19,cprod,0),1) -> Produit 9 | H19: =OFFSET(extract!$E$2,MATCH(bd!E19,aEntreg,0),MATCH(bd!G19,listprod,0)) -> 5882 | K19: 5882
A20: 12450 | B20: =OFFSET(Tables!$J$13,MATCH(bd!A20,cent,0),1) -> sag | C20: 17 | D20: =OFFSET(Tables!$G$13,MATCH(C20,creg,0),1) -> midi pyrénées | E20: =A20&"-"&C20 -> 12450-17 | F20: 450 | G20: =OFFSET(Tables!$D$13,MATCH(bd!F20,cprod,0),1) -> Produit 4 | H20: =OFFSET(extract!$E$2,MATCH(bd!E20,aEntreg,0),MATCH(bd!G20,listprod,0)) -> 5000 | K20: 5000
A21: 12450 | B21: =OFFSET(Tables!$J$13,MATCH(bd!A21,cent,0),1) -> sag | C21: 17 | D21: =OFFSET(Tables!$G$13,MATCH(C21,creg,0),1) -> midi pyrénées | E21: =A21&"-"&C21 -> 12450-17 | F21: 4210350 | G21: =OFFSET(Tables!$D$13,MATCH(bd!F21,cprod,0),1) -> Produit 7 | H21: =OFFSET(extract!$E$2,MATCH(bd!E21,aEntreg,0),MATCH(bd!G21,listprod,0)) -> 46 | K21: 46
A22: 12450 | B22: =OFFSET(Tables!$J$13,MATCH(bd!A22,cent,0),1) -> sag | C22: 17 | D22: =OFFSET(Tables!$G$13,MATCH(C22,creg,0),1) -> midi pyrénées | E22: =A22&"-"&C22 -> 12450-17 | F22: 423 | G22: =OFFSET(Tables!$D$13,MATCH(bd!F22,cprod,0),1) -> Produit 9 | H22: =OFFSET(extract!$E$2,MATCH(bd!E22,aEntreg,0),MATCH(bd!G22,listprod,0)) -> 200 | K22: 200
B26: Base complétée par infos récupérées
B27: pour avoir des infos uniques il faut concaténer le code entreprise et la région
B28: la meme opération a été faite pour l'extraction, les formules sont créées une fois pour toutes et sotn dans tables
B29: bien renommer les zones dans extract ( voir commentaires) et les tables ( il vaut mieux insérer une cellule avant le dernier nom d'une liste car le nom de la liste s'ajuste)
B30: j'ai conservé les produits en littéral mais on peut aussi les remplacer par leur code, ce qui évite les erreurs de frappe

Sheet extract
A2: ExtEnt | B2: ExtReg | C2: acodent | D2: acodreg | E2: aEntreg | F2: Produit 1 | G2: Produit 2 | H2: Produit 3 | I2: Produit 4 | J2: Produit 5 | K2: Produit 6 | L2: Produit 7 | M2: Produit 8 | N2: Produit 9
A3: laf | B3: rhône | C3: =OFFSET(Tables!$K$13,MATCH(extract!A3,noment,0),-1) -> 440 | D3: =IFERROR(OFFSET(Tables!$H$13,MATCH(extract!B3,Nreg,0),-1),"abs") -> 10 | E3: =IF(OR(C3="abs",D3="abs"),"",C3&"-"&D3) -> 440-10 | G3: 1500 | K3: 3000
A4: laf | B4: pays de loire | C4: =OFFSET(Tables!$K$13,MATCH(extract!A4,noment,0),-1) -> 440 | D4: =IFERROR(OFFSET(Tables!$H$13,MATCH(extract!B4,Nreg,0),-1),"abs") -> 2 | E4: =C4&"-"&D4 -> 440-2 | H4: 45000 | M4: 50
A5: GS | B5: Lorraine | C5: =IFERROR(OFFSET(Tables!$K$13,MATCH(extract!A5,noment,0),-1),"abs") -> abs | D5: =IFERROR(OFFSET(Tables!$H$13,MATCH(extract!B5,Nreg,0),-1),"abs") -> 9 | E5: =C5&"-"&D5 -> abs-9
A6: hol | B6: Nord | C6: =IFERROR(OFFSET(Tables!$K$13,MATCH(extract!A6,noment,0),-1),"abs") -> 35063 | D6: =IFERROR(OFFSET(Tables!$H$13,MATCH(extract!B6,Nreg,0),-1),"abs") -> 8 | E6: =C6&"-"&D6 -> 35063-8 | I6: 8856 | K6: 22100 | N6: 223
A7: st georges | B7: Poitou | C7: =IFERROR(OFFSET(Tables!$K$13,MATCH(extract!A7,noment,0),-1),"abs") -> 215 | D7: =IFERROR(OFFSET(Tables!$H$13,MATCH(extract!B7,Nreg,0),-1),"abs") -> 19 | E7: =C7&"-"&D7 -> 215-19 | M7: 4425
A8: moulin | B8: provence | C8: =IFERROR(OFFSET(Tables!$K$13,MATCH(extract!A8,noment,0),-1),"abs") -> 22100 | D8: =IFERROR(OFFSET(Tables!$H$13,MATCH(extract!B8,Nreg,0),-1),"abs") -> 15 | E8: =C8&"-"&D8 -> 22100-15
A9: moulin | B9: Lorraine | C9: =IFERROR(OFFSET(Tables!$K$13,MATCH(extract!A9,noment,0),-1),"abs") -> 22100 | D9: =IFERROR(OFFSET(Tables!$H$13,MATCH(extract!B9,Nreg,0),-1),"abs") -> 9 | E9: =C9&"-"&D9 -> 22100-9 | G9: 4258
A10: moulin | B10: alsace | C10: =IFERROR(OFFSET(Tables!$K$13,MATCH(extract!A10,noment,0),-1),"abs") -> 22100 | D10: =IFERROR(OFFSET(Tables!$H$13,MATCH(extract!B10,Nreg,0),-1),"abs") -> 1 | E10: =C10&"-"&D10 -> 22100-1 | F10: 425 | I10: 800 | K10: 5000 | M10: 600
A11: satma | B11: ile de France | C11: =IFERROR(OFFSET(Tables!$K$13,MATCH(extract!A11,noment,0),-1),"abs") -> 17343 | D11: =IFERROR(OFFSET(Tables!$H$13,MATCH(extract!B11,Nreg,0),-1),"abs") -> 7 | E11: =C11&"-"&D11 -> 17343-7 | N11: 5882
A12: trm | B12: ile de France | C12: =IFERROR(OFFSET(Tables!$K$13,MATCH(extract!A12,noment,0),-1),"abs") -> abs | D12: =IFERROR(OFFSET(Tables!$H$13,MATCH(extract!B12,Nreg,0),-1),"abs") -> 7 | E12: =C12&"-"&D12 -> abs-7
A13: sag | B13: Lorraine | C13: =IFERROR(OFFSET(Tables!$K$13,MATCH(extract!A13,noment,0),-1),"abs") -> 12450 | D13: =IFERROR(OFFSET(Tables!$H$13,MATCH(extract!B13,Nreg,0),-1),"abs") -> 9 | E13: =C13&"-"&D13 -> 12450-9 | G13: 225
A14: sag | B14: midi pyrénées | C14: =IFERROR(OFFSET(Tables!$K$13,MATCH(extract!A14,noment,0),-1),"abs") -> 12450 | D14: =IFERROR(OFFSET(Tables!$H$13,MATCH(extract!B14,Nreg,0),-1),"abs") -> 17 | E14: =C14&"-"&D14 -> 12450-17 | I14: 5000 | L14: 46 | N14: 200

Sheet Tables
B2: formules
A4: Code_Ent | B4: Entreprise | C4: Cod_Region | D4: Region | E4: codentreg | F4: CodProduits | G4: Produits | H4: Production Janvier 2014
A5: 440 | B5: =OFFSET(Tables!$J$13,MATCH(bd!A5,cent,0),1) -> laf | C5: 10 | D5: =OFFSET(Tables!$G$13,MATCH(C5,creg,0),1) -> rhône | E5: =A5&"-"&C5 -> 440-10 | F5: 430 | G5: =OFFSET(Tables!$D$13,MATCH(bd!F5,cprod,0),1) -> Produit 6 | H5: =OFFSET(extract!$E$2,MATCH(bd!E5,aEntreg,0),MATCH(bd!G5,listprod,0)) -> 3000
A7: ExtEnt | B7: ExtReg | C7: acodent | D7: acodreg | E7: aEntreg | F7: Produit 1 | G7: Produit 2 | H7: Produit 3 | I7: Produit 4 | J7: Produit 5 | K7: Produit 6 | L7: Produit 7 | M7: Produit 8 | N7: Produit 9
A8: laf | B8: rhône | C8: =OFFSET(Tables!$K$13,MATCH(extract!A8,noment,0),-1) -> 22100 | D8: =IFERROR(OFFSET(Tables!$H$13,MATCH(extract!B8,Nreg,0),-1),"abs") -> 15 | E8: =IF(OR(C8="abs",D8="abs"),"",C8&"-"&D8) -> 22100-15 | G8: 1500 | K8: 3000
D13: cprod | E13: nprod | G13: creg | H13: Nreg | J13: cent | K13: noment
D14: 420 | E14: Produit 1 | G14: 10 | H14: rhône | J14: 440 | K14: laf
D15: 430 | E15: Produit 2 | G15: 2 | H15: pays de loire | J15: 35063 | K15: hol
D16: 440 | E16: Produit 3 | G16: 9 | H16: lorraine | J16: 215 | K16: st georges
D17: 450 | E17: Produit 4 | G17: 8 | H17: nord | J17: 22100 | K17: moulin
D18: 4214059 | E18: Produit 5 | G18: 19 | H18: poitou | J18: 17343 | K18: satma
D19: 901 | E19: Produit 6 | G19: 15 | H19: provence | J19: 12450 | K19: sag
D20: 4210350 | E20: Produit 7 | G20: 1 | H20: alsace
D21: 460 | E21: Produit 8 | G21: 7 | H21: ile de France
D22: 423 | E22: Produit 9 | G22: 17 | H22: midi pyrénées
