Workbook
Name Clients: 'Recettes par client'!$A$9:$A$13
Name Code: 'Tableaux Recettes'!$D$5:$D$12
Name CodePrest: DONNEES!$A$4:$A$143
Name Intitulé: DONNEES!$B$4:$B$143
Name Jour: 'Tableaux Recettes'!$A$5:$A$12
Name Libellé: 'Tableaux Recettes'!$E$5:$E$12
Name Libellé: DONNEES!$B$4:$B$143
Name Mode_Rglt: 'Tableaux Recettes'!$J$5:$J$12
Name Mois: 'Tableaux Recettes'!$B$5:$B$12
Name Nature: DONNEES!$D$4:$D$143
Name NBP: DONNEES!$E$4:$E$143
Name Nom_Client: 'Tableaux Recettes'!$C$5:$C$12
Name PrestRev: 'Tableaux Recettes'!$F$5:$F$12
Name Pu_TTC: 'Tableaux Recettes'!$G$5:$G$12
Name Total_Rglt: 'Tableaux Recettes'!$K$5:$K$12
Name Total_TTC: 'Tableaux Recettes'!$I$5:$I$12
Name ttc1_: DONNEES!$C$4:$C$143
Name Unité: 'Tableaux Recettes'!$H$5:$H$12
Name Valeur: DONNEES!$F$4:$F$143

Sheet Tableaux Recettes
B1: SAISIE DES RECETTES JOURNALIERES
A4: Jour | B4: Mois | C4: Nom-Client | D4: Code | E4: Libellé | F4: PrestRev | G4: Pu_TTC | H4: Unité | I4: Total_TTC | J4: Mode_Rglt | K4: Total_Rglt
A5: 41760 | B5: =MONTH(A5) -> 5 | C5: DUPONT | D5: EF18 | E5: =IFERROR(OFFSET(DONNEES!$A$3,MATCH('Tableaux Recettes'!$D5,CodePrest,0),1),"Code Abs") -> Coupe - 18 ans | F5: =IFERROR(OFFSET(DONNEES!$A$3,MATCH('Tableaux Recettes'!$D5,CodePrest,0),3),"Code Abs") -> P | G5: =IFERROR(OFFSET(DONNEES!$A$3,MATCH('Tableaux Recettes'!$D5,CodePrest,0),2),"Code Abs") -> 21 | H5: 3 | I5: =IF(H5>0,G5*H5,"") -> 63 | J5: CHQ | K5: =IF(AND(C5=C6,A5=A6),0,SUMIFS(Total_TTC,Nom_Client,C5,Jour,A5)) -> 63
A6: 41761 | B6: =MONTH(A6) -> 5 | C6: Dunoir | D6: EF18 | E6: =IFERROR(OFFSET(DONNEES!$A$3,MATCH('Tableaux Recettes'!$D6,CodePrest,0),1),"Code Abs") -> Coupe - 18 ans | F6: =IFERROR(OFFSET(DONNEES!$A$3,MATCH('Tableaux Recettes'!$D6,CodePrest,0),3),"Code Abs") -> P | G6: =IFERROR(OFFSET(DONNEES!$A$3,MATCH('Tableaux Recettes'!$D6,CodePrest,0),2),"Code Abs") -> 21 | H6: 1 | I6: =IF(H6>0,G6*H6,"") -> 21 | J6: ESP | K6: =IF(AND(C6=C7,A6=A7),0,SUMIFS(Total_TTC,Nom_Client,C6,Jour,A6)) -> 21
A7: 41769 | B7: =MONTH(A7) -> 5 | C7: Dunoir | D7: DOUCSavondoucenature100g | E7: =IFERROR(OFFSET(DONNEES!$A$3,MATCH('Tableaux Recettes'!$D7,CodePrest,0),1),"Code Abs") -> DOUCE NATURE Savon douce nature 100g | F7: =IFERROR(OFFSET(DONNEES!$A$3,MATCH('Tableaux Recettes'!$D7,CodePrest,0),3),"Code Abs") -> RV | G7: =IFERROR(OFFSET(DONNEES!$A$3,MATCH('Tableaux Recettes'!$D7,CodePrest,0),2),"Code Abs") -> 1 | H7: 3 | I7: =IF(H7>0,G7*H7,"") -> 3 | J7: CHQ | K7: =IF(AND(C7=C8,A7=A8),0,SUMIFS(Total_TTC,Nom_Client,C7,Jour,A7)) -> 3
A8: 41793 | B8: =MONTH(A8) -> 6 | C8: Blanc | D8: FARGILE | E8: =IFERROR(OFFSET(DONNEES!$A$3,MATCH('Tableaux Recettes'!$D8,CodePrest,0),1),"Code Abs") -> 1 FORFAIT ARGILE (4 SOINS -5%) | F8: =IFERROR(OFFSET(DONNEES!$A$3,MATCH('Tableaux Recettes'!$D8,CodePrest,0),3),"Code Abs") -> P | G8: =IFERROR(OFFSET(DONNEES!$A$3,MATCH('Tableaux Recettes'!$D8,CodePrest,0),2),"Code Abs") -> 179 | H8: 1 | I8: =IF(H8>0,G8*H8,"") -> 179 | J8: CB | K8: =IF(AND(C8=C9,A8=A9),0,SUMIFS(Total_TTC,Nom_Client,C8,Jour,A8)) -> 0
A9: 41793 | B9: =MONTH(A9) -> 6 | C9: Blanc | D9: FSOIN IND | E9: =IFERROR(OFFSET(DONNEES!$A$3,MATCH('Tableaux Recettes'!$D9,CodePrest,0),1),"Code Abs") -> Soin indiana ou conditioner | F9: =IFERROR(OFFSET(DONNEES!$A$3,MATCH('Tableaux Recettes'!$D9,CodePrest,0),3),"Code Abs") -> P | G9: =IFERROR(OFFSET(DONNEES!$A$3,MATCH('Tableaux Recettes'!$D9,CodePrest,0),2),"Code Abs") -> 3.2 | H9: 2 | I9: =IF(H9>0,G9*H9,"") -> 6.4 | J9: ESP | K9: =IF(AND(C9=C10,A9=A10),0,SUMIFS(Total_TTC,Nom_Client,C9,Jour,A9)) -> 185.4
A10: 41794 | B10: =MONTH(A10) -> 6 | C10: Dunoir | D10: EF18 | E10: =IFERROR(OFFSET(DONNEES!$A$3,MATCH('Tableaux Recettes'!$D10,CodePrest,0),1),"Code Abs") -> Coupe - 18 ans | F10: =IFERROR(OFFSET(DONNEES!$A$3,MATCH('Tableaux Recettes'!$D10,CodePrest,0),3),"Code Abs") -> P | G10: =IFERROR(OFFSET(DONNEES!$A$3,MATCH('Tableaux Recettes'!$D10,CodePrest,0),2),"Code Abs") -> 21 | H10: 1 | I10: =IF(H10>0,G10*H10,"") -> 21 | J10: ESP | K10: =IF(AND(C10=C11,A10=A11),0,SUMIFS(Total_TTC,Nom_Client,C10,Jour,A10)) -> 21
A11: 41794 | B11: =MONTH(A11) -> 6 | C11: Paul | D11: EF5 | E11: =IFERROR(OFFSET(DONNEES!$A$3,MATCH('Tableaux Recettes'!$D11,CodePrest,0),1),"Code Abs") -> Coupe - 5 ans | F11: =IFERROR(OFFSET(DONNEES!$A$3,MATCH('Tableaux Recettes'!$D11,CodePrest,0),3),"Code Abs") -> P | G11: =IFERROR(OFFSET(DONNEES!$A$3,MATCH('Tableaux Recettes'!$D11,CodePrest,0),2),"Code Abs") -> 9 | H11: 1 | I11: =IF(H11>0,G11*H11,"") -> 9 | J11: ESP | K11: =IF(AND(C11=C12,A11=A12),0,SUMIFS(Total_TTC,Nom_Client,C11,Jour,A11)) -> 9
A12: 41795 | B12: =MONTH(A12) -> 6 | C12: Emile | D12: EF18 | E12: =IFERROR(OFFSET(DONNEES!$A$3,MATCH('Tableaux Recettes'!$D12,CodePrest,0),1),"Code Abs") -> Coupe - 18 ans | F12: =IFERROR(OFFSET(DONNEES!$A$3,MATCH('Tableaux Recettes'!$D12,CodePrest,0),3),"Code Abs") -> P | G12: =IFERROR(OFFSET(DONNEES!$A$3,MATCH('Tableaux Recettes'!$D12,CodePrest,0),2),"Code Abs") -> 21 | H12: 1 | I12: =IF(H12>0,G12*H12,"") -> 21 | J12: CHQ | K12: =IF(AND(C12=C13,A12=A13),0,SUMIFS(Total_TTC,Nom_Client,C12,Jour,A12)) -> 21

Sheet Recettes par client
A3: Ca Mensuel | B3: =SUM(Tableau3[janv]) -> 0 | C3: =SUM(Tableau3[févr]) -> 0 | D3: =SUM(Tableau3[mars]) -> 0 | E3: =SUM(Tableau3[avr]) -> 0 | F3: =SUM(Tableau3[mai]) -> 87 | G3: =SUM(Tableau3[juin]) -> 236.4 | H3: =SUM(Tableau3[juil]) -> 0 | I3: =SUM(Tableau3[août]) -> 0 | J3: =SUM(Tableau3[sept]) -> 0 | K3: =SUM(Tableau3[oct]) -> 0 | L3: =SUM(Tableau3[nov]) -> 0 | M3: =SUM(Tableau3[déc]) -> 0
A6: Mois | B6: 1 | C6: 2 | D6: 3 | E6: 4 | F6: 5 | G6: 6 | H6: 7 | I6: 8 | J6: 9 | K6: 10 | L6: 11 | M6: 12
A8: Clients | B8: janv | C8: févr | D8: mars | E8: avr | F8: mai | G8: juin | H8: juil | I8: août | J8: sept | K8: oct | L8: nov | M8: déc
A9: DUPONT | B9: =SUMIFS(Total_TTC,Nom_Client,$A9,Mois,B$6) -> 0 | C9: =SUMIFS(Total_TTC,Nom_Client,$A9,Mois,C$6) -> 0 | D9: =SUMIFS(Total_TTC,Nom_Client,$A9,Mois,D$6) -> 0 | E9: =SUMIFS(Total_TTC,Nom_Client,$A9,Mois,E$6) -> 0 | F9: =SUMIFS(Total_TTC,Nom_Client,$A9,Mois,F$6) -> 63 | G9: =SUMIFS(Total_TTC,Nom_Client,$A9,Mois,G$6) -> 0 | H9: =SUMIFS(Total_TTC,Nom_Client,$A9,Mois,H$6) -> 0 | I9: =SUMIFS(Total_TTC,Nom_Client,$A9,Mois,I$6) -> 0 | ... M9: =SUMIFS(Total_TTC,Nom_Client,$A9,Mois,M$6) -> 0
A10: Dunoir | B10: =SUMIFS(Total_TTC,Nom_Client,$A10,Mois,B$6) -> 0 | C10: =SUMIFS(Total_TTC,Nom_Client,$A10,Mois,C$6) -> 0 | D10: =SUMIFS(Total_TTC,Nom_Client,$A10,Mois,D$6) -> 0 | E10: =SUMIFS(Total_TTC,Nom_Client,$A10,Mois,E$6) -> 0 | F10: =SUMIFS(Total_TTC,Nom_Client,$A10,Mois,F$6) -> 24 | G10: =SUMIFS(Total_TTC,Nom_Client,$A10,Mois,G$6) -> 21 | H10: =SUMIFS(Total_TTC,Nom_Client,$A10,Mois,H$6) -> 0 | I10: =SUMIFS(Total_TTC,Nom_Client,$A10,Mois,I$6) -> 0 | ... M10: =SUMIFS(Total_TTC,Nom_Client,$A10,Mois,M$6) -> 0
A11: Blanc | B11: =SUMIFS(Total_TTC,Nom_Client,$A11,Mois,B$6) -> 0 | C11: =SUMIFS(Total_TTC,Nom_Client,$A11,Mois,C$6) -> 0 | D11: =SUMIFS(Total_TTC,Nom_Client,$A11,Mois,D$6) -> 0 | E11: =SUMIFS(Total_TTC,Nom_Client,$A11,Mois,E$6) -> 0 | F11: =SUMIFS(Total_TTC,Nom_Client,$A11,Mois,F$6) -> 0 | G11: =SUMIFS(Total_TTC,Nom_Client,$A11,Mois,G$6) -> 185.4 | H11: =SUMIFS(Total_TTC,Nom_Client,$A11,Mois,H$6) -> 0 | I11: =SUMIFS(Total_TTC,Nom_Client,$A11,Mois,I$6) -> 0 | ... M11: =SUMIFS(Total_TTC,Nom_Client,$A11,Mois,M$6) -> 0
A12: Paul | B12: =SUMIFS(Total_TTC,Nom_Client,$A12,Mois,B$6) -> 0 | C12: =SUMIFS(Total_TTC,Nom_Client,$A12,Mois,C$6) -> 0 | D12: =SUMIFS(Total_TTC,Nom_Client,$A12,Mois,D$6) -> 0 | E12: =SUMIFS(Total_TTC,Nom_Client,$A12,Mois,E$6) -> 0 | F12: =SUMIFS(Total_TTC,Nom_Client,$A12,Mois,F$6) -> 0 | G12: =SUMIFS(Total_TTC,Nom_Client,$A12,Mois,G$6) -> 9 | H12: =SUMIFS(Total_TTC,Nom_Client,$A12,Mois,H$6) -> 0 | I12: =SUMIFS(Total_TTC,Nom_Client,$A12,Mois,I$6) -> 0 | ... M12: =SUMIFS(Total_TTC,Nom_Client,$A12,Mois,M$6) -> 0
A13: Emile | B13: =SUMIFS(Total_TTC,Nom_Client,$A13,Mois,B$6) -> 0 | C13: =SUMIFS(Total_TTC,Nom_Client,$A13,Mois,C$6) -> 0 | D13: =SUMIFS(Total_TTC,Nom_Client,$A13,Mois,D$6) -> 0 | E13: =SUMIFS(Total_TTC,Nom_Client,$A13,Mois,E$6) -> 0 | F13: =SUMIFS(Total_TTC,Nom_Client,$A13,Mois,F$6) -> 0 | G13: =SUMIFS(Total_TTC,Nom_Client,$A13,Mois,G$6) -> 21 | H13: =SUMIFS(Total_TTC,Nom_Client,$A13,Mois,H$6) -> 0 | I13: =SUMIFS(Total_TTC,Nom_Client,$A13,Mois,I$6) -> 0 | ... M13: =SUMIFS(Total_TTC,Nom_Client,$A13,Mois,M$6) -> 0

Sheet DONNEES
A1: PRODUITS PRESTATIONS ET CA
A3: CodePrest | B3: Intitulé | C3: ttc1 | D3: Nature | E3: NBP | F3: Valeur
A4: EF10 | B4: Coupe - 10 ans | C4: 13 | D4: P | E4: =COUNTIF(Code,DONNEES!$A4) -> 0 | F4: =SUMIF(Code,DONNEES!A4,Total_TTC) -> 0
A5: EF15 | B5: Coupe - 15 ans | C5: 17 | D5: P | E5: =COUNTIF(Code,DONNEES!A5) -> 0 | F5: =SUMIF(Code,DONNEES!A5,Total_TTC) -> 0
A6: EF18 | B6: Coupe - 18 ans | C6: 21 | D6: P | E6: =COUNTIF(Code,DONNEES!A6) -> 4 | F6: =SUMIF(Code,DONNEES!A6,Total_TTC) -> 126
A7: EF5 | B7: Coupe - 5 ans | C7: 9 | D7: P | E7: =COUNTIF(Code,DONNEES!A7) -> 1 | F7: =SUMIF(Code,DONNEES!A7,Total_TTC) -> 9
A8: EG10 | B8: Coupe - 10 ans | C8: 11 | D8: P | E8: =COUNTIF(Code,DONNEES!A8) -> 0 | F8: =SUMIF(Code,DONNEES!A8,Total_TTC) -> 0
A9: EG18 | B9: Coupe - 18 ans | C9: 14 | D9: P | E9: =COUNTIF(Code,DONNEES!A9) -> 0 | F9: =SUMIF(Code,DONNEES!A9,Total_TTC) -> 0
A10: EG5 | B10: Coupe - 5 ans | C10: 9 | D10: P | E10: =COUNTIF(Code,DONNEES!A10) -> 0 | F10: =SUMIF(Code,DONNEES!A10,Total_TTC) -> 0
A11: FARGILE | B11: 1 FORFAIT ARGILE (4 SOINS -5%) | C11: 179 | D11: P | E11: =COUNTIF(Code,DONNEES!A11) -> 1 | F11: =SUMIF(Code,DONNEES!A11,Total_TTC) -> 179
A12: FRITUEL | B12: 1 FORFAIT RITUEL HUILES 4 SOINS (-5%) | C12: 120 | D12: P | E12: =COUNTIF(Code,DONNEES!A12) -> 0 | F12: =SUMIF(Code,DONNEES!A12,Total_TTC) -> 0
A13: FPOSHUIL | B13: 1 POSE huiles gaia | C13: 5.3 | D13: P | E13: =COUNTIF(Code,DONNEES!A13) -> 0 | F13: =SUMIF(Code,DONNEES!A13,Total_TTC) -> 0
A14: FPOSARG | B14: 1 POSE ARGILE | C14: 21 | D14: P | E14: =COUNTIF(Code,DONNEES!A14) -> 0 | F14: =SUMIF(Code,DONNEES!A14,Total_TTC) -> 0
A15: FRITARG | B15: 1 RITUEL ARGILE | C15: 47 | D15: P | E15: =COUNTIF(Code,DONNEES!A15) -> 0 | F15: =SUMIF(Code,DONNEES!A15,Total_TTC) -> 0
A16: FRITHUIL | B16: 1 RITULE HUILES | C16: 31.5 | D16: P | E16: =COUNTIF(Code,DONNEES!A16) -> 0 | F16: =SUMIF(Code,DONNEES!A16,Total_TTC) -> 0
... A143: DOUCShamp.desfamilles | B143: DOUCE NATURE Shampooing des familles | C143: 1 | D143: RV | E143: =COUNTIF(Code,DONNEES!A143) -> 0 | F143: =SUMIF(Code,DONNEES!A143,Total_TTC) -> 0

Sheet Recap rect
C1: RECAP MENSUELLE
C3: PRESTATION | G3: REVENTE
C4: CHQ | D4: ESP | E4: CB | F4: S/Total | G4: CHQ | H4: ESP | I4: CB | J4: S/Total | K4: Total
B5: 41640 | C5: =SUMIFS(Total_TTC,Mois,MONTH($B5),Mode_Rglt,C$4,PrestRev,"P") -> 0 | D5: =SUMIFS(Total_TTC,Mois,MONTH($B5),Mode_Rglt,D$4,PrestRev,"P") -> 0 | E5: =SUMIFS(Total_TTC,Mois,MONTH($B5),Mode_Rglt,E$4,PrestRev,"P") -> 0 | F5: =SUM(C5:E5) -> 0 | G5: =SUMIFS(Total_TTC,Mois,MONTH($B5),Mode_Rglt,G$4,PrestRev,"RV") -> 0 | H5: =SUMIFS(Total_TTC,Mois,MONTH($B5),Mode_Rglt,H$4,PrestRev,"RV") -> 0 | I5: =SUMIFS(Total_TTC,Mois,MONTH($B5),Mode_Rglt,I$4,PrestRev,"RV") -> 0 | J5: =SUM(G5:I5) -> 0 | K5: =J5+F5 -> 0
B6: 41671 | C6: =SUMIFS(Total_TTC,Mois,MONTH($B6),Mode_Rglt,C$4,PrestRev,"P") -> 0 | D6: =SUMIFS(Total_TTC,Mois,MONTH($B6),Mode_Rglt,D$4,PrestRev,"P") -> 0 | E6: =SUMIFS(Total_TTC,Mois,MONTH($B6),Mode_Rglt,E$4,PrestRev,"P") -> 0 | F6: =SUM(C6:E6) -> 0 | G6: =SUMIFS(Total_TTC,Mois,MONTH($B6),Mode_Rglt,G$4,PrestRev,"RV") -> 0 | H6: =SUMIFS(Total_TTC,Mois,MONTH($B6),Mode_Rglt,H$4,PrestRev,"RV") -> 0 | I6: =SUMIFS(Total_TTC,Mois,MONTH($B6),Mode_Rglt,I$4,PrestRev,"RV") -> 0 | J6: =SUM(G6:I6) -> 0 | K6: =J6+F6 -> 0
B7: 41699 | C7: =SUMIFS(Total_TTC,Mois,MONTH($B7),Mode_Rglt,C$4,PrestRev,"P") -> 0 | D7: =SUMIFS(Total_TTC,Mois,MONTH($B7),Mode_Rglt,D$4,PrestRev,"P") -> 0 | E7: =SUMIFS(Total_TTC,Mois,MONTH($B7),Mode_Rglt,E$4,PrestRev,"P") -> 0 | F7: =SUM(C7:E7) -> 0 | G7: =SUMIFS(Total_TTC,Mois,MONTH($B7),Mode_Rglt,G$4,PrestRev,"RV") -> 0 | H7: =SUMIFS(Total_TTC,Mois,MONTH($B7),Mode_Rglt,H$4,PrestRev,"RV") -> 0 | I7: =SUMIFS(Total_TTC,Mois,MONTH($B7),Mode_Rglt,I$4,PrestRev,"RV") -> 0 | J7: =SUM(G7:I7) -> 0 | K7: =J7+F7 -> 0
B8: 41730 | C8: =SUMIFS(Total_TTC,Mois,MONTH($B8),Mode_Rglt,C$4,PrestRev,"P") -> 0 | D8: =SUMIFS(Total_TTC,Mois,MONTH($B8),Mode_Rglt,D$4,PrestRev,"P") -> 0 | E8: =SUMIFS(Total_TTC,Mois,MONTH($B8),Mode_Rglt,E$4,PrestRev,"P") -> 0 | F8: =SUM(C8:E8) -> 0 | G8: =SUMIFS(Total_TTC,Mois,MONTH($B8),Mode_Rglt,G$4,PrestRev,"RV") -> 0 | H8: =SUMIFS(Total_TTC,Mois,MONTH($B8),Mode_Rglt,H$4,PrestRev,"RV") -> 0 | I8: =SUMIFS(Total_TTC,Mois,MONTH($B8),Mode_Rglt,I$4,PrestRev,"RV") -> 0 | J8: =SUM(G8:I8) -> 0 | K8: =J8+F8 -> 0
B9: 41760 | C9: =SUMIFS(Total_TTC,Mois,MONTH($B9),Mode_Rglt,C$4,PrestRev,"P") -> 63 | D9: =SUMIFS(Total_TTC,Mois,MONTH($B9),Mode_Rglt,D$4,PrestRev,"P") -> 21 | E9: =SUMIFS(Total_TTC,Mois,MONTH($B9),Mode_Rglt,E$4,PrestRev,"P") -> 0 | F9: =SUM(C9:E9) -> 84 | G9: =SUMIFS(Total_TTC,Mois,MONTH($B9),Mode_Rglt,G$4,PrestRev,"RV") -> 3 | H9: =SUMIFS(Total_TTC,Mois,MONTH($B9),Mode_Rglt,H$4,PrestRev,"RV") -> 0 | I9: =SUMIFS(Total_TTC,Mois,MONTH($B9),Mode_Rglt,I$4,PrestRev,"RV") -> 0 | J9: =SUM(G9:I9) -> 3 | K9: =J9+F9 -> 87
B10: 41791 | C10: =SUMIFS(Total_TTC,Mois,MONTH($B10),Mode_Rglt,C$4,PrestRev,"P") -> 21 | D10: =SUMIFS(Total_TTC,Mois,MONTH($B10),Mode_Rglt,D$4,PrestRev,"P") -> 36.4 | E10: =SUMIFS(Total_TTC,Mois,MONTH($B10),Mode_Rglt,E$4,PrestRev,"P") -> 179 | F10: =SUM(C10:E10) -> 236.4 | G10: =SUMIFS(Total_TTC,Mois,MONTH($B10),Mode_Rglt,G$4,PrestRev,"RV") -> 0 | H10: =SUMIFS(Total_TTC,Mois,MONTH($B10),Mode_Rglt,H$4,PrestRev,"RV") -> 0 | I10: =SUMIFS(Total_TTC,Mois,MONTH($B10),Mode_Rglt,I$4,PrestRev,"RV") -> 0 | J10: =SUM(G10:I10) -> 0 | K10: =J10+F10 -> 236.4
B11: 41821 | C11: =SUMIFS(Total_TTC,Mois,MONTH($B11),Mode_Rglt,C$4,PrestRev,"P") -> 0 | D11: =SUMIFS(Total_TTC,Mois,MONTH($B11),Mode_Rglt,D$4,PrestRev,"P") -> 0 | E11: =SUMIFS(Total_TTC,Mois,MONTH($B11),Mode_Rglt,E$4,PrestRev,"P") -> 0 | F11: =SUM(C11:E11) -> 0 | G11: =SUMIFS(Total_TTC,Mois,MONTH($B11),Mode_Rglt,G$4,PrestRev,"RV") -> 0 | H11: =SUMIFS(Total_TTC,Mois,MONTH($B11),Mode_Rglt,H$4,PrestRev,"RV") -> 0 | I11: =SUMIFS(Total_TTC,Mois,MONTH($B11),Mode_Rglt,I$4,PrestRev,"RV") -> 0 | J11: =SUM(G11:I11) -> 0 | K11: =J11+F11 -> 0
B12: 41852 | C12: =SUMIFS(Total_TTC,Mois,MONTH($B12),Mode_Rglt,C$4,PrestRev,"P") -> 0 | D12: =SUMIFS(Total_TTC,Mois,MONTH($B12),Mode_Rglt,D$4,PrestRev,"P") -> 0 | E12: =SUMIFS(Total_TTC,Mois,MONTH($B12),Mode_Rglt,E$4,PrestRev,"P") -> 0 | F12: =SUM(C12:E12) -> 0 | G12: =SUMIFS(Total_TTC,Mois,MONTH($B12),Mode_Rglt,G$4,PrestRev,"RV") -> 0 | H12: =SUMIFS(Total_TTC,Mois,MONTH($B12),Mode_Rglt,H$4,PrestRev,"RV") -> 0 | I12: =SUMIFS(Total_TTC,Mois,MONTH($B12),Mode_Rglt,I$4,PrestRev,"RV") -> 0 | J12: =SUM(G12:I12) -> 0 | K12: =J12+F12 -> 0
B13: 41883 | C13: =SUMIFS(Total_TTC,Mois,MONTH($B13),Mode_Rglt,C$4,PrestRev,"P") -> 0 | D13: =SUMIFS(Total_TTC,Mois,MONTH($B13),Mode_Rglt,D$4,PrestRev,"P") -> 0 | E13: =SUMIFS(Total_TTC,Mois,MONTH($B13),Mode_Rglt,E$4,PrestRev,"P") -> 0 | F13: =SUM(C13:E13) -> 0 | G13: =SUMIFS(Total_TTC,Mois,MONTH($B13),Mode_Rglt,G$4,PrestRev,"RV") -> 0 | H13: =SUMIFS(Total_TTC,Mois,MONTH($B13),Mode_Rglt,H$4,PrestRev,"RV") -> 0 | I13: =SUMIFS(Total_TTC,Mois,MONTH($B13),Mode_Rglt,I$4,PrestRev,"RV") -> 0 | J13: =SUM(G13:I13) -> 0 | K13: =J13+F13 -> 0
B14: 41913 | C14: =SUMIFS(Total_TTC,Mois,MONTH($B14),Mode_Rglt,C$4,PrestRev,"P") -> 0 | D14: =SUMIFS(Total_TTC,Mois,MONTH($B14),Mode_Rglt,D$4,PrestRev,"P") -> 0 | E14: =SUMIFS(Total_TTC,Mois,MONTH($B14),Mode_Rglt,E$4,PrestRev,"P") -> 0 | F14: =SUM(C14:E14) -> 0 | G14: =SUMIFS(Total_TTC,Mois,MONTH($B14),Mode_Rglt,G$4,PrestRev,"RV") -> 0 | H14: =SUMIFS(Total_TTC,Mois,MONTH($B14),Mode_Rglt,H$4,PrestRev,"RV") -> 0 | I14: =SUMIFS(Total_TTC,Mois,MONTH($B14),Mode_Rglt,I$4,PrestRev,"RV") -> 0 | J14: =SUM(G14:I14) -> 0 | K14: =J14+F14 -> 0
B15: 41944 | C15: =SUMIFS(Total_TTC,Mois,MONTH($B15),Mode_Rglt,C$4,PrestRev,"P") -> 0 | D15: =SUMIFS(Total_TTC,Mois,MONTH($B15),Mode_Rglt,D$4,PrestRev,"P") -> 0 | E15: =SUMIFS(Total_TTC,Mois,MONTH($B15),Mode_Rglt,E$4,PrestRev,"P") -> 0 | F15: =SUM(C15:E15) -> 0 | G15: =SUMIFS(Total_TTC,Mois,MONTH($B15),Mode_Rglt,G$4,PrestRev,"RV") -> 0 | H15: =SUMIFS(Total_TTC,Mois,MONTH($B15),Mode_Rglt,H$4,PrestRev,"RV") -> 0 | I15: =SUMIFS(Total_TTC,Mois,MONTH($B15),Mode_Rglt,I$4,PrestRev,"RV") -> 0 | J15: =SUM(G15:I15) -> 0 | K15: =J15+F15 -> 0
B16: 41974 | C16: =SUMIFS(Total_TTC,Mois,MONTH($B16),Mode_Rglt,C$4,PrestRev,"P") -> 0 | D16: =SUMIFS(Total_TTC,Mois,MONTH($B16),Mode_Rglt,D$4,PrestRev,"P") -> 0 | E16: =SUMIFS(Total_TTC,Mois,MONTH($B16),Mode_Rglt,E$4,PrestRev,"P") -> 0 | F16: =SUM(C16:E16) -> 0 | G16: =SUMIFS(Total_TTC,Mois,MONTH($B16),Mode_Rglt,G$4,PrestRev,"RV") -> 0 | H16: =SUMIFS(Total_TTC,Mois,MONTH($B16),Mode_Rglt,H$4,PrestRev,"RV") -> 0 | I16: =SUMIFS(Total_TTC,Mois,MONTH($B16),Mode_Rglt,I$4,PrestRev,"RV") -> 0 | J16: =SUM(G16:I16) -> 0 | K16: =J16+F16 -> 0
C17: =SUM(C5:C16) -> 84 | D17: =SUM(D5:D16) -> 57.4 | E17: =SUM(E5:E16) -> 179 | F17: =SUM(F5:F16) -> 320.4 | G17: =SUM(G5:G16) -> 3 | H17: =SUM(H5:H16) -> 0 | I17: =SUM(I5:I16) -> 0 | J17: =SUM(J5:J16) -> 3 | K17: =SUM(K5:K16) -> 323.4
A23: LES RECETTES JOURNALIERES
C25: PRESTATION | G25: REVENTE
A26: Jour | B26: TOTAL | C26: CHQ | D26: ESP | E26: CB | F26: S/Total | G26: CHQ | H26: ESP | I26: CB | J26: S/Total
A27: 41760 | B27: =J27+F27 -> 63 | C27: =SUMIFS(Total_TTC,Jour,$A27,PrestRev,"P",Mode_Rglt,C$26) -> 63 | D27: =SUMIFS(Total_TTC,Jour,$A27,PrestRev,"P",Mode_Rglt,D$26) -> 0 | E27: =SUMIFS(Total_TTC,Jour,$A27,PrestRev,"P",Mode_Rglt,E$26) -> 0 | F27: =SUM(C27:E27) -> 63 | G27: =SUMIFS(Total_TTC,Jour,$A27,PrestRev,"rv",Mode_Rglt,G$26) -> 0 | H27: =SUMIFS(Total_TTC,Jour,$A27,PrestRev,"rv",Mode_Rglt,H$26) -> 0 | I27: =SUMIFS(Total_TTC,Jour,$A27,PrestRev,"rv",Mode_Rglt,I$26) -> 0 | J27: =SUM(G27:I27) -> 0
A28: 41761 | B28: =J28+F28 -> 21 | C28: =SUMIFS(Total_TTC,Jour,$A28,PrestRev,"P",Mode_Rglt,C$26) -> 0 | D28: =SUMIFS(Total_TTC,Jour,$A28,PrestRev,"P",Mode_Rglt,D$26) -> 21 | E28: =SUMIFS(Total_TTC,Jour,$A28,PrestRev,"P",Mode_Rglt,E$26) -> 0 | F28: =SUM(C28:E28) -> 21 | G28: =SUMIFS(Total_TTC,Jour,$A28,PrestRev,"rv",Mode_Rglt,G$26) -> 0 | H28: =SUMIFS(Total_TTC,Jour,$A28,PrestRev,"rv",Mode_Rglt,H$26) -> 0 | I28: =SUMIFS(Total_TTC,Jour,$A28,PrestRev,"rv",Mode_Rglt,I$26) -> 0 | J28: =SUM(G28:I28) -> 0
A29: 41762 | B29: =J29+F29 -> 0 | C29: =SUMIFS(Total_TTC,Jour,$A29,PrestRev,"P",Mode_Rglt,C$26) -> 0 | D29: =SUMIFS(Total_TTC,Jour,$A29,PrestRev,"P",Mode_Rglt,D$26) -> 0 | E29: =SUMIFS(Total_TTC,Jour,$A29,PrestRev,"P",Mode_Rglt,E$26) -> 0 | F29: =SUM(C29:E29) -> 0 | G29: =SUMIFS(Total_TTC,Jour,$A29,PrestRev,"rv",Mode_Rglt,G$26) -> 0 | H29: =SUMIFS(Total_TTC,Jour,$A29,PrestRev,"rv",Mode_Rglt,H$26) -> 0 | I29: =SUMIFS(Total_TTC,Jour,$A29,PrestRev,"rv",Mode_Rglt,I$26) -> 0 | J29: =SUM(G29:I29) -> 0
A30: 41763 | B30: =J30+F30 -> 0 | C30: =SUMIFS(Total_TTC,Jour,$A30,PrestRev,"P",Mode_Rglt,C$26) -> 0 | D30: =SUMIFS(Total_TTC,Jour,$A30,PrestRev,"P",Mode_Rglt,D$26) -> 0 | E30: =SUMIFS(Total_TTC,Jour,$A30,PrestRev,"P",Mode_Rglt,E$26) -> 0 | F30: =SUM(C30:E30) -> 0 | G30: =SUMIFS(Total_TTC,Jour,$A30,PrestRev,"rv",Mode_Rglt,G$26) -> 0 | H30: =SUMIFS(Total_TTC,Jour,$A30,PrestRev,"rv",Mode_Rglt,H$26) -> 0 | I30: =SUMIFS(Total_TTC,Jour,$A30,PrestRev,"rv",Mode_Rglt,I$26) -> 0 | J30: =SUM(G30:I30) -> 0
A31: 41764 | B31: =J31+F31 -> 0 | C31: =SUMIFS(Total_TTC,Jour,$A31,PrestRev,"P",Mode_Rglt,C$26) -> 0 | D31: =SUMIFS(Total_TTC,Jour,$A31,PrestRev,"P",Mode_Rglt,D$26) -> 0 | E31: =SUMIFS(Total_TTC,Jour,$A31,PrestRev,"P",Mode_Rglt,E$26) -> 0 | F31: =SUM(C31:E31) -> 0 | G31: =SUMIFS(Total_TTC,Jour,$A31,PrestRev,"rv",Mode_Rglt,G$26) -> 0 | H31: =SUMIFS(Total_TTC,Jour,$A31,PrestRev,"rv",Mode_Rglt,H$26) -> 0 | I31: =SUMIFS(Total_TTC,Jour,$A31,PrestRev,"rv",Mode_Rglt,I$26) -> 0 | J31: =SUM(G31:I31) -> 0
A32: 41765 | B32: =J32+F32 -> 0 | C32: =SUMIFS(Total_TTC,Jour,$A32,PrestRev,"P",Mode_Rglt,C$26) -> 0 | D32: =SUMIFS(Total_TTC,Jour,$A32,PrestRev,"P",Mode_Rglt,D$26) -> 0 | E32: =SUMIFS(Total_TTC,Jour,$A32,PrestRev,"P",Mode_Rglt,E$26) -> 0 | F32: =SUM(C32:E32) -> 0 | G32: =SUMIFS(Total_TTC,Jour,$A32,PrestRev,"rv",Mode_Rglt,G$26) -> 0 | H32: =SUMIFS(Total_TTC,Jour,$A32,PrestRev,"rv",Mode_Rglt,H$26) -> 0 | I32: =SUMIFS(Total_TTC,Jour,$A32,PrestRev,"rv",Mode_Rglt,I$26) -> 0 | J32: =SUM(G32:I32) -> 0
A33: 41766 | B33: =J33+F33 -> 0 | C33: =SUMIFS(Total_TTC,Jour,$A33,PrestRev,"P",Mode_Rglt,C$26) -> 0 | D33: =SUMIFS(Total_TTC,Jour,$A33,PrestRev,"P",Mode_Rglt,D$26) -> 0 | E33: =SUMIFS(Total_TTC,Jour,$A33,PrestRev,"P",Mode_Rglt,E$26) -> 0 | F33: =SUM(C33:E33) -> 0 | G33: =SUMIFS(Total_TTC,Jour,$A33,PrestRev,"rv",Mode_Rglt,G$26) -> 0 | H33: =SUMIFS(Total_TTC,Jour,$A33,PrestRev,"rv",Mode_Rglt,H$26) -> 0 | I33: =SUMIFS(Total_TTC,Jour,$A33,PrestRev,"rv",Mode_Rglt,I$26) -> 0 | J33: =SUM(G33:I33) -> 0
A34: 41767 | B34: =J34+F34 -> 0 | C34: =SUMIFS(Total_TTC,Jour,$A34,PrestRev,"P",Mode_Rglt,C$26) -> 0 | D34: =SUMIFS(Total_TTC,Jour,$A34,PrestRev,"P",Mode_Rglt,D$26) -> 0 | E34: =SUMIFS(Total_TTC,Jour,$A34,PrestRev,"P",Mode_Rglt,E$26) -> 0 | F34: =SUM(C34:E34) -> 0 | G34: =SUMIFS(Total_TTC,Jour,$A34,PrestRev,"rv",Mode_Rglt,G$26) -> 0 | H34: =SUMIFS(Total_TTC,Jour,$A34,PrestRev,"rv",Mode_Rglt,H$26) -> 0 | I34: =SUMIFS(Total_TTC,Jour,$A34,PrestRev,"rv",Mode_Rglt,I$26) -> 0 | J34: =SUM(G34:I34) -> 0
A35: 41768 | B35: =J35+F35 -> 0 | C35: =SUMIFS(Total_TTC,Jour,$A35,PrestRev,"P",Mode_Rglt,C$26) -> 0 | D35: =SUMIFS(Total_TTC,Jour,$A35,PrestRev,"P",Mode_Rglt,D$26) -> 0 | E35: =SUMIFS(Total_TTC,Jour,$A35,PrestRev,"P",Mode_Rglt,E$26) -> 0 | F35: =SUM(C35:E35) -> 0 | G35: =SUMIFS(Total_TTC,Jour,$A35,PrestRev,"rv",Mode_Rglt,G$26) -> 0 | H35: =SUMIFS(Total_TTC,Jour,$A35,PrestRev,"rv",Mode_Rglt,H$26) -> 0 | I35: =SUMIFS(Total_TTC,Jour,$A35,PrestRev,"rv",Mode_Rglt,I$26) -> 0 | J35: =SUM(G35:I35) -> 0
A36: 41769 | B36: =J36+F36 -> 3 | C36: =SUMIFS(Total_TTC,Jour,$A36,PrestRev,"P",Mode_Rglt,C$26) -> 0 | D36: =SUMIFS(Total_TTC,Jour,$A36,PrestRev,"P",Mode_Rglt,D$26) -> 0 | E36: =SUMIFS(Total_TTC,Jour,$A36,PrestRev,"P",Mode_Rglt,E$26) -> 0 | F36: =SUM(C36:E36) -> 0 | G36: =SUMIFS(Total_TTC,Jour,$A36,PrestRev,"rv",Mode_Rglt,G$26) -> 3 | H36: =SUMIFS(Total_TTC,Jour,$A36,PrestRev,"rv",Mode_Rglt,H$26) -> 0 | I36: =SUMIFS(Total_TTC,Jour,$A36,PrestRev,"rv",Mode_Rglt,I$26) -> 0 | J36: =SUM(G36:I36) -> 3
A37: 41770 | B37: =J37+F37 -> 0 | C37: =SUMIFS(Total_TTC,Jour,$A37,PrestRev,"P",Mode_Rglt,C$26) -> 0 | D37: =SUMIFS(Total_TTC,Jour,$A37,PrestRev,"P",Mode_Rglt,D$26) -> 0 | E37: =SUMIFS(Total_TTC,Jour,$A37,PrestRev,"P",Mode_Rglt,E$26) -> 0 | F37: =SUM(C37:E37) -> 0 | G37: =SUMIFS(Total_TTC,Jour,$A37,PrestRev,"rv",Mode_Rglt,G$26) -> 0 | H37: =SUMIFS(Total_TTC,Jour,$A37,PrestRev,"rv",Mode_Rglt,H$26) -> 0 | I37: =SUMIFS(Total_TTC,Jour,$A37,PrestRev,"rv",Mode_Rglt,I$26) -> 0 | J37: =SUM(G37:I37) -> 0
A38: 41771 | B38: =J38+F38 -> 0 | C38: =SUMIFS(Total_TTC,Jour,$A38,PrestRev,"P",Mode_Rglt,C$26) -> 0 | D38: =SUMIFS(Total_TTC,Jour,$A38,PrestRev,"P",Mode_Rglt,D$26) -> 0 | E38: =SUMIFS(Total_TTC,Jour,$A38,PrestRev,"P",Mode_Rglt,E$26) -> 0 | F38: =SUM(C38:E38) -> 0 | G38: =SUMIFS(Total_TTC,Jour,$A38,PrestRev,"rv",Mode_Rglt,G$26) -> 0 | H38: =SUMIFS(Total_TTC,Jour,$A38,PrestRev,"rv",Mode_Rglt,H$26) -> 0 | I38: =SUMIFS(Total_TTC,Jour,$A38,PrestRev,"rv",Mode_Rglt,I$26) -> 0 | J38: =SUM(G38:I38) -> 0
... A271: 42004 | B271: =J271+F271 -> 0 | C271: =SUMIFS(Total_TTC,Jour,$A271,PrestRev,"P",Mode_Rglt,C$26) -> 0 | D271: =SUMIFS(Total_TTC,Jour,$A271,PrestRev,"P",Mode_Rglt,D$26) -> 0 | E271: =SUMIFS(Total_TTC,Jour,$A271,PrestRev,"P",Mode_Rglt,E$26) -> 0 | F271: =SUM(C271:E271) -> 0 | G271: =SUMIFS(Total_TTC,Jour,$A271,PrestRev,"rv",Mode_Rglt,G$26) -> 0 | H271: =SUMIFS(Total_TTC,Jour,$A271,PrestRev,"rv",Mode_Rglt,H$26) -> 0 | I271: =SUMIFS(Total_TTC,Jour,$A271,PrestRev,"rv",Mode_Rglt,I$26) -> 0 | J271: =SUM(G271:I271) -> 0
