Workbook
Name feries: '[1]total annuel'!$I$4:$J$16

Sheet Feuil1
A2: mois: | B2: 1 | D2: =DATE('[1]total annuel'!B2,B2,1) -> 42005
D3: =DATE('[1]total annuel'!B2,B2,1) -> 42005 | E3: =IF(D3="","",IF(MONTH(D3+1)=B2,D3+1,"")) -> 42006 | F3: =IF(E3="","",IF(MONTH(E3+1)=B2,E3+1,"")) -> 42007 | G3: =IF(F3="","",IF(MONTH(F3+1)=B2,F3+1,"")) -> 42008 | H3: =IF(G3="","",IF(MONTH(G3+1)=B2,G3+1,"")) -> 42009 | I3: =IF(H3="","",IF(MONTH(H3+1)=B2,H3+1,"")) -> 42010 | J3: =IF(I3="","",IF(MONTH(I3+1)=B2,I3+1,"")) -> 42011 | K3: =IF(J3="","",IF(MONTH(J3+1)=B2,J3+1,"")) -> 42012 | L3: =IF(K3="","",IF(MONTH(K3+1)=B2,K3+1,"")) -> 42013 | M3: =IF(L3="","",IF(MONTH(L3+1)=B2,L3+1,"")) -> 42014 | N3: =IF(M3="","",IF(MONTH(M3+1)=B2,M3+1,"")) -> 42015 | O3: =IF(N3="","",IF(MONTH(N3+1)=B2,N3+1,"")) -> 42016 | P3: =IF(O3="","",IF(MONTH(O3+1)=B2,O3+1,"")) -> 42017 | Q3: =IF(P3="","",IF(MONTH(P3+1)=B2,P3+1,"")) -> 42018 | R3: =IF(Q3="","",IF(MONTH(Q3+1)=B2,Q3+1,"")) -> 42019 | S3: =IF(R3="","",IF(MONTH(R3+1)=B2,R3+1,"")) -> 42020 | T3: =IF(S3="","",IF(MONTH(S3+1)=B2,S3+1,"")) -> 42021 | U3: =IF(T3="","",IF(MONTH(T3+1)=B2,T3+1,"")) -> 42022 | V3: =IF(U3="","",IF(MONTH(U3+1)=B2,U3+1,"")) -> 42023 | W3: =IF(V3="","",IF(MONTH(V3+1)=B2,V3+1,"")) -> 42024 | X3: =IF(W3="","",IF(MONTH(W3+1)=B2,W3+1,"")) -> 42025 | Y3: =IF(X3="","",IF(MONTH(X3+1)=B2,X3+1,"")) -> 42026 | Z3: =IF(Y3="","",IF(MONTH(Y3+1)=B2,Y3+1,"")) -> 42027 | AA3: =IF(Z3="","",IF(MONTH(Z3+1)=B2,Z3+1,"")) -> 42028 | AB3: =IF(AA3="","",IF(MONTH(AA3+1)=B2,AA3+1,"")) -> 42029 | AC3: =IF(AB3="","",IF(MONTH(AB3+1)=B2,AB3+1,"")) -> 42030 | AD3: =IF(AC3="","",IF(MONTH(AC3+1)=B2,AC3+1,"")) -> 42031 | AE3: =IF(AD3="","",IF(MONTH(AD3+1)=B2,AD3+1,"")) -> 42032 | AF3: =IF(AE3="","",IF(MONTH(AE3+1)=B2,AE3+1,"")) -> 42033 | AG3: =IF(AF3="","",IF(MONTH(AF3+1)=B2,AF3+1,"")) -> 42034 | AH3: =IF(AG3="","",IF(MONTH(AG3+1)=B2,AG3+1,"")) -> 42035
C4: Semaine | D4: =WEEKNUM(D3) -> 1 | E4: =WEEKNUM(E3) -> 1 | F4: =WEEKNUM(F3) -> 1 | G4: =WEEKNUM(G3) -> 2 | H4: =WEEKNUM(H3) -> 2 | I4: =WEEKNUM(I3) -> 2 | J4: =WEEKNUM(J3) -> 2 | K4: =WEEKNUM(K3) -> 2 | ... AG4: =WEEKNUM(AG3) -> 5
C5: intérim 1
C6: intérim 2 | H6: sy | I6: sy | J6: sy | K6: sy | L6: sy
C7: intérim 3 | H7: hercule | I7: olivier | J7: olivier | K7: silvana | L7: silvana
C8: intérim 4
C9: intérim 5
C10: intérim 6
C11: intérim 7
C12: intérim 8
C13: 1/2 intérim tot 1
C14: 1/2 interim tot 2
C15: 1/2 intérim tot 3
C16: 1/2 interim tard 1
C17: 1/2 intérim tard 2
C18: 1/2 intérim tard 3
C23: Tableau intermédiaire
D25: =D3 -> 42005 | E25: =E3 -> 42006 | F25: =F3 -> 42007 | G25: =G3 -> 42008 | H25: =H3 -> 42009 | I25: =I3 -> 42010 | J25: =J3 -> 42011 | K25: =K3 -> 42012 | ... AH25: =AH3 -> 42035
C26: =C4 -> Semaine | D26: =D4 -> 1 | E26: =E4 -> 1 | F26: =F4 -> 1 | G26: =G4 -> 2 | H26: =H4 -> 2 | I26: =I4 -> 2 | J26: =J4 -> 2 | ... AG26: =AG4 -> 5
C27: =C5 -> intérim 1 | D27: =IF(D5=0,"",D$26&D5) | E27: =IF(E5=0,"",E$26&E5) | F27: =IF(F5=0,"",F$26&F5) | G27: =IF(G5=0,"",G$26&G5) | H27: =IF(H5=0,"",H$26&H5) | I27: =IF(I5=0,"",I$26&I5) | J27: =IF(J5=0,"",J$26&J5) | K27: =IF(K5=0,"",K$26&K5) | ... AH27: =IF(AH5=0,"",AH$26&AH5)
C28: =C6 -> intérim 2 | D28: =IF(D6=0,"",D$26&D6) | E28: =IF(E6=0,"",E$26&E6) | F28: =IF(F6=0,"",F$26&F6) | G28: =IF(G6=0,"",G$26&G6) | H28: =IF(H6=0,"",H$26&H6) -> 2sy | I28: =IF(I6=0,"",I$26&I6) -> 2sy | J28: =IF(J6=0,"",J$26&J6) -> 2sy | K28: =IF(K6=0,"",K$26&K6) -> 2sy | ... AH28: =IF(AH6=0,"",AH$26&AH6)
C29: =C7 -> intérim 3 | D29: =IF(D7=0,"",D$26&D7) | E29: =IF(E7=0,"",E$26&E7) | F29: =IF(F7=0,"",F$26&F7) | G29: =IF(G7=0,"",G$26&G7) | H29: =IF(H7=0,"",H$26&H7) -> 2hercule | I29: =IF(I7=0,"",I$26&I7) -> 2olivier | J29: =IF(J7=0,"",J$26&J7) -> 2olivier | K29: =IF(K7=0,"",K$26&K7) -> 2silvana | ... AH29: =IF(AH7=0,"",AH$26&AH7)
C30: =C8 -> intérim 4 | D30: =IF(D8=0,"",D$26&D8) | E30: =IF(E8=0,"",E$26&E8) | F30: =IF(F8=0,"",F$26&F8) | G30: =IF(G8=0,"",G$26&G8) | H30: =IF(H8=0,"",H$26&H8) | I30: =IF(I8=0,"",I$26&I8) | J30: =IF(J8=0,"",J$26&J8) | K30: =IF(K8=0,"",K$26&K8) | ... AH30: =IF(AH8=0,"",AH$26&AH8)
C31: =C9 -> intérim 5 | D31: =IF(D9=0,"",D$26&D9) | E31: =IF(E9=0,"",E$26&E9) | F31: =IF(F9=0,"",F$26&F9) | G31: =IF(G9=0,"",G$26&G9) | H31: =IF(H9=0,"",H$26&H9) | I31: =IF(I9=0,"",I$26&I9) | J31: =IF(J9=0,"",J$26&J9) | K31: =IF(K9=0,"",K$26&K9) | ... AH31: =IF(AH9=0,"",AH$26&AH9)
C32: =C10 -> intérim 6 | D32: =IF(D10=0,"",D$26&D10) | E32: =IF(E10=0,"",E$26&E10) | F32: =IF(F10=0,"",F$26&F10) | G32: =IF(G10=0,"",G$26&G10) | H32: =IF(H10=0,"",H$26&H10) | I32: =IF(I10=0,"",I$26&I10) | J32: =IF(J10=0,"",J$26&J10) | K32: =IF(K10=0,"",K$26&K10) | ... AH32: =IF(AH10=0,"",AH$26&AH10)
C33: =C11 -> intérim 7 | D33: =IF(D11=0,"",D$26&D11) | E33: =IF(E11=0,"",E$26&E11) | F33: =IF(F11=0,"",F$26&F11) | G33: =IF(G11=0,"",G$26&G11) | H33: =IF(H11=0,"",H$26&H11) | I33: =IF(I11=0,"",I$26&I11) | J33: =IF(J11=0,"",J$26&J11) | K33: =IF(K11=0,"",K$26&K11) | ... AH33: =IF(AH11=0,"",AH$26&AH11)
C34: =C12 -> intérim 8 | D34: =IF(D12=0,"",D$26&D12) | E34: =IF(E12=0,"",E$26&E12) | F34: =IF(F12=0,"",F$26&F12) | G34: =IF(G12=0,"",G$26&G12) | H34: =IF(H12=0,"",H$26&H12) | I34: =IF(I12=0,"",I$26&I12) | J34: =IF(J12=0,"",J$26&J12) | K34: =IF(K12=0,"",K$26&K12) | ... AH34: =IF(AH12=0,"",AH$26&AH12)
C35: =C13 -> 1/2 intérim tot 1 | D35: =IF(D13=0,"",D$26&D13) | E35: =IF(E13=0,"",E$26&E13) | F35: =IF(F13=0,"",F$26&F13) | G35: =IF(G13=0,"",G$26&G13) | H35: =IF(H13=0,"",H$26&H13) | I35: =IF(I13=0,"",I$26&I13) | J35: =IF(J13=0,"",J$26&J13) | K35: =IF(K13=0,"",K$26&K13) | ... AH35: =IF(AH13=0,"",AH$26&AH13)
C36: =C14 -> 1/2 interim tot 2 | D36: =IF(D14=0,"",D$26&D14) | E36: =IF(E14=0,"",E$26&E14) | F36: =IF(F14=0,"",F$26&F14) | G36: =IF(G14=0,"",G$26&G14) | H36: =IF(H14=0,"",H$26&H14) | I36: =IF(I14=0,"",I$26&I14) | J36: =IF(J14=0,"",J$26&J14) | K36: =IF(K14=0,"",K$26&K14) | ... AH36: =IF(AH14=0,"",AH$26&AH14)
C37: =C15 -> 1/2 intérim tot 3 | D37: =IF(D15=0,"",D$26&D15) | E37: =IF(E15=0,"",E$26&E15) | F37: =IF(F15=0,"",F$26&F15) | G37: =IF(G15=0,"",G$26&G15) | H37: =IF(H15=0,"",H$26&H15) | I37: =IF(I15=0,"",I$26&I15) | J37: =IF(J15=0,"",J$26&J15) | K37: =IF(K15=0,"",K$26&K15) | ... AH37: =IF(AH15=0,"",AH$26&AH15)
C38: =C16 -> 1/2 interim tard 1 | D38: =IF(D16=0,"",D$26&D16) | E38: =IF(E16=0,"",E$26&E16) | F38: =IF(F16=0,"",F$26&F16) | G38: =IF(G16=0,"",G$26&G16) | H38: =IF(H16=0,"",H$26&H16) | I38: =IF(I16=0,"",I$26&I16) | J38: =IF(J16=0,"",J$26&J16) | K38: =IF(K16=0,"",K$26&K16) | ... AH38: =IF(AH16=0,"",AH$26&AH16)
... C40: =C18 -> 1/2 intérim tard 3 | D40: =IF(D18=0,"",D$26&D18) | E40: =IF(E18=0,"",E$26&E18) | F40: =IF(F18=0,"",F$26&F18) | G40: =IF(G18=0,"",G$26&G18) | H40: =IF(H18=0,"",H$26&H18) | I40: =IF(I18=0,"",I$26&I18) | J40: =IF(J18=0,"",J$26&J18) | K40: =IF(K18=0,"",K$26&K18) | ... AH40: =IF(AH18=0,"",AH$26&AH18)

Sheet Feuil2
A2: prénom | B2: 1 | C2: 2 | D2: 3
A3: sy | B3: =COUNTIF(Feuil1!$D$27:$AH$40,B$2&Feuil2!$A3) -> 0 | C3: =COUNTIF(Feuil1!$D$27:$AH$40,C$2&Feuil2!$A3) -> 5 | D3: =COUNTIF(Feuil1!$D$27:$AH$40,D$2&Feuil2!$A3) -> 0
A4: kébé | B4: =COUNTIF(Feuil1!$D$27:$AH$40,B$2&Feuil2!$A4) -> 0 | C4: =COUNTIF(Feuil1!$D$27:$AH$40,C$2&Feuil2!$A4) -> 0 | D4: =COUNTIF(Feuil1!$D$27:$AH$40,D$2&Feuil2!$A4) -> 0
A5: lionel | B5: =COUNTIF(Feuil1!$D$27:$AH$40,B$2&Feuil2!$A5) -> 0 | C5: =COUNTIF(Feuil1!$D$27:$AH$40,C$2&Feuil2!$A5) -> 0 | D5: =COUNTIF(Feuil1!$D$27:$AH$40,D$2&Feuil2!$A5) -> 0
A6: olivier | B6: =COUNTIF(Feuil1!$D$27:$AH$40,B$2&Feuil2!$A6) -> 0 | C6: =COUNTIF(Feuil1!$D$27:$AH$40,C$2&Feuil2!$A6) -> 2 | D6: =COUNTIF(Feuil1!$D$27:$AH$40,D$2&Feuil2!$A6) -> 0
A7: silvana | B7: =COUNTIF(Feuil1!$D$27:$AH$40,B$2&Feuil2!$A7) -> 0 | C7: =COUNTIF(Feuil1!$D$27:$AH$40,C$2&Feuil2!$A7) -> 2 | D7: =COUNTIF(Feuil1!$D$27:$AH$40,D$2&Feuil2!$A7) -> 0
A8: hercule | B8: =COUNTIF(Feuil1!$D$27:$AH$40,B$2&Feuil2!$A8) -> 0 | C8: =COUNTIF(Feuil1!$D$27:$AH$40,C$2&Feuil2!$A8) -> 1 | D8: =COUNTIF(Feuil1!$D$27:$AH$40,D$2&Feuil2!$A8) -> 0
