Workbook
Name _30_L: 'Prix caution fûts'!$B$4:$B$8
Name _30L: 'Prix caution fûts'!$B$4:$B$12
Name _60L: 'Prix caution fûts'!$C$4:$C$12
Name Caution: 'Prix caution fûts'!$D$4:$D$12
Name Code_postal: 'Code postaux'!$A$2:$A$640
Name Fut_nb: 'Prix caution fûts'!$A$4:$A$12
Name Ville: 'Code postaux'!$B$2:$B$640

Sheet Listing clients
A1: N° Client | B1: Nom de l'entreprise | C1: Adresse | D1: Code postal | E1: Ville | F1: N° de téléphone | G1: N° Fax | H1: Email | I1: Quantité d'huile mensuelle | J1: Fûts 30 litres | K1: Fûts 60 litres | L1: Cautions fûts | M1: Jours de collecte | N1: Heures de collecte | O1: Fermeture hebdomadaire | P1: Fermeture annuelle | Q1: Montant réglé | R1: Mode de règlement | S1: Quantité d'huile 1ère collecte | T1: Type de contenant
A2: ADR37A001 | B2: Le Chaudron d'Avrillé | C2: rue des tilleuls | D2: 37340 | E2: =IF(D2>0,IFERROR(OFFSET('Code postaux'!$A$1,MATCH(D2,Code_postal,0),1),"Codabs"),"") -> AMBILLOU | J2: 1 | K2: 1 | L2: =IF(AND(J2=0,K2=0),"",IF(AND(J2>0,K2>0),OFFSET('Prix caution fûts'!$A$3,MATCH(J2&"x"&"30L"&K2&"x"&"60L",Fut_nb,0),3),IF(J2>0,OFFSET('Prix caution fûts'!$A$3,MATCH(J2&"x"&"30L",Fut_nb,0),3),OFFSET('Prix caution fûts'!$A$3,MATCH(K2&"x"&"60L",Fut_nb,0),3)))) -> 140
A3: ADR37A002 | E3: =IF(D3>0,IFERROR(OFFSET('Code postaux'!$A$1,MATCH(D3,Code_postal,0),1),"Codabs"),"") | L3: =IF(AND(J3=0,K3=0),"",IF(AND(J3>0,K3>0),OFFSET('Prix caution fûts'!$A$3,MATCH(J3&"x"&"30L"&K3&"x"&"60L",Fut_nb,0),3),IF(J3>0,OFFSET('Prix caution fûts'!$A$3,MATCH(J3&"x"&"30L",Fut_nb,0),3),OFFSET('Prix caution fûts'!$A$3,MATCH(K3&"x"&"60L",Fut_nb,0),3))))
A4: ADR37A003 | E4: =IF(D4>0,IFERROR(OFFSET('Code postaux'!$A$1,MATCH(D4,Code_postal,0),1),"Codabs"),"") | L4: =IF(AND(J4=0,K4=0),"",IF(AND(J4>0,K4>0),OFFSET('Prix caution fûts'!$A$3,MATCH(J4&"x"&"30L"&K4&"x"&"60L",Fut_nb,0),3),IF(J4>0,OFFSET('Prix caution fûts'!$A$3,MATCH(J4&"x"&"30L",Fut_nb,0),3),OFFSET('Prix caution fûts'!$A$3,MATCH(K4&"x"&"60L",Fut_nb,0),3))))
A5: ADR37A004 | E5: =IF(D5>0,IFERROR(OFFSET('Code postaux'!$A$1,MATCH(D5,Code_postal,0),1),"Codabs"),"") | L5: =IF(AND(J5=0,K5=0),"",IF(AND(J5>0,K5>0),OFFSET('Prix caution fûts'!$A$3,MATCH(J5&"x"&"30L"&K5&"x"&"60L",Fut_nb,0),3),IF(J5>0,OFFSET('Prix caution fûts'!$A$3,MATCH(J5&"x"&"30L",Fut_nb,0),3),OFFSET('Prix caution fûts'!$A$3,MATCH(K5&"x"&"60L",Fut_nb,0),3))))
A6: ADR37A005 | E6: =IF(D6>0,IFERROR(OFFSET('Code postaux'!$A$1,MATCH(D6,Code_postal,0),1),"Codabs"),"") | L6: =IF(AND(J6=0,K6=0),"",IF(AND(J6>0,K6>0),OFFSET('Prix caution fûts'!$A$3,MATCH(J6&"x"&"30L"&K6&"x"&"60L",Fut_nb,0),3),IF(J6>0,OFFSET('Prix caution fûts'!$A$3,MATCH(J6&"x"&"30L",Fut_nb,0),3),OFFSET('Prix caution fûts'!$A$3,MATCH(K6&"x"&"60L",Fut_nb,0),3))))
A7: ADR37A006 | E7: =IF(D7>0,IFERROR(OFFSET('Code postaux'!$A$1,MATCH(D7,Code_postal,0),1),"Codabs"),"") | L7: =IF(AND(J7=0,K7=0),"",IF(AND(J7>0,K7>0),OFFSET('Prix caution fûts'!$A$3,MATCH(J7&"x"&"30L"&K7&"x"&"60L",Fut_nb,0),3),IF(J7>0,OFFSET('Prix caution fûts'!$A$3,MATCH(J7&"x"&"30L",Fut_nb,0),3),OFFSET('Prix caution fûts'!$A$3,MATCH(K7&"x"&"60L",Fut_nb,0),3))))
A8: ADR37A007 | E8: =IF(D8>0,IFERROR(OFFSET('Code postaux'!$A$1,MATCH(D8,Code_postal,0),1),"Codabs"),"") | L8: =IF(AND(J8=0,K8=0),"",IF(AND(J8>0,K8>0),OFFSET('Prix caution fûts'!$A$3,MATCH(J8&"x"&"30L"&K8&"x"&"60L",Fut_nb,0),3),IF(J8>0,OFFSET('Prix caution fûts'!$A$3,MATCH(J8&"x"&"30L",Fut_nb,0),3),OFFSET('Prix caution fûts'!$A$3,MATCH(K8&"x"&"60L",Fut_nb,0),3))))

Sheet Prix caution fûts
B1: il suffit de rajouter eune quantité pour que la ref de la colonne a s'incrémente
A3: Fut/nb | B3: 30L | C3: 60L | D3: Caution
A4: =IF(AND(B4>0,C4>0),B4&"x"&B$3&C4&"x"&C$3,IF(B4>0,B4&"x"&B$3,C4&"x"&C$3)) -> 1x30L | B4: 1 | D4: 70
A5: =IF(AND(B5>0,C5>0),B5&"x"&B$3&C5&"x"&C$3,IF(B5>0,B5&"x"&B$3,C5&"x"&C$3)) -> 1x60L | C5: 1 | D5: 85
A6: =IF(AND(B6>0,C6>0),B6&"x"&B$3&C6&"x"&C$3,IF(B6>0,B6&"x"&B$3,C6&"x"&C$3)) -> 2x30L | B6: 2 | D6: 130
A7: =IF(AND(B7>0,C7>0),B7&"x"&B$3&C7&"x"&C$3,IF(B7>0,B7&"x"&B$3,C7&"x"&C$3)) -> 2x60L | C7: 2 | D7: 150
A8: =IF(AND(B8>0,C8>0),B8&"x"&B$3&C8&"x"&C$3,IF(B8>0,B8&"x"&B$3,C8&"x"&C$3)) -> 1x30L1x60L | B8: 1 | C8: 1 | D8: 140
A9: =IF(AND(B9>0,C9>0),B9&"x"&B$3&C9&"x"&C$3,IF(B9>0,B9&"x"&B$3,C9&"x"&C$3)) -> 2x30L1x60L | B9: 2 | C9: 1
A10: =IF(AND(B10>0,C10>0),B10&"x"&B$3&C10&"x"&C$3,IF(B10>0,B10&"x"&B$3,C10&"x"&C$3)) -> 2x30L2x60L | B10: 2 | C10: 2
A11: =IF(AND(B11>0,C11>0),B11&"x"&B$3&C11&"x"&C$3,IF(B11>0,B11&"x"&B$3,C11&"x"&C$3)) -> 1x30L2x60L | B11: 1 | C11: 2
A12: =B12&"x"&B$3&C12&"x"&C$3 -> 4x30L1x60L | B12: 4 | C12: 1

Sheet Code postaux
A1: Code postal | B1: Ville
A2: 37000 | B2: TOURS
A3: 37100 | B3: TOURS
A4: 37110 | B4: AUTRECHE
A5: 37110 | B5: AUZOUER EN TOURAINE
A6: 37110 | B6: LE BOULAY
A7: 37110 | B7: CHATEAU RENAULT
A8: 37110 | B8: DAME MARIE LES BOIS
A9: 37110 | B9: LA FERRIERE
A10: 37110 | B10: LES HERMITES
A11: 37110 | B11: MONTHODON
A12: 37110 | B12: MORAND
A13: 37110 | B13: NEUVILLE SUR BRENNE
... A640: 49800 | B640: TRELAZE
