Workbook
Name Amort_Lin: #REF!
Name ASS: #REF!
Name Cap_plus_Diff: #REF!
Name Capital: #REF!
Name cc: #REF!
Name ct: #REF!
Name Date_mad: #REF!
Name Différé: #REF!
Name Durée: #REF!
Name Nb_Remb: #REF!
Name page: #REF!
Name page10: #REF!
Name page11: #REF!
Name page12: #REF!
Name PAGE13: #REF!
Name page14: #REF!
Name page15: #REF!
Name page16: #REF!
Name page17: #REF!
Name page5: #REF!
Name page6: #REF!
Name page7: #REF!
Name page8: #REF!
Name page9: #REF!
Name pagedegarde: #REF!
Name Périodicité: #REF!
Name Remb: #REF!
Name su_20levpom: '[1]1.Hypothèses et données'!$C$25
Name surf: [2]Modèle!$C$8
Name Surface: #REF!
Name Taux_Nom: #REF!
Name totalprimeass: [3]ASSURANCES!$J$74
Name Tx_Ass: #REF!
Name Tx_par_Per: #REF!
Name Tx_sans_Ass: #REF!

Sheet Etat détaillé
A1: Budget actualisé (€ HT) | E1: Engagé (€ HT) | G1: Avct | H1: Reste à engager (€HT) | J1: Facturé (€ HT) | K1: Avct | L1: Reste à facturer (€ HT)
A2: Chapitres | B2: Postes
B3: Intitulé | C3: Montant | E3: Entreprise | F3: Montant
B6: Anglais | C6: =#REF! -> #REF! | F6: =SUM(F7:F20) -> 5450 | G6: =IF(C6<>0,F6/C6,"-") -> #REF! | H6: =C6-F6 -> #REF! | J6: =SUM(J7:J20) -> 1650 | K6: =IF(F6<>0,J6/F6,"-") -> 0.30275229 | L6: =F6-J6 -> 3800
E7: client1 | F7: =SUMIF('Saisie engagements'!$B$4:$B$20,'Etat détaillé'!E7,'Saisie engagements'!E4:$E$20) -> 3950 | G7: - | H7: 0 | J7: =SUMIF('Saisie factures'!$B$6:$B$24,'Etat détaillé'!E7,'Saisie factures'!$E$6:$E$24) -> 100 | K7: =IF(F7<>0,J7/F7,"-") -> 0.025316456 | L7: =F7-J7 -> 3850
E8: client2 | F8: =SUMIF('Saisie engagements'!$B$4:$B$20,'Etat détaillé'!E8,'Saisie engagements'!E5:$E$20) -> 1500 | G8: - | H8: 0 | J8: =SUMIF('Saisie factures'!$B$6:$B$24,'Etat détaillé'!E8,'Saisie factures'!$E$6:$E$24) -> 550 | K8: =IF(F8<>0,J8/F8,"-") -> 0.36666667 | L8: =F8-J8 -> 950
E9: client3 | F9: =SUMIF('Saisie engagements'!$B$4:$B$20,'Etat détaillé'!E9,'Saisie engagements'!E6:$E$20) -> 0 | G9: - | H9: 0 | J9: =SUMIF('Saisie factures'!$B$6:$B$24,'Etat détaillé'!E9,'Saisie factures'!$E$6:$E$24) -> 0 | K9: =IF(F9<>0,J9/F9,"-") -> - | L9: =F9-J9 -> 0
E10: client4 | F10: =SUMIF('Saisie engagements'!$B$4:$B$20,'Etat détaillé'!E10,'Saisie engagements'!E7:$E$20) -> 0 | G10: - | H10: 0 | J10: =SUMIF('Saisie factures'!$B$6:$B$24,'Etat détaillé'!E10,'Saisie factures'!$E$6:$E$24) -> 0 | K10: =IF(F10<>0,J10/F10,"-") -> - | L10: =F10-J10 -> 0
E11: client5 | F11: =SUMIF('Saisie engagements'!$B$4:$B$20,'Etat détaillé'!E11,'Saisie engagements'!E8:$E$20) -> 0 | G11: - | H11: 0 | J11: =SUMIF('Saisie factures'!$B$6:$B$24,'Etat détaillé'!E11,'Saisie factures'!$E$6:$E$24) -> 0 | K11: =IF(F11<>0,J11/F11,"-") -> - | L11: =F11-J11 -> 0
E12: client6 | F12: =SUMIF('Saisie engagements'!$B$4:$B$20,'Etat détaillé'!E12,'Saisie engagements'!E9:$E$20) -> 0 | G12: - | H12: 0 | J12: =SUMIF('Saisie factures'!$B$6:$B$24,'Etat détaillé'!E12,'Saisie factures'!$E$6:$E$24) -> 0 | K12: =IF(F12<>0,J12/F12,"-") -> - | L12: =F12-J12 -> 0
E13: client7 | F13: =SUMIF('Saisie engagements'!$B$4:$B$20,'Etat détaillé'!E13,'Saisie engagements'!E10:$E$20) -> 0 | G13: - | H13: 0 | J13: =SUMIF('Saisie factures'!$B$6:$B$24,'Etat détaillé'!E13,'Saisie factures'!$E$6:$E$24) -> 0 | K13: =IF(F13<>0,J13/F13,"-") -> - | L13: =F13-J13 -> 0
E14: client8 | F14: =SUMIF('Saisie engagements'!$B$4:$B$20,'Etat détaillé'!E14,'Saisie engagements'!E11:$E$20) -> 0 | G14: - | H14: 0 | J14: =SUMIF('Saisie factures'!$B$6:$B$24,'Etat détaillé'!E14,'Saisie factures'!$E$6:$E$24) -> 0 | K14: =IF(F14<>0,J14/F14,"-") -> - | L14: =F14-J14 -> 0
E15: client9 | F15: =SUMIF('Saisie engagements'!$B$4:$B$20,'Etat détaillé'!E15,'Saisie engagements'!E12:$E$20) -> 0 | G15: - | H15: 0 | J15: =SUMIF('Saisie factures'!$B$6:$B$24,'Etat détaillé'!E15,'Saisie factures'!$E$6:$E$24) -> 0 | K15: =IF(F15<>0,J15/F15,"-") -> - | L15: =F15-J15 -> 0
E16: client10 | F16: =SUMIF('Saisie engagements'!$B$4:$B$20,'Etat détaillé'!E16,'Saisie engagements'!E13:$E$20) -> 0 | G16: - | H16: 0 | J16: =SUMIF('Saisie factures'!$B$6:$B$24,'Etat détaillé'!E16,'Saisie factures'!$E$6:$E$24) -> 0 | K16: =IF(F16<>0,J16/F16,"-") -> - | L16: =F16-J16 -> 0
B17: Français | C17: =#REF! -> #REF! | E17: ClientA | F17: =SUMIF('Saisie engagements'!$B$4:$B$20,'Etat détaillé'!E17,'Saisie engagements'!E14:$E$20) -> 0 | G17: =IF(C17<>0,F17/C17,"-") -> #REF! | H17: =C17-F17 -> #REF! | J17: =SUMIF('Saisie factures'!$B$6:$B$24,'Etat détaillé'!E17,'Saisie factures'!$E$6:$E$24) -> 1000 | K17: =IF(F17<>0,J17/F17,"-") -> - | L17: =F17-J17 -> -1000
B18: Espagnol | C18: =#REF! -> #REF! | E18: Clienti | F18: =SUMIF('Saisie engagements'!$B$4:$B$20,'Etat détaillé'!E18,'Saisie engagements'!E15:$E$20) -> 0 | G18: =IF(C18<>0,F18/C18,"-") -> #REF! | H18: =C18-F18 -> #REF! | J18: =SUMIF('Saisie factures'!$B$6:$B$24,'Etat détaillé'!E18,'Saisie factures'!$E$6:$E$24) -> 0 | K18: =IF(F18<>0,J18/F18,"-") -> - | L18: =F18-J18 -> 0

Sheet Saisie factures
A5: nationalité | B5: Intervenant | C5: Date de facturation | D5: Référence | E5: € HT | F5: TVA | G5: € TTC | H5: N° de suivi budgétaire | I5: Observations | K5: Imputation | M5: € HT | N5: TVA | O5: € TTC
B6: client2 | E6: 500 | R6: =M6 -> 0 | S6: =N6 -> 0 | T6: =O6 -> 0 | U6: =R6*S6 -> 0 | V6: =R6+U6 -> 0
B7: client2 | E7: 50 | R7: =M7 -> 0 | S7: =N7 -> 0 | T7: =O7 -> 0 | U7: =R7*S7 -> 0 | V7: =R7+U7 -> 0
B8: client1 | E8: 100 | R8: =M8 -> 0 | S8: =N8 -> 0 | T8: =O8 -> 0 | U8: =R8*S8 -> 0 | V8: =R8+U8 -> 0
B9: clientA | E9: 1000 | R9: =M9 -> 0 | S9: =N9 -> 0 | T9: =O9 -> 0 | U9: =R9*S9 -> 0 | V9: =R9+U9 -> 0
R10: =M10 -> 0 | S10: =N10 -> 0 | T10: =O10 -> 0 | U10: =R10*S10 -> 0 | V10: =R10+U10 -> 0
R11: =M11 -> 0 | S11: =N11 -> 0 | T11: =O11 -> 0 | U11: =R11*S11 -> 0 | V11: =R11+U11 -> 0
R12: =M12 -> 0 | S12: =N12 -> 0 | T12: =O12 -> 0 | U12: =R12*S12 -> 0 | V12: =R12+U12 -> 0
R13: =M13 -> 0 | S13: =N13 -> 0 | T13: =O13 -> 0 | U13: =R13*S13 -> 0 | V13: =R13+U13 -> 0
R14: =M14 -> 0 | S14: =N14 -> 0 | T14: =O14 -> 0 | U14: =R14*S14 -> 0 | V14: =R14+U14 -> 0
R15: =M15 -> 0 | S15: =N15 -> 0 | T15: =O15 -> 0 | U15: =R15*S15 -> 0 | V15: =R15+U15 -> 0
R16: =M16 -> 0 | S16: =N16 -> 0 | T16: =O16 -> 0 | U16: =R16*S16 -> 0 | V16: =R16+U16 -> 0
R17: =M17 -> 0 | S17: =N17 -> 0 | T17: =O17 -> 0 | U17: =R17*S17 -> 0 | V17: =R17+U17 -> 0
R18: =M18 -> 0 | S18: =N18 -> 0 | T18: =O18 -> 0 | U18: =R18*S18 -> 0 | V18: =R18+U18 -> 0
R19: =M19 -> 0 | S19: =N19 -> 0 | T19: =O19 -> 0 | U19: =R19*S19 -> 0 | V19: =R19+U19 -> 0
R20: =M20 -> 0 | S20: =N20 -> 0 | T20: =O20 -> 0 | U20: =R20*S20 -> 0 | V20: =R20+U20 -> 0
R21: =M21 -> 0 | S21: =N21 -> 0 | T21: =O21 -> 0 | U21: =R21*S21 -> 0 | V21: =R21+U21 -> 0
... R70: =M70 -> 0 | S70: =N70 -> 0 | T70: =O70 -> 0 | U70: =R70*S70 -> 0 | V70: =R70+U70 -> 0
R72: =SUM(R6:R71) -> 0 | S72: =T72/R72-1 -> #DIV/0! | T72: =SUM(T6:T71) -> 0 | U72: 0.196 | V72: =SUM(V6:V71) -> 0
F596: 0.2 | G596: =E596*(1+F596) -> 0
F597: 0.2 | G597: =E597*(1+F597) -> 0
F598: 0.2 | G598: =E598*(1+F598) -> 0
F599: 0.2 | G599: =E599*(1+F599) -> 0
F600: 0.2 | G600: =E600*(1+F600) -> 0
F601: 0.2 | G601: =E601*(1+F601) -> 0
F602: 0.2 | G602: =E602*(1+F602) -> 0
F603: 0.2 | G603: =E603*(1+F603) -> 0
F604: 0.2 | G604: =E604*(1+F604) -> 0
F605: 0.2 | G605: =E605*(1+F605) -> 0
F606: 0.2 | G606: =E606*(1+F606) -> 0
F607: 0.2 | G607: =E607*(1+F607) -> 0
... F708: 0.2 | G708: =E708*(1+F708) -> 0
E710: =SUBTOTAL(9,E6:E709) -> 1650 | G710: =SUBTOTAL(9,G6:G709) -> 0

Sheet Saisie engagements
A3: nationalité | B3: Intervenant | C3: Date d'engagement | D3: Objet | E3: € HT | F3: TVA | G3: € TTC | H3: N° de suivi budgétaire | I3: Observations | M3: Imputation | O3: € HT | P3: TVA | Q3: € TTC
B4: client1 | E4: 1000
B5: clientA | E5: 100050
B6: client2 | E6: 2000
B7: client1 | E7: 1500
B8: client4 | E8: 200
B9: client1 | E9: 1450
