Workbook
Name Code_LBS: 'Feuil1 (2)'!$A$2:$A$47
Name Code_LBSA: Feuil2!$A$3:$A$146
Name Défaillance_Censure: 'Feuil1 (2)'!$D$2:$D$47
Name Gamme: 'Feuil1 (2)'!$G$2:$G$47
Name KM_F_S: 'Feuil1 (2)'!$E$2:$E$47
Name Mode_défaillance: 'Feuil1 (2)'!$B$2:$B$47
Name Nb: 'Feuil1 (2)'!$C$2:$C$47
Name Nb_censures_S: Feuil2!$H$3:$H$146
Name Nb_défaillances_F: Feuil2!$G$3:$G$146
Name Projet: 'Feuil1 (2)'!$F$2:$F$47
Name Qté_par_rame: Feuil2!$F$3:$F$146

Sheet Feuil1 (2)
A1: Code LBS | B1: Mode_défaillance | C1: Nb | D1: Défaillance_Censure | E1: KM_F_S | F1: Projet | G1: Gamme
A2: 011304 | C2: 1 | D2: F | E2: 53436 | F2: CBA | G2: TRAMWAY
A3: 011304 | C3: 1 | D3: F | E3: 56279 | F3: CBA | G3: TRAMWAY
A4: 011004 | C4: 1 | D4: F | E4: 56652 | F4: CBA | G4: TRAMWAY
A5: 011304 | C5: 1 | D5: F | E5: 66041 | F5: CBA | G5: TRAMWAY
A6: 011304 | C6: 1 | D6: F | E6: 60861 | F6: CBA | G6: TRAMWAY
A7: 011304 | C7: 1 | D7: F | E7: 62497 | F7: CBA | G7: TRAMWAY
A8: 011204 | C8: 1 | D8: F | E8: 69729 | F8: CBA | G8: TRAMWAY
A9: 011304 | C9: 1 | D9: F | E9: 57679 | F9: CBA | G9: TRAMWAY
A10: 011304 | C10: 1 | D10: F | E10: 99021 | F10: CBA | G10: TRAMWAY
A11: 011001 | C11: 1 | D11: F | E11: 101713 | F11: CBA | G11: TRAMWAY
A12: 011305 | C12: 1 | D12: F | E12: 112149 | F12: CBA | G12: TRAMWAY
A13: 010501 | C13: 1 | D13: F | E13: 115477 | F13: CBA | G13: TRAMWAY
... A47: 01130603 | C47: 444 | D47: S | E47: 131539 | F47: CBA | G47: TRAMWAY

Sheet Feuil1
A1: Code LBS | B1: Mode de défaillance | C1: Nombre dans l'état | D1: F= Défaillance ou S=Censure | E1: Kilométrage pour F ou S | F1: Projet | G1: Gamme | H1: Nb S
A2: 011304 | C2: 1 | D2: F | E2: 53436 | F2: CBA | G2: TRAMWAY | H2: =SUMIFS(Qté_par_rame,Code_LBSA,A2,Nb_censures_S,">"&0) -> 296
A3: 011304 | C3: 1 | D3: F | E3: 56279 | F3: CBA | G3: TRAMWAY | H3: =SUMIFS(Qté_par_rame,Code_LBSA,A3,Nb_censures_S,">"&0) -> 296
A4: 011004 | C4: 1 | D4: F | E4: 56652 | F4: CBA | G4: TRAMWAY | H4: =SUMIFS(Qté_par_rame,Code_LBSA,A4,Nb_censures_S,">"&0) -> 0
A5: 011304 | C5: 1 | D5: F | E5: 66041 | F5: CBA | G5: TRAMWAY | H5: =SUMIFS(Qté_par_rame,Code_LBSA,A5,Nb_censures_S,">"&0) -> 296
A6: 011304 | C6: 1 | D6: F | E6: 60861 | F6: CBA | G6: TRAMWAY | H6: =SUMIFS(Qté_par_rame,Code_LBSA,A6,Nb_censures_S,">"&0) -> 296
A7: 011304 | C7: 1 | D7: F | E7: 62497 | F7: CBA | G7: TRAMWAY | H7: =SUMIFS(Qté_par_rame,Code_LBSA,A7,Nb_censures_S,">"&0) -> 296
A8: 011204 | C8: 1 | D8: F | E8: 69729 | F8: CBA | G8: TRAMWAY | H8: =SUMIFS(Qté_par_rame,Code_LBSA,A8,Nb_censures_S,">"&0) -> 0
A9: 011304 | C9: 1 | D9: F | E9: 57679 | F9: CBA | G9: TRAMWAY | H9: =SUMIFS(Qté_par_rame,Code_LBSA,A9,Nb_censures_S,">"&0) -> 296
A10: 011304 | C10: 1 | D10: F | E10: 99021 | F10: CBA | G10: TRAMWAY | H10: =SUMIFS(Qté_par_rame,Code_LBSA,A10,Nb_censures_S,">"&0) -> 296
A11: 011001 | C11: 1 | D11: F | E11: 101713 | F11: CBA | G11: TRAMWAY | H11: =SUMIFS(Qté_par_rame,Code_LBSA,A11,Nb_censures_S,">"&0) -> 0
A12: 011305 | C12: 1 | D12: F | E12: 112149 | F12: CBA | G12: TRAMWAY | H12: =SUMIFS(Qté_par_rame,Code_LBSA,A12,Nb_censures_S,">"&0) -> 444
A13: 010501 | C13: 1 | D13: F | E13: 115477 | F13: CBA | G13: TRAMWAY | H13: =SUMIFS(Qté_par_rame,Code_LBSA,A13,Nb_censures_S,">"&0) -> 444
... A47: 01130603 | C47: 444 | D47: S | E47: 131539 | F47: CBA | G47: TRAMWAY | H47: =SUMIFS(Qté_par_rame,Code_LBSA,A47,Nb_censures_S,">"&0) -> 0

Sheet Feuil2
B1: Décomposition de la structure de liaison | F1: CBA | J1: variante en nommant les zones de Feuil1 (2)
A2: Code LBSA | B2: Niveau 1 | C2: Niveau 2 | D2: Niveau 3 | E2: Niveau 4 | F2: Qté par rame | G2: Nb_défaillances_F | H2: Nb_censures_S | J2: Nombre de défaillances F | K2: Nombre de censures S
A3: 01 | B3: BOGIES & SUSPENSION | G3: =COUNTIFS(Feuil1!$A$2:$A$47,Feuil2!$A3,Feuil1!$D$2:$D$47,"F") -> 0 | H3: =COUNTIFS(Feuil1!$A$2:$A$47,Feuil2!$A3,Feuil1!$D$2:$D$47,"S") -> 0 | J3: =COUNTIFS(Code_LBS,$A3,Défaillance_Censure,"F") -> 0 | K3: =COUNTIFS(Code_LBS,$A3,Défaillance_Censure,"S") -> 0
A4: 0103 | B4: I----------- | C4: CHÂSSIS & ACCESSOIRES | F4: 222 | G4: =COUNTIFS(Feuil1!$A$2:$A$47,Feuil2!$A4,Feuil1!$D$2:$D$47,"F") -> 0 | H4: =COUNTIFS(Feuil1!$A$2:$A$47,Feuil2!$A4,Feuil1!$D$2:$D$47,"S") -> 0 | J4: =COUNTIFS(Code_LBS,$A4,Défaillance_Censure,"F") -> 0 | K4: =COUNTIFS(Code_LBS,$A4,Défaillance_Censure,"S") -> 0
A5: 010301 | C5: I----------- | D5: Châssis de bogie | F5: 444 | G5: =COUNTIFS(Feuil1!$A$2:$A$47,Feuil2!$A5,Feuil1!$D$2:$D$47,"F") -> 0 | H5: =COUNTIFS(Feuil1!$A$2:$A$47,Feuil2!$A5,Feuil1!$D$2:$D$47,"S") -> 1 | J5: =COUNTIFS(Code_LBS,$A5,Défaillance_Censure,"F") -> 0 | K5: =COUNTIFS(Code_LBS,$A5,Défaillance_Censure,"S") -> 1
A6: 0103011 | C6: I----------- | D6: Articulation de châssis | F6: 0 | G6: =COUNTIFS(Feuil1!$A$2:$A$47,Feuil2!$A6,Feuil1!$D$2:$D$47,"F") -> 0 | H6: =COUNTIFS(Feuil1!$A$2:$A$47,Feuil2!$A6,Feuil1!$D$2:$D$47,"S") -> 1 | J6: =COUNTIFS(Code_LBS,$A6,Défaillance_Censure,"F") -> 0 | K6: =COUNTIFS(Code_LBS,$A6,Défaillance_Censure,"S") -> 1
A7: 010302 | C7: I----------- | D7: Panneau de suspension équipé | F7: 0 | G7: =COUNTIFS(Feuil1!$A$2:$A$47,Feuil2!$A7,Feuil1!$D$2:$D$47,"F") -> 0 | H7: =COUNTIFS(Feuil1!$A$2:$A$47,Feuil2!$A7,Feuil1!$D$2:$D$47,"S") -> 0 | J7: =COUNTIFS(Code_LBS,$A7,Défaillance_Censure,"F") -> 0 | K7: =COUNTIFS(Code_LBS,$A7,Défaillance_Censure,"S") -> 0
A8: 010303 | C8: I----------- | D8: Roue de guidage équipée | F8: 0 | G8: =COUNTIFS(Feuil1!$A$2:$A$47,Feuil2!$A8,Feuil1!$D$2:$D$47,"F") -> 0 | H8: =COUNTIFS(Feuil1!$A$2:$A$47,Feuil2!$A8,Feuil1!$D$2:$D$47,"S") -> 0 | J8: =COUNTIFS(Code_LBS,$A8,Défaillance_Censure,"F") -> 0 | K8: =COUNTIFS(Code_LBS,$A8,Défaillance_Censure,"S") -> 0
A9: 01030301 | D9: I----------- | E9: Pneumatique de roue de guidage | F9: 0 | G9: =COUNTIFS(Feuil1!$A$2:$A$47,Feuil2!$A9,Feuil1!$D$2:$D$47,"F") -> 0 | H9: =COUNTIFS(Feuil1!$A$2:$A$47,Feuil2!$A9,Feuil1!$D$2:$D$47,"S") -> 0 | J9: =COUNTIFS(Code_LBS,$A9,Défaillance_Censure,"F") -> 0 | K9: =COUNTIFS(Code_LBS,$A9,Défaillance_Censure,"S") -> 0
A10: 01030302 | D10: I----------- | E10: Roulements de roue de guidage | F10: 0 | G10: =COUNTIFS(Feuil1!$A$2:$A$47,Feuil2!$A10,Feuil1!$D$2:$D$47,"F") -> 0 | H10: =COUNTIFS(Feuil1!$A$2:$A$47,Feuil2!$A10,Feuil1!$D$2:$D$47,"S") -> 0 | J10: =COUNTIFS(Code_LBS,$A10,Défaillance_Censure,"F") -> 0 | K10: =COUNTIFS(Code_LBS,$A10,Défaillance_Censure,"S") -> 0
A11: 010304 | C11: I----------- | D11: Frotteur négatif équipé | F11: 0 | G11: =COUNTIFS(Feuil1!$A$2:$A$47,Feuil2!$A11,Feuil1!$D$2:$D$47,"F") -> 0 | H11: =COUNTIFS(Feuil1!$A$2:$A$47,Feuil2!$A11,Feuil1!$D$2:$D$47,"S") -> 0 | J11: =COUNTIFS(Code_LBS,$A11,Défaillance_Censure,"F") -> 0 | K11: =COUNTIFS(Code_LBS,$A11,Défaillance_Censure,"S") -> 0
A12: 01030401 | D12: I----------- | E12: Support de frotteur négatif | F12: 0 | G12: =COUNTIFS(Feuil1!$A$2:$A$47,Feuil2!$A12,Feuil1!$D$2:$D$47,"F") -> 0 | H12: =COUNTIFS(Feuil1!$A$2:$A$47,Feuil2!$A12,Feuil1!$D$2:$D$47,"S") -> 0 | J12: =COUNTIFS(Code_LBS,$A12,Défaillance_Censure,"F") -> 0 | K12: =COUNTIFS(Code_LBS,$A12,Défaillance_Censure,"S") -> 0
A13: 01030402 | D13: I----------- | E13: Ressort | F13: 0 | G13: =COUNTIFS(Feuil1!$A$2:$A$47,Feuil2!$A13,Feuil1!$D$2:$D$47,"F") -> 0 | H13: =COUNTIFS(Feuil1!$A$2:$A$47,Feuil2!$A13,Feuil1!$D$2:$D$47,"S") -> 0 | J13: =COUNTIFS(Code_LBS,$A13,Défaillance_Censure,"F") -> 0 | K13: =COUNTIFS(Code_LBS,$A13,Défaillance_Censure,"S") -> 0
A14: 01030403 | D14: I----------- | E14: Bande d'usure de frotteur négatif | F14: 0 | G14: =COUNTIFS(Feuil1!$A$2:$A$47,Feuil2!$A14,Feuil1!$D$2:$D$47,"F") -> 0 | H14: =COUNTIFS(Feuil1!$A$2:$A$47,Feuil2!$A14,Feuil1!$D$2:$D$47,"S") -> 0 | J14: =COUNTIFS(Code_LBS,$A14,Défaillance_Censure,"F") -> 0 | K14: =COUNTIFS(Code_LBS,$A14,Défaillance_Censure,"S") -> 0
A15: 010305 | C15: I----------- | D15: Frotteur de masse équipé | F15: 0 | G15: =COUNTIFS(Feuil1!$A$2:$A$47,Feuil2!$A15,Feuil1!$D$2:$D$47,"F") -> 0 | H15: =COUNTIFS(Feuil1!$A$2:$A$47,Feuil2!$A15,Feuil1!$D$2:$D$47,"S") -> 0 | J15: =COUNTIFS(Code_LBS,$A15,Défaillance_Censure,"F") -> 0 | K15: =COUNTIFS(Code_LBS,$A15,Défaillance_Censure,"S") -> 0
A16: 01030501 | D16: I----------- | E16: Support de frotteur de masse | F16: 0 | G16: =COUNTIFS(Feuil1!$A$2:$A$47,Feuil2!$A16,Feuil1!$D$2:$D$47,"F") -> 0 | H16: =COUNTIFS(Feuil1!$A$2:$A$47,Feuil2!$A16,Feuil1!$D$2:$D$47,"S") -> 0 | J16: =COUNTIFS(Code_LBS,$A16,Défaillance_Censure,"F") -> 0 | K16: =COUNTIFS(Code_LBS,$A16,Défaillance_Censure,"S") -> 0
A17: 01030502 | D17: I----------- | E17: Ressort | F17: 0 | G17: =COUNTIFS(Feuil1!$A$2:$A$47,Feuil2!$A17,Feuil1!$D$2:$D$47,"F") -> 0 | H17: =COUNTIFS(Feuil1!$A$2:$A$47,Feuil2!$A17,Feuil1!$D$2:$D$47,"S") -> 0 | J17: =COUNTIFS(Code_LBS,$A17,Défaillance_Censure,"F") -> 0 | K17: =COUNTIFS(Code_LBS,$A17,Défaillance_Censure,"S") -> 0
A18: 01030503 | D18: I----------- | E18: Bande d'usure de frotteur de masse | F18: 0 | G18: =COUNTIFS(Feuil1!$A$2:$A$47,Feuil2!$A18,Feuil1!$D$2:$D$47,"F") -> 0 | H18: =COUNTIFS(Feuil1!$A$2:$A$47,Feuil2!$A18,Feuil1!$D$2:$D$47,"S") -> 0 | J18: =COUNTIFS(Code_LBS,$A18,Défaillance_Censure,"F") -> 0 | K18: =COUNTIFS(Code_LBS,$A18,Défaillance_Censure,"S") -> 0
A19: 010306 | C19: I----------- | D19: Frotteur positif équipé | F19: 0 | G19: =COUNTIFS(Feuil1!$A$2:$A$47,Feuil2!$A19,Feuil1!$D$2:$D$47,"F") -> 0 | H19: =COUNTIFS(Feuil1!$A$2:$A$47,Feuil2!$A19,Feuil1!$D$2:$D$47,"S") -> 0 | J19: =COUNTIFS(Code_LBS,$A19,Défaillance_Censure,"F") -> 0 | K19: =COUNTIFS(Code_LBS,$A19,Défaillance_Censure,"S") -> 0
A20: 01030601 | D20: I----------- | E20: Support de frotteur positif | F20: 0 | G20: =COUNTIFS(Feuil1!$A$2:$A$47,Feuil2!$A20,Feuil1!$D$2:$D$47,"F") -> 0 | H20: =COUNTIFS(Feuil1!$A$2:$A$47,Feuil2!$A20,Feuil1!$D$2:$D$47,"S") -> 0 | J20: =COUNTIFS(Code_LBS,$A20,Défaillance_Censure,"F") -> 0 | K20: =COUNTIFS(Code_LBS,$A20,Défaillance_Censure,"S") -> 0
A21: 01030602 | D21: I----------- | E21: Ressort | F21: 0 | G21: =COUNTIFS(Feuil1!$A$2:$A$47,Feuil2!$A21,Feuil1!$D$2:$D$47,"F") -> 0 | H21: =COUNTIFS(Feuil1!$A$2:$A$47,Feuil2!$A21,Feuil1!$D$2:$D$47,"S") -> 0 | J21: =COUNTIFS(Code_LBS,$A21,Défaillance_Censure,"F") -> 0 | K21: =COUNTIFS(Code_LBS,$A21,Défaillance_Censure,"S") -> 0
A22: 01030603 | D22: I----------- | E22: Bande d'usure de frotteur positif | F22: 0 | G22: =COUNTIFS(Feuil1!$A$2:$A$47,Feuil2!$A22,Feuil1!$D$2:$D$47,"F") -> 0 | H22: =COUNTIFS(Feuil1!$A$2:$A$47,Feuil2!$A22,Feuil1!$D$2:$D$47,"S") -> 0 | J22: =COUNTIFS(Code_LBS,$A22,Défaillance_Censure,"F") -> 0 | K22: =COUNTIFS(Code_LBS,$A22,Défaillance_Censure,"S") -> 0
A23: 010307 | C23: I----------- | D23: Support d'antenne | F23: 0 | G23: =COUNTIFS(Feuil1!$A$2:$A$47,Feuil2!$A23,Feuil1!$D$2:$D$47,"F") -> 0 | H23: =COUNTIFS(Feuil1!$A$2:$A$47,Feuil2!$A23,Feuil1!$D$2:$D$47,"S") -> 0 | J23: =COUNTIFS(Code_LBS,$A23,Défaillance_Censure,"F") -> 0 | K23: =COUNTIFS(Code_LBS,$A23,Défaillance_Censure,"S") -> 0
A24: 010308 | C24: I----------- | D24: Panneau de frein sur bogie | F24: 0 | G24: =COUNTIFS(Feuil1!$A$2:$A$47,Feuil2!$A24,Feuil1!$D$2:$D$47,"F") -> 0 | H24: =COUNTIFS(Feuil1!$A$2:$A$47,Feuil2!$A24,Feuil1!$D$2:$D$47,"S") -> 0 | J24: =COUNTIFS(Code_LBS,$A24,Défaillance_Censure,"F") -> 0 | K24: =COUNTIFS(Code_LBS,$A24,Défaillance_Censure,"S") -> 0
A25: 0104 | B25: I----------- | C25: SUSPENSION | F25: 0 | G25: =COUNTIFS(Feuil1!$A$2:$A$47,Feuil2!$A25,Feuil1!$D$2:$D$47,"F") -> 0 | H25: =COUNTIFS(Feuil1!$A$2:$A$47,Feuil2!$A25,Feuil1!$D$2:$D$47,"S") -> 0 | J25: =COUNTIFS(Code_LBS,$A25,Défaillance_Censure,"F") -> 0 | K25: =COUNTIFS(Code_LBS,$A25,Défaillance_Censure,"S") -> 0
A26: 010401 | C26: I----------- | D26: Suspension primaire | F26: 0 | G26: =COUNTIFS(Feuil1!$A$2:$A$47,Feuil2!$A26,Feuil1!$D$2:$D$47,"F") -> 0 | H26: =COUNTIFS(Feuil1!$A$2:$A$47,Feuil2!$A26,Feuil1!$D$2:$D$47,"S") -> 0 | J26: =COUNTIFS(Code_LBS,$A26,Défaillance_Censure,"F") -> 0 | K26: =COUNTIFS(Code_LBS,$A26,Défaillance_Censure,"S") -> 0
A27: 01040101 | D27: I----------- | E27: Amortisseur primaire antigalop | F27: 0 | G27: =COUNTIFS(Feuil1!$A$2:$A$47,Feuil2!$A27,Feuil1!$D$2:$D$47,"F") -> 0 | H27: =COUNTIFS(Feuil1!$A$2:$A$47,Feuil2!$A27,Feuil1!$D$2:$D$47,"S") -> 0 | J27: =COUNTIFS(Code_LBS,$A27,Défaillance_Censure,"F") -> 0 | K27: =COUNTIFS(Code_LBS,$A27,Défaillance_Censure,"S") -> 0
A28: 01040102 | D28: I----------- | E28: Butée verticale | F28: 0 | G28: =COUNTIFS(Feuil1!$A$2:$A$47,Feuil2!$A28,Feuil1!$D$2:$D$47,"F") -> 0 | H28: =COUNTIFS(Feuil1!$A$2:$A$47,Feuil2!$A28,Feuil1!$D$2:$D$47,"S") -> 0 | J28: =COUNTIFS(Code_LBS,$A28,Défaillance_Censure,"F") -> 0 | K28: =COUNTIFS(Code_LBS,$A28,Défaillance_Censure,"S") -> 0
A29: 01040103 | D29: I----------- | E29: Ressorts acier ou plot caoutchouc | F29: 0 | G29: =COUNTIFS(Feuil1!$A$2:$A$47,Feuil2!$A29,Feuil1!$D$2:$D$47,"F") -> 0 | H29: =COUNTIFS(Feuil1!$A$2:$A$47,Feuil2!$A29,Feuil1!$D$2:$D$47,"S") -> 0 | J29: =COUNTIFS(Code_LBS,$A29,Défaillance_Censure,"F") -> 0 | K29: =COUNTIFS(Code_LBS,$A29,Défaillance_Censure,"S") -> 0
A30: 01040104 | D30: I----------- | E30: Articulation de boîte d'essieu | F30: 0 | G30: =COUNTIFS(Feuil1!$A$2:$A$47,Feuil2!$A30,Feuil1!$D$2:$D$47,"F") -> 0 | H30: =COUNTIFS(Feuil1!$A$2:$A$47,Feuil2!$A30,Feuil1!$D$2:$D$47,"S") -> 0 | J30: =COUNTIFS(Code_LBS,$A30,Défaillance_Censure,"F") -> 0 | K30: =COUNTIFS(Code_LBS,$A30,Défaillance_Censure,"S") -> 0
A31: 01040105 | D31: I----------- | E31: Biellette d'entrainement équipée | F31: 0 | G31: =COUNTIFS(Feuil1!$A$2:$A$47,Feuil2!$A31,Feuil1!$D$2:$D$47,"F") -> 0 | H31: =COUNTIFS(Feuil1!$A$2:$A$47,Feuil2!$A31,Feuil1!$D$2:$D$47,"S") -> 0 | J31: =COUNTIFS(Code_LBS,$A31,Défaillance_Censure,"F") -> 0 | K31: =COUNTIFS(Code_LBS,$A31,Défaillance_Censure,"S") -> 0
A32: 010402 | C32: I----------- | D32: Suspension secondaire | F32: 444 | G32: =COUNTIFS(Feuil1!$A$2:$A$47,Feuil2!$A32,Feuil1!$D$2:$D$47,"F") -> 0 | H32: =COUNTIFS(Feuil1!$A$2:$A$47,Feuil2!$A32,Feuil1!$D$2:$D$47,"S") -> 0 | J32: =COUNTIFS(Code_LBS,$A32,Défaillance_Censure,"F") -> 0 | K32: =COUNTIFS(Code_LBS,$A32,Défaillance_Censure,"S") -> 0
A33: 01040201 | D33: I----------- | E33: Amortisseur secondaire vertical équipé | F33: 222 | G33: =COUNTIFS(Feuil1!$A$2:$A$47,Feuil2!$A33,Feuil1!$D$2:$D$47,"F") -> 0 | H33: =COUNTIFS(Feuil1!$A$2:$A$47,Feuil2!$A33,Feuil1!$D$2:$D$47,"S") -> 1 | J33: =COUNTIFS(Code_LBS,$A33,Défaillance_Censure,"F") -> 0 | K33: =COUNTIFS(Code_LBS,$A33,Défaillance_Censure,"S") -> 1
A34: 01040202 | D34: I----------- | E34: Amortisseur transversal équipé | F34: 0 | G34: =COUNTIFS(Feuil1!$A$2:$A$47,Feuil2!$A34,Feuil1!$D$2:$D$47,"F") -> 0 | H34: =COUNTIFS(Feuil1!$A$2:$A$47,Feuil2!$A34,Feuil1!$D$2:$D$47,"S") -> 1 | J34: =COUNTIFS(Code_LBS,$A34,Défaillance_Censure,"F") -> 0 | K34: =COUNTIFS(Code_LBS,$A34,Défaillance_Censure,"S") -> 1
A35: 01040203 | D35: I----------- | E35: Amortisseur anti-lacet équipé | F35: 888 | G35: =COUNTIFS(Feuil1!$A$2:$A$47,Feuil2!$A35,Feuil1!$D$2:$D$47,"F") -> 0 | H35: =COUNTIFS(Feuil1!$A$2:$A$47,Feuil2!$A35,Feuil1!$D$2:$D$47,"S") -> 0 | J35: =COUNTIFS(Code_LBS,$A35,Défaillance_Censure,"F") -> 0 | K35: =COUNTIFS(Code_LBS,$A35,Défaillance_Censure,"S") -> 0
A36: 01040204 | D36: I----------- | E36: Butée transversale | F36: 0 | G36: =COUNTIFS(Feuil1!$A$2:$A$47,Feuil2!$A36,Feuil1!$D$2:$D$47,"F") -> 0 | H36: =COUNTIFS(Feuil1!$A$2:$A$47,Feuil2!$A36,Feuil1!$D$2:$D$47,"S") -> 1 | J36: =COUNTIFS(Code_LBS,$A36,Défaillance_Censure,"F") -> 0 | K36: =COUNTIFS(Code_LBS,$A36,Défaillance_Censure,"S") -> 1
A37: 01040215 | D37: I----------- | E37: Butée verticale | F37: 888 | G37: =COUNTIFS(Feuil1!$A$2:$A$47,Feuil2!$A37,Feuil1!$D$2:$D$47,"F") -> 0 | H37: =COUNTIFS(Feuil1!$A$2:$A$47,Feuil2!$A37,Feuil1!$D$2:$D$47,"S") -> 0 | J37: =COUNTIFS(Code_LBS,$A37,Défaillance_Censure,"F") -> 0 | K37: =COUNTIFS(Code_LBS,$A37,Défaillance_Censure,"S") -> 0
A38: 01040205 | D38: I----------- | E38: Ressorts acier ou plot caoutchouc | F38: 888 | G38: =COUNTIFS(Feuil1!$A$2:$A$47,Feuil2!$A38,Feuil1!$D$2:$D$47,"F") -> 0 | H38: =COUNTIFS(Feuil1!$A$2:$A$47,Feuil2!$A38,Feuil1!$D$2:$D$47,"S") -> 1 | J38: =COUNTIFS(Code_LBS,$A38,Défaillance_Censure,"F") -> 0 | K38: =COUNTIFS(Code_LBS,$A38,Défaillance_Censure,"S") -> 1
A39: 01040206 | D39: I----------- | E39: Sommier élastique | F39: 0 | G39: =COUNTIFS(Feuil1!$A$2:$A$47,Feuil2!$A39,Feuil1!$D$2:$D$47,"F") -> 0 | H39: =COUNTIFS(Feuil1!$A$2:$A$47,Feuil2!$A39,Feuil1!$D$2:$D$47,"S") -> 1 | J39: =COUNTIFS(Code_LBS,$A39,Défaillance_Censure,"F") -> 0 | K39: =COUNTIFS(Code_LBS,$A39,Défaillance_Censure,"S") -> 1
A40: 01040207 | D40: I----------- | E40: Coussin pneumatique | F40: 0 | G40: =COUNTIFS(Feuil1!$A$2:$A$47,Feuil2!$A40,Feuil1!$D$2:$D$47,"F") -> 0 | H40: =COUNTIFS(Feuil1!$A$2:$A$47,Feuil2!$A40,Feuil1!$D$2:$D$47,"S") -> 0 | J40: =COUNTIFS(Code_LBS,$A40,Défaillance_Censure,"F") -> 0 | K40: =COUNTIFS(Code_LBS,$A40,Défaillance_Censure,"S") -> 0
A41: 01040208 | D41: I----------- | E41: Plot de secours | F41: 444 | G41: =COUNTIFS(Feuil1!$A$2:$A$47,Feuil2!$A41,Feuil1!$D$2:$D$47,"F") -> 0 | H41: =COUNTIFS(Feuil1!$A$2:$A$47,Feuil2!$A41,Feuil1!$D$2:$D$47,"S") -> 0 | J41: =COUNTIFS(Code_LBS,$A41,Défaillance_Censure,"F") -> 0 | K41: =COUNTIFS(Code_LBS,$A41,Défaillance_Censure,"S") -> 0
A42: 01040209 | D42: I----------- | E42: Bielle de barre anti-roulis équipée | F42: 222 | G42: =COUNTIFS(Feuil1!$A$2:$A$47,Feuil2!$A42,Feuil1!$D$2:$D$47,"F") -> 0 | H42: =COUNTIFS(Feuil1!$A$2:$A$47,Feuil2!$A42,Feuil1!$D$2:$D$47,"S") -> 1 | J42: =COUNTIFS(Code_LBS,$A42,Défaillance_Censure,"F") -> 0 | K42: =COUNTIFS(Code_LBS,$A42,Défaillance_Censure,"S") -> 1
A43: 01040210 | D43: I----------- | E43: Barre anti-roulis | F43: 444 | G43: =COUNTIFS(Feuil1!$A$2:$A$47,Feuil2!$A43,Feuil1!$D$2:$D$47,"F") -> 0 | H43: =COUNTIFS(Feuil1!$A$2:$A$47,Feuil2!$A43,Feuil1!$D$2:$D$47,"S") -> 1 | J43: =COUNTIFS(Code_LBS,$A43,Défaillance_Censure,"F") -> 0 | K43: =COUNTIFS(Code_LBS,$A43,Défaillance_Censure,"S") -> 1
A44: 01040211 | D44: I----------- | E44: Palier de barre anti-roulis équipé | F44: 0 | G44: =COUNTIFS(Feuil1!$A$2:$A$47,Feuil2!$A44,Feuil1!$D$2:$D$47,"F") -> 0 | H44: =COUNTIFS(Feuil1!$A$2:$A$47,Feuil2!$A44,Feuil1!$D$2:$D$47,"S") -> 1 | J44: =COUNTIFS(Code_LBS,$A44,Défaillance_Censure,"F") -> 0 | K44: =COUNTIFS(Code_LBS,$A44,Défaillance_Censure,"S") -> 1
... A47: 01040214 | D47: I----------- | E47: Panneau de suspension | F47: 0 | G47: =COUNTIFS(Feuil1!$A$2:$A$47,Feuil2!$A47,Feuil1!$D$2:$D$47,"F") -> 0 | H47: =COUNTIFS(Feuil1!$A$2:$A$47,Feuil2!$A47,Feuil1!$D$2:$D$47,"S") -> 0 | J47: =COUNTIFS(Code_LBS,$A47,Défaillance_Censure,"F") -> 0 | K47: =COUNTIFS(Code_LBS,$A47,Défaillance_Censure,"S") -> 0
A48: 0105 | B48: I----------- | C48: ROUES - AXES D'ESSIEU - DISQUES DE FREIN | F48: 888 | G48: =COUNTIFS(Feuil1!$A$2:$A$47,Feuil2!$A48,Feuil1!$D$2:$D$47,"F") -> 0 | H48: =COUNTIFS(Feuil1!$A$2:$A$47,Feuil2!$A48,Feuil1!$D$2:$D$47,"S") -> 0 | J48: =COUNTIFS(Code_LBS,$A48,Défaillance_Censure,"F") -> 0 | K48: =COUNTIFS(Code_LBS,$A48,Défaillance_Censure,"S") -> 0
A49: 010501 | C49: I----------- | D49: Roue acier | F49: 444 | G49: =COUNTIFS(Feuil1!$A$2:$A$47,Feuil2!$A49,Feuil1!$D$2:$D$47,"F") -> 1 | H49: =COUNTIFS(Feuil1!$A$2:$A$47,Feuil2!$A49,Feuil1!$D$2:$D$47,"S") -> 1 | J49: =COUNTIFS(Code_LBS,$A49,Défaillance_Censure,"F") -> 1 | K49: =COUNTIFS(Code_LBS,$A49,Défaillance_Censure,"S") -> 1
A50: 010502 | C50: I----------- | D50: Axe essieu | F50: 0 | G50: =COUNTIFS(Feuil1!$A$2:$A$47,Feuil2!$A50,Feuil1!$D$2:$D$47,"F") -> 0 | H50: =COUNTIFS(Feuil1!$A$2:$A$47,Feuil2!$A50,Feuil1!$D$2:$D$47,"S") -> 1 | J50: =COUNTIFS(Code_LBS,$A50,Défaillance_Censure,"F") -> 0 | K50: =COUNTIFS(Code_LBS,$A50,Défaillance_Censure,"S") -> 1
A51: 010503 | C51: I----------- | D51: Pneumatique | F51: 0 | G51: =COUNTIFS(Feuil1!$A$2:$A$47,Feuil2!$A51,Feuil1!$D$2:$D$47,"F") -> 0 | H51: =COUNTIFS(Feuil1!$A$2:$A$47,Feuil2!$A51,Feuil1!$D$2:$D$47,"S") -> 0 | J51: =COUNTIFS(Code_LBS,$A51,Défaillance_Censure,"F") -> 0 | K51: =COUNTIFS(Code_LBS,$A51,Défaillance_Censure,"S") -> 0
A52: 010504 | C52: I----------- | D52: Boîte d'essieu équipée | F52: 0 | G52: =COUNTIFS(Feuil1!$A$2:$A$47,Feuil2!$A52,Feuil1!$D$2:$D$47,"F") -> 0 | H52: =COUNTIFS(Feuil1!$A$2:$A$47,Feuil2!$A52,Feuil1!$D$2:$D$47,"S") -> 0 | J52: =COUNTIFS(Code_LBS,$A52,Défaillance_Censure,"F") -> 0 | K52: =COUNTIFS(Code_LBS,$A52,Défaillance_Censure,"S") -> 0
A53: 01050401 | D53: I----------- | E53: Roulements | F53: 0 | G53: =COUNTIFS(Feuil1!$A$2:$A$47,Feuil2!$A53,Feuil1!$D$2:$D$47,"F") -> 0 | H53: =COUNTIFS(Feuil1!$A$2:$A$47,Feuil2!$A53,Feuil1!$D$2:$D$47,"S") -> 0 | J53: =COUNTIFS(Code_LBS,$A53,Défaillance_Censure,"F") -> 0 | K53: =COUNTIFS(Code_LBS,$A53,Défaillance_Censure,"S") -> 0
A54: 01050402 | D54: I----------- | E54: Couvercle avant | F54: 0 | G54: =COUNTIFS(Feuil1!$A$2:$A$47,Feuil2!$A54,Feuil1!$D$2:$D$47,"F") -> 0 | H54: =COUNTIFS(Feuil1!$A$2:$A$47,Feuil2!$A54,Feuil1!$D$2:$D$47,"S") -> 0 | J54: =COUNTIFS(Code_LBS,$A54,Défaillance_Censure,"F") -> 0 | K54: =COUNTIFS(Code_LBS,$A54,Défaillance_Censure,"S") -> 0
A55: 01050403 | D55: I----------- | E55: Couvercle arrière | F55: 0 | G55: =COUNTIFS(Feuil1!$A$2:$A$47,Feuil2!$A55,Feuil1!$D$2:$D$47,"F") -> 0 | H55: =COUNTIFS(Feuil1!$A$2:$A$47,Feuil2!$A55,Feuil1!$D$2:$D$47,"S") -> 0 | J55: =COUNTIFS(Code_LBS,$A55,Défaillance_Censure,"F") -> 0 | K55: =COUNTIFS(Code_LBS,$A55,Défaillance_Censure,"S") -> 0
A56: 01050404 | D56: I----------- | E56: Corps de boîte d'essieu | F56: 0 | G56: =COUNTIFS(Feuil1!$A$2:$A$47,Feuil2!$A56,Feuil1!$D$2:$D$47,"F") -> 0 | H56: =COUNTIFS(Feuil1!$A$2:$A$47,Feuil2!$A56,Feuil1!$D$2:$D$47,"S") -> 0 | J56: =COUNTIFS(Code_LBS,$A56,Défaillance_Censure,"F") -> 0 | K56: =COUNTIFS(Code_LBS,$A56,Défaillance_Censure,"S") -> 0
A57: 01050405 | D57: I----------- | E57: Sous garde | F57: 0 | G57: =COUNTIFS(Feuil1!$A$2:$A$47,Feuil2!$A57,Feuil1!$D$2:$D$47,"F") -> 0 | H57: =COUNTIFS(Feuil1!$A$2:$A$47,Feuil2!$A57,Feuil1!$D$2:$D$47,"S") -> 0 | J57: =COUNTIFS(Code_LBS,$A57,Défaillance_Censure,"F") -> 0 | K57: =COUNTIFS(Code_LBS,$A57,Défaillance_Censure,"S") -> 0
A58: 01050406 | D58: I----------- | E58: Joint | F58: 444 | G58: =COUNTIFS(Feuil1!$A$2:$A$47,Feuil2!$A58,Feuil1!$D$2:$D$47,"F") -> 0 | H58: =COUNTIFS(Feuil1!$A$2:$A$47,Feuil2!$A58,Feuil1!$D$2:$D$47,"S") -> 0 | J58: =COUNTIFS(Code_LBS,$A58,Défaillance_Censure,"F") -> 0 | K58: =COUNTIFS(Code_LBS,$A58,Défaillance_Censure,"S") -> 0
A59: 010505 | C59: I----------- | D59: Moteur ou Pont porteur | F59: 592 | G59: =COUNTIFS(Feuil1!$A$2:$A$47,Feuil2!$A59,Feuil1!$D$2:$D$47,"F") -> 0 | H59: =COUNTIFS(Feuil1!$A$2:$A$47,Feuil2!$A59,Feuil1!$D$2:$D$47,"S") -> 1 | J59: =COUNTIFS(Code_LBS,$A59,Défaillance_Censure,"F") -> 0 | K59: =COUNTIFS(Code_LBS,$A59,Défaillance_Censure,"S") -> 1
A60: 010506 | C60: I----------- | D60: Disque sur roue | F60: 0 | G60: =COUNTIFS(Feuil1!$A$2:$A$47,Feuil2!$A60,Feuil1!$D$2:$D$47,"F") -> 0 | H60: =COUNTIFS(Feuil1!$A$2:$A$47,Feuil2!$A60,Feuil1!$D$2:$D$47,"S") -> 1 | J60: =COUNTIFS(Code_LBS,$A60,Défaillance_Censure,"F") -> 0 | K60: =COUNTIFS(Code_LBS,$A60,Défaillance_Censure,"S") -> 1
A61: 010507 | C61: I----------- | D61: Disque sur essieu | F61: 0 | G61: =COUNTIFS(Feuil1!$A$2:$A$47,Feuil2!$A61,Feuil1!$D$2:$D$47,"F") -> 0 | H61: =COUNTIFS(Feuil1!$A$2:$A$47,Feuil2!$A61,Feuil1!$D$2:$D$47,"S") -> 0 | J61: =COUNTIFS(Code_LBS,$A61,Défaillance_Censure,"F") -> 0 | K61: =COUNTIFS(Code_LBS,$A61,Défaillance_Censure,"S") -> 0
A62: 010508 | C62: I----------- | D62: Roue élastique | F62: 0 | G62: =COUNTIFS(Feuil1!$A$2:$A$47,Feuil2!$A62,Feuil1!$D$2:$D$47,"F") -> 0 | H62: =COUNTIFS(Feuil1!$A$2:$A$47,Feuil2!$A62,Feuil1!$D$2:$D$47,"S") -> 0 | J62: =COUNTIFS(Code_LBS,$A62,Défaillance_Censure,"F") -> 0 | K62: =COUNTIFS(Code_LBS,$A62,Défaillance_Censure,"S") -> 0
A63: 0106 | B63: I----------- | C63: ÉQUIPEMENT SUR ESSIEU | F63: 0 | G63: =COUNTIFS(Feuil1!$A$2:$A$47,Feuil2!$A63,Feuil1!$D$2:$D$47,"F") -> 0 | H63: =COUNTIFS(Feuil1!$A$2:$A$47,Feuil2!$A63,Feuil1!$D$2:$D$47,"S") -> 0 | J63: =COUNTIFS(Code_LBS,$A63,Défaillance_Censure,"F") -> 0 | K63: =COUNTIFS(Code_LBS,$A63,Défaillance_Censure,"S") -> 0
A64: 010601 | C64: I----------- | D64: Capteur bout d'essieu | F64: 592 | G64: =COUNTIFS(Feuil1!$A$2:$A$47,Feuil2!$A64,Feuil1!$D$2:$D$47,"F") -> 0 | H64: =COUNTIFS(Feuil1!$A$2:$A$47,Feuil2!$A64,Feuil1!$D$2:$D$47,"S") -> 0 | J64: =COUNTIFS(Code_LBS,$A64,Défaillance_Censure,"F") -> 0 | K64: =COUNTIFS(Code_LBS,$A64,Défaillance_Censure,"S") -> 0
A65: 010602 | C65: I----------- | D65: Retour de courant | F65: 0 | G65: =COUNTIFS(Feuil1!$A$2:$A$47,Feuil2!$A65,Feuil1!$D$2:$D$47,"F") -> 0 | H65: =COUNTIFS(Feuil1!$A$2:$A$47,Feuil2!$A65,Feuil1!$D$2:$D$47,"S") -> 1 | J65: =COUNTIFS(Code_LBS,$A65,Défaillance_Censure,"F") -> 0 | K65: =COUNTIFS(Code_LBS,$A65,Défaillance_Censure,"S") -> 1
A66: 010603 | C66: I----------- | D66: Plateau de frottement | F66: 0 | G66: =COUNTIFS(Feuil1!$A$2:$A$47,Feuil2!$A66,Feuil1!$D$2:$D$47,"F") -> 0 | H66: =COUNTIFS(Feuil1!$A$2:$A$47,Feuil2!$A66,Feuil1!$D$2:$D$47,"S") -> 0 | J66: =COUNTIFS(Code_LBS,$A66,Défaillance_Censure,"F") -> 0 | K66: =COUNTIFS(Code_LBS,$A66,Défaillance_Censure,"S") -> 0
A67: 010604 | C67: I----------- | D67: Charbons de retour de courant | F67: 888 | G67: =COUNTIFS(Feuil1!$A$2:$A$47,Feuil2!$A67,Feuil1!$D$2:$D$47,"F") -> 0 | H67: =COUNTIFS(Feuil1!$A$2:$A$47,Feuil2!$A67,Feuil1!$D$2:$D$47,"S") -> 0 | J67: =COUNTIFS(Code_LBS,$A67,Défaillance_Censure,"F") -> 0 | K67: =COUNTIFS(Code_LBS,$A67,Défaillance_Censure,"S") -> 0
A68: 010605 | C68: I----------- | D68: Chasse-pierres | F68: 0 | G68: =COUNTIFS(Feuil1!$A$2:$A$47,Feuil2!$A68,Feuil1!$D$2:$D$47,"F") -> 0 | H68: =COUNTIFS(Feuil1!$A$2:$A$47,Feuil2!$A68,Feuil1!$D$2:$D$47,"S") -> 1 | J68: =COUNTIFS(Code_LBS,$A68,Défaillance_Censure,"F") -> 0 | K68: =COUNTIFS(Code_LBS,$A68,Défaillance_Censure,"S") -> 1
A69: 010606 | C69: I----------- | D69: Support chasse-pierres | F69: 0 | G69: =COUNTIFS(Feuil1!$A$2:$A$47,Feuil2!$A69,Feuil1!$D$2:$D$47,"F") -> 0 | H69: =COUNTIFS(Feuil1!$A$2:$A$47,Feuil2!$A69,Feuil1!$D$2:$D$47,"S") -> 0 | J69: =COUNTIFS(Code_LBS,$A69,Défaillance_Censure,"F") -> 0 | K69: =COUNTIFS(Code_LBS,$A69,Défaillance_Censure,"S") -> 0
A70: 0106011 | D70: I----------- | E70: Capteur bout d'essieu de vitesse | F70: 0 | G70: =COUNTIFS(Feuil1!$A$2:$A$47,Feuil2!$A70,Feuil1!$D$2:$D$47,"F") -> 0 | H70: =COUNTIFS(Feuil1!$A$2:$A$47,Feuil2!$A70,Feuil1!$D$2:$D$47,"S") -> 0 | J70: =COUNTIFS(Code_LBS,$A70,Défaillance_Censure,"F") -> 0 | K70: =COUNTIFS(Code_LBS,$A70,Défaillance_Censure,"S") -> 0
A71: 0106012 | D71: I----------- | E71: Capteur bout d'essieu odomètre | F71: 0 | G71: =COUNTIFS(Feuil1!$A$2:$A$47,Feuil2!$A71,Feuil1!$D$2:$D$47,"F") -> 0 | H71: =COUNTIFS(Feuil1!$A$2:$A$47,Feuil2!$A71,Feuil1!$D$2:$D$47,"S") -> 0 | J71: =COUNTIFS(Code_LBS,$A71,Défaillance_Censure,"F") -> 0 | K71: =COUNTIFS(Code_LBS,$A71,Défaillance_Censure,"S") -> 0
A72: 0106013 | D72: I----------- | E72: Capteur bout d'essieu de température | F72: 0 | G72: =COUNTIFS(Feuil1!$A$2:$A$47,Feuil2!$A72,Feuil1!$D$2:$D$47,"F") -> 0 | H72: =COUNTIFS(Feuil1!$A$2:$A$47,Feuil2!$A72,Feuil1!$D$2:$D$47,"S") -> 0 | J72: =COUNTIFS(Code_LBS,$A72,Défaillance_Censure,"F") -> 0 | K72: =COUNTIFS(Code_LBS,$A72,Défaillance_Censure,"S") -> 0
A73: 0107 | B73: I----------- | C73: LIAISON CAISSE-BOGIE | F73: 222 | G73: =COUNTIFS(Feuil1!$A$2:$A$47,Feuil2!$A73,Feuil1!$D$2:$D$47,"F") -> 0 | H73: =COUNTIFS(Feuil1!$A$2:$A$47,Feuil2!$A73,Feuil1!$D$2:$D$47,"S") -> 0 | J73: =COUNTIFS(Code_LBS,$A73,Défaillance_Censure,"F") -> 0 | K73: =COUNTIFS(Code_LBS,$A73,Défaillance_Censure,"S") -> 0
A74: 010701 | C74: I----------- | D74: Bielle d'entrainement équipée | F74: 0 | G74: =COUNTIFS(Feuil1!$A$2:$A$47,Feuil2!$A74,Feuil1!$D$2:$D$47,"F") -> 0 | H74: =COUNTIFS(Feuil1!$A$2:$A$47,Feuil2!$A74,Feuil1!$D$2:$D$47,"S") -> 1 | J74: =COUNTIFS(Code_LBS,$A74,Défaillance_Censure,"F") -> 0 | K74: =COUNTIFS(Code_LBS,$A74,Défaillance_Censure,"S") -> 1
A75: 010702 | C75: I----------- | D75: Balancier | F75: 0 | G75: =COUNTIFS(Feuil1!$A$2:$A$47,Feuil2!$A75,Feuil1!$D$2:$D$47,"F") -> 0 | H75: =COUNTIFS(Feuil1!$A$2:$A$47,Feuil2!$A75,Feuil1!$D$2:$D$47,"S") -> 0 | J75: =COUNTIFS(Code_LBS,$A75,Défaillance_Censure,"F") -> 0 | K75: =COUNTIFS(Code_LBS,$A75,Défaillance_Censure,"S") -> 0
A76: 010703 | C76: I----------- | D76: Pivot | F76: 0 | G76: =COUNTIFS(Feuil1!$A$2:$A$47,Feuil2!$A76,Feuil1!$D$2:$D$47,"F") -> 0 | H76: =COUNTIFS(Feuil1!$A$2:$A$47,Feuil2!$A76,Feuil1!$D$2:$D$47,"S") -> 0 | J76: =COUNTIFS(Code_LBS,$A76,Défaillance_Censure,"F") -> 0 | K76: =COUNTIFS(Code_LBS,$A76,Défaillance_Censure,"S") -> 0
A77: 010704 | C77: I----------- | D77: Articulation élastique | F77: 0 | G77: =COUNTIFS(Feuil1!$A$2:$A$47,Feuil2!$A77,Feuil1!$D$2:$D$47,"F") -> 0 | H77: =COUNTIFS(Feuil1!$A$2:$A$47,Feuil2!$A77,Feuil1!$D$2:$D$47,"S") -> 0 | J77: =COUNTIFS(Code_LBS,$A77,Défaillance_Censure,"F") -> 0 | K77: =COUNTIFS(Code_LBS,$A77,Défaillance_Censure,"S") -> 0
A78: 010705 | C78: I----------- | D78: Bloc d'entraînement | F78: 0 | G78: =COUNTIFS(Feuil1!$A$2:$A$47,Feuil2!$A78,Feuil1!$D$2:$D$47,"F") -> 0 | H78: =COUNTIFS(Feuil1!$A$2:$A$47,Feuil2!$A78,Feuil1!$D$2:$D$47,"S") -> 0 | J78: =COUNTIFS(Code_LBS,$A78,Défaillance_Censure,"F") -> 0 | K78: =COUNTIFS(Code_LBS,$A78,Défaillance_Censure,"S") -> 0
A79: 010706 | C79: I----------- | D79: Broche d'entraînement | F79: 0 | G79: =COUNTIFS(Feuil1!$A$2:$A$47,Feuil2!$A79,Feuil1!$D$2:$D$47,"F") -> 0 | H79: =COUNTIFS(Feuil1!$A$2:$A$47,Feuil2!$A79,Feuil1!$D$2:$D$47,"S") -> 0 | J79: =COUNTIFS(Code_LBS,$A79,Défaillance_Censure,"F") -> 0 | K79: =COUNTIFS(Code_LBS,$A79,Défaillance_Censure,"S") -> 0
A80: 010707 | C80: I----------- | D80: Rotule | F80: 0 | G80: =COUNTIFS(Feuil1!$A$2:$A$47,Feuil2!$A80,Feuil1!$D$2:$D$47,"F") -> 0 | H80: =COUNTIFS(Feuil1!$A$2:$A$47,Feuil2!$A80,Feuil1!$D$2:$D$47,"S") -> 0 | J80: =COUNTIFS(Code_LBS,$A80,Défaillance_Censure,"F") -> 0 | K80: =COUNTIFS(Code_LBS,$A80,Défaillance_Censure,"S") -> 0
A81: 010708 | C81: I----------- | D81: Palier élastique | F81: 0 | G81: =COUNTIFS(Feuil1!$A$2:$A$47,Feuil2!$A81,Feuil1!$D$2:$D$47,"F") -> 0 | H81: =COUNTIFS(Feuil1!$A$2:$A$47,Feuil2!$A81,Feuil1!$D$2:$D$47,"S") -> 0 | J81: =COUNTIFS(Code_LBS,$A81,Défaillance_Censure,"F") -> 0 | K81: =COUNTIFS(Code_LBS,$A81,Défaillance_Censure,"S") -> 0
A82: 010709 | C82: I----------- | D82: Coussinet | F82: 0 | G82: =COUNTIFS(Feuil1!$A$2:$A$47,Feuil2!$A82,Feuil1!$D$2:$D$47,"F") -> 0 | H82: =COUNTIFS(Feuil1!$A$2:$A$47,Feuil2!$A82,Feuil1!$D$2:$D$47,"S") -> 0 | J82: =COUNTIFS(Code_LBS,$A82,Défaillance_Censure,"F") -> 0 | K82: =COUNTIFS(Code_LBS,$A82,Défaillance_Censure,"S") -> 0
A83: 010710 | C83: I----------- | D83: Couronne de rotation | F83: 0 | G83: =COUNTIFS(Feuil1!$A$2:$A$47,Feuil2!$A83,Feuil1!$D$2:$D$47,"F") -> 0 | H83: =COUNTIFS(Feuil1!$A$2:$A$47,Feuil2!$A83,Feuil1!$D$2:$D$47,"S") -> 0 | J83: =COUNTIFS(Code_LBS,$A83,Défaillance_Censure,"F") -> 0 | K83: =COUNTIFS(Code_LBS,$A83,Défaillance_Censure,"S") -> 0
A84: 010711 | C84: I----------- | D84: Traverse | F84: 0 | G84: =COUNTIFS(Feuil1!$A$2:$A$47,Feuil2!$A84,Feuil1!$D$2:$D$47,"F") -> 0 | H84: =COUNTIFS(Feuil1!$A$2:$A$47,Feuil2!$A84,Feuil1!$D$2:$D$47,"S") -> 0 | J84: =COUNTIFS(Code_LBS,$A84,Défaillance_Censure,"F") -> 0 | K84: =COUNTIFS(Code_LBS,$A84,Défaillance_Censure,"S") -> 0
A85: 0108 | B85: I----------- | C85: TRANSMISSION | F85: 0 | G85: =COUNTIFS(Feuil1!$A$2:$A$47,Feuil2!$A85,Feuil1!$D$2:$D$47,"F") -> 0 | H85: =COUNTIFS(Feuil1!$A$2:$A$47,Feuil2!$A85,Feuil1!$D$2:$D$47,"S") -> 0 | J85: =COUNTIFS(Code_LBS,$A85,Défaillance_Censure,"F") -> 0 | K85: =COUNTIFS(Code_LBS,$A85,Défaillance_Censure,"S") -> 0
A86: 010801 | C86: I----------- | D86: Accouplement (tripode, à denture) | F86: 0 | G86: =COUNTIFS(Feuil1!$A$2:$A$47,Feuil2!$A86,Feuil1!$D$2:$D$47,"F") -> 0 | H86: =COUNTIFS(Feuil1!$A$2:$A$47,Feuil2!$A86,Feuil1!$D$2:$D$47,"S") -> 0 | J86: =COUNTIFS(Code_LBS,$A86,Défaillance_Censure,"F") -> 0 | K86: =COUNTIFS(Code_LBS,$A86,Défaillance_Censure,"S") -> 0
A87: 010802 | C87: I----------- | D87: Réducteur équipé | F87: 0 | G87: =COUNTIFS(Feuil1!$A$2:$A$47,Feuil2!$A87,Feuil1!$D$2:$D$47,"F") -> 0 | H87: =COUNTIFS(Feuil1!$A$2:$A$47,Feuil2!$A87,Feuil1!$D$2:$D$47,"S") -> 0 | J87: =COUNTIFS(Code_LBS,$A87,Défaillance_Censure,"F") -> 0 | K87: =COUNTIFS(Code_LBS,$A87,Défaillance_Censure,"S") -> 0
A88: 010803 | C88: I----------- | D88: Bielle de réducteur équipée | F88: 0 | G88: =COUNTIFS(Feuil1!$A$2:$A$47,Feuil2!$A88,Feuil1!$D$2:$D$47,"F") -> 0 | H88: =COUNTIFS(Feuil1!$A$2:$A$47,Feuil2!$A88,Feuil1!$D$2:$D$47,"S") -> 0 | J88: =COUNTIFS(Code_LBS,$A88,Défaillance_Censure,"F") -> 0 | K88: =COUNTIFS(Code_LBS,$A88,Défaillance_Censure,"S") -> 0
A89: 010804 | C89: I----------- | D89: Pont moteur | F89: 0 | G89: =COUNTIFS(Feuil1!$A$2:$A$47,Feuil2!$A89,Feuil1!$D$2:$D$47,"F") -> 0 | H89: =COUNTIFS(Feuil1!$A$2:$A$47,Feuil2!$A89,Feuil1!$D$2:$D$47,"S") -> 0 | J89: =COUNTIFS(Code_LBS,$A89,Défaillance_Censure,"F") -> 0 | K89: =COUNTIFS(Code_LBS,$A89,Défaillance_Censure,"S") -> 0
A90: 010805 | C90: I----------- | D90: Canon box équipé | F90: 296 | G90: =COUNTIFS(Feuil1!$A$2:$A$47,Feuil2!$A90,Feuil1!$D$2:$D$47,"F") -> 0 | H90: =COUNTIFS(Feuil1!$A$2:$A$47,Feuil2!$A90,Feuil1!$D$2:$D$47,"S") -> 0 | J90: =COUNTIFS(Code_LBS,$A90,Défaillance_Censure,"F") -> 0 | K90: =COUNTIFS(Code_LBS,$A90,Défaillance_Censure,"S") -> 0
A91: 010806 | C91: I----------- | D91: Moteur | F91: 0 | G91: =COUNTIFS(Feuil1!$A$2:$A$47,Feuil2!$A91,Feuil1!$D$2:$D$47,"F") -> 0 | H91: =COUNTIFS(Feuil1!$A$2:$A$47,Feuil2!$A91,Feuil1!$D$2:$D$47,"S") -> 1 | J91: =COUNTIFS(Code_LBS,$A91,Défaillance_Censure,"F") -> 0 | K91: =COUNTIFS(Code_LBS,$A91,Défaillance_Censure,"S") -> 1
A92: 010807 | C92: I----------- | D92: Suspension moteur | F92: 592 | G92: =COUNTIFS(Feuil1!$A$2:$A$47,Feuil2!$A92,Feuil1!$D$2:$D$47,"F") -> 0 | H92: =COUNTIFS(Feuil1!$A$2:$A$47,Feuil2!$A92,Feuil1!$D$2:$D$47,"S") -> 0 | J92: =COUNTIFS(Code_LBS,$A92,Défaillance_Censure,"F") -> 0 | K92: =COUNTIFS(Code_LBS,$A92,Défaillance_Censure,"S") -> 0
A93: 010808 | C93: I----------- | D93: Capteur (vitesse, WSP..) | F93: 0 | G93: =COUNTIFS(Feuil1!$A$2:$A$47,Feuil2!$A93,Feuil1!$D$2:$D$47,"F") -> 0 | H93: =COUNTIFS(Feuil1!$A$2:$A$47,Feuil2!$A93,Feuil1!$D$2:$D$47,"S") -> 1 | J93: =COUNTIFS(Code_LBS,$A93,Défaillance_Censure,"F") -> 0 | K93: =COUNTIFS(Code_LBS,$A93,Défaillance_Censure,"S") -> 1
A94: 0109 | B94: I----------- | C94: ÉQUIPEMENT DE SABLAGE | F94: 0 | G94: =COUNTIFS(Feuil1!$A$2:$A$47,Feuil2!$A94,Feuil1!$D$2:$D$47,"F") -> 0 | H94: =COUNTIFS(Feuil1!$A$2:$A$47,Feuil2!$A94,Feuil1!$D$2:$D$47,"S") -> 0 | J94: =COUNTIFS(Code_LBS,$A94,Défaillance_Censure,"F") -> 0 | K94: =COUNTIFS(Code_LBS,$A94,Défaillance_Censure,"S") -> 0
A95: 010901 | C95: I----------- | D95: Boîte à sable | F95: 0 | G95: =COUNTIFS(Feuil1!$A$2:$A$47,Feuil2!$A95,Feuil1!$D$2:$D$47,"F") -> 0 | H95: =COUNTIFS(Feuil1!$A$2:$A$47,Feuil2!$A95,Feuil1!$D$2:$D$47,"S") -> 0 | J95: =COUNTIFS(Code_LBS,$A95,Défaillance_Censure,"F") -> 0 | K95: =COUNTIFS(Code_LBS,$A95,Défaillance_Censure,"S") -> 0
A96: 010902 | C96: I----------- | D96: Sable | F96: 296 | G96: =COUNTIFS(Feuil1!$A$2:$A$47,Feuil2!$A96,Feuil1!$D$2:$D$47,"F") -> 0 | H96: =COUNTIFS(Feuil1!$A$2:$A$47,Feuil2!$A96,Feuil1!$D$2:$D$47,"S") -> 0 | J96: =COUNTIFS(Code_LBS,$A96,Défaillance_Censure,"F") -> 0 | K96: =COUNTIFS(Code_LBS,$A96,Défaillance_Censure,"S") -> 0
A97: 010903 | C97: I----------- | D97: Tuyaux flexibles / Support | F97: 0 | G97: =COUNTIFS(Feuil1!$A$2:$A$47,Feuil2!$A97,Feuil1!$D$2:$D$47,"F") -> 0 | H97: =COUNTIFS(Feuil1!$A$2:$A$47,Feuil2!$A97,Feuil1!$D$2:$D$47,"S") -> 1 | J97: =COUNTIFS(Code_LBS,$A97,Défaillance_Censure,"F") -> 0 | K97: =COUNTIFS(Code_LBS,$A97,Défaillance_Censure,"S") -> 1
A98: 010904 | C98: I----------- | D98: Ejecteur | F98: 0 | G98: =COUNTIFS(Feuil1!$A$2:$A$47,Feuil2!$A98,Feuil1!$D$2:$D$47,"F") -> 0 | H98: =COUNTIFS(Feuil1!$A$2:$A$47,Feuil2!$A98,Feuil1!$D$2:$D$47,"S") -> 0 | J98: =COUNTIFS(Code_LBS,$A98,Défaillance_Censure,"F") -> 0 | K98: =COUNTIFS(Code_LBS,$A98,Défaillance_Censure,"S") -> 0
A99: 010905 | C99: I----------- | D99: Alimentation d'air | F99: 0 | G99: =COUNTIFS(Feuil1!$A$2:$A$47,Feuil2!$A99,Feuil1!$D$2:$D$47,"F") -> 0 | H99: =COUNTIFS(Feuil1!$A$2:$A$47,Feuil2!$A99,Feuil1!$D$2:$D$47,"S") -> 0 | J99: =COUNTIFS(Code_LBS,$A99,Défaillance_Censure,"F") -> 0 | K99: =COUNTIFS(Code_LBS,$A99,Défaillance_Censure,"S") -> 0
A100: 0110 | B100: I----------- | C100: GRAISSEUR DE BOUDIN | F100: 148 | G100: =COUNTIFS(Feuil1!$A$2:$A$47,Feuil2!$A100,Feuil1!$D$2:$D$47,"F") -> 0 | H100: =COUNTIFS(Feuil1!$A$2:$A$47,Feuil2!$A100,Feuil1!$D$2:$D$47,"S") -> 0 | J100: =COUNTIFS(Code_LBS,$A100,Défaillance_Censure,"F") -> 0 | K100: =COUNTIFS(Code_LBS,$A100,Défaillance_Censure,"S") -> 0
A101: 011001 | C101: I----------- | D101: Ejecteur | F101: 0 | G101: =COUNTIFS(Feuil1!$A$2:$A$47,Feuil2!$A101,Feuil1!$D$2:$D$47,"F") -> 1 | H101: =COUNTIFS(Feuil1!$A$2:$A$47,Feuil2!$A101,Feuil1!$D$2:$D$47,"S") -> 1 | J101: =COUNTIFS(Code_LBS,$A101,Défaillance_Censure,"F") -> 1 | K101: =COUNTIFS(Code_LBS,$A101,Défaillance_Censure,"S") -> 1
A102: 011002 | C102: I----------- | D102: Réservoir | F102: 0 | G102: =COUNTIFS(Feuil1!$A$2:$A$47,Feuil2!$A102,Feuil1!$D$2:$D$47,"F") -> 0 | H102: =COUNTIFS(Feuil1!$A$2:$A$47,Feuil2!$A102,Feuil1!$D$2:$D$47,"S") -> 0 | J102: =COUNTIFS(Code_LBS,$A102,Défaillance_Censure,"F") -> 0 | K102: =COUNTIFS(Code_LBS,$A102,Défaillance_Censure,"S") -> 0
...

Sheet Feuil3
A1: Gamme | B1: Projet | C1: Kilométrage flotte dernière mise à jour
A2: TRAMWAY | B2: CBA | C2: 131539
