Workbook
Name Code_LBS: 'Feuil1 (2)'!$A$2:$A$47
Name Code_LBSA: Feuil2!$A$3:$A$146
Name Défaillance_Censure: 'Feuil1 (2)'!$D$2:$D$47
Name Gamme: 'Feuil1 (2)'!$G$2:$G$47
Name KM_F_S: 'Feuil1 (2)'!$E$2:$E$47
Name Mode_défaillance: 'Feuil1 (2)'!$B$2:$B$47
Name Nb: 'Feuil1 (2)'!$C$2:$C$47
Name Nb_censures_S: Feuil2!$H$3:$H$146
Name Nb_défaillances_F: Feuil2!$G$3:$G$146
Name Projet: 'Feuil1 (2)'!$F$2:$F$47
Name Qté_par_rame: Feuil2!$F$3:$F$146

Sheet Feuil1 (2)
A1: Code LBS | B1: Mode_défaillance | C1: Nb | D1: Défaillance_Censure | E1: KM_F_S | F1: Projet | G1: Gamme
A2: 011304 | C2: 1 | D2: F | E2: 53436 | F2: CBA | G2: TRAMWAY
A3: 011304 | C3: 1 | D3: F | E3: 56279 | F3: CBA | G3: TRAMWAY
A4: 011004 | C4: 1 | D4: F | E4: 56652 | F4: CBA | G4: TRAMWAY
A5: 011304 | C5: 1 | D5: F | E5: 66041 | F5: CBA | G5: TRAMWAY
A6: 011304 | C6: 1 | D6: F | E6: 60861 | F6: CBA | G6: TRAMWAY
A7: 011304 | C7: 1 | D7: F | E7: 62497 | F7: CBA | G7: TRAMWAY
A8: 011204 | C8: 1 | D8: F | E8: 69729 | F8: CBA | G8: TRAMWAY
A9: 011304 | C9: 1 | D9: F | E9: 57679 | F9: CBA | G9: TRAMWAY
A10: 011304 | C10: 1 | D10: F | E10: 99021 | F10: CBA | G10: TRAMWAY
A11: 011001 | C11: 1 | D11: F | E11: 101713 | F11: CBA | G11: TRAMWAY
A12: 011305 | C12: 1 | D12: F | E12: 112149 | F12: CBA | G12: TRAMWAY
A13: 010501 | C13: 1 | D13: F | E13: 115477 | F13: CBA | G13: TRAMWAY
... A47: 01130603 | C47: 444 | D47: S | E47: 131539 | F47: CBA | G47: TRAMWAY

Sheet Feuil1
A1: Code LBS | B1: Mode de défaillance | C1: Nombre dans l'état | D1: F= Défaillance ou S=Censure | E1: Kilométrage pour F ou S | F1: Projet | G1: Gamme | H1: Nb S
A2: 011304 | C2: 1 | D2: F | E2: 53436 | F2: CBA | G2: TRAMWAY | H2: =SUMIFS(Qté_par_rame,Code_LBSA,A2,Nb_censures_S,">"&0) -> 296
A3: 011304 | C3: 1 | D3: F | E3: 56279 | F3: CBA | G3: TRAMWAY | H3: =SUMIFS(Qté_par_rame,Code_LBSA,A3,Nb_censures_S,">"&0) -> 296
A4: 011004 | C4: 1 | D4: F | E4: 56652 | F4: CBA | G4: TRAMWAY | H4: =SUMIFS(Qté_par_rame,Code_LBSA,A4,Nb_censures_S,">"&0) -> 0
A5: 011304 | C5: 1 | D5: F | E5: 66041 | F5: CBA | G5: TRAMWAY | H5: =SUMIFS(Qté_par_rame,Code_LBSA,A5,Nb_censures_S,">"&0) -> 296
A6: 011304 | C6: 1 | D6: F | E6: 60861 | F6: CBA | G6: TRAMWAY | H6: =SUMIFS(Qté_par_rame,Code_LBSA,A6,Nb_censures_S,">"&0) -> 296
A7: 011304 | C7: 1 | D7: F | E7: 62497 | F7: CBA | G7: TRAMWAY | H7: =SUMIFS(Qté_par_rame,Code_LBSA,A7,Nb_censures_S,">"&0) -> 296
A8: 011204 | C8: 1 | D8: F | E8: 69729 | F8: CBA | G8: TRAMWAY | H8: =SUMIFS(Qté_par_rame,Code_LBSA,A8,Nb_censures_S,">"&0) -> 0
A9: 011304 | C9: 1 | D9: F | E9: 57679 | F9: CBA | G9: TRAMWAY | H9: =SUMIFS(Qté_par_rame,Code_LBSA,A9,Nb_censures_S,">"&0) -> 296
A10: 011304 | C10: 1 | D10: F | E10: 99021 | F10: CBA | G10: TRAMWAY | H10: =SUMIFS(Qté_par_rame,Code_LBSA,A10,Nb_censures_S,">"&0) -> 296
A11: 011001 | C11: 1 | D11: F | E11: 101713 | F11: CBA | G11: TRAMWAY | H11: =SUMIFS(Qté_par_rame,Code_LBSA,A11,Nb_censures_S,">"&0) -> 0
A12: 011305 | C12: 1 | D12: F | E12: 112149 | F12: CBA | G12: TRAMWAY | H12: =SUMIFS(Qté_par_rame,Code_LBSA,A12,Nb_censures_S,">"&0) -> 444
A13: 010501 | C13: 1 | D13: F | E13: 115477 | F13: CBA | G13: TRAMWAY | H13: =SUMIFS(Qté_par_rame,Code_LBSA,A13,Nb_censures_S,">"&0) -> 444
... A47: 01130603 | C47: 444 | D47: S | E47: 131539 | F47: CBA | G47: TRAMWAY | H47: =SUMIFS(Qté_par_rame,Code_LBSA,A47,Nb_censures_S,">"&0) -> 0

Sheet Feuil2
B1: Décomposition de la structure de liaison | F1: CBA | J1: variante en nommant les zones de Feuil1 (2)
A2: Code LBSA | B2: Niveau 1 | C2: Niveau 2 | D2: Niveau 3 | E2: Niveau 4 | F2: Qté par rame | G2: Nb_défaillances_F | H2: Nb_censures_S | J2: Nombre de défaillances F | K2: Nombre de censures S
A3: 01 | B3: BOGIES & SUSPENSION | G3: =COUNTIFS(Feuil1!$A$2:$A$47,Feuil2!$A3,Feuil1!$D$2:$D$47,"F") -> 0 | H3: =COUNTIFS(Feuil1!$A$2:$A$47,Feuil2!$A3,Feuil1!$D$2:$D$47,"S") -> 0 | J3: =COUNTIFS(Code_LBS,$A3,Défaillance_Censure,"F") -> 0 | K3: =COUNTIFS(Code_LBS,$A3,Défaillance_Censure,"S") -> 0
A4: 0103 | B4: I----------- | C4: CHÂSSIS & ACCESSOIRES | F4: 222 | G4: =COUNTIFS(Feuil1!$A$2:$A$47,Feuil2!$A4,Feuil1!$D$2:$D$47,"F") -> 0 | H4: =COUNTIFS(Feuil1!$A$2:$A$47,Feuil2!$A4,Feuil1!$D$2:$D$47,"S") -> 0 | J4: =COUNTIFS(Code_LBS,$A4,Défaillance_Censure,"F") -> 0 | K4: =COUNTIFS(Code_LBS,$A4,Défaillance_Censure,"S") -> 0
A5: 010301 | C5: I----------- | D5: Châssis de bogie | F5: 444 | G5: =COUNTIFS(Feuil1!$A$2:$A$47,Feuil2!$A5,Feuil1!$D$2:$D$47,"F") -> 0 | H5: =COUNTIFS(Feuil1!$A$2:$A$47,Feuil2!$A5,Feuil1!$D$2:$D$47,"S") -> 1 | J5: =COUNTIFS(Code_LBS,$A5,Défaillance_Censure,"F") -> 0 | K5: =COUNTIFS(Code_LBS,$A5,Défaillance_Censure,"S") -> 1
A6: 0103011 | C6: I----------- | D6: Articulation de châssis | F6: 0 | G6: =COUNTIFS(Feuil1!$A$2:$A$47,Feuil2!$A6,Feuil1!$D$2:$D$47,"F") -> 0 | H6: =COUNTIFS(Feuil1!$A$2:$A$47,Feuil2!$A6,Feuil1!$D$2:$D$47,"S") -> 1 | J6: =COUNTIFS(Code_LBS,$A6,Défaillance_Censure,"F") -> 0 | K6: =COUNTIFS(Code_LBS,$A6,Défaillance_Censure,"S") -> 1
A7: 010302 | C7: I----------- | D7: Panneau de suspension équipé | F7: 0 | G7: =COUNTIFS(Feuil1!$A$2:$A$47,Feuil2!$A7,Feuil1!$D$2:$D$47,"F") -> 0 | H7: =COUNTIFS(Feuil1!$A$2:$A$47,Feuil2!$A7,Feuil1!$D$2:$D$47,"S") -> 0 | J7: =COUNTIFS(Code_LBS,$A7,Défaillance_Censure,"F") -> 0 | K7: =COUNTIFS(Code_LBS,$A7,Défaillance_Censure,"S") -> 0
A8: 010303 | C8: I----------- | D8: Roue de guidage équipée | F8: 0 | G8: =COUNTIFS(Feuil1!$A$2:$A$47,Feuil2!$A8,Feuil1!$D$2:$D$47,"F") -> 0 | H8: =COUNTIFS(Feuil1!$A$2:$A$47,Feuil2!$A8,Feuil1!$D$2:$D$47,"S") -> 0 | J8: =COUNTIFS(Code_LBS,$A8,Défaillance_Censure,"F") -> 0 | K8: =COUNTIFS(Code_LBS,$A8,Défaillance_Censure,"S") -> 0
A9: 01030301 | D9: I----------- | E9: Pneumatique de roue de guidage | F9: 0 | G9: =COUNTIFS(Feuil1!$A$2:$A$47,Feuil2!$A9,Feuil1!$D$2:$D$47,"F") -> 0 | H9: =COUNTIFS(Feuil1!$A$2:$A$47,Feuil2!$A9,Feuil1!$D$2:$D$47,"S") -> 0 | J9: =COUNTIFS(Code_LBS,$A9,Défaillance_Censure,"F") -> 0 | K9: =COUNTIFS(Code_LBS,$A9,Défaillance_Censure,"S") -> 0
A10: 01030302 | D10: I----------- | E10: Roulements de roue de guidage | F10: 0 | G10: =COUNTIFS(Feuil1!$A$2:$A$47,Feuil2!$A10,Feuil1!$D$2:$D$47,"F") -> 0 | H10: =COUNTIFS(Feuil1!$A$2:$A$47,Feuil2!$A10,Feuil1!$D$2:$D$47,"S") -> 0 | J10: =COUNTIFS(Code_LBS,$A10,Défaillance_Censure,"F") -> 0 | K10: =COUNTIFS(Code_LBS,$A10,Défaillance_Censure,"S") -> 0
A11: 010304 | C11: I----------- | D11: Frotteur négatif équipé | F11: 0 | G11: =COUNTIFS(Feuil1!$A$2:$A$47,Feuil2!$A11,Feuil1!$D$2:$D$47,"F") -> 0 | H11: =COUNTIFS(Feuil1!$A$2:$A$47,Feuil2!$A11,Feuil1!$D$2:$D$47,"S") -> 0 | J11: =COUNTIFS(Code_LBS,$A11,Défaillance_Censure,"F") -> 0 | K11: =COUNTIFS(Code_LBS,$A11,Défaillance_Censure,"S") -> 0
A12: 01030401 | D12: I----------- | E12: Support de frotteur négatif | F12: 0 | G12: =COUNTIFS(Feuil1!$A$2:$A$47,Feuil2!$A12,Feuil1!$D$2:$D$47,"F") -> 0 | H12: =COUNTIFS(Feuil1!$A$2:$A$47,Feuil2!$A12,Feuil1!$D$2:$D$47,"S") -> 0 | J12: =COUNTIFS(Code_LBS,$A12,Défaillance_Censure,"F") -> 0 | K12: =COUNTIFS(Code_LBS,$A12,Défaillance_Censure,"S") -> 0
A13: 01030402 | D13: I----------- | E13: Ressort | F13: 0 | G13: =COUNTIFS(Feuil1!$A$2:$A$47,Feuil2!$A13,Feuil1!$D$2:$D$47,"F") -> 0 | H13: =COUNTIFS(Feuil1!$A$2:$A$47,Feuil2!$A13,Feuil1!$D$2:$D$47,"S") -> 0 | J13: =COUNTIFS(Code_LBS,$A13,Défaillance_Censure,"F") -> 0 | K13: =COUNTIFS(Code_LBS,$A13,Défaillance_Censure,"S") -> 0
A14: 01030403 | D14: I----------- | E14: Bande d'usure de frotteur négatif | F14: 0 | G14: =COUNTIFS(Feuil1!$A$2:$A$47,Feuil2!$A14,Feuil1!$D$2:$D$47,"F") -> 0 | H14: =COUNTIFS(Feuil1!$A$2:$A$47,Feuil2!$A14,Feuil1!$D$2:$D$47,"S") -> 0 | J14: =COUNTIFS(Code_LBS,$A14,Défaillance_Censure,"F") -> 0 | K14: =COUNTIFS(Code_LBS,$A14,Défaillance_Censure,"S") -> 0
A15: 010305 | C15: I----------- | D15: Frotteur de masse équipé | F15: 0 | G15: =COUNTIFS(Feuil1!$A$2:$A$47,Feuil2!$A15,Feuil1!$D$2:$D$47,"F") -> 0 | H15: =COUNTIFS(Feuil1!$A$2:$A$47,Feuil2!$A15,Feuil1!$D$2:$D$47,"S") -> 0 | J15: =COUNTIFS(Code_LBS,$A15,Défaillance_Censure,"F") -> 0 | K15: =COUNTIFS(Code_LBS,$A15,Défaillance_Censure,"S") -> 0
A16: 01030501 | D16: I----------- | E16: Support de frotteur de masse | F16: 0 | G16: =COUNTIFS(Feuil1!$A$2:$A$47,Feuil2!$A16,Feuil1!$D$2:$D$47,"F") -> 0 | H16: =COUNTIFS(Feuil1!$A$2:$A$47,Feuil2!$A16,Feuil1!$D$2:$D$47,"S") -> 0 | J16: =COUNTIFS(Code_LBS,$A16,Défaillance_Censure,"F") -> 0 | K16: =COUNTIFS(Code_LBS,$A16,Défaillance_Censure,"S") -> 0
A17: 01030502 | D17: I----------- | E17: Ressort | F17: 0 | G17: =COUNTIFS(Feuil1!$A$2:$A$47,Feuil2!$A17,Feuil1!$D$2:$D$47,"F") -> 0 | H17: =COUNTIFS(Feuil1!$A$2:$A$47,Feuil2!$A17,Feuil1!$D$2:$D$47,"S") -> 0 | J17: =COUNTIFS(Code_LBS,$A17,Défaillance_Censure,"F") -> 0 | K17: =COUNTIFS(Code_LBS,$A17,Défaillance_Censure,"S") -> 0
A18: 01030503 | D18: I----------- | E18: Bande d'usure de frotteur de masse | F18: 0 | G18: =COUNTIFS(Feuil1!$A$2:$A$47,Feuil2!$A18,Feuil1!$D$2:$D$47,"F") -> 0 | H18: =COUNTIFS(Feuil1!$A$2:$A$47,Feuil2!$A18,Feuil1!$D$2:$D$47,"S") -> 0 | J18: =COUNTIFS(Code_LBS,$A18,Défaillance_Censure,"F") -> 0 | K18: =COUNTIFS(Code_LBS,$A18,Défaillance_Censure,"S") -> 0
A19: 010306 | C19: I----------- | D19: Frotteur positif équipé | F19: 0 | G19: =COUNTIFS(Feuil1!$A$2:$A$47,Feuil2!$A19,Feuil1!$D$2:$D$47,"F") -> 0 | H19: =COUNTIFS(Feuil1!$A$2:$A$47,Feuil2!$A19,Feuil1!$D$2:$D$47,"S") -> 0 | J19: =COUNTIFS(Code_LBS,$A19,Défaillance_Censure,"F") -> 0 | K19: =COUNTIFS(Code_LBS,$A19,Défaillance_Censure,"S") -> 0
A20: 01030601 | D20: I----------- | E20: Support de frotteur positif | F20: 0 | G20: =COUNTIFS(Feuil1!$A$2:$A$47,Feuil2!$A20,Feuil1!$D$2:$D$47,"F") -> 0 | H20: =COUNTIFS(Feuil1!$A$2:$A$47,Feuil2!$A20,Feuil1!$D$2:$D$47,"S") -> 0 | J20: =COUNTIFS(Code_LBS,$A20,Défaillance_Censure,"F") -> 0 | K20: =COUNTIFS(Code_LBS,$A20,Défaillance_Censure,"S") -> 0
A21: 01030602 | D21: I----------- | E21: Ressort | F21: 0 | G21: =COUNTIFS(Feuil1!$A$2:$A$47,Feuil2!$A21,Feuil1!$D$2:$D$47,"F") -> 0 | H21: =COUNTIFS(Feuil1!$A$2:$A$47,Feuil2!$A21,Feuil1!$D$2:$D$47,"S") -> 0 | J21: =COUNTIFS(Code_LBS,$A21,Défaillance_Censure,"F") -> 0 | K21: =COUNTIFS(Code_LBS,$A21,Défaillance_Censure,"S") -> 0
A22: 01030603 | D22: I----------- | E22: Bande d'usure de frotteur positif | F22: 0 | G22: =COUNTIFS(Feuil1!$A$2:$A$47,Feuil2!$A22,Feuil1!$D$2:$D$47,"F") -> 0 | H22: =COUNTIFS(Feuil1!$A$2:$A$47,Feuil2!$A22,Feuil1!$D$2:$D$47,"S") -> 0 | J22: =COUNTIFS(Code_LBS,$A22,Défaillance_Censure,"F") -> 0 | K22: =COUNTIFS(Code_LBS,$A22,Défaillance_Censure,"S") -> 0
A23: 010307 | C23: I----------- | D23: Support d'antenne | F23: 0 | G23: =COUNTIFS(Feuil1!$A$2:$A$47,Feuil2!$A23,Feuil1!$D$2:$D$47,"F") -> 0 | H23: =COUNTIFS(Feuil1!$A$2:$A$47,Feuil2!$A23,Feuil1!$D$2:$D$47,"S") -> 0 | J23: =COUNTIFS(Code_LBS,$A23,Défaillance_Censure,"F") -> 0 | K23: =COUNTIFS(Code_LBS,$A23,Défaillance_Censure,"S") -> 0
A24: 010308 | C24: I----------- | D24: Panneau de frein sur bogie | F24: 0 | G24: =COUNTIFS(Feuil1!$A$2:$A$47,Feuil2!$A24,Feuil1!$D$2:$D$47,"F") -> 0 | H24: =COUNTIFS(Feuil1!$A$2:$A$47,Feuil2!$A24,Feuil1!$D$2:$D$47,"S") -> 0 | J24: =COUNTIFS(Code_LBS,$A24,Défaillance_Censure,"F") -> 0 | K24: =COUNTIFS(Code_LBS,$A24,Défaillance_Censure,"S") -> 0
A25: 0104 | B25: I----------- | C25: SUSPENSION | F25: 0 | G25: =COUNTIFS(Feuil1!$A$2:$A$47,Feuil2!$A25,Feuil1!$D$2:$D$47,"F") -> 0 | H25: =COUNTIFS(Feuil1!$A$2:$A$47,Feuil2!$A25,Feuil1!$D$2:$D$47,"S") -> 0 | J25: =COUNTIFS(Code_LBS,$A25,Défaillance_Censure,"F") -> 0 | K25: =COUNTIFS(Code_LBS,$A25,Défaillance_Censure,"S") -> 0
A26: 010401 | C26: I----------- | D26: Suspension primaire | F26: 0 | G26: =COUNTIFS(Feuil1!$A$2:$A$47,Feuil2!$A26,Feuil1!$D$2:$D$47,"F") -> 0 | H26: =COUNTIFS(Feuil1!$A$2:$A$47,Feuil2!$A26,Feuil1!$D$2:$D$47,"S") -> 0 | J26: =COUNTIFS(Code_LBS,$A26,Défaillance_Censure,"F") -> 0 | K26: =COUNTIFS(Code_LBS,$A26,Défaillance_Censure,"S") -> 0
A27: 01040101 | D27: I----------- | E27: Amortisseur primaire antigalop | F27: 0 | G27: =COUNTIFS(Feuil1!$A$2:$A$47,Feuil2!$A27,Feuil1!$D$2:$D$47,"F") -> 0 | H27: =COUNTIFS(Feuil1!$A$2:$A$47,Feuil2!$A27,Feuil1!$D$2:$D$47,"S") -> 0 | J27: =COUNTIFS(Code_LBS,$A27,Défaillance_Censure,"F") -> 0 | K27: =COUNTIFS(Code_LBS,$A27,Défaillance_Censure,"S") -> 0
A28: 01040102 | D28: I----------- | E28: Butée verticale | F28: 0 | G28: =COUNTIFS(Feuil1!$A$2:$A$47,Feuil2!$A28,Feuil1!$D$2:$D$47,"F") -> 0 | H28: =COUNTIFS(Feuil1!$A$2:$A$47,Feuil2!$A28,Feuil1!$D$2:$D$47,"S") -> 0 | J28: =COUNTIFS(Code_LBS,$A28,Défaillance_Censure,"F") -> 0 | K28: =COUNTIFS(Code_LBS,$A28,Défaillance_Censure,"S") -> 0
A29: 01040103 | D29: I----------- | E29: Ressorts acier ou plot caoutchouc | F29: 0 | G29: =COUNTIFS(Feuil1!$A$2:$A$47,Feuil2!$A29,Feuil1!$D$2:$D$47,"F") -> 0 | H29: =COUNTIFS(Feuil1!$A$2:$A$47,Feuil2!$A29,Feuil1!$D$2:$D$47,"S") -> 0 | J29: =COUNTIFS(Code_LBS,$A29,Défaillance_Censure,"F") -> 0 | K29: =COUNTIFS(Code_LBS,$A29,Défaillance_Censure,"S") -> 0
A30: 01040104 | D30: I----------- | E30: Articulation de boîte d'essieu | F30: 0 | G30: =COUNTIFS(Feuil1!$A$2:$A$47,Feuil2!$A30,Feuil1!$D$2:$D$47,"F") -> 0 | H30: =COUNTIFS(Feuil1!$A$2:$A$47,Feuil2!$A30,Feuil1!$D$2:$D$47,"S") -> 0 | J30: =COUNTIFS(Code_LBS,$A30,Défaillance_Censure,"F") -> 0 | K30: =COUNTIFS(Code_LBS,$A30,Défaillance_Censure,"S") -> 0
A31: 01040105 | D31: I----------- | E31: Biellette d'entrainement équipée | F31: 0 | G31: =COUNTIFS(Feuil1!$A$2:$A$47,Feuil2!$A31,Feuil1!$D$2:$D$47,"F") -> 0 | H31: =COUNTIFS(Feuil1!$A$2:$A$47,Feuil2!$A31,Feuil1!$D$2:$D$47,"S") -> 0 | J31: =COUNTIFS(Code_LBS,$A31,Défaillance_Censure,"F") -> 0 | K31: =COUNTIFS(Code_LBS,$A31,Défaillance_Censure,"S") -> 0
A32: 010402 | C32: I----------- | D32: Suspension secondaire | F32: 444 | G32: =COUNTIFS(Feuil1!$A$2:$A$47,Feuil2!$A32,Feuil1!$D$2:$D$47,"F") -> 0 | H32: =COUNTIFS(Feuil1!$A$2:$A$47,Feuil2!$A32,Feuil1!$D$2:$D$47,"S") -> 0 | J32: =COUNTIFS(Code_LBS,$A32,Défaillance_Censure,"F") -> 0 | K32: =COUNTIFS(Code_LBS,$A32,Défaillance_Censure,"S") -> 0
A33: 01040201 | D33: I----------- | E33: Amortisseur secondaire vertical équipé | F33: 222 | G33: =COUNTIFS(Feuil1!$A$2:$A$47,Feuil2!$A33,Feuil1!$D$2:$D$47,"F") -> 0 | H33: =COUNTIFS(Feuil1!$A$2:$A$47,Feuil2!$A33,Feuil1!$D$2:$D$47,"S") -> 1 | J33: =COUNTIFS(Code_LBS,$A33,Défaillance_Censure,"F") -> 0 | K33: =COUNTIFS(Code_LBS,$A33,Défaillance_Censure,"S") -> 1
A34: 01040202 | D34: I----------- | E34: Amortisseur transversal équipé | F34: 0 | G34: =COUNTIFS(Feuil1!$A$2:$A$47,Feuil2!$A34,Feuil1!$D$2:$D$47,"F") -> 0 | H34: =COUNTIFS(Feuil1!$A$2:$A$47,Feuil2!$A34,Feuil1!$D$2:$D$47,"S") -> 1 | J34: =COUNTIFS(Code_LBS,$A34,Défaillance_Censure,"F") -> 0 | K34: =COUNTIFS(Code_LBS,$A34,Défaillance_Censure,"S") -> 1
A35: 01040203 | D35: I----------- | E35: Amortisseur anti-lacet équipé | F35: 888 | G35: =COUNTIFS(Feuil1!$A$2:$A$47,Feuil2!$A35,Feuil1!$D$2:$D$47,"F") -> 0 | H35: =COUNTIFS(Feuil1!$A$2:$A$47,Feuil2!$A35,Feuil1!$D$2:$D$47,"S") -> 0 | J35: =COUNTIFS(Code_LBS,$A35,Défaillance_Censure,"F") -> 0 | K35: =COUNTIFS(Code_LBS,$A35,Défaillance_Censure,"S") -> 0
A36: 01040204 | D36: I----------- | E36: Butée transversale | F36: 0 | G36: =COUNTIFS(Feuil1!$A$2:$A$47,Feuil2!$A36,Feuil1!$D$2:$D$47,"F") -> 0 | H36: =COUNTIFS(Feuil1!$A$2:$A$47,Feuil2!$A36,Feuil1!$D$2:$D$47,"S") -> 1 | J36: =COUNTIFS(Code_LBS,$A36,Défaillance_Censure,"F") -> 0 | K36: =COUNTIFS(Code_LBS,$A36,Défaillance_Censure,"S") -> 1
A37: 01040215 | D37: I----------- | E37: Butée verticale | F37: 888 | G37: =COUNTIFS(Feuil1!$A$2:$A$47,Feuil2!$A37,Feuil1!$D$2:$D$47,"F") -> 0 | H37: =COUNTIFS(Feuil1!$A$2:$A$47,Feuil2!$A37,Feuil1!$D$2:$D$47,"S") -> 0 | J37: =COUNTIFS(Code_LBS,$A37,Défaillance_Censure,"F") -> 0 | K37: =COUNTIFS(Code_LBS,$A37,Défaillance_Censure,"S") -> 0
A38: 01040205 | D38: I----------- | E38: Ressorts acier ou plot caoutchouc | F38: 888 | G38: =COUNTIFS(Feuil1!$A$2:$A$47,Feuil2!$A38,Feuil1!$D$2:$D$47,"F") -> 0 | H38: =COUNTIFS(Feuil1!$A$2:$A$47,Feuil2!$A38,Feuil1!$D$2:$D$47,"S") -> 1 | J38: =COUNTIFS(Code_LBS,$A38,Défaillance_Censure,"F") -> 0 | K38: =COUNTIFS(Code_LBS,$A38,Défaillance_Censure,"S") -> 1
A39: 01040206 | D39: I----------- | E39: Sommier élastique | F39: 0 | G39: =COUNTIFS(Feuil1!$A$2:$A$47,Feuil2!$A39,Feuil1!$D$2:$D$47,"F") -> 0 | H39: =COUNTIFS(Feuil1!$A$2:$A$47,Feuil2!$A39,Feuil1!$D$2:$D$47,"S") -> 1 | J39: =COUNTIFS(Code_LBS,$A39,Défaillance_Censure,"F") -> 0 | K39: =COUNTIFS(Code_LBS,$A39,Défaillance_Censure,"S") -> 1
A40: 01040207 | D40: I----------- | E40: Coussin pneumatique | F40: 0 | G40: =COUNTIFS(Feuil1!$A$2:$A$47,Feuil2!$A40,Feuil1!$D$2:$D$47,"F") -> 0 | H40: =COUNTIFS(Feuil1!$A$2:$A$47,Feuil2!$A40,Feuil1!$D$2:$D$47,"S") -> 0 | J40: =COUNTIFS(Code_LBS,$A40,Défaillance_Censure,"F") -> 0 | K40: =COUNTIFS(Code_LBS,$A40,Défaillance_Censure,"S") -> 0
...

Sheet Feuil3
A1: Gamme | B1: Projet | C1: Kilométrage flotte dernière mise à jour
A2: TRAMWAY | B2: CBA | C2: 131539
