Workbook
Name CHIFFRES: '60MOIS'!$C$5:$C$64
Name CHIFFRES: #REF!
Name CHIFFRES_2: '48MOIS'!$C$5:$C$52
Name CHIFFRES_2: #REF!
Name CHIFFRES3: '36MOIS'!$C$5:$C$40
Name CHIFFRES3: #REF!
Name CHIFFRES4: '12MOIS'!$C$5:$C$16
Name CHIFFRES4: '24MOIS'!$C$5:$C$28
Name CHIFFRES4: #REF!
Name Coeff: '60MOIS'!$C$79
Name MOIS_AN: #REF!
Name NRSERIE: '60MOIS'!$A$5:$A$64
Name NRSERIE: #REF!
Name PetB: '60MOIS'!$C$80
Name RECAP: #REF!
Name SERIE2: '48MOIS'!$A$5:$A$52
Name SERIE2: #REF!
Name SERIE3: '36MOIS'!$A$5:$A$40
Name SERIE3: #REF!
Name SERIE4: '12MOIS'!$A$5:$A$16
Name SERIE4: '24MOIS'!$A$5:$A$28
Name SERIE4: #REF!
Name TOTO: #REF!
Name Valeurs_Bonnes: #REF!

Sheet RECAP
A2: RECAPITULATION DES PREVISIONS
B5: PREVISIONS | D5: PREVISIONS | F5: PREVISIONS | H5: PREVISIONS | J5: PREVISIONS
A6: NB MOIS | B6: 60MOIS | D6: 48 MOIS | F6: 36 MOIS | H6: 24 MOIS | J6: 12 MOIS
A7: Données Bonnes | B7: {='60MOIS'!E98} -> 2 | D7: {='48MOIS'!E79} -> 2 | F7: {='36MOIS'!E67} -> 3 | H7: {='24MOIS'!E55} -> 7 | J7: {='12MOIS'!E43} -> 5
A8: PERIODE | B8: VAL | C8: % | D8: VAL | E8: % | F8: VAL | G8: % | H8: VAL | I8: % | J8: VAL | K8: %
A9: {='60MOIS'!B86} -> 36914 | B9: {='60MOIS'!$D$86:$D$97} -> 1770 | C9: =B9/B$21 -> 0.085552709 | D9: {='48MOIS'!D67:D78} -> 1791 | E9: =D9/D$21 -> 0.086363198 | F9: {='36MOIS'!D55:D66} -> 1779 | G9: =F9/F$21 -> 0.084948907 | H9: {='24MOIS'!D43:D54} -> 1661 | I9: =H9/H$21 -> 0.082917332 | J9: {='12MOIS'!D31:D42} -> 1508 | K9: =J9/J$21 -> 0.088104697
A10: {='60MOIS'!B87} -> 36945 | B10: 1722 | C10: =B10/B$21 -> 0.083232636 | D10: 1754 | E10: =D10/D$21 -> 0.084579034 | F10: 1799 | G10: =F10/F$21 -> 0.085903925 | H10: 1707 | I10: =H10/H$21 -> 0.085213658 | J10: 1568 | K10: =J10/J$21 -> 0.091610189
A11: {='60MOIS'!B88} -> 36974 | B11: 1831 | C11: =B11/B$21 -> 0.088501136 | D11: 1862 | E11: =D11/D$21 -> 0.089786865 | F11: 1903 | G11: =F11/F$21 -> 0.090870022 | H11: 1855 | I11: =H11/H$21 -> 0.092601837 | J11: 1671 | K11: =J11/J$21 -> 0.09762795
A12: {='60MOIS'!B89} -> 37005 | B12: 1736 | C12: =B12/B$21 -> 0.083909324 | D12: 1713 | E12: =D12/D$21 -> 0.082601987 | F12: 1728 | G12: =F12/F$21 -> 0.082513609 | H12: 1622 | I12: =H12/H$21 -> 0.080970447 | J12: 1409 | K12: =J12/J$21 -> 0.082320636
A13: {='60MOIS'!B90} -> 37036 | B13: 1702 | C13: =B13/B$21 -> 0.082265938 | D13: 1724 | E13: =D13/D$21 -> 0.083132414 | F13: 1776 | G13: =F13/F$21 -> 0.084805654 | H13: 1704 | I13: =H13/H$21 -> 0.085063898 | J13: 1455 | K13: =J13/J$21 -> 0.085008179
A14: {='60MOIS'!B91} -> 37067 | B14: 1798 | C14: =B14/B$21 -> 0.086906085 | D14: 1846 | E14: =D14/D$21 -> 0.089015334 | F14: 1873 | G14: =F14/F$21 -> 0.089437494 | H14: 1828 | I14: =H14/H$21 -> 0.091253994 | J14: 1619 | K14: =J14/J$21 -> 0.094589857
A15: {='60MOIS'!B92} -> 37098 | B15: 1488 | C15: =B15/B$21 -> 0.071922278 | D15: 1451 | E15: =D15/D$21 -> 0.069968174 | F15: 1469 | G15: =F15/F$21 -> 0.070146118 | H15: 1305 | I15: =H15/H$21 -> 0.065145767 | J15: 1020 | K15: =J15/J$21 -> 0.059593363
A16: {='60MOIS'!B93} -> 37129 | B16: 1409 | C16: =B16/B$21 -> 0.068103823 | D16: 1427 | E16: =D16/D$21 -> 0.068810879 | F16: 1455 | G16: =F16/F$21 -> 0.069477605 | H16: 1389 | I16: =H16/H$21 -> 0.069339058 | J16: 1097 | K16: =J16/J$21 -> 0.064092078
A17: {='60MOIS'!B94} -> 37160 | B17: 1777 | C17: =B17/B$21 -> 0.085891053 | D17: 1755 | E17: =D17/D$21 -> 0.084627254 | F17: 1750 | G17: =F17/F$21 -> 0.08356413 | H17: 1659 | I17: =H17/H$21 -> 0.082817492 | J17: 1405 | K17: =J17/J$21 -> 0.082086936
A18: {='60MOIS'!B95} -> 37191 | B18: 1904 | C18: =B18/B$21 -> 0.092029581 | D18: 1859 | E18: =D18/D$21 -> 0.089642203 | F18: 1870 | G18: =F18/F$21 -> 0.089294241 | H18: 1830 | I18: =H18/H$21 -> 0.091353834 | J18: 1508 | K18: =J18/J$21 -> 0.088104697
A19: {='60MOIS'!B96} -> 37222 | B19: 1841 | C19: =B19/B$21 -> 0.088984485 | D19: 1842 | E19: =D19/D$21 -> 0.088822452 | F19: 1839 | G19: =F19/F$21 -> 0.087813962 | H19: 1777 | I19: =H19/H$21 -> 0.088708067 | J19: 1491 | K19: =J19/J$21 -> 0.087111475
A20: {='60MOIS'!B97} -> 37253 | B20: 1711 | C20: =B20/B$21 -> 0.082700952 | D20: 1714 | E20: =D20/D$21 -> 0.082650207 | F20: 1701 | G20: =F20/F$21 -> 0.081224334 | H20: 1695 | I20: =H20/H$21 -> 0.084614617 | J20: 1365 | K20: =J20/J$21 -> 0.079749942
A21: TOTAL | B21: =SUM(B9:B20) -> 20689 | C21: =SUM(C9:C20) -> 1 | D21: =SUM(D9:D20) -> 20738 | E21: =SUM(E9:E20) -> 1 | F21: =SUM(F9:F20) -> 20942 | G21: =SUM(G9:G20) -> 1 | H21: =SUM(H9:H20) -> 20032 | I21: =SUM(I9:I20) -> 1 | ... K21: =SUM(K9:K20) -> 1
F25: PREVISION DEFINITIVE: | G25: 21500
F27: SERIE RETENUE (12,24;36;48;60): | G27: 24
B30: PERIODE | C30: % Mens | D30: Chiffres Bruts | E30: Chiffres Définitifs
B31: {=A9:A20} -> 36914 | C31: =IF($G$27=12,K9,IF($G$27=24,I9,IF($G$27=36,G9,IF($G$27=48,E9,IF($G$27=60,C9,0))))) -> 0.082917332 | D31: =ROUND($G$25*C31,0) -> 1783 | E31: =D31 -> 1783
B32: 36945 | C32: =IF($G$27=12,K10,IF($G$27=24,I10,IF($G$27=36,G10,IF($G$27=48,E10,IF($G$27=60,C10,0))))) -> 0.085213658 | D32: =ROUND($G$25*C32,0) -> 1832 | E32: =D32 -> 1832
B33: 36974 | C33: =IF($G$27=12,K11,IF($G$27=24,I11,IF($G$27=36,G11,IF($G$27=48,E11,IF($G$27=60,C11,0))))) -> 0.092601837 | D33: =ROUND($G$25*C33,0) -> 1991 | E33: =D33 -> 1991
B34: 37005 | C34: =IF($G$27=12,K12,IF($G$27=24,I12,IF($G$27=36,G12,IF($G$27=48,E12,IF($G$27=60,C12,0))))) -> 0.080970447 | D34: =ROUND($G$25*C34,0) -> 1741 | E34: =D34 -> 1741
B35: 37036 | C35: =IF($G$27=12,K13,IF($G$27=24,I13,IF($G$27=36,G13,IF($G$27=48,E13,IF($G$27=60,C13,0))))) -> 0.085063898 | D35: =ROUND($G$25*C35,0) -> 1829 | E35: =D35 -> 1829
B36: 37067 | C36: =IF($G$27=12,K14,IF($G$27=24,I14,IF($G$27=36,G14,IF($G$27=48,E14,IF($G$27=60,C14,0))))) -> 0.091253994 | D36: =ROUND($G$25*C36,0) -> 1962 | E36: =D36 -> 1962
B37: 37098 | C37: =IF($G$27=12,K15,IF($G$27=24,I15,IF($G$27=36,G15,IF($G$27=48,E15,IF($G$27=60,C15,0))))) -> 0.065145767 | D37: =ROUND($G$25*C37,0) -> 1401 | E37: =D37 -> 1401
B38: 37129 | C38: =IF($G$27=12,K16,IF($G$27=24,I16,IF($G$27=36,G16,IF($G$27=48,E16,IF($G$27=60,C16,0))))) -> 0.069339058 | D38: =ROUND($G$25*C38,0) -> 1491 | E38: =D38 -> 1491
B39: 37160 | C39: =IF($G$27=12,K17,IF($G$27=24,I17,IF($G$27=36,G17,IF($G$27=48,E17,IF($G$27=60,C17,0))))) -> 0.082817492 | D39: =ROUND($G$25*C39,0) -> 1781 | E39: =D39 -> 1781
B40: 37191 | C40: =IF($G$27=12,K18,IF($G$27=24,I18,IF($G$27=36,G18,IF($G$27=48,E18,IF($G$27=60,C18,0))))) -> 0.091353834 | D40: =ROUND($G$25*C40,0) -> 1964 | E40: =D40 -> 1964
B41: 37222 | C41: =IF($G$27=12,K19,IF($G$27=24,I19,IF($G$27=36,G19,IF($G$27=48,E19,IF($G$27=60,C19,0))))) -> 0.088708067 | D41: =ROUND($G$25*C41,0) -> 1907 | E41: =D41 -> 1907
B42: 37253 | C42: =IF($G$27=12,K20,IF($G$27=24,I20,IF($G$27=36,G20,IF($G$27=48,E20,IF($G$27=60,C20,0))))) -> 0.084614617 | D42: =ROUND($G$25*C42,0) -> 1819 | E42: =D42+G25-D43 -> 1818
B43: TOTAL | C43: =SUM(C31:C42) -> 1 | D43: =SUM(D31:D42) -> 21501 | E43: =SUM(E31:E42) -> 21500

Sheet 60MOIS
A2: PREVISIONS CALCULEES A PARTIR DE 60 DONNEES EN LIGNE
A4: NRSERIE | B4: MOIS AN | C4: CHIFFRES | D4: VALEUR THEORIQUE DE LA DROITE | E4: ECART SAISONNIER | F4: MOYENNE DES ECARTS SAISONNIERS | G4: VALEUR THEORIQUE + ECART SAISONNIER | H4: CALCUL DES EPSILON
A5: 1 | B5: 35064 | C5: 1251 | D5: =(A5*Coeff)+PetB -> 1221.5585 | E5: =C5-D5 -> 29.44153 | F5: =(E5+E17+E29+E41+E53)/5 -> 88.326387 | G5: =(A5*Coeff)+PetB+F5 -> 1309.8849 | H5: =C5-G5 -> -58.884857
A6: 2 | B6: =IF(MONTH(B5)=2,B5+29,B5+31) -> 35095 | C6: 1158 | D6: =(A6*Coeff)+PetB -> 1229.2299 | E6: =C6-D6 -> -71.229934 | F6: =(E6+E18+E30+E42+E54)/5 -> 32.254923 | G6: =(A6*Coeff)+PetB+F6 -> 1261.4849 | H6: =C6-G6 -> -103.48486
A7: 3 | B7: =IF(MONTH(B6)=2,B6+29,B6+31) -> 35124 | C7: 1272 | D7: =(A7*Coeff)+PetB -> 1236.9014 | E7: =C7-D7 -> 35.098601 | F7: =(E7+E19+E31+E43+E55)/5 -> 133.78346 | G7: =(A7*Coeff)+PetB+F7 -> 1370.6849 | H7: =C7-G7 -> -98.684857
A8: 4 | B8: =IF(MONTH(B7)=2,B7+29,B7+31) -> 35155 | C8: 1390 | D8: =(A8*Coeff)+PetB -> 1244.5729 | E8: =C8-D8 -> 145.42714 | F8: =(E8+E20+E32+E44+E56)/5 -> 30.911994 | G8: =(A8*Coeff)+PetB+F8 -> 1275.4849 | H8: =C8-G8 -> 114.51514
A9: 5 | B9: =IF(MONTH(B8)=2,B8+29,B8+31) -> 35186 | C9: 1176 | D9: =(A9*Coeff)+PetB -> 1252.2443 | E9: =C9-D9 -> -76.244327 | F9: =(E9+E21+E33+E45+E57)/5 -> -10.95947 | G9: =(A9*Coeff)+PetB+F9 -> 1241.2849 | H9: =C9-G9 -> -65.284857
A10: 6 | B10: =IF(MONTH(B9)=2,B9+29,B9+31) -> 35217 | C10: 1171 | D10: =(A10*Coeff)+PetB -> 1259.9158 | E10: =C10-D10 -> -88.915791 | F10: =(E10+E22+E34+E46+E58)/5 -> 77.569065 | G10: =(A10*Coeff)+PetB+F10 -> 1337.4849 | H10: =C10-G10 -> -166.48486
A11: 7 | B11: =IF(MONTH(B10)=2,B10+29,B10+31) -> 35248 | C11: 1203 | D11: =(A11*Coeff)+PetB -> 1267.5873 | E11: =C11-D11 -> -64.587256 | F11: =(E11+E23+E35+E47+E59)/5 -> -239.5024 | G11: =(A11*Coeff)+PetB+F11 -> 1028.0849 | H11: =C11-G11 -> 174.91514
A12: 8 | B12: =IF(MONTH(B11)=2,B11+29,B11+31) -> 35279 | C12: 904 | D12: =(A12*Coeff)+PetB -> 1275.2587 | E12: =C12-D12 -> -371.25872 | F12: =(E12+E24+E36+E48+E60)/5 -> -326.17386 | G12: =(A12*Coeff)+PetB+F12 -> 949.08486 | H12: =C12-G12 -> -45.084857
A13: 9 | B13: =IF(MONTH(B12)=2,B12+29,B12+31) -> 35310 | C13: 1428 | D13: =(A13*Coeff)+PetB -> 1282.9302 | E13: =C13-D13 -> 145.06982 | F13: =(E13+E25+E37+E49+E61)/5 -> 33.354673 | G13: =(A13*Coeff)+PetB+F13 -> 1316.2849 | H13: =C13-G13 -> 111.71514
A14: 10 | B14: =IF(MONTH(B13)=2,B13+29,B13+31) -> 35341 | C14: 1649 | D14: =(A14*Coeff)+PetB -> 1290.6016 | E14: =C14-D14 -> 358.39835 | F14: =(E14+E26+E38+E50+E62)/5 -> 153.08321 | G14: =(A14*Coeff)+PetB+F14 -> 1443.6849 | H14: =C14-G14 -> 205.31514
A15: 11 | B15: =IF(MONTH(B14)=2,B14+29,B14+31) -> 35372 | C15: 1402 | D15: =(A15*Coeff)+PetB -> 1298.2731 | E15: =C15-D15 -> 103.72689 | F15: =(E15+E27+E39+E51+E63)/5 -> 82.811744 | G15: =(A15*Coeff)+PetB+F15 -> 1381.0849 | H15: =C15-G15 -> 20.915143
A16: 12 | B16: =IF(MONTH(B15)=2,B15+29,B15+31) -> 35403 | C16: 1262 | D16: =(A16*Coeff)+PetB -> 1305.9446 | E16: =C16-D16 -> -43.944577 | F16: =(E16+E28+E40+E52+E64)/5 -> -55.45972 | G16: =(A16*Coeff)+PetB+F16 -> 1250.4849 | H16: =C16-G16 -> 11.515143
A17: 13 | B17: =IF(MONTH(B16)=2,B16+29,B16+31) -> 35434 | C17: 1509 | D17: =(A17*Coeff)+PetB -> 1313.616 | E17: =C17-D17 -> 195.38396 | F17: =F5 -> 88.326387 | G17: =(A17*Coeff)+PetB+F17 -> 1401.9424 | H17: =C17-G17 -> 107.05757
A18: 14 | B18: =IF(MONTH(B17)=2,B17+29,B17+31) -> 35465 | C18: 1302 | D18: =(A18*Coeff)+PetB -> 1321.2875 | E18: =C18-D18 -> -19.287506 | F18: =F6 -> 32.254923 | G18: =(A18*Coeff)+PetB+F18 -> 1353.5424 | H18: =C18-G18 -> -51.542428
A19: 15 | B19: =IF(MONTH(B18)=2,B18+29,B18+31) -> 35494 | C19: 1422 | D19: =(A19*Coeff)+PetB -> 1328.959 | E19: =C19-D19 -> 93.04103 | F19: =F7 -> 133.78346 | G19: =(A19*Coeff)+PetB+F19 -> 1462.7424 | H19: =C19-G19 -> -40.742428
A20: 16 | B20: =IF(MONTH(B19)=2,B19+29,B19+31) -> 35525 | C20: 1352 | D20: =(A20*Coeff)+PetB -> 1336.6304 | E20: =C20-D20 -> 15.369566 | F20: =F8 -> 30.911994 | G20: =(A20*Coeff)+PetB+F20 -> 1367.5424 | H20: =C20-G20 -> -15.542428
A21: 17 | B21: =IF(MONTH(B20)=2,B20+29,B20+31) -> 35556 | C21: 1251 | D21: =(A21*Coeff)+PetB -> 1344.3019 | E21: =C21-D21 -> -93.301899 | F21: =F9 -> -10.95947 | G21: =(A21*Coeff)+PetB+F21 -> 1333.3424 | H21: =C21-G21 -> -82.342428
A22: 18 | B22: =IF(MONTH(B21)=2,B21+29,B21+31) -> 35587 | C22: 1446 | D22: =(A22*Coeff)+PetB -> 1351.9734 | E22: =C22-D22 -> 94.026637 | F22: =F10 -> 77.569065 | G22: =(A22*Coeff)+PetB+F22 -> 1429.5424 | H22: =C22-G22 -> 16.457572
A23: 19 | B23: =IF(MONTH(B22)=2,B22+29,B22+31) -> 35618 | C23: 1079 | D23: =(A23*Coeff)+PetB -> 1359.6448 | E23: =C23-D23 -> -280.64483 | F23: =F11 -> -239.5024 | G23: =(A23*Coeff)+PetB+F23 -> 1120.1424 | H23: =C23-G23 -> -41.142428
A24: 20 | B24: =IF(MONTH(B23)=2,B23+29,B23+31) -> 35649 | C24: 1024 | D24: =(A24*Coeff)+PetB -> 1367.3163 | E24: =C24-D24 -> -343.31629 | F24: =F12 -> -326.17386 | G24: =(A24*Coeff)+PetB+F24 -> 1041.1424 | H24: =C24-G24 -> -17.142428
A25: 21 | B25: =IF(MONTH(B24)=2,B24+29,B24+31) -> 35680 | C25: 1451 | D25: =(A25*Coeff)+PetB -> 1374.9878 | E25: =C25-D25 -> 76.012244 | F25: =F13 -> 33.354673 | G25: =(A25*Coeff)+PetB+F25 -> 1408.3424 | H25: =C25-G25 -> 42.657572
A26: 22 | B26: =IF(MONTH(B25)=2,B25+29,B25+31) -> 35711 | C26: 1509 | D26: =(A26*Coeff)+PetB -> 1382.6592 | E26: =C26-D26 -> 126.34078 | F26: =F14 -> 153.08321 | G26: =(A26*Coeff)+PetB+F26 -> 1535.7424 | H26: =C26-G26 -> -26.742428
A27: 23 | B27: =IF(MONTH(B26)=2,B26+29,B26+31) -> 35742 | C27: 1534 | D27: =(A27*Coeff)+PetB -> 1390.3307 | E27: =C27-D27 -> 143.66932 | F27: =F15 -> 82.811744 | G27: =(A27*Coeff)+PetB+F27 -> 1473.1424 | H27: =C27-G27 -> 60.857572
A28: 24 | B28: =IF(MONTH(B27)=2,B27+29,B27+31) -> 35773 | C28: 1437 | D28: =(A28*Coeff)+PetB -> 1398.0021 | E28: =C28-D28 -> 38.997851 | F28: =F16 -> -55.45972 | G28: =(A28*Coeff)+PetB+F28 -> 1342.5424 | H28: =C28-G28 -> 94.457572
... A64: 60 | B64: =IF(MONTH(B63)=2,B63+29,B63+31) -> 36883 | C64: 1579 | D64: =(A64*Coeff)+PetB -> 1674.1749 | E64: =C64-D64 -> -95.174863 | F64: =F52 -> -55.45972 | G64: =(A64*Coeff)+PetB+F64 -> 1618.7151 | H64: =C64-G64 -> -39.715143
H65: =SUM(H5:H64) -> -1.1368684e-12
A68: ECART TYPE | C68: =STDEV(CHIFFRES) -> 216.12226
A69: MEDIANE | C69: =MEDIAN(CHIFFRES) -> 1448
D72: Homogénéïté
A73: MEDIANE-ECART TYPE | C73: =C69-C68 -> 1231.8777 | D73: {=FREQUENCY(CHIFFRES,C73:C75)} -> 9 | E73: =IF(D74>D73+D75,"OK","Pas bon") -> OK
A74: MEDIANE+ECART TYPE | C74: =C69+C68 -> 1664.1223 | D74: 39
D75: 12
B78: DROITE DE TENDANCE
B79: Coeff | C79: {=INDEX(LINEST(CHIFFRES,NRSERIE),1)} -> 7.6714643
B80: PetB | C80: {=INDEX(LINEST(CHIFFRES,NRSERIE),2)} -> 1213.887
A85: RANG | B85: MOIS N | C85: DONNEES | D85: DONNEES ARRONDIES | E85: TEST MEDIANE + - ECART TYPE | F85: POURCENTAGE MENSUEL
A86: =A64+1 -> 61 | B86: =IF(MONTH(B64)=2,B64+29,B64+31) -> 36914 | C86: =(A86*$C$79)+$C$80+F5 -> 1770.1727 | D86: =ROUND(C86,0) -> 1770 | E86: =IF(AND(C86<=$C$74,C86>=$C$73),"BON","MAUVAIS") -> MAUVAIS | F86: =D86/$D$98 -> 0.085552709
A87: =A86+1 -> 62 | B87: =IF(MONTH(B86)=2,B86+29,B86+31) -> 36945 | C87: =(A87*$C$79)+$C$80+F6 -> 1721.7727 | D87: =ROUND(C87,0) -> 1722 | E87: =IF(AND(C87<=$C$74,C87>=$C$73),"BON","MAUVAIS") -> MAUVAIS | F87: =D87/$D$98 -> 0.083232636
A88: =A87+1 -> 63 | B88: =IF(MONTH(B87)=2,B87+29,B87+31) -> 36974 | C88: =(A88*$C$79)+$C$80+F7 -> 1830.9727 | D88: =ROUND(C88,0) -> 1831 | E88: =IF(AND(C88<=$C$74,C88>=$C$73),"BON","MAUVAIS") -> MAUVAIS | F88: =D88/$D$98 -> 0.088501136
A89: =A88+1 -> 64 | B89: =IF(MONTH(B88)=2,B88+29,B88+31) -> 37005 | C89: =(A89*$C$79)+$C$80+F8 -> 1735.7727 | D89: =ROUND(C89,0) -> 1736 | E89: =IF(AND(C89<=$C$74,C89>=$C$73),"BON","MAUVAIS") -> MAUVAIS | F89: =D89/$D$98 -> 0.083909324
A90: =A89+1 -> 65 | B90: =IF(MONTH(B89)=2,B89+29,B89+31) -> 37036 | C90: =(A90*$C$79)+$C$80+F9 -> 1701.5727 | D90: =ROUND(C90,0) -> 1702 | E90: =IF(AND(C90<=$C$74,C90>=$C$73),"BON","MAUVAIS") -> MAUVAIS | F90: =D90/$D$98 -> 0.082265938
A91: =A90+1 -> 66 | B91: =IF(MONTH(B90)=2,B90+29,B90+31) -> 37067 | C91: =(A91*$C$79)+$C$80+F10 -> 1797.7727 | D91: =ROUND(C91,0) -> 1798 | E91: =IF(AND(C91<=$C$74,C91>=$C$73),"BON","MAUVAIS") -> MAUVAIS | F91: =D91/$D$98 -> 0.086906085
A92: =A91+1 -> 67 | B92: =IF(MONTH(B91)=2,B91+29,B91+31) -> 37098 | C92: =(A92*$C$79)+$C$80+F11 -> 1488.3727 | D92: =ROUND(C92,0) -> 1488 | E92: =IF(AND(C92<=$C$74,C92>=$C$73),"BON","MAUVAIS") -> BON | F92: =D92/$D$98 -> 0.071922278
A93: =A92+1 -> 68 | B93: =IF(MONTH(B92)=2,B92+29,B92+31) -> 37129 | C93: =(A93*$C$79)+$C$80+F12 -> 1409.3727 | D93: =ROUND(C93,0) -> 1409 | E93: =IF(AND(C93<=$C$74,C93>=$C$73),"BON","MAUVAIS") -> BON | F93: =D93/$D$98 -> 0.068103823
A94: =A93+1 -> 69 | B94: =IF(MONTH(B93)=2,B93+29,B93+31) -> 37160 | C94: =(A94*$C$79)+$C$80+F13 -> 1776.5727 | D94: =ROUND(C94,0) -> 1777 | E94: =IF(AND(C94<=$C$74,C94>=$C$73),"BON","MAUVAIS") -> MAUVAIS | F94: =D94/$D$98 -> 0.085891053
A95: =A94+1 -> 70 | B95: =IF(MONTH(B94)=2,B94+29,B94+31) -> 37191 | C95: =(A95*$C$79)+$C$80+F14 -> 1903.9727 | D95: =ROUND(C95,0) -> 1904 | E95: =IF(AND(C95<=$C$74,C95>=$C$73),"BON","MAUVAIS") -> MAUVAIS | F95: =D95/$D$98 -> 0.092029581
A96: =A95+1 -> 71 | B96: =IF(MONTH(B95)=2,B95+29,B95+31) -> 37222 | C96: =(A96*$C$79)+$C$80+F15 -> 1841.3727 | D96: =ROUND(C96,0) -> 1841 | E96: =IF(AND(C96<=$C$74,C96>=$C$73),"BON","MAUVAIS") -> MAUVAIS | F96: =D96/$D$98 -> 0.088984485
A97: =A96+1 -> 72 | B97: =IF(MONTH(B96)=2,B96+29,B96+31) -> 37253 | C97: =(A97*$C$79)+$C$80+F16 -> 1710.7727 | D97: =ROUND(C97,0) -> 1711 | E97: =IF(AND(C97<=$C$74,C97>=$C$73),"BON","MAUVAIS") -> MAUVAIS | F97: =D97/$D$98 -> 0.082700952
B98: TOTAL | C98: =SUM(C86:C97) -> 20688.473 | D98: =SUM(D86:D97) -> 20689 | E98: {=SUM((E86:E97="BON")*(E86:E97="BON"))} -> 2 | F98: =SUM(F86:F97) -> 1

Sheet 48MOIS
A2: PREVISIONS CALCULEES A PARTIR DE 48 DONNEES EN LIGNE
A4: SERIE2 | B4: MOIS AN | C4: CHIFFRES 2 | D4: VALEUR THEORIQUE DE LA DROITE | E4: ECART SAISONNIER | F4: MOYENNE DES ECARTS SAISONNIERS | G4: VALEUR THEORIQUE + ECART SAISONNIER | H4: CALCUL DES EPSILON
A5: 1 | B5: {='60MOIS'!B17} -> 35434 | C5: {='60MOIS'!C17} -> 1509 | D5: =(A5*C$58)+C$59 -> 1306.5493 | E5: =C5-D5 -> 202.45068 | F5: =(E5+E17+E29+E41)/4 -> 106.31293 | G5: =(A5*C$58)+C$59+F5 -> 1412.8622 | H5: =C5-G5 -> 96.137755
A6: 2 | B6: {='60MOIS'!B18} -> 35465 | C6: {='60MOIS'!C18} -> 1302 | D6: =(A6*C$58)+C$59 -> 1314.432 | E6: =C6-D6 -> -12.431973 | F6: =(E6+E18+E30+E42)/4 -> 61.180272 | G6: =(A6*C$58)+C$59+F6 -> 1375.6122 | H6: =C6-G6 -> -73.612245
A7: 3 | B7: {='60MOIS'!B19} -> 35494 | C7: {='60MOIS'!C19} -> 1422 | D7: =(A7*C$58)+C$59 -> 1322.3146 | E7: =C7-D7 -> 99.685374 | F7: =(E7+E19+E31+E43)/4 -> 161.29762 | G7: =(A7*C$58)+C$59+F7 -> 1483.6122 | H7: =C7-G7 -> -61.612245
A8: 4 | B8: {='60MOIS'!B20} -> 35525 | C8: {='60MOIS'!C20} -> 1352 | D8: =(A8*C$58)+C$59 -> 1330.1973 | E8: =C8-D8 -> 21.802721 | F8: =(E8+E20+E32+E44)/4 -> 4.914966 | G8: =(A8*C$58)+C$59+F8 -> 1335.1122 | H8: =C8-G8 -> 16.887755
A9: 5 | B9: {='60MOIS'!B21} -> 35556 | C9: {='60MOIS'!C21} -> 1251 | D9: =(A9*C$58)+C$59 -> 1338.0799 | E9: =C9-D9 -> -87.079932 | F9: =(E9+E21+E33+E45)/4 -> 7.7823129 | G9: =(A9*C$58)+C$59+F9 -> 1345.8622 | H9: =C9-G9 -> -94.862245
A10: 6 | B10: {='60MOIS'!B22} -> 35587 | C10: {='60MOIS'!C22} -> 1446 | D10: =(A10*C$58)+C$59 -> 1345.9626 | E10: =C10-D10 -> 100.03741 | F10: =(E10+E22+E34+E46)/4 -> 121.39966 | G10: =(A10*C$58)+C$59+F10 -> 1467.3622 | H10: =C10-G10 -> -21.362245
A11: 7 | B11: {='60MOIS'!B23} -> 35618 | C11: {='60MOIS'!C23} -> 1079 | D11: =(A11*C$58)+C$59 -> 1353.8452 | E11: =C11-D11 -> -274.84524 | F11: =(E11+E23+E35+E47)/4 -> -281.23299 | G11: =(A11*C$58)+C$59+F11 -> 1072.6122 | H11: =C11-G11 -> 6.3877551
A12: 8 | B12: {='60MOIS'!B24} -> 35649 | C12: {='60MOIS'!C24} -> 1024 | D12: =(A12*C$58)+C$59 -> 1361.7279 | E12: =C12-D12 -> -337.72789 | F12: =(E12+E24+E36+E48)/4 -> -313.11565 | G12: =(A12*C$58)+C$59+F12 -> 1048.6122 | H12: =C12-G12 -> -24.612245
A13: 9 | B13: {='60MOIS'!B25} -> 35680 | C13: {='60MOIS'!C25} -> 1451 | D13: =(A13*C$58)+C$59 -> 1369.6105 | E13: =C13-D13 -> 81.389456 | F13: =(E13+E25+E37+E49)/4 -> 7.0017007 | G13: =(A13*C$58)+C$59+F13 -> 1376.6122 | H13: =C13-G13 -> 74.387755
A14: 10 | B14: {='60MOIS'!B26} -> 35711 | C14: {='60MOIS'!C26} -> 1509 | D14: =(A14*C$58)+C$59 -> 1377.4932 | E14: =C14-D14 -> 131.5068 | F14: =(E14+E26+E38+E50)/4 -> 103.11905 | G14: =(A14*C$58)+C$59+F14 -> 1480.6122 | H14: =C14-G14 -> 28.387755
A15: 11 | B15: {='60MOIS'!B27} -> 35742 | C15: {='60MOIS'!C27} -> 1534 | D15: =(A15*C$58)+C$59 -> 1385.3759 | E15: =C15-D15 -> 148.62415 | F15: =(E15+E27+E39+E51)/4 -> 78.736395 | G15: =(A15*C$58)+C$59+F15 -> 1464.1122 | H15: =C15-G15 -> 69.887755
A16: 12 | B16: {='60MOIS'!B28} -> 35773 | C16: {='60MOIS'!C28} -> 1437 | D16: =(A16*C$58)+C$59 -> 1393.2585 | E16: =C16-D16 -> 43.741497 | F16: =(E16+E28+E40+E52)/4 -> -57.396259 | G16: =(A16*C$58)+C$59+F16 -> 1335.8622 | H16: =C16-G16 -> 101.13776
A17: 13 | B17: {='60MOIS'!B29} -> 35804 | C17: {='60MOIS'!C29} -> 1503 | D17: =(A17*C$58)+C$59 -> 1401.1412 | E17: =C17-D17 -> 101.85884 | G17: =(A17*C$58)+C$59+F5 -> 1507.4541 | H17: =C17-G17 -> -4.4540816
A18: 14 | B18: {='60MOIS'!B30} -> 35835 | C18: {='60MOIS'!C30} -> 1470 | D18: =(A18*C$58)+C$59 -> 1409.0238 | E18: =C18-D18 -> 60.97619 | G18: =(A18*C$58)+C$59+F6 -> 1470.2041 | H18: =C18-G18 -> -0.20408163
A19: 15 | B19: {='60MOIS'!B31} -> 35864 | C19: {='60MOIS'!C31} -> 1485 | D19: =(A19*C$58)+C$59 -> 1416.9065 | E19: =C19-D19 -> 68.093537 | G19: =(A19*C$58)+C$59+F7 -> 1578.2041 | H19: =C19-G19 -> -93.204082
A20: 16 | B20: {='60MOIS'!B32} -> 35895 | C20: {='60MOIS'!C32} -> 1427 | D20: =(A20*C$58)+C$59 -> 1424.7891 | E20: =C20-D20 -> 2.2108844 | G20: =(A20*C$58)+C$59+F8 -> 1429.7041 | H20: =C20-G20 -> -2.7040816
A21: 17 | B21: {='60MOIS'!B33} -> 35926 | C21: {='60MOIS'!C33} -> 1408 | D21: =(A21*C$58)+C$59 -> 1432.6718 | E21: =C21-D21 -> -24.671769 | G21: =(A21*C$58)+C$59+F9 -> 1440.4541 | H21: =C21-G21 -> -32.454082
A22: 18 | B22: {='60MOIS'!B34} -> 35957 | C22: {='60MOIS'!C34} -> 1450 | D22: =(A22*C$58)+C$59 -> 1440.5544 | E22: =C22-D22 -> 9.4455782 | G22: =(A22*C$58)+C$59+F10 -> 1561.9541 | H22: =C22-G22 -> -111.95408
A23: 19 | B23: {='60MOIS'!B35} -> 35988 | C23: {='60MOIS'!C35} -> 1284 | D23: =(A23*C$58)+C$59 -> 1448.4371 | E23: =C23-D23 -> -164.43707 | G23: =(A23*C$58)+C$59+F11 -> 1167.2041 | H23: =C23-G23 -> 116.79592
A24: 20 | B24: {='60MOIS'!B36} -> 36019 | C24: {='60MOIS'!C36} -> 1076 | D24: =(A24*C$58)+C$59 -> 1456.3197 | E24: =C24-D24 -> -380.31973 | G24: =(A24*C$58)+C$59+F12 -> 1143.2041 | H24: =C24-G24 -> -67.204082
A25: 21 | B25: {='60MOIS'!B37} -> 36050 | C25: {='60MOIS'!C37} -> 1421 | D25: =(A25*C$58)+C$59 -> 1464.2024 | E25: =C25-D25 -> -43.202381 | G25: =(A25*C$58)+C$59+F13 -> 1471.2041 | H25: =C25-G25 -> -50.204082
A26: 22 | B26: {='60MOIS'!B38} -> 36081 | C26: {='60MOIS'!C38} -> 1437 | D26: =(A26*C$58)+C$59 -> 1472.085 | E26: =C26-D26 -> -35.085034 | G26: =(A26*C$58)+C$59+F14 -> 1575.2041 | H26: =C26-G26 -> -138.20408
A27: 23 | B27: {='60MOIS'!B39} -> 36112 | C27: {='60MOIS'!C39} -> 1451 | D27: =(A27*C$58)+C$59 -> 1479.9677 | E27: =C27-D27 -> -28.967687 | G27: =(A27*C$58)+C$59+F15 -> 1558.7041 | H27: =C27-G27 -> -107.70408
A28: 24 | B28: {='60MOIS'!B40} -> 36143 | C28: {='60MOIS'!C40} -> 1200 | D28: =(A28*C$58)+C$59 -> 1487.8503 | E28: =C28-D28 -> -287.85034 | G28: =(A28*C$58)+C$59+F16 -> 1430.4541 | H28: =C28-G28 -> -230.45408
A29: 25 | B29: {='60MOIS'!B41} -> 36174 | C29: {='60MOIS'!C41} -> 1485 | D29: =(A29*C$58)+C$59 -> 1495.733 | E29: =C29-D29 -> -10.732993 | G29: =(A29*C$58)+C$59+F5 -> 1602.0459 | H29: =C29-G29 -> -117.04592
A30: 26 | B30: {='60MOIS'!B42} -> 36205 | C30: {='60MOIS'!C42} -> 1516 | D30: =(A30*C$58)+C$59 -> 1503.6156 | E30: =C30-D30 -> 12.384354 | G30: =(A30*C$58)+C$59+F6 -> 1564.7959 | H30: =C30-G30 -> -48.795918
A31: 27 | B31: {='60MOIS'!B43} -> 36234 | C31: {='60MOIS'!C43} -> 1710 | D31: =(A31*C$58)+C$59 -> 1511.4983 | E31: =C31-D31 -> 198.5017 | G31: =(A31*C$58)+C$59+F7 -> 1672.7959 | H31: =C31-G31 -> 37.204082
A32: 28 | B32: {='60MOIS'!B44} -> 36265 | C32: {='60MOIS'!C44} -> 1506 | D32: =(A32*C$58)+C$59 -> 1519.381 | E32: =C32-D32 -> -13.380952 | G32: =(A32*C$58)+C$59+F8 -> 1524.2959 | H32: =C32-G32 -> -18.295918
A33: 29 | B33: {='60MOIS'!B45} -> 36296 | C33: {='60MOIS'!C45} -> 1623 | D33: =(A33*C$58)+C$59 -> 1527.2636 | E33: =C33-D33 -> 95.736395 | G33: =(A33*C$58)+C$59+F9 -> 1535.0459 | H33: =C33-G33 -> 87.954082
A34: 30 | B34: {='60MOIS'!B46} -> 36327 | C34: {='60MOIS'!C46} -> 1708 | D34: =(A34*C$58)+C$59 -> 1535.1463 | E34: =C34-D34 -> 172.85374 | G34: =(A34*C$58)+C$59+F10 -> 1656.5459 | H34: =C34-G34 -> 51.454082
A35: 31 | B35: {='60MOIS'!B47} -> 36358 | C35: {='60MOIS'!C47} -> 1261 | D35: =(A35*C$58)+C$59 -> 1543.0289 | E35: =C35-D35 -> -282.02891 | G35: =(A35*C$58)+C$59+F11 -> 1261.7959 | H35: =C35-G35 -> -0.79591837
A36: 32 | B36: {='60MOIS'!B48} -> 36389 | C36: {='60MOIS'!C48} -> 1351 | D36: =(A36*C$58)+C$59 -> 1550.9116 | E36: =C36-D36 -> -199.91156 | G36: =(A36*C$58)+C$59+F12 -> 1237.7959 | H36: =C36-G36 -> 113.20408
A37: 33 | B37: {='60MOIS'!B49} -> 36420 | C37: {='60MOIS'!C49} -> 1583 | D37: =(A37*C$58)+C$59 -> 1558.7942 | E37: =C37-D37 -> 24.205782 | G37: =(A37*C$58)+C$59+F13 -> 1565.7959 | H37: =C37-G37 -> 17.204082
A38: 34 | B38: {='60MOIS'!B50} -> 36451 | C38: {='60MOIS'!C50} -> 1822 | D38: =(A38*C$58)+C$59 -> 1566.6769 | E38: =C38-D38 -> 255.32313 | G38: =(A38*C$58)+C$59+F14 -> 1669.7959 | H38: =C38-G38 -> 152.20408
A39: 35 | B39: {='60MOIS'!B51} -> 36482 | C39: {='60MOIS'!C51} -> 1734 | D39: =(A39*C$58)+C$59 -> 1574.5595 | E39: =C39-D39 -> 159.44048 | G39: =(A39*C$58)+C$59+F15 -> 1653.2959 | H39: =C39-G39 -> 80.704082
A40: 36 | B40: {='60MOIS'!B52} -> 36513 | C40: {='60MOIS'!C52} -> 1695 | D40: =(A40*C$58)+C$59 -> 1582.4422 | E40: =C40-D40 -> 112.55782 | G40: =(A40*C$58)+C$59+F16 -> 1525.0459 | H40: =C40-G40 -> 169.95408
A41: 37 | B41: {='60MOIS'!B53} -> 36544 | C41: {='60MOIS'!C53} -> 1722 | D41: =(A41*C$58)+C$59 -> 1590.3248 | E41: =C41-D41 -> 131.67517 | G41: =(A41*C$58)+C$59+F5 -> 1696.6378 | H41: =C41-G41 -> 25.362245
A42: 38 | B42: {='60MOIS'!B54} -> 36575 | C42: {='60MOIS'!C54} -> 1782 | D42: =(A42*C$58)+C$59 -> 1598.2075 | E42: =C42-D42 -> 183.79252 | G42: =(A42*C$58)+C$59+F6 -> 1659.3878 | H42: =C42-G42 -> 122.61224
A43: 39 | B43: {='60MOIS'!B55} -> 36604 | C43: {='60MOIS'!C55} -> 1885 | D43: =(A43*C$58)+C$59 -> 1606.0901 | E43: =C43-D43 -> 278.90986 | G43: =(A43*C$58)+C$59+F7 -> 1767.3878 | H43: =C43-G43 -> 117.61224
A44: 40 | B44: {='60MOIS'!B56} -> 36635 | C44: {='60MOIS'!C56} -> 1623 | D44: =(A44*C$58)+C$59 -> 1613.9728 | E44: =C44-D44 -> 9.0272109 | G44: =(A44*C$58)+C$59+F8 -> 1618.8878 | H44: =C44-G44 -> 4.1122449
A45: 41 | B45: {='60MOIS'!B57} -> 36666 | C45: {='60MOIS'!C57} -> 1669 | D45: =(A45*C$58)+C$59 -> 1621.8554 | E45: =C45-D45 -> 47.144558 | G45: =(A45*C$58)+C$59+F9 -> 1629.6378 | H45: =C45-G45 -> 39.362245
A46: 42 | B46: {='60MOIS'!B58} -> 36697 | C46: {='60MOIS'!C58} -> 1833 | D46: =(A46*C$58)+C$59 -> 1629.7381 | E46: =C46-D46 -> 203.2619 | G46: =(A46*C$58)+C$59+F10 -> 1751.1378 | H46: =C46-G46 -> 81.862245
A47: 43 | B47: {='60MOIS'!B59} -> 36728 | C47: {='60MOIS'!C59} -> 1234 | D47: =(A47*C$58)+C$59 -> 1637.6207 | E47: =C47-D47 -> -403.62075 | G47: =(A47*C$58)+C$59+F11 -> 1356.3878 | H47: =C47-G47 -> -122.38776
A48: 44 | B48: {='60MOIS'!B60} -> 36759 | C48: {='60MOIS'!C60} -> 1311 | D48: =(A48*C$58)+C$59 -> 1645.5034 | E48: =C48-D48 -> -334.5034 | G48: =(A48*C$58)+C$59+F12 -> 1332.3878 | H48: =C48-G48 -> -21.387755
A49: 45 | B49: {='60MOIS'!B61} -> 36790 | C49: {='60MOIS'!C61} -> 1619 | D49: =(A49*C$58)+C$59 -> 1653.3861 | E49: =C49-D49 -> -34.386054 | G49: =(A49*C$58)+C$59+F13 -> 1660.3878 | H49: =C49-G49 -> -41.387755
A50: 46 | B50: {='60MOIS'!B62} -> 36821 | C50: {='60MOIS'!C62} -> 1722 | D50: =(A50*C$58)+C$59 -> 1661.2687 | E50: =C50-D50 -> 60.731293 | G50: =(A50*C$58)+C$59+F14 -> 1764.3878 | H50: =C50-G50 -> -42.387755
A51: 47 | B51: {='60MOIS'!B63} -> 36852 | C51: {='60MOIS'!C63} -> 1705 | D51: =(A51*C$58)+C$59 -> 1669.1514 | E51: =C51-D51 -> 35.848639 | G51: =(A51*C$58)+C$59+F15 -> 1747.8878 | H51: =C51-G51 -> -42.887755
A52: 48 | B52: {='60MOIS'!B64} -> 36883 | C52: {='60MOIS'!C64} -> 1579 | D52: =(A52*C$58)+C$59 -> 1677.034 | E52: =C52-D52 -> -98.034014 | G52: =(A52*C$58)+C$59+F16 -> 1619.6378 | H52: =C52-G52 -> -40.637755
H53: =SUM(H5:H52) -> -4.5474735e-13
B57: DROITE DE TENDANCE
B58: COEFF | C58: {=INDEX(LINEST(CHIFFRES_2,SERIE2),1)} -> 7.8826531
B59: P/B | C59: {=INDEX(LINEST(CHIFFRES_2,SERIE2),2)} -> 1298.6667
B60: ECART TYPE | C60: =STDEV(CHIFFRES_2) -> 202.23937
B61: MEDIANE | C61: =MEDIAN(CHIFFRES_2) -> 1485
B62: MEDIANE+ECART TYPE | C62: =C61+C60 -> 1687.2394
B63: MEDIANE-ECART TYPE | C63: =C61-C60 -> 1282.7606
A66: NOUV | B66: MOIS N | C66: DONNEES | D66: DONNEES ARRONDIES | E66: TEST MEDIANE + - ECART TYPE | F66: POURCENTAGE MENSUEL
A67: =A52+1 -> 49 | B67: =IF(MONTH(B52)=2,B52+28,B52+31) -> 36914 | C67: =(A67*C$58)+C$59+F5 -> 1791.2296 | D67: =ROUND(C67,0) -> 1791 | E67: =IF(AND(C67<=C$62,C67>=C$63),"BON","MAUVAIS") -> MAUVAIS | F67: =D67/D$79 -> 0.086363198
A68: =A67+1 -> 50 | B68: =IF(MONTH(B67)=2,B67+28,B67+31) -> 36945 | C68: =(A68*C$58)+C$59+F6 -> 1753.9796 | D68: =ROUND(C68,0) -> 1754 | E68: =IF(AND(C68<=C$62,C68>=C$63),"BON","MAUVAIS") -> MAUVAIS | F68: =D68/D$79 -> 0.084579034
A69: =A68+1 -> 51 | B69: =IF(MONTH(B68)=2,B68+28,B68+31) -> 36973 | C69: =(A69*C$58)+C$59+F7 -> 1861.9796 | D69: =ROUND(C69,0) -> 1862 | E69: =IF(AND(C69<=C$62,C69>=C$63),"BON","MAUVAIS") -> MAUVAIS | F69: =D69/D$79 -> 0.089786865
A70: =A69+1 -> 52 | B70: =IF(MONTH(B69)=2,B69+28,B69+31) -> 37004 | C70: =(A70*C$58)+C$59+F8 -> 1713.4796 | D70: =ROUND(C70,0) -> 1713 | E70: =IF(AND(C70<=C$62,C70>=C$63),"BON","MAUVAIS") -> MAUVAIS | F70: =D70/D$79 -> 0.082601987
A71: =A70+1 -> 53 | B71: =IF(MONTH(B70)=2,B70+28,B70+31) -> 37035 | C71: =(A71*C$58)+C$59+F9 -> 1724.2296 | D71: =ROUND(C71,0) -> 1724 | E71: =IF(AND(C71<=C$62,C71>=C$63),"BON","MAUVAIS") -> MAUVAIS | F71: =D71/D$79 -> 0.083132414
A72: =A71+1 -> 54 | B72: =IF(MONTH(B71)=2,B71+28,B71+31) -> 37066 | C72: =(A72*C$58)+C$59+F10 -> 1845.7296 | D72: =ROUND(C72,0) -> 1846 | E72: =IF(AND(C72<=C$62,C72>=C$63),"BON","MAUVAIS") -> MAUVAIS | F72: =D72/D$79 -> 0.089015334
A73: =A72+1 -> 55 | B73: =IF(MONTH(B72)=2,B72+28,B72+31) -> 37097 | C73: =(A73*C$58)+C$59+F11 -> 1450.9796 | D73: =ROUND(C73,0) -> 1451 | E73: =IF(AND(C73<=C$62,C73>=C$63),"BON","MAUVAIS") -> BON | F73: =D73/D$79 -> 0.069968174
A74: =A73+1 -> 56 | B74: =IF(MONTH(B73)=2,B73+28,B73+31) -> 37128 | C74: =(A74*C$58)+C$59+F12 -> 1426.9796 | D74: =ROUND(C74,0) -> 1427 | E74: =IF(AND(C74<=C$62,C74>=C$63),"BON","MAUVAIS") -> BON | F74: =D74/D$79 -> 0.068810879
A75: =A74+1 -> 57 | B75: =IF(MONTH(B74)=2,B74+28,B74+31) -> 37159 | C75: =(A75*C$58)+C$59+F13 -> 1754.9796 | D75: =ROUND(C75,0) -> 1755 | E75: =IF(AND(C75<=C$62,C75>=C$63),"BON","MAUVAIS") -> MAUVAIS | F75: =D75/D$79 -> 0.084627254
A76: =A75+1 -> 58 | B76: =IF(MONTH(B75)=2,B75+28,B75+31) -> 37190 | C76: =(A76*C$58)+C$59+F14 -> 1858.9796 | D76: =ROUND(C76,0) -> 1859 | E76: =IF(AND(C76<=C$62,C76>=C$63),"BON","MAUVAIS") -> MAUVAIS | F76: =D76/D$79 -> 0.089642203
A77: =A76+1 -> 59 | B77: =IF(MONTH(B76)=2,B76+28,B76+31) -> 37221 | C77: =(A77*C$58)+C$59+F15 -> 1842.4796 | D77: =ROUND(C77,0) -> 1842 | E77: =IF(AND(C77<=C$62,C77>=C$63),"BON","MAUVAIS") -> MAUVAIS | F77: =D77/D$79 -> 0.088822452
A78: =A77+1 -> 60 | B78: =IF(MONTH(B77)=2,B77+28,B77+31) -> 37252 | C78: =(A78*C$58)+C$59+F16 -> 1714.2296 | D78: =ROUND(C78,0) -> 1714 | E78: =IF(AND(C78<=C$62,C78>=C$63),"BON","MAUVAIS") -> MAUVAIS | F78: =D78/D$79 -> 0.082650207
B79: TOTAL | C79: =SUM(C67:C78) -> 20739.255 | D79: =SUM(D67:D78) -> 20738 | E79: {=SUM((E67:E78="BON")*(E67:E78="BON"))} -> 2 | F79: =SUM(F67:F78) -> 1

Sheet 36MOIS
A2: PREVISIONS CALCULEES A PARTIR DE 36 DONNEES EN LIGNE
A4: SERIE3 | B4: MOIS AN | C4: CHIFFRES3 | D4: VALEUR THEORIQUE DE LA DROITE | E4: ECART SAISONNIER | F4: MOYENNE DES ECARTS SAISONNIERS | G4: VALEUR THEORIQUE + ECART SAISONNIER | H4: CALCUL DES EPSILON
A5: 1 | B5: {='60MOIS'!B29} -> 35804 | C5: {='60MOIS'!C29} -> 1503 | D5: =(A5*C$46)+C$47 -> 1383.1892 | E5: =C5-D5 -> 119.81081 | F5: =(E5+E17+E29)/3 -> 82.140541 | G5: =(A5*C$46)+C$47+F5 -> 1465.3297 | H5: =C5-G5 -> 37.67027
A6: 2 | B6: {='60MOIS'!B30} -> 35835 | C6: {='60MOIS'!C30} -> 1470 | D6: =(A6*C$46)+C$47 -> 1391.9117 | E6: =C6-D6 -> 78.088288 | F6: =(E6+E18+E30)/3 -> 92.751351 | G6: =(A6*C$46)+C$47+F6 -> 1484.6631 | H6: =C6-G6 -> -14.663063
A7: 3 | B7: {='60MOIS'!B31} -> 35864 | C7: {='60MOIS'!C31} -> 1485 | D7: =(A7*C$46)+C$47 -> 1400.6342 | E7: =C7-D7 -> 84.365766 | F7: =(E7+E19+E31)/3 -> 188.02883 | G7: =(A7*C$46)+C$47+F7 -> 1588.6631 | H7: =C7-G7 -> -103.66306
A8: 4 | B8: {='60MOIS'!B32} -> 35895 | C8: {='60MOIS'!C32} -> 1427 | D8: =(A8*C$46)+C$47 -> 1409.3568 | E8: =C8-D8 -> 17.643243 | F8: =(E8+E20+E32)/3 -> 4.6396396 | G8: =(A8*C$46)+C$47+F8 -> 1413.9964 | H8: =C8-G8 -> 13.003604
A9: 5 | B9: {='60MOIS'!B33} -> 35926 | C9: {='60MOIS'!C33} -> 1408 | D9: =(A9*C$46)+C$47 -> 1418.0793 | E9: =C9-D9 -> -10.079279 | F9: =(E9+E21+E33)/3 -> 43.917117 | G9: =(A9*C$46)+C$47+F9 -> 1461.9964 | H9: =C9-G9 -> -53.996396
A10: 6 | B10: {='60MOIS'!B34} -> 35957 | C10: {='60MOIS'!C34} -> 1450 | D10: =(A10*C$46)+C$47 -> 1426.8018 | E10: =C10-D10 -> 23.198198 | F10: =(E10+E22+E34)/3 -> 132.19459 | G10: =(A10*C$46)+C$47+F10 -> 1558.9964 | H10: =C10-G10 -> -108.9964
A11: 7 | B11: {='60MOIS'!B35} -> 35988 | C11: {='60MOIS'!C35} -> 1284 | D11: =(A11*C$46)+C$47 -> 1435.5243 | E11: =C11-D11 -> -151.52432 | F11: =(E11+E23+E35)/3 -> -280.52793 | G11: =(A11*C$46)+C$47+F11 -> 1154.9964 | H11: =C11-G11 -> 129.0036
A12: 8 | B12: {='60MOIS'!B36} -> 36019 | C12: {='60MOIS'!C36} -> 1076 | D12: =(A12*C$46)+C$47 -> 1444.2468 | E12: =C12-D12 -> -368.24685 | F12: =(E12+E24+E36)/3 -> -302.91712 | G12: =(A12*C$46)+C$47+F12 -> 1141.3297 | H12: =C12-G12 -> -65.32973
A13: 9 | B13: {='60MOIS'!B37} -> 36050 | C13: {='60MOIS'!C37} -> 1421 | D13: =(A13*C$46)+C$47 -> 1452.9694 | E13: =C13-D13 -> -31.969369 | F13: =(E13+E25+E37)/3 -> -16.63964 | G13: =(A13*C$46)+C$47+F13 -> 1436.3297 | H13: =C13-G13 -> -15.32973
A14: 10 | B14: {='60MOIS'!B38} -> 36081 | C14: {='60MOIS'!C38} -> 1437 | D14: =(A14*C$46)+C$47 -> 1461.6919 | E14: =C14-D14 -> -24.691892 | F14: =(E14+E26+E38)/3 -> 93.971171 | G14: =(A14*C$46)+C$47+F14 -> 1555.6631 | H14: =C14-G14 -> -118.66306
A15: 11 | B15: {='60MOIS'!B39} -> 36112 | C15: {='60MOIS'!C39} -> 1451 | D15: =(A15*C$46)+C$47 -> 1470.4144 | E15: =C15-D15 -> -19.414414 | F15: =(E15+E27+E39)/3 -> 54.915315 | G15: =(A15*C$46)+C$47+F15 -> 1525.3297 | H15: =C15-G15 -> -74.32973
A16: 12 | B16: {='60MOIS'!B40} -> 36143 | C16: {='60MOIS'!C40} -> 1200 | D16: =(A16*C$46)+C$47 -> 1479.1369 | E16: =C16-D16 -> -279.13694 | F16: =(E16+E28+E40)/3 -> -92.473874 | G16: =(A16*C$46)+C$47+F16 -> 1386.6631 | H16: =C16-G16 -> -186.66306
A17: 13 | B17: {='60MOIS'!B41} -> 36174 | C17: {='60MOIS'!C41} -> 1485 | D17: =(A17*C$46)+C$47 -> 1487.8595 | E17: =C17-D17 -> -2.8594595 | G17: =(A17*C$46)+C$47+F5 -> 1570 | H17: =C17-G17 -> -85
A18: 14 | B18: {='60MOIS'!B42} -> 36205 | C18: {='60MOIS'!C42} -> 1516 | D18: =(A18*C$46)+C$47 -> 1496.582 | E18: =C18-D18 -> 19.418018 | G18: =(A18*C$46)+C$47+F6 -> 1589.3333 | H18: =C18-G18 -> -73.333333
A19: 15 | B19: {='60MOIS'!B43} -> 36234 | C19: {='60MOIS'!C43} -> 1710 | D19: =(A19*C$46)+C$47 -> 1505.3045 | E19: =C19-D19 -> 204.6955 | G19: =(A19*C$46)+C$47+F7 -> 1693.3333 | H19: =C19-G19 -> 16.666667
A20: 16 | B20: {='60MOIS'!B44} -> 36265 | C20: {='60MOIS'!C44} -> 1506 | D20: =(A20*C$46)+C$47 -> 1514.027 | E20: =C20-D20 -> -8.027027 | G20: =(A20*C$46)+C$47+F8 -> 1518.6667 | H20: =C20-G20 -> -12.666667
A21: 17 | B21: {='60MOIS'!B45} -> 36296 | C21: {='60MOIS'!C45} -> 1623 | D21: =(A21*C$46)+C$47 -> 1522.7495 | E21: =C21-D21 -> 100.25045 | G21: =(A21*C$46)+C$47+F9 -> 1566.6667 | H21: =C21-G21 -> 56.333333
A22: 18 | B22: {='60MOIS'!B46} -> 36327 | C22: {='60MOIS'!C46} -> 1708 | D22: =(A22*C$46)+C$47 -> 1531.4721 | E22: =C22-D22 -> 176.52793 | G22: =(A22*C$46)+C$47+F10 -> 1663.6667 | H22: =C22-G22 -> 44.333333
A23: 19 | B23: {='60MOIS'!B47} -> 36358 | C23: {='60MOIS'!C47} -> 1261 | D23: =(A23*C$46)+C$47 -> 1540.1946 | E23: =C23-D23 -> -279.19459 | G23: =(A23*C$46)+C$47+F11 -> 1259.6667 | H23: =C23-G23 -> 1.3333333
A24: 20 | B24: {='60MOIS'!B48} -> 36389 | C24: {='60MOIS'!C48} -> 1351 | D24: =(A24*C$46)+C$47 -> 1548.9171 | E24: =C24-D24 -> -197.91712 | G24: =(A24*C$46)+C$47+F12 -> 1246 | H24: =C24-G24 -> 105
A25: 21 | B25: {='60MOIS'!B49} -> 36420 | C25: {='60MOIS'!C49} -> 1583 | D25: =(A25*C$46)+C$47 -> 1557.6396 | E25: =C25-D25 -> 25.36036 | G25: =(A25*C$46)+C$47+F13 -> 1541 | H25: =C25-G25 -> 42
A26: 22 | B26: {='60MOIS'!B50} -> 36451 | C26: {='60MOIS'!C50} -> 1822 | D26: =(A26*C$46)+C$47 -> 1566.3622 | E26: =C26-D26 -> 255.63784 | G26: =(A26*C$46)+C$47+F14 -> 1660.3333 | H26: =C26-G26 -> 161.66667
A27: 23 | B27: {='60MOIS'!B51} -> 36482 | C27: {='60MOIS'!C51} -> 1734 | D27: =(A27*C$46)+C$47 -> 1575.0847 | E27: =C27-D27 -> 158.91532 | G27: =(A27*C$46)+C$47+F15 -> 1630 | H27: =C27-G27 -> 104
A28: 24 | B28: {='60MOIS'!B52} -> 36513 | C28: {='60MOIS'!C52} -> 1695 | D28: =(A28*C$46)+C$47 -> 1583.8072 | E28: =C28-D28 -> 111.19279 | G28: =(A28*C$46)+C$47+F16 -> 1491.3333 | H28: =C28-G28 -> 203.66667
A29: 25 | B29: {='60MOIS'!B53} -> 36544 | C29: {='60MOIS'!C53} -> 1722 | D29: =(A29*C$46)+C$47 -> 1592.5297 | E29: =C29-D29 -> 129.47027 | G29: =(A29*C$46)+C$47+F5 -> 1674.6703 | H29: =C29-G29 -> 47.32973
A30: 26 | B30: {='60MOIS'!B54} -> 36575 | C30: {='60MOIS'!C54} -> 1782 | D30: =(A30*C$46)+C$47 -> 1601.2523 | E30: =C30-D30 -> 180.74775 | G30: =(A30*C$46)+C$47+F6 -> 1694.0036 | H30: =C30-G30 -> 87.996396
A31: 27 | B31: {='60MOIS'!B55} -> 36604 | C31: {='60MOIS'!C55} -> 1885 | D31: =(A31*C$46)+C$47 -> 1609.9748 | E31: =C31-D31 -> 275.02523 | G31: =(A31*C$46)+C$47+F7 -> 1798.0036 | H31: =C31-G31 -> 86.996396
A32: 28 | B32: {='60MOIS'!B56} -> 36635 | C32: {='60MOIS'!C56} -> 1623 | D32: =(A32*C$46)+C$47 -> 1618.6973 | E32: =C32-D32 -> 4.3027027 | G32: =(A32*C$46)+C$47+F8 -> 1623.3369 | H32: =C32-G32 -> -0.33693694
A33: 29 | B33: {='60MOIS'!B57} -> 36666 | C33: {='60MOIS'!C57} -> 1669 | D33: =(A33*C$46)+C$47 -> 1627.4198 | E33: =C33-D33 -> 41.58018 | G33: =(A33*C$46)+C$47+F9 -> 1671.3369 | H33: =C33-G33 -> -2.3369369
A34: 30 | B34: {='60MOIS'!B58} -> 36697 | C34: {='60MOIS'!C58} -> 1833 | D34: =(A34*C$46)+C$47 -> 1636.1423 | E34: =C34-D34 -> 196.85766 | G34: =(A34*C$46)+C$47+F10 -> 1768.3369 | H34: =C34-G34 -> 64.663063
A35: 31 | B35: {='60MOIS'!B59} -> 36728 | C35: {='60MOIS'!C59} -> 1234 | D35: =(A35*C$46)+C$47 -> 1644.8649 | E35: =C35-D35 -> -410.86486 | G35: =(A35*C$46)+C$47+F11 -> 1364.3369 | H35: =C35-G35 -> -130.33694
A36: 32 | B36: {='60MOIS'!B60} -> 36759 | C36: {='60MOIS'!C60} -> 1311 | D36: =(A36*C$46)+C$47 -> 1653.5874 | E36: =C36-D36 -> -342.58739 | G36: =(A36*C$46)+C$47+F12 -> 1350.6703 | H36: =C36-G36 -> -39.67027
A37: 33 | B37: {='60MOIS'!B61} -> 36790 | C37: {='60MOIS'!C61} -> 1619 | D37: =(A37*C$46)+C$47 -> 1662.3099 | E37: =C37-D37 -> -43.30991 | G37: =(A37*C$46)+C$47+F13 -> 1645.6703 | H37: =C37-G37 -> -26.67027
A38: 34 | B38: {='60MOIS'!B62} -> 36821 | C38: {='60MOIS'!C62} -> 1722 | D38: =(A38*C$46)+C$47 -> 1671.0324 | E38: =C38-D38 -> 50.967568 | G38: =(A38*C$46)+C$47+F14 -> 1765.0036 | H38: =C38-G38 -> -43.003604
A39: 35 | B39: {='60MOIS'!B63} -> 36852 | C39: {='60MOIS'!C63} -> 1705 | D39: =(A39*C$46)+C$47 -> 1679.755 | E39: =C39-D39 -> 25.245045 | G39: =(A39*C$46)+C$47+F15 -> 1734.6703 | H39: =C39-G39 -> -29.67027
A40: 36 | B40: {='60MOIS'!B64} -> 36883 | C40: {='60MOIS'!C64} -> 1579 | D40: =(A40*C$46)+C$47 -> 1688.4775 | E40: =C40-D40 -> -109.47748 | G40: =(A40*C$46)+C$47+F16 -> 1596.0036 | H40: =C40-G40 -> -17.003604
H41: =SUM(H5:H40) -> -4.5474735e-13
B45: DROITE DE TENDANCE
B46: COEFF | C46: {=INDEX(LINEST(CHIFFRES3,SERIE3),1)} -> 8.7225225
B47: P/B | C47: {=INDEX(LINEST(CHIFFRES3,SERIE3),2)} -> 1374.4667
B48: ECART TYPE | C48: {=STDEV(CHIFFRES3)} -> 195.35543
B49: MEDIANE | C49: {=MEDIAN(CHIFFRES3)} -> 1511
B50: MEDIANE+ECART TYPE | C50: =C49+C48 -> 1706.3554
B51: MEDIANE-ECART TYPE | C51: =C49-C48 -> 1315.6446
A54: NOUV | B54: MOIS N | C54: DONNEES | D54: DONNEES ARRONDIES | E54: TEST MEDIANE + - ECART TYPE | F54: POURCENTAGE MENSUEL
A55: =A40+1 -> 37 | B55: =IF(MONTH(B40)=2,B40+28,B40+31) -> 36914 | C55: =(A55*C$46)+C$47+F5 -> 1779.3405 | D55: =ROUND(C55,0) -> 1779 | E55: =IF(AND(C55<=C$50,C55>=C$51),"BON","MAUVAIS") -> MAUVAIS | F55: =D55/D$67 -> 0.084948907
A56: =A55+1 -> 38 | B56: =IF(MONTH(B55)=2,B55+28,B55+31) -> 36945 | C56: =(A56*C$46)+C$47+F6 -> 1798.6739 | D56: =ROUND(C56,0) -> 1799 | E56: =IF(AND(C56<=C$50,C56>=C$51),"BON","MAUVAIS") -> MAUVAIS | F56: =D56/D$67 -> 0.085903925
A57: =A56+1 -> 39 | B57: =IF(MONTH(B56)=2,B56+28,B56+31) -> 36973 | C57: =(A57*C$46)+C$47+F7 -> 1902.6739 | D57: =ROUND(C57,0) -> 1903 | E57: =IF(AND(C57<=C$50,C57>=C$51),"BON","MAUVAIS") -> MAUVAIS | F57: =D57/D$67 -> 0.090870022
A58: =A57+1 -> 40 | B58: =IF(MONTH(B57)=2,B57+28,B57+31) -> 37004 | C58: =(A58*C$46)+C$47+F8 -> 1728.0072 | D58: =ROUND(C58,0) -> 1728 | E58: =IF(AND(C58<=C$50,C58>=C$51),"BON","MAUVAIS") -> MAUVAIS | F58: =D58/D$67 -> 0.082513609
A59: =A58+1 -> 41 | B59: =IF(MONTH(B58)=2,B58+28,B58+31) -> 37035 | C59: =(A59*C$46)+C$47+F9 -> 1776.0072 | D59: =ROUND(C59,0) -> 1776 | E59: =IF(AND(C59<=C$50,C59>=C$51),"BON","MAUVAIS") -> MAUVAIS | F59: =D59/D$67 -> 0.084805654
A60: =A59+1 -> 42 | B60: =IF(MONTH(B59)=2,B59+28,B59+31) -> 37066 | C60: =(A60*C$46)+C$47+F10 -> 1873.0072 | D60: =ROUND(C60,0) -> 1873 | E60: =IF(AND(C60<=C$50,C60>=C$51),"BON","MAUVAIS") -> MAUVAIS | F60: =D60/D$67 -> 0.089437494
A61: =A60+1 -> 43 | B61: =IF(MONTH(B60)=2,B60+28,B60+31) -> 37097 | C61: =(A61*C$46)+C$47+F11 -> 1469.0072 | D61: =ROUND(C61,0) -> 1469 | E61: =IF(AND(C61<=C$50,C61>=C$51),"BON","MAUVAIS") -> BON | F61: =D61/D$67 -> 0.070146118
A62: =A61+1 -> 44 | B62: =IF(MONTH(B61)=2,B61+28,B61+31) -> 37128 | C62: =(A62*C$46)+C$47+F12 -> 1455.3405 | D62: =ROUND(C62,0) -> 1455 | E62: =IF(AND(C62<=C$50,C62>=C$51),"BON","MAUVAIS") -> BON | F62: =D62/D$67 -> 0.069477605
A63: =A62+1 -> 45 | B63: =IF(MONTH(B62)=2,B62+28,B62+31) -> 37159 | C63: =(A63*C$46)+C$47+F13 -> 1750.3405 | D63: =ROUND(C63,0) -> 1750 | E63: =IF(AND(C63<=C$50,C63>=C$51),"BON","MAUVAIS") -> MAUVAIS | F63: =D63/D$67 -> 0.08356413
A64: =A63+1 -> 46 | B64: =IF(MONTH(B63)=2,B63+28,B63+31) -> 37190 | C64: =(A64*C$46)+C$47+F14 -> 1869.6739 | D64: =ROUND(C64,0) -> 1870 | E64: =IF(AND(C64<=C$50,C64>=C$51),"BON","MAUVAIS") -> MAUVAIS | F64: =D64/D$67 -> 0.089294241
A65: =A64+1 -> 47 | B65: =IF(MONTH(B64)=2,B64+28,B64+31) -> 37221 | C65: =(A65*C$46)+C$47+F15 -> 1839.3405 | D65: =ROUND(C65,0) -> 1839 | E65: =IF(AND(C65<=C$50,C65>=C$51),"BON","MAUVAIS") -> MAUVAIS | F65: =D65/D$67 -> 0.087813962
A66: =A65+1 -> 48 | B66: =IF(MONTH(B65)=2,B65+28,B65+31) -> 37252 | C66: =(A66*C$46)+C$47+F16 -> 1700.6739 | D66: =ROUND(C66,0) -> 1701 | E66: =IF(AND(C66<=C$50,C66>=C$51),"BON","MAUVAIS") -> BON | F66: =D66/D$67 -> 0.081224334
B67: TOTAL | C67: =SUM(C55:C66) -> 20942.086 | D67: =SUM(D55:D66) -> 20942 | E67: {=SUM((E55:E66="BON")*(E55:E66="BON"))} -> 3 | F67: =SUM(F55:F66) -> 1

Sheet 24MOIS
A2: PREVISIONS CALCULEES A PARTIR DE 24 DONNEES EN LIGNE
A4: SERIE4 | B4: MOIS AN | C4: CHIFFRES4 | D4: VALEUR THEORIQUE DE LA DROITE | E4: ECART SAISONNIER | F4: MOYENNE DES ECARTS SAISONNIERS | G4: VALEUR THEORIQUE + ECART SAISONNIER | H4: CALCUL DES EPSILON
A5: 1 | B5: ='60MOIS'!B41 -> 36174 | C5: {='60MOIS'!C41} -> 1485 | D5: =(A5*C$34)+C$35 -> 1574.7933 | E5: =C5-D5 -> -89.793333 | F5: =(E5+E17)/2 -> 9.5118841 | G5: =(A5*C$34)+C$35+F5 -> 1584.3052 | H5: =C5-G5 -> -99.305217
A6: 2 | B6: ='60MOIS'!B42 -> 36205 | C6: {='60MOIS'!C42} -> 1516 | D6: =(A6*C$34)+C$35 -> 1577.9925 | E6: =C6-D6 -> -61.992464 | F6: =(E6+E18)/2 -> 51.812754 | G6: =(A6*C$34)+C$35+F6 -> 1629.8052 | H6: =C6-G6 -> -113.80522
A7: 3 | B7: ='60MOIS'!B43 -> 36234 | C7: {='60MOIS'!C43} -> 1710 | D7: =(A7*C$34)+C$35 -> 1581.1916 | E7: =C7-D7 -> 128.80841 | F7: =(E7+E19)/2 -> 197.11362 | G7: =(A7*C$34)+C$35+F7 -> 1778.3052 | H7: =C7-G7 -> -68.305217
A8: 4 | B8: ='60MOIS'!B44 -> 36265 | C8: {='60MOIS'!C44} -> 1506 | D8: =(A8*C$34)+C$35 -> 1584.3907 | E8: =C8-D8 -> -78.390725 | F8: =(E8+E20)/2 -> -39.085507 | G8: =(A8*C$34)+C$35+F8 -> 1545.3052 | H8: =C8-G8 -> -39.305217
A9: 5 | B9: ='60MOIS'!B45 -> 36296 | C9: {='60MOIS'!C45} -> 1623 | D9: =(A9*C$34)+C$35 -> 1587.5899 | E9: =C9-D9 -> 35.410145 | F9: =(E9+E21)/2 -> 39.215362 | G9: =(A9*C$34)+C$35+F9 -> 1626.8052 | H9: =C9-G9 -> -3.8052174
A10: 6 | B10: ='60MOIS'!B46 -> 36327 | C10: {='60MOIS'!C46} -> 1708 | D10: =(A10*C$34)+C$35 -> 1590.789 | E10: =C10-D10 -> 117.21101 | F10: =(E10+E22)/2 -> 160.51623 | G10: =(A10*C$34)+C$35+F10 -> 1751.3052 | H10: =C10-G10 -> -43.305217
A11: 7 | B11: ='60MOIS'!B47 -> 36358 | C11: {='60MOIS'!C47} -> 1261 | D11: =(A11*C$34)+C$35 -> 1593.9881 | E11: =C11-D11 -> -332.98812 | F11: =(E11+E23)/2 -> -365.6829 | G11: =(A11*C$34)+C$35+F11 -> 1228.3052 | H11: =C11-G11 -> 32.694783
A12: 8 | B12: ='60MOIS'!B48 -> 36389 | C12: {='60MOIS'!C48} -> 1351 | D12: =(A12*C$34)+C$35 -> 1597.1872 | E12: =C12-D12 -> -246.18725 | F12: =(E12+E24)/2 -> -285.38203 | G12: =(A12*C$34)+C$35+F12 -> 1311.8052 | H12: =C12-G12 -> 39.194783
A13: 9 | B13: ='60MOIS'!B49 -> 36420 | C13: {='60MOIS'!C49} -> 1583 | D13: =(A13*C$34)+C$35 -> 1600.3864 | E13: =C13-D13 -> -17.386377 | F13: =(E13+E25)/2 -> -18.581159 | G13: =(A13*C$34)+C$35+F13 -> 1581.8052 | H13: =C13-G13 -> 1.1947826
A14: 10 | B14: ='60MOIS'!B50 -> 36451 | C14: {='60MOIS'!C50} -> 1822 | D14: =(A14*C$34)+C$35 -> 1603.5855 | E14: =C14-D14 -> 218.41449 | F14: =(E14+E26)/2 -> 149.21971 | G14: =(A14*C$34)+C$35+F14 -> 1752.8052 | H14: =C14-G14 -> 69.194783
A15: 11 | B15: ='60MOIS'!B51 -> 36482 | C15: {='60MOIS'!C51} -> 1734 | D15: =(A15*C$34)+C$35 -> 1606.7846 | E15: =C15-D15 -> 127.21536 | F15: =(E15+E27)/2 -> 93.52058 | G15: =(A15*C$34)+C$35+F15 -> 1700.3052 | H15: =C15-G15 -> 33.694783
A16: 12 | B16: ='60MOIS'!B52 -> 36513 | C16: {='60MOIS'!C52} -> 1695 | D16: =(A16*C$34)+C$35 -> 1609.9838 | E16: =C16-D16 -> 85.016232 | F16: =(E16+E28)/2 -> 7.8214493 | G16: =(A16*C$34)+C$35+F16 -> 1617.8052 | H16: =C16-G16 -> 77.194783
A17: 13 | B17: ='60MOIS'!B53 -> 36544 | C17: {='60MOIS'!C53} -> 1722 | D17: =(A17*C$34)+C$35 -> 1613.1829 | E17: =C17-D17 -> 108.8171 | F17: =F5 -> 9.5118841 | G17: =(A17*C$34)+C$35+F5 -> 1622.6948 | H17: =C17-G17 -> 99.305217
A18: 14 | B18: ='60MOIS'!B54 -> 36575 | C18: {='60MOIS'!C54} -> 1782 | D18: =(A18*C$34)+C$35 -> 1616.382 | E18: =C18-D18 -> 165.61797 | F18: =F6 -> 51.812754 | G18: =(A18*C$34)+C$35+F6 -> 1668.1948 | H18: =C18-G18 -> 113.80522
A19: 15 | B19: ='60MOIS'!B55 -> 36604 | C19: {='60MOIS'!C55} -> 1885 | D19: =(A19*C$34)+C$35 -> 1619.5812 | E19: =C19-D19 -> 265.41884 | F19: =F7 -> 197.11362 | G19: =(A19*C$34)+C$35+F7 -> 1816.6948 | H19: =C19-G19 -> 68.305217
A20: 16 | B20: ='60MOIS'!B56 -> 36635 | C20: {='60MOIS'!C56} -> 1623 | D20: =(A20*C$34)+C$35 -> 1622.7803 | E20: =C20-D20 -> 0.21971014 | F20: =F8 -> -39.085507 | G20: =(A20*C$34)+C$35+F8 -> 1583.6948 | H20: =C20-G20 -> 39.305217
A21: 17 | B21: ='60MOIS'!B57 -> 36666 | C21: {='60MOIS'!C57} -> 1669 | D21: =(A21*C$34)+C$35 -> 1625.9794 | E21: =C21-D21 -> 43.02058 | F21: =F9 -> 39.215362 | G21: =(A21*C$34)+C$35+F9 -> 1665.1948 | H21: =C21-G21 -> 3.8052174
A22: 18 | B22: ='60MOIS'!B58 -> 36697 | C22: {='60MOIS'!C58} -> 1833 | D22: =(A22*C$34)+C$35 -> 1629.1786 | E22: =C22-D22 -> 203.82145 | F22: =F10 -> 160.51623 | G22: =(A22*C$34)+C$35+F10 -> 1789.6948 | H22: =C22-G22 -> 43.305217
A23: 19 | B23: ='60MOIS'!B59 -> 36728 | C23: {='60MOIS'!C59} -> 1234 | D23: =(A23*C$34)+C$35 -> 1632.3777 | E23: =C23-D23 -> -398.37768 | F23: =F11 -> -365.6829 | G23: =(A23*C$34)+C$35+F11 -> 1266.6948 | H23: =C23-G23 -> -32.694783
A24: 20 | B24: ='60MOIS'!B60 -> 36759 | C24: {='60MOIS'!C60} -> 1311 | D24: =(A24*C$34)+C$35 -> 1635.5768 | E24: =C24-D24 -> -324.57681 | F24: =F12 -> -285.38203 | G24: =(A24*C$34)+C$35+F12 -> 1350.1948 | H24: =C24-G24 -> -39.194783
A25: 21 | B25: ='60MOIS'!B61 -> 36790 | C25: {='60MOIS'!C61} -> 1619 | D25: =(A25*C$34)+C$35 -> 1638.7759 | E25: =C25-D25 -> -19.775942 | F25: =F13 -> -18.581159 | G25: =(A25*C$34)+C$35+F13 -> 1620.1948 | H25: =C25-G25 -> -1.1947826
A26: 22 | B26: ='60MOIS'!B62 -> 36821 | C26: {='60MOIS'!C62} -> 1722 | D26: =(A26*C$34)+C$35 -> 1641.9751 | E26: =C26-D26 -> 80.024928 | F26: =F14 -> 149.21971 | G26: =(A26*C$34)+C$35+F14 -> 1791.1948 | H26: =C26-G26 -> -69.194783
A27: 23 | B27: ='60MOIS'!B63 -> 36852 | C27: {='60MOIS'!C63} -> 1705 | D27: =(A27*C$34)+C$35 -> 1645.1742 | E27: =C27-D27 -> 59.825797 | F27: =F15 -> 93.52058 | G27: =(A27*C$34)+C$35+F15 -> 1738.6948 | H27: =C27-G27 -> -33.694783
A28: 24 | B28: ='60MOIS'!B64 -> 36883 | C28: {='60MOIS'!C64} -> 1579 | D28: =(A28*C$34)+C$35 -> 1648.3733 | E28: =C28-D28 -> -69.373333 | F28: =F16 -> 7.8214493 | G28: =(A28*C$34)+C$35+F16 -> 1656.1948 | H28: =C28-G28 -> -77.194783
H29: =SUM(H5:H28) -> 0
B33: DROITE DE TENDANCE
B34: COEFF | C34: {=INDEX(LINEST(CHIFFRES4,SERIE4),1)} -> 3.1991304
B35: P/B | C35: {=INDEX(LINEST(CHIFFRES4,SERIE4),2)} -> 1571.5942
B36: ECART TYPE | C36: {=STDEV(CHIFFRES4)} -> 178.96634
B37: MEDIANE | C37: {=MEDIAN(CHIFFRES4)} -> 1646
B38: MEDIANE+ECART TYPE | C38: =C37+C36 -> 1824.9663
B39: MEDIANE-ECART TYPE | C39: =C37-C36 -> 1467.0337
A42: NOUV | B42: MOIS N | C42: DONNEES | D42: DONNEES ARRONDIES | E42: TEST MEDIANE + - ECART TYPE | F42: POURCENTAGE MENSUEL
A43: =A28+1 -> 25 | B43: =IF(MONTH(B28)=2,B28+28,B28+31) -> 36914 | C43: =(A43*C$34)+C$35+F5 -> 1661.0843 | D43: =ROUND(C43,0) -> 1661 | E43: =IF(AND(C43<=C$38,C43>=C$39),"BON","MAUVAIS") -> BON | F43: =D43/D$55 -> 0.082917332
A44: =A43+1 -> 26 | B44: =IF(MONTH(B43)=2,B43+28,B43+31) -> 36945 | C44: =(A44*C$34)+C$35+F6 -> 1706.5843 | D44: =ROUND(C44,0) -> 1707 | E44: =IF(AND(C44<=C$38,C44>=C$39),"BON","MAUVAIS") -> BON | F44: =D44/D$55 -> 0.085213658
A45: =A44+1 -> 27 | B45: =IF(MONTH(B44)=2,B44+28,B44+31) -> 36973 | C45: =(A45*C$34)+C$35+F7 -> 1855.0843 | D45: =ROUND(C45,0) -> 1855 | E45: =IF(AND(C45<=C$38,C45>=C$39),"BON","MAUVAIS") -> MAUVAIS | F45: =D45/D$55 -> 0.092601837
A46: =A45+1 -> 28 | B46: =IF(MONTH(B45)=2,B45+28,B45+31) -> 37004 | C46: =(A46*C$34)+C$35+F8 -> 1622.0843 | D46: =ROUND(C46,0) -> 1622 | E46: =IF(AND(C46<=C$38,C46>=C$39),"BON","MAUVAIS") -> BON | F46: =D46/D$55 -> 0.080970447
A47: =A46+1 -> 29 | B47: =IF(MONTH(B46)=2,B46+28,B46+31) -> 37035 | C47: =(A47*C$34)+C$35+F9 -> 1703.5843 | D47: =ROUND(C47,0) -> 1704 | E47: =IF(AND(C47<=C$38,C47>=C$39),"BON","MAUVAIS") -> BON | F47: =D47/D$55 -> 0.085063898
A48: =A47+1 -> 30 | B48: =IF(MONTH(B47)=2,B47+28,B47+31) -> 37066 | C48: =(A48*C$34)+C$35+F10 -> 1828.0843 | D48: =ROUND(C48,0) -> 1828 | E48: =IF(AND(C48<=C$38,C48>=C$39),"BON","MAUVAIS") -> MAUVAIS | F48: =D48/D$55 -> 0.091253994
A49: =A48+1 -> 31 | B49: =IF(MONTH(B48)=2,B48+28,B48+31) -> 37097 | C49: =(A49*C$34)+C$35+F11 -> 1305.0843 | D49: =ROUND(C49,0) -> 1305 | E49: =IF(AND(C49<=C$38,C49>=C$39),"BON","MAUVAIS") -> MAUVAIS | F49: =D49/D$55 -> 0.065145767
A50: =A49+1 -> 32 | B50: =IF(MONTH(B49)=2,B49+28,B49+31) -> 37128 | C50: =(A50*C$34)+C$35+F12 -> 1388.5843 | D50: =ROUND(C50,0) -> 1389 | E50: =IF(AND(C50<=C$38,C50>=C$39),"BON","MAUVAIS") -> MAUVAIS | F50: =D50/D$55 -> 0.069339058
A51: =A50+1 -> 33 | B51: =IF(MONTH(B50)=2,B50+28,B50+31) -> 37159 | C51: =(A51*C$34)+C$35+F13 -> 1658.5843 | D51: =ROUND(C51,0) -> 1659 | E51: =IF(AND(C51<=C$38,C51>=C$39),"BON","MAUVAIS") -> BON | F51: =D51/D$55 -> 0.082817492
A52: =A51+1 -> 34 | B52: =IF(MONTH(B51)=2,B51+28,B51+31) -> 37190 | C52: =(A52*C$34)+C$35+F14 -> 1829.5843 | D52: =ROUND(C52,0) -> 1830 | E52: =IF(AND(C52<=C$38,C52>=C$39),"BON","MAUVAIS") -> MAUVAIS | F52: =D52/D$55 -> 0.091353834
A53: =A52+1 -> 35 | B53: =IF(MONTH(B52)=2,B52+28,B52+31) -> 37221 | C53: =(A53*C$34)+C$35+F15 -> 1777.0843 | D53: =ROUND(C53,0) -> 1777 | E53: =IF(AND(C53<=C$38,C53>=C$39),"BON","MAUVAIS") -> BON | F53: =D53/D$55 -> 0.088708067
A54: =A53+1 -> 36 | B54: =IF(MONTH(B53)=2,B53+28,B53+31) -> 37252 | C54: =(A54*C$34)+C$35+F16 -> 1694.5843 | D54: =ROUND(C54,0) -> 1695 | E54: =IF(AND(C54<=C$38,C54>=C$39),"BON","MAUVAIS") -> BON | F54: =D54/D$55 -> 0.084614617
B55: TOTAL | C55: =SUM(C43:C54) -> 20030.012 | D55: =SUM(D43:D54) -> 20032 | E55: {=SUM((E43:E54="BON")*(E43:E54="BON"))} -> 7 | F55: =SUM(F43:F54) -> 1

Sheet 12MOIS
A2: PREVISIONS CALCULEES A PARTIR DE 12 DONNEES EN LIGNE
A4: SERIE4 | B4: MOIS AN | C4: CHIFFRES4 | D4: VALEUR THEORIQUE DE LA DROITE | E4: ECART SAISONNIER | F4: MOYENNE DES ECARTS SAISONNIERS | G4: VALEUR THEORIQUE + ECART SAISONNIER | H4: CALCUL DES EPSILON
A5: 1 | B5: ='60MOIS'!B53 -> 36544 | C5: {='60MOIS'!C53} -> 1722 | D5: =(A5*C$22)+C$23 -> 1738.4103 | E5: =C5-D5 -> -16.410256 | F5: =E5 -> -16.410256 | G5: =(A5*C$22)+C$23+F5 -> 1722 | H5: =C5-G5 -> 0
A6: 2 | B6: ='60MOIS'!B54 -> 36575 | C6: {='60MOIS'!C54} -> 1782 | D6: =(A6*C$22)+C$23 -> 1720.5781 | E6: =C6-D6 -> 61.421911 | F6: =E6 -> 61.421911 | G6: =(A6*C$22)+C$23+F6 -> 1782 | H6: =C6-G6 -> 0
A7: 3 | B7: ='60MOIS'!B55 -> 36604 | C7: {='60MOIS'!C55} -> 1885 | D7: =(A7*C$22)+C$23 -> 1702.7459 | E7: =C7-D7 -> 182.25408 | F7: =E7 -> 182.25408 | G7: =(A7*C$22)+C$23+F7 -> 1885 | H7: =C7-G7 -> 0
A8: 4 | B8: ='60MOIS'!B56 -> 36635 | C8: {='60MOIS'!C56} -> 1623 | D8: =(A8*C$22)+C$23 -> 1684.9138 | E8: =C8-D8 -> -61.913753 | F8: =E8 -> -61.913753 | G8: =(A8*C$22)+C$23+F8 -> 1623 | H8: =C8-G8 -> 0
A9: 5 | B9: ='60MOIS'!B57 -> 36666 | C9: {='60MOIS'!C57} -> 1669 | D9: =(A9*C$22)+C$23 -> 1667.0816 | E9: =C9-D9 -> 1.9184149 | F9: =E9 -> 1.9184149 | G9: =(A9*C$22)+C$23+F9 -> 1669 | H9: =C9-G9 -> 0
A10: 6 | B10: ='60MOIS'!B58 -> 36697 | C10: {='60MOIS'!C58} -> 1833 | D10: =(A10*C$22)+C$23 -> 1649.2494 | E10: =C10-D10 -> 183.75058 | F10: =E10 -> 183.75058 | G10: =(A10*C$22)+C$23+F10 -> 1833 | H10: =C10-G10 -> 0
A11: 7 | B11: ='60MOIS'!B59 -> 36728 | C11: {='60MOIS'!C59} -> 1234 | D11: =(A11*C$22)+C$23 -> 1631.4172 | E11: =C11-D11 -> -397.41725 | F11: =E11 -> -397.41725 | G11: =(A11*C$22)+C$23+F11 -> 1234 | H11: =C11-G11 -> 0
A12: 8 | B12: ='60MOIS'!B60 -> 36759 | C12: {='60MOIS'!C60} -> 1311 | D12: =(A12*C$22)+C$23 -> 1613.5851 | E12: =C12-D12 -> -302.58508 | F12: =E12 -> -302.58508 | G12: =(A12*C$22)+C$23+F12 -> 1311 | H12: =C12-G12 -> 0
A13: 9 | B13: ='60MOIS'!B61 -> 36790 | C13: {='60MOIS'!C61} -> 1619 | D13: =(A13*C$22)+C$23 -> 1595.7529 | E13: =C13-D13 -> 23.247086 | F13: =E13 -> 23.247086 | G13: =(A13*C$22)+C$23+F13 -> 1619 | H13: =C13-G13 -> 0
A14: 10 | B14: ='60MOIS'!B62 -> 36821 | C14: {='60MOIS'!C62} -> 1722 | D14: =(A14*C$22)+C$23 -> 1577.9207 | E14: =C14-D14 -> 144.07925 | F14: =E14 -> 144.07925 | G14: =(A14*C$22)+C$23+F14 -> 1722 | H14: =C14-G14 -> 0
A15: 11 | B15: ='60MOIS'!B63 -> 36852 | C15: {='60MOIS'!C63} -> 1705 | D15: =(A15*C$22)+C$23 -> 1560.0886 | E15: =C15-D15 -> 144.91142 | F15: =E15 -> 144.91142 | G15: =(A15*C$22)+C$23+F15 -> 1705 | H15: =C15-G15 -> 0
A16: 12 | B16: ='60MOIS'!B64 -> 36883 | C16: {='60MOIS'!C64} -> 1579 | D16: =(A16*C$22)+C$23 -> 1542.2564 | E16: =C16-D16 -> 36.74359 | F16: =E16 -> 36.74359 | G16: =(A16*C$22)+C$23+F16 -> 1579 | H16: =C16-G16 -> 0
H17: =SUM(H5:H16) -> 0
B21: DROITE DE TENDANCE
B22: COEFF | C22: {=INDEX(LINEST(CHIFFRES4,SERIE4),1)} -> -17.832168
B23: P/B | C23: {=INDEX(LINEST(CHIFFRES4,SERIE4),2)} -> 1756.2424
B24: ECART TYPE | C24: {=STDEV(CHIFFRES4)} -> 193.87875
B25: MEDIANE | C25: {=MEDIAN(CHIFFRES4)} -> 1687
B26: MEDIANE+ECART TYPE | C26: =C25+C24 -> 1880.8787
B27: MEDIANE-ECART TYPE | C27: =C25-C24 -> 1493.1213
A30: NOUV | B30: MOIS N | C30: DONNEES | D30: DONNEES ARRONDIES | E30: TEST MEDIANE + - ECART TYPE | F30: POURCENTAGE MENSUEL
A31: =A16+1 -> 13 | B31: =IF(MONTH(B16)=2,B16+28,B16+31) -> 36914 | C31: =(A31*C$22)+C$23+F5 -> 1508.014 | D31: =ROUND(C31,0) -> 1508 | E31: =IF(AND(C31<=C$26,C31>=C$27),"BON","MAUVAIS") -> BON | F31: =D31/D$43 -> 0.088104697
A32: =A31+1 -> 14 | B32: =IF(MONTH(B31)=2,B31+28,B31+31) -> 36945 | C32: =(A32*C$22)+C$23+F6 -> 1568.014 | D32: =ROUND(C32,0) -> 1568 | E32: =IF(AND(C32<=C$26,C32>=C$27),"BON","MAUVAIS") -> BON | F32: =D32/D$43 -> 0.091610189
A33: =A32+1 -> 15 | B33: =IF(MONTH(B32)=2,B32+28,B32+31) -> 36973 | C33: =(A33*C$22)+C$23+F7 -> 1671.014 | D33: =ROUND(C33,0) -> 1671 | E33: =IF(AND(C33<=C$26,C33>=C$27),"BON","MAUVAIS") -> BON | F33: =D33/D$43 -> 0.09762795
A34: =A33+1 -> 16 | B34: =IF(MONTH(B33)=2,B33+28,B33+31) -> 37004 | C34: =(A34*C$22)+C$23+F8 -> 1409.014 | D34: =ROUND(C34,0) -> 1409 | E34: =IF(AND(C34<=C$26,C34>=C$27),"BON","MAUVAIS") -> MAUVAIS | F34: =D34/D$43 -> 0.082320636
A35: =A34+1 -> 17 | B35: =IF(MONTH(B34)=2,B34+28,B34+31) -> 37035 | C35: =(A35*C$22)+C$23+F9 -> 1455.014 | D35: =ROUND(C35,0) -> 1455 | E35: =IF(AND(C35<=C$26,C35>=C$27),"BON","MAUVAIS") -> MAUVAIS | F35: =D35/D$43 -> 0.085008179
A36: =A35+1 -> 18 | B36: =IF(MONTH(B35)=2,B35+28,B35+31) -> 37066 | C36: =(A36*C$22)+C$23+F10 -> 1619.014 | D36: =ROUND(C36,0) -> 1619 | E36: =IF(AND(C36<=C$26,C36>=C$27),"BON","MAUVAIS") -> BON | F36: =D36/D$43 -> 0.094589857
A37: =A36+1 -> 19 | B37: =IF(MONTH(B36)=2,B36+28,B36+31) -> 37097 | C37: =(A37*C$22)+C$23+F11 -> 1020.014 | D37: =ROUND(C37,0) -> 1020 | E37: =IF(AND(C37<=C$26,C37>=C$27),"BON","MAUVAIS") -> MAUVAIS | F37: =D37/D$43 -> 0.059593363
A38: =A37+1 -> 20 | B38: =IF(MONTH(B37)=2,B37+28,B37+31) -> 37128 | C38: =(A38*C$22)+C$23+F12 -> 1097.014 | D38: =ROUND(C38,0) -> 1097 | E38: =IF(AND(C38<=C$26,C38>=C$27),"BON","MAUVAIS") -> MAUVAIS | F38: =D38/D$43 -> 0.064092078
A39: =A38+1 -> 21 | B39: =IF(MONTH(B38)=2,B38+28,B38+31) -> 37159 | C39: =(A39*C$22)+C$23+F13 -> 1405.014 | D39: =ROUND(C39,0) -> 1405 | E39: =IF(AND(C39<=C$26,C39>=C$27),"BON","MAUVAIS") -> MAUVAIS | F39: =D39/D$43 -> 0.082086936
A40: =A39+1 -> 22 | B40: =IF(MONTH(B39)=2,B39+28,B39+31) -> 37190 | C40: =(A40*C$22)+C$23+F14 -> 1508.014 | D40: =ROUND(C40,0) -> 1508 | E40: =IF(AND(C40<=C$26,C40>=C$27),"BON","MAUVAIS") -> BON | F40: =D40/D$43 -> 0.088104697
A41: =A40+1 -> 23 | B41: =IF(MONTH(B40)=2,B40+28,B40+31) -> 37221 | C41: =(A41*C$22)+C$23+F15 -> 1491.014 | D41: =ROUND(C41,0) -> 1491 | E41: =IF(AND(C41<=C$26,C41>=C$27),"BON","MAUVAIS") -> MAUVAIS | F41: =D41/D$43 -> 0.087111475
A42: =A41+1 -> 24 | B42: =IF(MONTH(B41)=2,B41+28,B41+31) -> 37252 | C42: =(A42*C$22)+C$23+F16 -> 1365.014 | D42: =ROUND(C42,0) -> 1365 | E42: =IF(AND(C42<=C$26,C42>=C$27),"BON","MAUVAIS") -> MAUVAIS | F42: =D42/D$43 -> 0.079749942
B43: TOTAL | C43: =SUM(C31:C42) -> 17116.168 | D43: =SUM(D31:D42) -> 17116 | E43: {=SUM((E31:E42="BON")*(E31:E42="BON"))} -> 5 | F43: =SUM(F31:F42) -> 1
