Workbook
Name Compte: expli!$C$9:$E$9
Name titre: expli!$B$10:$B$12

Sheet expli
B3: La fonction Decaler
B6: =decaler(cellule départ;nb delignes; nb de colonnes)
B9: titre | C9: chap1 | D9: chap2 | E9: chap3
B10: paul | C10: a1 | D10: b5 | E10: c8
B11: emile | C11: a2 | D11: b6 | E11: c9
B12: victor | C12: a3 | D12: b7 | E12: c10
B14: récupérer la valeur de chap2 pour émile
B15: ==> deux lignes plus bas, deux colonnes à droite de la position de départ fixe B9
B16: =DECALER($B$9;2;2) | C16: ==> | D16: =OFFSET($B$9,2,2) -> b6
B18: si les paramètres de la positiond'émile dans ls liste titre ne sont pas connus:
B20: fonction Equiv
B22: trouver la position d'un item dans une liste
B24: =EQUIV("emile";$B$10:$B$12;0) | D24: =MATCH("emile",$B$10:$B$12,0) -> 2
B25: =equiv(texte cherché;zone de recherche;comparateur)
B26: idem pour une colonne
B28: Nom | C28: Compte
B29: victor | C29: chap1 | D29: <== changer item résutat en c31
C31: =OFFSET($B$9,MATCH($B$29,titre,0),MATCH($C$29,Compte,0)) -> a3
B33: Decaler fonctionne sur une autre feuille que celle où onveut avoir le résultat
B35: Récupérer le nb de jours pour BAT1 semaine 40
B37: =DECALER('BAT 1'!$B$11;20;1) | E37: =OFFSET('BAT 1'!$B$10,20,1) -> 14
B39: on peut reprendre cette formule pour chaque cellule …... Galère !!!
B41: on sait que le chiffre recherché est dans la ligne intitulée "Nombre de jours" dans la colonne B
B43: position de Nb de jours | C43: =MATCH("Nombre de jours",'BAT 1'!B:B,0) -> 30 | D43: lignes après le début du tableau
B44: pour démarrer à B10 oter 9 lignes | D44: =MATCH("Nombre de jours",'BAT 1'!B:B,0)-9 -> 21 | F44: =EQUIV("Nombre de jours";'BAT 1'!B:B;0)-9
B46: la formule complète pour 1 cellule, recherche en colonne B et ligne 9 ( corrigée de -2 pour démarrer à B9
B48: =OFFSET('BAT 1'!$B$9,MATCH("Nombre de Jours",'BAT 1'!B:B,0)-9,MATCH(40,'BAT 1'!$9:$9,0)-2) -> 14 | D48: =DECALER('BAT 1'!$B$9;EQUIV("Nombre de Jours";'BAT 1'!B:B;0)-9;EQUIV(40;'BAT 1'!$9:$9;0)-2)
B50: On pourrrait recopier cette formule et corriger cllule après cellule. Mais on a des repères fixes qui sont notamment le nom du chantier qui correspond au nom de la feuille
B51: De même les tableaux sont struvturés de manière identique avec une ligne d'entête en ligne 9
B52: Les noms des chantiers sont composés d'uen partie fixe BAT et indicés de 1 à XX
B53: ce qui change c'est la référence au chantier, le nom de la feuille qui est en colonne A de RECAP
B55: La fonction INDIRET() permet de recomposer une adresse de cellule avec des données variables.
B57: Recomposer nom feuille et adresse cellule pour récupérer le nb de jours dans bat1
B59: =INDIRECT("'Bat "&A66&"'!"&"C30") -> 14 | D59: =INDIRECT("'Bat "&A66&"'!"&"c30")
A62: Semaine | C62: 40
A65: Batiment | B65: Budget inital | C65: Nbre de jours
A66: 1 | B66: =INDIRECT("'Bat "&$A66&"'!$H$4") -> 16000 | C66: =OFFSET(INDIRECT("'Bat "&$A66&"'!$B$9"),MATCH("Nombre de Jours",INDIRECT("'Bat "&$A66&"'!B:B"),0)-9,MATCH($C$62,INDIRECT("'Bat "&$A66&"'!9:9"),0)-2) -> 14
A67: 2 | B67: =INDIRECT("'Bat "&$A67&"'!$H$4") -> 50000 | C67: =OFFSET(INDIRECT("'Bat "&$A67&"'!$B$9"),MATCH("Nombre de Jours",INDIRECT("'Bat "&$A67&"'!B:B"),0)-9,MATCH($C$62,INDIRECT("'Bat "&$A67&"'!9:9"),0)-2) -> 20
A68: 3 | B68: =INDIRECT("'Bat "&$A68&"'!$H$4") -> 30000 | C68: =OFFSET(INDIRECT("'Bat "&$A68&"'!$B$9"),MATCH("Nombre de Jours",INDIRECT("'Bat "&$A68&"'!B:B"),0)-9,MATCH($C$62,INDIRECT("'Bat "&$A68&"'!9:9"),0)-2) -> 32
B71: =DECALER(INDIRECT("'Bat "&$A66&"'!$B$9");EQUIV("Nombre de Jours";INDIRECT("'Bat "&$A66&"'!B:B");0)-9;EQUIV($C$62;INDIRECT("'Bat "&$A66&"'!9:9");0)-2)
...

Sheet RECAP
A1: Affaire | B1: XXXXX | C1: =VLOOKUP(B1,[1]CHANTIERS!$1:$1048576,2,FALSE) -> #N/A
A3: Responsable chantier | F3: Budget global du chantier
A4: Budget établi par | F4: Montant | G4: 152000
A5: Date MAJ | C5: =TODAY() -> 43810 | F5: APPRO | G5: 4000
A6: Semaine | C6: 40 | F6: POSE | G6: 121900
A9: Batiment | B9: Budget inital | C9: Nbre de jours | D9: Budget cumulé travaillé | E9: % | F9: Nbre de jours travaillé | G9: Nbre de jours restant | H9: Remarques
A10: 1 | B10: =INDIRECT("'Bat "&$A10&"'!$H$4") -> 16000 | C10: =OFFSET(INDIRECT("'Bat "&$A10&"'!$B$9"),MATCH("Nombre de Jours",INDIRECT("'Bat "&$A10&"'!B:B"),0)-9,MATCH($C$6,INDIRECT("'Bat "&$A10&"'!9:9"),0)-2) -> 14 | D10: =OFFSET(INDIRECT("'Bat "&$A10&"'!$B$9"),MATCH("Cumul dépense",INDIRECT("'Bat "&$A10&"'!B:B"),0)-9,MATCH($C$6,INDIRECT("'Bat "&$A10&"'!9:9"),0)-2) -> 3500
A11: 2 | B11: =INDIRECT("'Bat "&$A11&"'!$H$4") -> 50000 | C11: =OFFSET(INDIRECT("'Bat "&$A11&"'!$B$9"),MATCH("Nombre de Jours",INDIRECT("'Bat "&$A11&"'!B:B"),0)-9,MATCH($C$6,INDIRECT("'Bat "&$A11&"'!9:9"),0)-2) -> 20 | D11: =OFFSET(INDIRECT("'Bat "&$A11&"'!$B$9"),MATCH("Cumul dépense",INDIRECT("'Bat "&$A11&"'!B:B"),0)-9,MATCH($C$6,INDIRECT("'Bat "&$A11&"'!9:9"),0)-2) -> 5000
A12: 3 | B12: =INDIRECT("'Bat "&$A12&"'!$H$4") -> 30000 | C12: =OFFSET(INDIRECT("'Bat "&$A12&"'!$B$9"),MATCH("Nombre de Jours",INDIRECT("'Bat "&$A12&"'!B:B"),0)-9,MATCH($C$6,INDIRECT("'Bat "&$A12&"'!9:9"),0)-2) -> 32 | D12: =OFFSET(INDIRECT("'Bat "&$A12&"'!$B$9"),MATCH("Cumul dépense",INDIRECT("'Bat "&$A12&"'!B:B"),0)-9,MATCH($C$6,INDIRECT("'Bat "&$A12&"'!9:9"),0)-2) -> 8000
D20: =MATCH($C$6,'BAT 1'!9:9,0) -> 3

Sheet BAT 1
A1: Affaire | B1: XXXXX | C1: =VLOOKUP(B1,[1]CHANTIERS!$1:$1048576,2,FALSE) -> #N/A
A3: Responsable chantier | G3: Budget bâtiment 1
A4: Budget établi par | G4: Montant | H4: =H5+H6 -> 16000
A5: Date MAJ | C5: =TODAY() -> 43810 | G5: Appro | H5: 4000
G6: Pose | H6: 12000
C8: 43739
C9: =_xlfn.ISOWEEKNUM(C8) -> 40 | D9: =C9+1 -> 41 | E9: =D9+1 -> 42 | F9: =E9+1 -> 43 | G9: =F9+1 -> 44 | H9: =G9+1 -> 45 | I9: =H9+1 -> 46 | J9: =I9+1 -> 47
A10: NOM : | B10: Cumul jours | C10: Nbre Jour | D10: Nbre Jour | E10: Nbre Jour | F10: Nbre Jour | G10: Nbre Jour | H10: Nbre Jour | I10: Nbre Jour | J10: Nbre Jour
A11: A | B11: =SUM(C11:J11) -> 5 | C11: 2 | D11: 2 | E11: 1
A12: B | B12: =SUM(C12:J12) -> 7 | C12: 5 | D12: 2
A13: C | B13: =SUM(C13:J13) -> 7 | C13: 5 | D13: 2
A14: D | B14: =SUM(C14:J14) -> 4 | C14: 2 | D14: 2
A15: E | B15: =SUM(C15:J15) -> 0
A16: F | B16: =SUM(C16:J16) -> 0
A17: G | B17: =SUM(C17:J17) -> 0
B30: Nombre de jours | C30: =SUM(C11:C28) -> 14 | D30: =SUM(D11:D28) -> 8 | E30: =SUM(E11:E28) -> 1 | F30: =SUM(F11:F28) -> 0 | G30: =SUM(G11:G28) -> 0 | H30: =SUM(H11:H28) -> 0 | I30: =SUM(I11:I28) -> 0 | J30: =SUM(J11:J28) -> 0
B31: Cumul jours | C31: =C30 -> 14 | D31: =D30 -> 8 | E31: =E30 -> 1 | F31: =F30 -> 0 | G31: =G30 -> 0 | H31: =H30 -> 0 | I31: =I30 -> 0 | J31: =J30 -> 0
B33: Total dépensé | C33: =C30*250 -> 3500 | D33: =D30*250 -> 2000 | E33: =E30*250 -> 250 | F33: =F30*250 -> 0 | G33: =G30*250 -> 0 | H33: =H30*250 -> 0 | I33: =I30*250 -> 0 | J33: =J30*250 -> 0
B34: Cumul dépense | C34: =C33 -> 3500 | D34: =C34+D33 -> 5500 | E34: =D34+E33 -> 5750 | F34: =E34+F33 -> 5750 | G34: =F34+G33 -> 5750 | H34: =G34+H33 -> 5750 | I34: =H34+I33 -> 5750 | J34: =I34+J33 -> 5750
B35: Reste | C35: =H4-C33 -> 12500 | D35: =C35-D33 -> 10500 | E35: =D35-E33 -> 10250 | F35: =E35-F33 -> 10250 | G35: =F35-G33 -> 10250 | H35: =G35-H33 -> 10250 | I35: =H35-I33 -> 10250 | J35: =I35-J33 -> 10250
B36: % Dépense | C36: =C34/$H4 -> 0.21875 | D36: =D34/$H4 -> 0.34375 | E36: =E34/$H4 -> 0.359375 | F36: =F34/$H4 -> 0.359375 | G36: =G34/$H4 -> 0.359375 | H36: =H34/$H4 -> 0.359375 | I36: =I34/$H4 -> 0.359375 | J36: =J34/$H4 -> 0.359375
B37: Saisie le
B38: Par
B39: Vérifié le
B40: Par

Sheet BAT 2
A1: Affaire | B1: XXXXX | C1: =VLOOKUP(B1,[1]CHANTIERS!$1:$1048576,2,FALSE) -> #N/A
A3: Responsable chantier | G3: Budget bâtiment 2
A4: Budget établi par | G4: Montant | H4: 50000
A5: Date MAJ | C5: =TODAY() -> 43810 | G5: Appro | H5: 5000
G6: Pose | H6: 45000
C8: 43739
C9: =_xlfn.ISOWEEKNUM(C8) -> 40 | D9: =C9+1 -> 41 | E9: =D9+1 -> 42 | F9: =E9+1 -> 43 | G9: =F9+1 -> 44 | H9: =G9+1 -> 45 | I9: =H9+1 -> 46 | J9: =I9+1 -> 47
A10: NOM : | B10: Cumul jours | C10: Nbre Jour | D10: Nbre Jour | E10: Nbre Jour | F10: Nbre Jour | G10: Nbre Jour | H10: Nbre Jour | I10: Nbre Jour | J10: Nbre Jour
A11: A | B11: =SUM(C11:J11) -> 15 | C11: 5 | D11: 10
A12: B | B12: =SUM(C12:J12) -> 15 | C12: 5 | D12: 10
A13: C | B13: =SUM(C13:J13) -> 15 | C13: 5 | D13: 10
A14: D | B14: =SUM(C14:J14) -> 15 | C14: 5 | D14: 10
A15: E | B15: =SUM(C15:J15) -> 0
A16: F | B16: =SUM(C16:J16) -> 0
A17: G | B17: =SUM(C17:J17) -> 0
B30: Nombre de jours | C30: =SUM(C11:C28) -> 20 | D30: =SUM(D11:D28) -> 40 | E30: =SUM(E11:E28) -> 0 | F30: =SUM(F11:F28) -> 0 | G30: =SUM(G11:G28) -> 0 | H30: =SUM(H11:H28) -> 0 | I30: =SUM(I11:I28) -> 0 | J30: =SUM(J11:J28) -> 0
B31: Cumul jours | C31: =C30 -> 20 | D31: =D30 -> 40 | E31: =E30 -> 0 | F31: =F30 -> 0 | G31: =G30 -> 0 | H31: =H30 -> 0 | I31: =I30 -> 0 | J31: =J30 -> 0
B33: Total dépensé | C33: =C30*250 -> 5000 | D33: =D30*250 -> 10000 | E33: =E30*250 -> 0 | F33: =F30*250 -> 0 | G33: =G30*250 -> 0 | H33: =H30*250 -> 0 | I33: =I30*250 -> 0 | J33: =J30*250 -> 0
B34: Cumul dépense | C34: =C33 -> 5000 | D34: =C34+D33 -> 15000 | E34: =D34+E33 -> 15000 | F34: =E34+F33 -> 15000 | G34: =F34+G33 -> 15000 | H34: =G34+H33 -> 15000 | I34: =H34+I33 -> 15000 | J34: =I34+J33 -> 15000
B35: Reste | C35: =H4-C33 -> 45000 | D35: =C35-D33 -> 35000 | E35: =D35-E33 -> 35000 | F35: =E35-F33 -> 35000 | G35: =F35-G33 -> 35000 | H35: =G35-H33 -> 35000 | I35: =H35-I33 -> 35000 | J35: =I35-J33 -> 35000
B36: % Dépense | C36: =C34/$H4 -> 0.1 | D36: =D34/$H4 -> 0.3 | E36: =E34/$H4 -> 0.3 | F36: =F34/$H4 -> 0.3 | G36: =G34/$H4 -> 0.3 | H36: =H34/$H4 -> 0.3 | I36: =I34/$H4 -> 0.3 | J36: =J34/$H4 -> 0.3
B37: Saisie le
B38: Par
B39: Vérifié le
B40: Par

Sheet BAT 3
A1: Affaire | B1: XXXXX | C1: =VLOOKUP(B1,[1]CHANTIERS!$1:$1048576,2,FALSE) -> #N/A
A3: Responsable chantier | G3: Budget bâtiment 3
A4: Budget établi par | G4: Montant | H4: 30000
A5: Date MAJ | C5: =TODAY() -> 43810 | G5: Appro | H5: 5000
G6: Pose | H6: 25000
C8: 43739
C9: =_xlfn.ISOWEEKNUM(C8) -> 40 | D9: =C9+1 -> 41 | E9: =D9+1 -> 42 | F9: =E9+1 -> 43 | G9: =F9+1 -> 44 | H9: =G9+1 -> 45 | I9: =H9+1 -> 46 | J9: =I9+1 -> 47
A10: NOM : | B10: Cumul jours | C10: Nbre Jour | D10: Nbre Jour | E10: Nbre Jour | F10: Nbre Jour | G10: Nbre Jour | H10: Nbre Jour | I10: Nbre Jour | J10: Nbre Jour
A11: A | B11: =SUM(C11:J11) -> 11 | C11: 8 | D11: 2 | E11: 1
A12: B | B12: =SUM(C12:J12) -> 10 | C12: 8 | D12: 2
A13: C | B13: =SUM(C13:J13) -> 10 | C13: 8 | D13: 2
A14: D | B14: =SUM(C14:J14) -> 10 | C14: 8 | D14: 2
A15: E | B15: =SUM(C15:J15) -> 0
A16: F | B16: =SUM(C16:J16) -> 0
A17: G | B17: =SUM(C17:J17) -> 0
B30: Nombre de jours | C30: =SUM(C11:C28) -> 32 | D30: =SUM(D11:D28) -> 8 | E30: =SUM(E11:E28) -> 1 | F30: =SUM(F11:F28) -> 0 | G30: =SUM(G11:G28) -> 0 | H30: =SUM(H11:H28) -> 0 | I30: =SUM(I11:I28) -> 0 | J30: =SUM(J11:J28) -> 0
B31: Cumul jours | C31: =C30 -> 32 | D31: =D30 -> 8 | E31: =E30 -> 1 | F31: =F30 -> 0 | G31: =G30 -> 0 | H31: =H30 -> 0 | I31: =I30 -> 0 | J31: =J30 -> 0
B33: Total dépensé | C33: =C30*250 -> 8000 | D33: =D30*250 -> 2000 | E33: =E30*250 -> 250 | F33: =F30*250 -> 0 | G33: =G30*250 -> 0 | H33: =H30*250 -> 0 | I33: =I30*250 -> 0 | J33: =J30*250 -> 0
B34: Cumul dépense | C34: =C33 -> 8000 | D34: =C34+D33 -> 10000 | E34: =D34+E33 -> 10250 | F34: =E34+F33 -> 10250 | G34: =F34+G33 -> 10250 | H34: =G34+H33 -> 10250 | I34: =H34+I33 -> 10250 | J34: =I34+J33 -> 10250
B35: Reste | C35: =H4-C33 -> 22000 | D35: =C35-D33 -> 20000 | E35: =D35-E33 -> 19750 | F35: =E35-F33 -> 19750 | G35: =F35-G33 -> 19750 | H35: =G35-H33 -> 19750 | I35: =H35-I33 -> 19750 | J35: =I35-J33 -> 19750
B36: % Dépense | C36: =C34/$H4 -> 0.26666667 | D36: =D34/$H4 -> 0.33333333 | E36: =E34/$H4 -> 0.34166667 | F36: =F34/$H4 -> 0.34166667 | G36: =G34/$H4 -> 0.34166667 | H36: =H34/$H4 -> 0.34166667 | I36: =I34/$H4 -> 0.34166667 | J36: =J34/$H4 -> 0.34166667
B37: Saisie le
B38: Par
B39: Vérifié le
B40: Par
