Workbook
Name Case_1: Final!$A$1:$N$11
Name Case_10: Final!$A$109:$N$119
Name Case_100: Final!$A$1189:$N$1199
Name Case_11: Final!$A$121:$N$131
Name Case_12: Final!$A$133:$N$143
Name Case_13: Final!$A$145:$N$155
Name Case_14: Final!$A$157:$N$167
Name Case_15: Final!$A$169:$N$179
Name Case_16: Final!$A$181:$N$191
Name Case_17: Final!$A$193:$N$203
Name Case_18: Final!$A$205:$N$215
Name Case_19: Final!$A$217:$N$227
Name Case_2: Final!$A$13:$N$23
Name Case_20: Final!$A$229:$N$239
Name Case_21: Final!$A$241:$N$251
Name Case_22: Final!$A$253:$N$263
Name Case_23: Final!$A$265:$N$275
Name Case_24: Final!$A$277:$N$287
Name Case_25: Final!$A$289:$N$299
Name Case_26: Final!$A$313:$N$323
Name Case_27: Final!$A$313:$N$323
Name Case_28: Final!$A$325:$N$335
Name Case_29: Final!$A$337:$N$347
Name Case_3: Final!$A$25:$N$35
Name Case_30: Final!$A$349:$N$359
Name Case_31: Final!$A$361:$N$371
Name Case_32: Final!$A$373:$N$383
Name Case_33: Final!$A$385:$N$395
Name Case_34: Final!$A$397:$N$407
Name Case_35: Final!$A$409:$N$419
Name Case_36: Final!$A$421:$N$431
Name Case_37: Final!$A$433:$N$443
Name Case_38: Final!$A$445:$N$455
Name Case_39: Final!$A$457:$N$467
Name Case_4: Final!$A$37:$N$47
Name Case_40: Final!$A$469:$N$479
Name Case_41: Final!$A$481:$N$491
Name Case_42: Final!$A$493:$N$503
Name Case_43: Final!$A$505:$N$515
Name Case_44: Final!$A$517:$N$527
Name Case_45: Final!$A$529:$N$539
Name Case_46: Final!$A$541:$N$551
Name Case_47: Final!$A$553:$N$563
Name Case_48: Final!$A$565:$N$575
Name Case_49: Final!$A$577:$N$587
Name Case_5: Final!$A$49:$N$59
Name Case_50: Final!$A$589:$N$599
Name Case_51: Final!$A$601:$N$611
Name Case_53: Final!$A$625:$N$635
Name Case_54: Final!$A$637:$N$647
Name Case_55: Final!$A$649:$N$659
Name Case_56: Final!$A$661:$N$671
Name Case_57: Final!$A$673:$N$683
Name Case_58: Final!$A$685:$N$695
Name Case_59: Final!$A$697:$N$707
Name Case_6: Final!$A$61:$N$71
Name Case_60: Final!$A$709:$N$719
Name Case_61: Final!$A$721:$N$731
Name Case_62: Final!$A$733:$N$743
Name Case_63: Final!$A$745:$N$755

Sheet Levée
A1: CLUB D'EPARGNE
A4: CASE N° | B4: NOM - PRENOM | C4: L 1 | D4: L2 | E4: L 3 | F4: L 4 | G4: L 5 | H4: L 6 | I4: L 7 | J4: L 8 | K4: L 9 | L4: L 10 | M4: L 11 | N4: L 12 | O4: TOTAL EPARGNE
A6: 1 | B6: case 1 | C6: 0 | D6: 0 | E6: 0 | F6: 0 | G6: 0 | H6: 0 | I6: 0 | J6: 0 | K6: 0 | L6: 0 | M6: 0 | N6: 0 | O6: =SUM(C6:N6) -> 0
A7: 2 | B7: case 2 | C7: 0 | D7: 0 | E7: 0 | F7: 0 | G7: 0 | H7: 0 | I7: 0 | J7: 0 | K7: 0 | L7: 0 | M7: 0 | N7: 0 | O7: =SUM(C7:N7) -> 0
A8: 3 | B8: case 3 | C8: 0 | D8: 0 | E8: 0 | F8: 0 | G8: 0 | H8: 0 | I8: 0 | J8: 0 | K8: 0 | L8: 0 | M8: 0 | N8: 0 | O8: =SUM(C8:N8) -> 0
A9: 4 | B9: case 4 | C9: 0 | D9: 0 | E9: 0 | F9: 0 | G9: 0 | H9: 0 | I9: 0 | J9: 0 | K9: 0 | L9: 0 | M9: 0 | N9: 0 | O9: =SUM(C9:N9) -> 0
A10: 5 | B10: case 5 | C10: 0 | D10: 0 | E10: 0 | F10: 0 | G10: 0 | H10: 0 | I10: 0 | J10: 0 | K10: 0 | L10: 0 | M10: 0 | N10: 0 | O10: =SUM(C10:N10) -> 0
A11: 6 | B11: case 6 | C11: 0 | D11: 0 | E11: 0 | F11: 0 | G11: 0 | H11: 0 | I11: 0 | J11: 0 | K11: 0 | L11: 0 | M11: 0 | N11: 0 | O11: =SUM(C11:N11) -> 0
A12: 7 | B12: case 7 | C12: 0 | D12: 0 | E12: 0 | F12: 0 | G12: 0 | H12: 0 | I12: 0 | J12: 0 | K12: 0 | L12: 0 | M12: 0 | N12: 0 | O12: =SUM(C12:N12) -> 0
A13: 8 | B13: case 8 | C13: 0 | D13: 0 | E13: 0 | F13: 0 | G13: 0 | H13: 0 | I13: 0 | J13: 0 | K13: 0 | L13: 0 | M13: 0 | N13: 0 | O13: =SUM(C13:N13) -> 0
A14: 9 | B14: case 9 | C14: 0 | D14: 0 | E14: 0 | F14: 0 | G14: 0 | H14: 0 | I14: 0 | J14: 0 | K14: 0 | L14: 0 | M14: 0 | N14: 0 | O14: =SUM(C14:N14) -> 0
A15: 10 | B15: case 10 | C15: 0 | D15: 0 | E15: 0 | F15: 0 | G15: 0 | H15: 0 | I15: 0 | J15: 0 | K15: 0 | L15: 0 | M15: 0 | N15: 0 | O15: =SUM(C15:N15) -> 0
A16: 11 | B16: case 11 | C16: 0 | D16: 0 | E16: 0 | F16: 0 | G16: 0 | H16: 0 | I16: 0 | J16: 0 | K16: 0 | L16: 0 | M16: 0 | N16: 0 | O16: =SUM(C16:N16) -> 0
A17: 12 | B17: case 12 | C17: 0 | D17: 0 | E17: 0 | F17: 0 | G17: 0 | H17: 0 | I17: 0 | J17: 0 | K17: 0 | L17: 0 | M17: 0 | N17: 0 | O17: =SUM(C17:N17) -> 0
... A205: 200 | B205: case 200 | C205: 0 | D205: 0 | E205: 0 | F205: 0 | G205: 0 | H205: 0 | I205: 0 | J205: 0 | K205: 0 | L205: 0 | M205: 0 | N205: 0 | O205: =SUM(C205:N205) -> 0
A207: TOTAL | B207: =194-COUNTBLANK(B6:B170) -> 194 | C207: =SUM(C6:C205) -> 0 | D207: =SUM(D6:D205) -> 0 | E207: =SUM(E6:E205) -> 0 | F207: =SUM(F6:F205) -> 0 | G207: =SUM(G6:G205) -> 0 | H207: =SUM(H6:H205) -> 0 | I207: =SUM(I6:I205) -> 0 | J207: =SUM(J6:J205) -> 0 | ... O207: =SUM(O6:O205) -> 0
O209: =IF(SUM(C206:N206)=O206,"CORRECT","FAUX") -> CORRECT
AK210: =SUM(C207:N207) -> 0

Sheet Pénalités
A5: CASE N° | B5: NOM - PRENOM | C5: P1 | D5: P2 | E5: P3 | F5: P4 | G5: P5 | H5: P6 | I5: P7 | J5: P8 | K5: P9 | L5: P10 | M5: P11 | N5: P12 | O5: TOTAL
A6: 1 | B6: =IF(Levée!$B$6<>0,Levée!$B$6,"") -> case 1 | C6: 0 | D6: 0 | E6: 0 | F6: 0 | G6: 0 | H6: 0 | I6: 0 | J6: 0 | K6: 0 | L6: 0 | M6: 0 | N6: 0 | O6: =SUM(C6:N6) -> 0 | P6: =IF(O6=-21,0,O6) -> 0
A7: 2 | B7: =IF(Levée!B7<>0,Levée!B7,"") -> case 2 | C7: 0 | D7: 0 | E7: 0 | F7: 0 | G7: 0 | H7: 0 | I7: 0 | J7: 0 | K7: 0 | L7: 0 | M7: 0 | N7: 0 | O7: =SUM(C7:N7) -> 0 | P7: =IF(O7=-21,0,O7) -> 0
A8: 3 | B8: =IF(Levée!B8<>0,Levée!B8,"") -> case 3 | C8: 0 | D8: 0 | E8: 0 | F8: 0 | G8: 0 | H8: 0 | I8: 0 | J8: 0 | K8: 0 | L8: 0 | M8: 0 | N8: 0 | O8: =SUM(C8:N8) -> 0 | P8: =IF(O8=-21,0,O8) -> 0
A9: 4 | B9: =IF(Levée!B9<>0,Levée!B9,"") -> case 4 | C9: 0 | D9: 0 | E9: 0 | F9: 0 | G9: 0 | H9: 0 | I9: 0 | J9: 0 | K9: 0 | L9: 0 | M9: 0 | N9: 0 | O9: =SUM(C9:N9) -> 0 | P9: =IF(O9=-21,0,O9) -> 0
A10: 5 | B10: =IF(Levée!B10<>0,Levée!B10,"") -> case 5 | C10: 0 | D10: 0 | E10: 0 | F10: 0 | G10: 0 | H10: 0 | I10: 0 | J10: 0 | K10: 0 | L10: 0 | M10: 0 | N10: 0 | O10: =SUM(C10:N10) -> 0 | P10: =IF(O10=-21,0,O10) -> 0
A11: 6 | B11: =IF(Levée!B11<>0,Levée!B11,"") -> case 6 | C11: 0 | D11: 0 | E11: 0 | F11: 0 | G11: 0 | H11: 0 | I11: 0 | J11: 0 | K11: 0 | L11: 0 | M11: 0 | N11: 0 | O11: =SUM(C11:N11) -> 0 | P11: =IF(O11=-21,0,O11) -> 0
A12: 7 | B12: =IF(Levée!B12<>0,Levée!B12,"") -> case 7 | C12: 0 | D12: 0 | E12: 0 | F12: 0 | G12: 0 | H12: 0 | I12: 0 | J12: 0 | K12: 0 | L12: 0 | M12: 0 | N12: 0 | O12: =SUM(C12:N12) -> 0 | P12: =IF(O12=-21,0,O12) -> 0
A13: 8 | B13: =IF(Levée!B13<>0,Levée!B13,"") -> case 8 | C13: 0 | D13: 0 | E13: 0 | F13: 0 | G13: 0 | H13: 0 | I13: 0 | J13: 0 | K13: 0 | L13: 0 | M13: 0 | N13: 0 | O13: =SUM(C13:N13) -> 0 | P13: =IF(O13=-21,0,O13) -> 0
A14: 9 | B14: =IF(Levée!B14<>0,Levée!B14,"") -> case 9 | C14: 0 | D14: 0 | E14: 0 | F14: 0 | G14: 0 | H14: 0 | I14: 0 | J14: 0 | K14: 0 | L14: 0 | M14: 0 | N14: 0 | O14: =SUM(C14:N14) -> 0 | P14: =IF(O14=-21,0,O14) -> 0
A15: 10 | B15: =IF(Levée!B15<>0,Levée!B15,"") -> case 10 | C15: 0 | D15: 0 | E15: 0 | F15: 0 | G15: 0 | H15: 0 | I15: 0 | J15: 0 | K15: 0 | L15: 0 | M15: 0 | N15: 0 | O15: =SUM(C15:N15) -> 0 | P15: =IF(O15=-21,0,O15) -> 0
A16: 11 | B16: =IF(Levée!B16<>0,Levée!B16,"") -> case 11 | C16: 0 | D16: 0 | E16: 0 | F16: 0 | G16: 0 | H16: 0 | I16: 0 | J16: 0 | K16: 0 | L16: 0 | M16: 0 | N16: 0 | O16: =SUM(C16:N16) -> 0 | P16: =IF(O16=-21,0,O16) -> 0
A17: 12 | B17: =IF(Levée!B17<>0,Levée!B17,"") -> case 12 | C17: 0 | D17: 0 | E17: 0 | F17: 0 | G17: 0 | H17: 0 | I17: 0 | J17: 0 | K17: 0 | L17: 0 | M17: 0 | N17: 0 | O17: =SUM(C17:N17) -> 0 | P17: =IF(O17=-21,0,O17) -> 0
A18: 13 | B18: =IF(Levée!B18<>0,Levée!B18,"") -> case 13 | C18: 0 | D18: 0 | E18: 0 | F18: 0 | G18: 0 | H18: 0 | I18: 0 | J18: 0 | K18: 0 | L18: 0 | M18: 0 | N18: 0 | O18: =SUM(C18:N18) -> 0 | P18: =IF(O18=-21,0,O18) -> 0
... A64: 59 | B64: =IF(Levée!B64<>0,Levée!B64,"") -> case 59 | C64: 0 | D64: 0 | E64: 0 | F64: 0 | G64: 0 | H64: 0 | I64: 0 | J64: 0 | K64: 0 | L64: 0 | M64: 0 | N64: 0 | O64: =SUM(C64:N64) -> 0 | P64: =IF(O64=-21,0,O64) -> 0
A65: 60 | B65: =IF(Levée!B65<>0,Levée!B65,"") -> case 60 | C65: 0 | D65: 0 | E65: 0 | F65: 0 | G65: 0 | H65: 0 | I65: 0 | J65: 0 | K65: 0 | L65: 0 | M65: 0 | N65: 0 | O65: =SUM(C65:N65) -> 0 | P65: =IF(O65=-21,0,O65) -> 0 | Q65: =SUM(P6:P65) -> 0
A66: 61 | B66: =IF(Levée!B66<>0,Levée!B66,"") -> case 61 | C66: 0 | D66: 0 | E66: 0 | F66: 0 | G66: 0 | H66: 0 | I66: 0 | J66: 0 | K66: 0 | L66: 0 | M66: 0 | N66: 0 | O66: =SUM(C66:N66) -> 0 | P66: =IF(O66=-21,0,O66) -> 0
A67: 62 | B67: =IF(Levée!B67<>0,Levée!B67,"") -> case 62 | C67: 0 | D67: 0 | E67: 0 | F67: 0 | G67: 0 | H67: 0 | I67: 0 | J67: 0 | K67: 0 | L67: 0 | M67: 0 | N67: 0 | O67: =SUM(C67:N67) -> 0 | P67: =IF(O67=-21,0,O67) -> 0
A68: 63 | B68: =IF(Levée!B68<>0,Levée!B68,"") -> case 63 | C68: 0 | D68: 0 | E68: 0 | F68: 0 | G68: 0 | H68: 0 | I68: 0 | J68: 0 | K68: 0 | L68: 0 | M68: 0 | N68: 0 | O68: =SUM(C68:N68) -> 0 | P68: =IF(O68=-21,0,O68) -> 0
A69: 64 | B69: =IF(Levée!B69<>0,Levée!B69,"") -> case 64 | C69: 0 | D69: 0 | E69: 0 | F69: 0 | G69: 0 | H69: 0 | I69: 0 | J69: 0 | K69: 0 | L69: 0 | M69: 0 | N69: 0 | O69: =SUM(C69:N69) -> 0 | P69: =IF(O69=-21,0,O69) -> 0
A70: 65 | B70: =IF(Levée!B70<>0,Levée!B70,"") -> case 65 | C70: 0 | D70: 0 | E70: 0 | F70: 0 | G70: 0 | H70: 0 | I70: 0 | J70: 0 | K70: 0 | L70: 0 | M70: 0 | N70: 0 | O70: =SUM(C70:N70) -> 0 | P70: =IF(O70=-21,0,O70) -> 0
A71: 66 | B71: =IF(Levée!B71<>0,Levée!B71,"") -> case 66 | C71: 0 | D71: 0 | E71: 0 | F71: 0 | G71: 0 | H71: 0 | I71: 0 | J71: 0 | K71: 0 | L71: 0 | M71: 0 | N71: 0 | O71: =SUM(C71:N71) -> 0 | P71: =IF(O71=-21,0,O71) -> 0
A72: 67 | B72: =IF(Levée!B72<>0,Levée!B72,"") -> case 67 | C72: 0 | D72: 0 | E72: 0 | F72: 0 | G72: 0 | H72: 0 | I72: 0 | J72: 0 | K72: 0 | L72: 0 | M72: 0 | N72: 0 | O72: =SUM(C72:N72) -> 0 | P72: =IF(O72=-21,0,O72) -> 0
A73: 68 | B73: =IF(Levée!B73<>0,Levée!B73,"") -> case 68 | C73: 0 | D73: 0 | E73: 0 | F73: 0 | G73: 0 | H73: 0 | I73: 0 | J73: 0 | K73: 0 | L73: 0 | M73: 0 | N73: 0 | O73: =SUM(C73:N73) -> 0 | P73: =IF(O73=-21,0,O73) -> 0
A74: 69 | B74: =IF(Levée!B74<>0,Levée!B74,"") -> case 69 | C74: 0 | D74: 0 | E74: 0 | F74: 0 | G74: 0 | H74: 0 | I74: 0 | J74: 0 | K74: 0 | L74: 0 | M74: 0 | N74: 0 | O74: =SUM(C74:N74) -> 0 | P74: =IF(O74=-21,0,O74) -> 0
A75: 70 | B75: =IF(Levée!B75<>0,Levée!B75,"") -> case 70 | C75: 0 | D75: 0 | E75: 0 | F75: 0 | G75: 0 | H75: 0 | I75: 0 | J75: 0 | K75: 0 | L75: 0 | M75: 0 | N75: 0 | O75: =SUM(C75:N75) -> 0 | P75: =IF(O75=-21,0,O75) -> 0
A76: 71 | B76: =IF(Levée!B76<>0,Levée!B76,"") -> case 71 | C76: 0 | D76: 0 | E76: 0 | F76: 0 | G76: 0 | H76: 0 | I76: 0 | J76: 0 | K76: 0 | L76: 0 | M76: 0 | N76: 0 | O76: =SUM(C76:N76) -> 0 | P76: =IF(O76=-21,0,O76) -> 0
A77: 72 | B77: =IF(Levée!B77<>0,Levée!B77,"") -> case 72 | C77: 0 | D77: 0 | E77: 0 | F77: 0 | G77: 0 | H77: 0 | I77: 0 | J77: 0 | K77: 0 | L77: 0 | M77: 0 | N77: 0 | O77: =SUM(C77:N77) -> 0 | P77: =IF(O77=-21,0,O77) -> 0
... A125: 120 | B125: =IF(Levée!B125<>0,Levée!B125,"") -> case 120 | C125: 0 | D125: 0 | E125: 0 | F125: 0 | G125: 0 | H125: 0 | I125: 0 | J125: 0 | K125: 0 | L125: 0 | M125: 0 | N125: 0 | O125: =SUM(C125:N125) -> 0 | P125: =IF(O125=-21,0,O125) -> 0
A126: 121 | B126: =IF(Levée!B126<>0,Levée!B126,"") -> case 121 | C126: 0 | D126: 0 | E126: 0 | F126: 0 | G126: 0 | H126: 0 | I126: 0 | J126: 0 | K126: 0 | L126: 0 | M126: 0 | N126: 0 | O126: =SUM(C126:N126) -> 0 | P126: =IF(O126=-21,0,O126) -> 0 | Q126: =SUM(P66:P126) -> 0
A127: 122 | B127: =IF(Levée!B127<>0,Levée!B127,"") -> case 122 | C127: 0 | D127: 0 | E127: 0 | F127: 0 | G127: 0 | H127: 0 | I127: 0 | J127: 0 | K127: 0 | L127: 0 | M127: 0 | N127: 0 | O127: =SUM(C127:N127) -> 0 | P127: =IF(O127=-21,0,O127) -> 0
A128: 123 | B128: =IF(Levée!B128<>0,Levée!B128,"") -> case 123 | C128: 0 | D128: 0 | E128: 0 | F128: 0 | G128: 0 | H128: 0 | I128: 0 | J128: 0 | K128: 0 | L128: 0 | M128: 0 | N128: 0 | O128: =SUM(C128:N128) -> 0 | P128: =IF(O128=-21,0,O128) -> 0
A129: 124 | B129: =IF(Levée!B129<>0,Levée!B129,"") -> case 124 | C129: 0 | D129: 0 | E129: 0 | F129: 0 | G129: 0 | H129: 0 | I129: 0 | J129: 0 | K129: 0 | L129: 0 | M129: 0 | N129: 0 | O129: =SUM(C129:N129) -> 0 | P129: =IF(O129=-21,0,O129) -> 0
A130: 125 | B130: =IF(Levée!B130<>0,Levée!B130,"") -> case 125 | C130: 0 | D130: 0 | E130: 0 | F130: 0 | G130: 0 | H130: 0 | I130: 0 | J130: 0 | K130: 0 | L130: 0 | M130: 0 | N130: 0 | O130: =SUM(C130:N130) -> 0 | P130: =IF(O130=-21,0,O130) -> 0
A131: 126 | B131: =IF(Levée!B131<>0,Levée!B131,"") -> case 126 | C131: 0 | D131: 0 | E131: 0 | F131: 0 | G131: 0 | H131: 0 | I131: 0 | J131: 0 | K131: 0 | L131: 0 | M131: 0 | N131: 0 | O131: =SUM(C131:N131) -> 0 | P131: =IF(O131=-21,0,O131) -> 0
A132: 127 | B132: =IF(Levée!B132<>0,Levée!B132,"") -> case 127 | C132: 0 | D132: 0 | E132: 0 | F132: 0 | G132: 0 | H132: 0 | I132: 0 | J132: 0 | K132: 0 | L132: 0 | M132: 0 | N132: 0 | O132: =SUM(C132:N132) -> 0 | P132: =IF(O132=-21,0,O132) -> 0
A133: 128 | B133: =IF(Levée!B133<>0,Levée!B133,"") -> case 128 | C133: 0 | D133: 0 | E133: 0 | F133: 0 | G133: 0 | H133: 0 | I133: 0 | J133: 0 | K133: 0 | L133: 0 | M133: 0 | N133: 0 | O133: =SUM(C133:N133) -> 0 | P133: =IF(O133=-21,0,O133) -> 0
A134: 129 | B134: =IF(Levée!B134<>0,Levée!B134,"") -> case 129 | C134: 0 | D134: 0 | E134: 0 | F134: 0 | G134: 0 | H134: 0 | I134: 0 | J134: 0 | K134: 0 | L134: 0 | M134: 0 | N134: 0 | O134: =SUM(C134:N134) -> 0 | P134: =IF(O134=-21,0,O134) -> 0
A135: 130 | B135: =IF(Levée!B135<>0,Levée!B135,"") -> case 130 | C135: 0 | D135: 0 | E135: 0 | F135: 0 | G135: 0 | H135: 0 | I135: 0 | J135: 0 | K135: 0 | L135: 0 | M135: 0 | N135: 0 | O135: =SUM(C135:N135) -> 0 | P135: =IF(O135=-21,0,O135) -> 0
A136: 131 | B136: =IF(Levée!B136<>0,Levée!B136,"") -> case 131 | C136: 0 | D136: 0 | E136: 0 | F136: 0 | G136: 0 | H136: 0 | I136: 0 | J136: 0 | K136: 0 | L136: 0 | M136: 0 | N136: 0 | O136: =SUM(C136:N136) -> 0 | P136: =IF(O136=-21,0,O136) -> 0
A137: 132 | B137: =IF(Levée!B137<>0,Levée!B137,"") -> case 132 | C137: 0 | D137: 0 | E137: 0 | F137: 0 | G137: 0 | H137: 0 | I137: 0 | J137: 0 | K137: 0 | L137: 0 | M137: 0 | N137: 0 | O137: =SUM(C137:N137) -> 0 | P137: =IF(O137=-21,0,O137) -> 0
A138: 133 | B138: =IF(Levée!B138<>0,Levée!B138,"") -> case 133 | C138: 0 | D138: 0 | E138: 0 | F138: 0 | G138: 0 | H138: 0 | I138: 0 | J138: 0 | K138: 0 | L138: 0 | M138: 0 | N138: 0 | O138: =SUM(C138:N138) -> 0 | P138: =IF(O138=-21,0,O138) -> 0
... A205: 200 | B205: =IF(Levée!B205<>0,Levée!B205,"") -> case 200 | C205: 0 | D205: 0 | E205: 0 | F205: 0 | G205: 0 | H205: 0 | I205: 0 | J205: 0 | K205: 0 | L205: 0 | M205: 0 | N205: 0 | O205: =SUM(C205:N205) -> 0 | P205: =IF(O205=-21,0,O205) -> 0
A206: TOTAL | C206: =SUM(C6:C205) -> 0 | D206: =SUM(D6:D205) -> 0 | E206: =SUM(E6:E205) -> 0 | F206: =SUM(F6:F205) -> 0 | G206: =SUM(G6:G205) -> 0 | H206: =SUM(H6:H205) -> 0 | I206: =SUM(I6:I205) -> 0 | J206: =SUM(J6:J205) -> 0 | ... N206: =SUM(N6:N205) -> 0 | O206: =IF(SUM(O6:O205)=SUM(C206:N206),SUM(C206:N206),"Faux") -> 0 | P206: =SUM(O6:O205) -> 0

Sheet Répartition de Fin d'année
A2: CASE N° | B2: NOM - PRENOM | C2: Total levées | D2: Total Amendes | E2: RBT | F2: 500 | G2: 200 | H2: 100 | I2: 50 | J2: 20 | K2: 10 | L2: 5 | M2: 2 | N2: 1
A3: 1 | B3: =IF(Levée!B6<>0,Levée!B6,"") -> case 1 | C3: =ROUND(Levée!O6,0) -> 0 | D3: =IF(C3=0,0,Pénalités!O6) -> 0 | E3: =IF(ABS(D3)>C3,0,ROUND((C3-ABS(D3)),0)) -> 0 | F3: =TRUNC(E3/$F$2) -> 0 | G3: =TRUNC(MOD(E3,$F$2)/$G$2) -> 0 | H3: =TRUNC((+$E3-(($F3*$F$2)+($G3*$G$2)))/$H$2) -> 0 | I3: =TRUNC((+$E3-(($F3*$F$2)+($G3*$G$2)+($H3*$H$2)))/$I$2) -> 0 | J3: =TRUNC((+$E3-(($F3*$F$2)+($G3*$G$2)+($H3*$H$2)+($I3*$I$2)))/$J$2) -> 0 | K3: =TRUNC((+$E3-(($F3*$F$2)+($G3*$G$2)+($H3*$H$2)+($I3*$I$2)+($J3*$J$2)))/$K$2) -> 0 | L3: =TRUNC((+$E3-(($F3*$F$2)+($G3*$G$2)+($H3*$H$2)+($I3*$I$2)+($J3*$J$2)+($K3*$K$2)))/$L$2) -> 0 | M3: =TRUNC((+$E3-(($F3*$F$2)+($G3*$G$2)+($H3*$H$2)+($I3*$I$2)+($J3*$J$2)+($K3*$K$2)+($L3*$L$2)))/$M$2) -> 0 | N3: =TRUNC((+$E3-(($F3*$F$2)+($G3*$G$2)+($H3*$H$2)+($I3*$I$2)+($J3*$J$2)+($K3*$K$2)+($L3*$L$2)+($M3*$M$2)))/$N$2) -> 0 | O3: =IF(E3=((+$F3*$F$2)+($G3*$G$2)+($H3*$H$2)+($I3*$I$2)+($J3*$J$2)+($K3*$K$2)+($L3*$L$2)+($M3*$M$2)+($N3*$N$2)),"OK","faux") -> OK
A4: 2 | B4: =IF(Levée!B7<>0,Levée!B7,"") -> case 2 | C4: =ROUND(Levée!O7,0) -> 0 | D4: =IF(C4=0,0,Pénalités!O7) -> 0 | E4: =IF(ABS(D4)>C4,0,ROUND((C4-ABS(D4)),0)) -> 0 | F4: =TRUNC(E4/$F$2) -> 0 | G4: =TRUNC(MOD(E4,$F$2)/$G$2) -> 0 | H4: =TRUNC((+$E4-(($F4*$F$2)+($G4*$G$2)))/$H$2) -> 0 | I4: =TRUNC((+$E4-(($F4*$F$2)+($G4*$G$2)+($H4*$H$2)))/$I$2) -> 0 | J4: =TRUNC((+$E4-(($F4*$F$2)+($G4*$G$2)+($H4*$H$2)+($I4*$I$2)))/$J$2) -> 0 | K4: =TRUNC((+$E4-(($F4*$F$2)+($G4*$G$2)+($H4*$H$2)+($I4*$I$2)+($J4*$J$2)))/$K$2) -> 0 | L4: =TRUNC((+$E4-(($F4*$F$2)+($G4*$G$2)+($H4*$H$2)+($I4*$I$2)+($J4*$J$2)+($K4*$K$2)))/$L$2) -> 0 | M4: =TRUNC((+$E4-(($F4*$F$2)+($G4*$G$2)+($H4*$H$2)+($I4*$I$2)+($J4*$J$2)+($K4*$K$2)+($L4*$L$2)))/$M$2) -> 0 | N4: =TRUNC((+$E4-(($F4*$F$2)+($G4*$G$2)+($H4*$H$2)+($I4*$I$2)+($J4*$J$2)+($K4*$K$2)+($L4*$L$2)+($M4*$M$2)))/$N$2) -> 0 | O4: =IF(E4=((+$F4*$F$2)+($G4*$G$2)+($H4*$H$2)+($I4*$I$2)+($J4*$J$2)+($K4*$K$2)+($L4*$L$2)+($M4*$M$2)+($N4*$N$2)),"OK","faux") -> OK
A5: 3 | B5: =IF(Levée!B8<>0,Levée!B8,"") -> case 3 | C5: =ROUND(Levée!O8,0) -> 0 | D5: =IF(C5=0,0,Pénalités!O8) -> 0 | E5: =IF(ABS(D5)>C5,0,ROUND((C5-ABS(D5)),0)) -> 0 | F5: =TRUNC(E5/$F$2) -> 0 | G5: =TRUNC(MOD(E5,$F$2)/$G$2) -> 0 | H5: =TRUNC((+$E5-(($F5*$F$2)+($G5*$G$2)))/$H$2) -> 0 | I5: =TRUNC((+$E5-(($F5*$F$2)+($G5*$G$2)+($H5*$H$2)))/$I$2) -> 0 | J5: =TRUNC((+$E5-(($F5*$F$2)+($G5*$G$2)+($H5*$H$2)+($I5*$I$2)))/$J$2) -> 0 | K5: =TRUNC((+$E5-(($F5*$F$2)+($G5*$G$2)+($H5*$H$2)+($I5*$I$2)+($J5*$J$2)))/$K$2) -> 0 | L5: =TRUNC((+$E5-(($F5*$F$2)+($G5*$G$2)+($H5*$H$2)+($I5*$I$2)+($J5*$J$2)+($K5*$K$2)))/$L$2) -> 0 | M5: =TRUNC((+$E5-(($F5*$F$2)+($G5*$G$2)+($H5*$H$2)+($I5*$I$2)+($J5*$J$2)+($K5*$K$2)+($L5*$L$2)))/$M$2) -> 0 | N5: =TRUNC((+$E5-(($F5*$F$2)+($G5*$G$2)+($H5*$H$2)+($I5*$I$2)+($J5*$J$2)+($K5*$K$2)+($L5*$L$2)+($M5*$M$2)))/$N$2) -> 0 | O5: =IF(E5=((+$F5*$F$2)+($G5*$G$2)+($H5*$H$2)+($I5*$I$2)+($J5*$J$2)+($K5*$K$2)+($L5*$L$2)+($M5*$M$2)+($N5*$N$2)),"OK","faux") -> OK
A6: 4 | B6: =IF(Levée!B9<>0,Levée!B9,"") -> case 4 | C6: =ROUND(Levée!O9,0) -> 0 | D6: =IF(C6=0,0,Pénalités!O9) -> 0 | E6: =IF(ABS(D6)>C6,0,ROUND((C6-ABS(D6)),0)) -> 0 | F6: =TRUNC(E6/$F$2) -> 0 | G6: =TRUNC(MOD(E6,$F$2)/$G$2) -> 0 | H6: =TRUNC((+$E6-(($F6*$F$2)+($G6*$G$2)))/$H$2) -> 0 | I6: =TRUNC((+$E6-(($F6*$F$2)+($G6*$G$2)+($H6*$H$2)))/$I$2) -> 0 | J6: =TRUNC((+$E6-(($F6*$F$2)+($G6*$G$2)+($H6*$H$2)+($I6*$I$2)))/$J$2) -> 0 | K6: =TRUNC((+$E6-(($F6*$F$2)+($G6*$G$2)+($H6*$H$2)+($I6*$I$2)+($J6*$J$2)))/$K$2) -> 0 | L6: =TRUNC((+$E6-(($F6*$F$2)+($G6*$G$2)+($H6*$H$2)+($I6*$I$2)+($J6*$J$2)+($K6*$K$2)))/$L$2) -> 0 | M6: =TRUNC((+$E6-(($F6*$F$2)+($G6*$G$2)+($H6*$H$2)+($I6*$I$2)+($J6*$J$2)+($K6*$K$2)+($L6*$L$2)))/$M$2) -> 0 | N6: =TRUNC((+$E6-(($F6*$F$2)+($G6*$G$2)+($H6*$H$2)+($I6*$I$2)+($J6*$J$2)+($K6*$K$2)+($L6*$L$2)+($M6*$M$2)))/$N$2) -> 0 | O6: =IF(E6=((+$F6*$F$2)+($G6*$G$2)+($H6*$H$2)+($I6*$I$2)+($J6*$J$2)+($K6*$K$2)+($L6*$L$2)+($M6*$M$2)+($N6*$N$2)),"OK","faux") -> OK
A7: 5 | B7: =IF(Levée!B10<>0,Levée!B10,"") -> case 5 | C7: =ROUND(Levée!O10,0) -> 0 | D7: =IF(C7=0,0,Pénalités!O10) -> 0 | E7: =IF(ABS(D7)>C7,0,ROUND((C7-ABS(D7)),0)) -> 0 | F7: =TRUNC(E7/$F$2) -> 0 | G7: =TRUNC(MOD(E7,$F$2)/$G$2) -> 0 | H7: =TRUNC((+$E7-(($F7*$F$2)+($G7*$G$2)))/$H$2) -> 0 | I7: =TRUNC((+$E7-(($F7*$F$2)+($G7*$G$2)+($H7*$H$2)))/$I$2) -> 0 | J7: =TRUNC((+$E7-(($F7*$F$2)+($G7*$G$2)+($H7*$H$2)+($I7*$I$2)))/$J$2) -> 0 | K7: =TRUNC((+$E7-(($F7*$F$2)+($G7*$G$2)+($H7*$H$2)+($I7*$I$2)+($J7*$J$2)))/$K$2) -> 0 | L7: =TRUNC((+$E7-(($F7*$F$2)+($G7*$G$2)+($H7*$H$2)+($I7*$I$2)+($J7*$J$2)+($K7*$K$2)))/$L$2) -> 0 | M7: =TRUNC((+$E7-(($F7*$F$2)+($G7*$G$2)+($H7*$H$2)+($I7*$I$2)+($J7*$J$2)+($K7*$K$2)+($L7*$L$2)))/$M$2) -> 0 | N7: =TRUNC((+$E7-(($F7*$F$2)+($G7*$G$2)+($H7*$H$2)+($I7*$I$2)+($J7*$J$2)+($K7*$K$2)+($L7*$L$2)+($M7*$M$2)))/$N$2) -> 0 | O7: =IF(E7=((+$F7*$F$2)+($G7*$G$2)+($H7*$H$2)+($I7*$I$2)+($J7*$J$2)+($K7*$K$2)+($L7*$L$2)+($M7*$M$2)+($N7*$N$2)),"OK","faux") -> OK
A8: 6 | B8: =IF(Levée!B11<>0,Levée!B11,"") -> case 6 | C8: =ROUND(Levée!O11,0) -> 0 | D8: =IF(C8=0,0,Pénalités!O11) -> 0 | E8: =IF(ABS(D8)>C8,0,ROUND((C8-ABS(D8)),0)) -> 0 | F8: =TRUNC(E8/$F$2) -> 0 | G8: =TRUNC(MOD(E8,$F$2)/$G$2) -> 0 | H8: =TRUNC((+$E8-(($F8*$F$2)+($G8*$G$2)))/$H$2) -> 0 | I8: =TRUNC((+$E8-(($F8*$F$2)+($G8*$G$2)+($H8*$H$2)))/$I$2) -> 0 | J8: =TRUNC((+$E8-(($F8*$F$2)+($G8*$G$2)+($H8*$H$2)+($I8*$I$2)))/$J$2) -> 0 | K8: =TRUNC((+$E8-(($F8*$F$2)+($G8*$G$2)+($H8*$H$2)+($I8*$I$2)+($J8*$J$2)))/$K$2) -> 0 | L8: =TRUNC((+$E8-(($F8*$F$2)+($G8*$G$2)+($H8*$H$2)+($I8*$I$2)+($J8*$J$2)+($K8*$K$2)))/$L$2) -> 0 | M8: =TRUNC((+$E8-(($F8*$F$2)+($G8*$G$2)+($H8*$H$2)+($I8*$I$2)+($J8*$J$2)+($K8*$K$2)+($L8*$L$2)))/$M$2) -> 0 | N8: =TRUNC((+$E8-(($F8*$F$2)+($G8*$G$2)+($H8*$H$2)+($I8*$I$2)+($J8*$J$2)+($K8*$K$2)+($L8*$L$2)+($M8*$M$2)))/$N$2) -> 0 | O8: =IF(E8=((+$F8*$F$2)+($G8*$G$2)+($H8*$H$2)+($I8*$I$2)+($J8*$J$2)+($K8*$K$2)+($L8*$L$2)+($M8*$M$2)+($N8*$N$2)),"OK","faux") -> OK
A9: 7 | B9: =IF(Levée!B12<>0,Levée!B12,"") -> case 7 | C9: =ROUND(Levée!O12,0) -> 0 | D9: =IF(C9=0,0,Pénalités!O12) -> 0 | E9: =IF(ABS(D9)>C9,0,ROUND((C9-ABS(D9)),0)) -> 0 | F9: =TRUNC(E9/$F$2) -> 0 | G9: =TRUNC(MOD(E9,$F$2)/$G$2) -> 0 | H9: =TRUNC((+$E9-(($F9*$F$2)+($G9*$G$2)))/$H$2) -> 0 | I9: =TRUNC((+$E9-(($F9*$F$2)+($G9*$G$2)+($H9*$H$2)))/$I$2) -> 0 | J9: =TRUNC((+$E9-(($F9*$F$2)+($G9*$G$2)+($H9*$H$2)+($I9*$I$2)))/$J$2) -> 0 | K9: =TRUNC((+$E9-(($F9*$F$2)+($G9*$G$2)+($H9*$H$2)+($I9*$I$2)+($J9*$J$2)))/$K$2) -> 0 | L9: =TRUNC((+$E9-(($F9*$F$2)+($G9*$G$2)+($H9*$H$2)+($I9*$I$2)+($J9*$J$2)+($K9*$K$2)))/$L$2) -> 0 | M9: =TRUNC((+$E9-(($F9*$F$2)+($G9*$G$2)+($H9*$H$2)+($I9*$I$2)+($J9*$J$2)+($K9*$K$2)+($L9*$L$2)))/$M$2) -> 0 | N9: =TRUNC((+$E9-(($F9*$F$2)+($G9*$G$2)+($H9*$H$2)+($I9*$I$2)+($J9*$J$2)+($K9*$K$2)+($L9*$L$2)+($M9*$M$2)))/$N$2) -> 0 | O9: =IF(E9=((+$F9*$F$2)+($G9*$G$2)+($H9*$H$2)+($I9*$I$2)+($J9*$J$2)+($K9*$K$2)+($L9*$L$2)+($M9*$M$2)+($N9*$N$2)),"OK","faux") -> OK
A10: 8 | B10: =IF(Levée!B13<>0,Levée!B13,"") -> case 8 | C10: =ROUND(Levée!O13,0) -> 0 | D10: =IF(C10=0,0,Pénalités!O13) -> 0 | E10: =IF(ABS(D10)>C10,0,ROUND((C10-ABS(D10)),0)) -> 0 | F10: =TRUNC(E10/$F$2) -> 0 | G10: =TRUNC(MOD(E10,$F$2)/$G$2) -> 0 | H10: =TRUNC((+$E10-(($F10*$F$2)+($G10*$G$2)))/$H$2) -> 0 | I10: =TRUNC((+$E10-(($F10*$F$2)+($G10*$G$2)+($H10*$H$2)))/$I$2) -> 0 | J10: =TRUNC((+$E10-(($F10*$F$2)+($G10*$G$2)+($H10*$H$2)+($I10*$I$2)))/$J$2) -> 0 | K10: =TRUNC((+$E10-(($F10*$F$2)+($G10*$G$2)+($H10*$H$2)+($I10*$I$2)+($J10*$J$2)))/$K$2) -> 0 | L10: =TRUNC((+$E10-(($F10*$F$2)+($G10*$G$2)+($H10*$H$2)+($I10*$I$2)+($J10*$J$2)+($K10*$K$2)))/$L$2) -> 0 | M10: =TRUNC((+$E10-(($F10*$F$2)+($G10*$G$2)+($H10*$H$2)+($I10*$I$2)+($J10*$J$2)+($K10*$K$2)+($L10*$L$2)))/$M$2) -> 0 | N10: =TRUNC((+$E10-(($F10*$F$2)+($G10*$G$2)+($H10*$H$2)+($I10*$I$2)+($J10*$J$2)+($K10*$K$2)+($L10*$L$2)+($M10*$M$2)))/$N$2) -> 0 | O10: =IF(E10=((+$F10*$F$2)+($G10*$G$2)+($H10*$H$2)+($I10*$I$2)+($J10*$J$2)+($K10*$K$2)+($L10*$L$2)+($M10*$M$2)+($N10*$N$2)),"OK","faux") -> OK
A11: 9 | B11: =IF(Levée!B14<>0,Levée!B14,"") -> case 9 | C11: =ROUND(Levée!O14,0) -> 0 | D11: =IF(C11=0,0,Pénalités!O14) -> 0 | E11: =IF(ABS(D11)>C11,0,ROUND((C11-ABS(D11)),0)) -> 0 | F11: =TRUNC(E11/$F$2) -> 0 | G11: =TRUNC(MOD(E11,$F$2)/$G$2) -> 0 | H11: =TRUNC((+$E11-(($F11*$F$2)+($G11*$G$2)))/$H$2) -> 0 | I11: =TRUNC((+$E11-(($F11*$F$2)+($G11*$G$2)+($H11*$H$2)))/$I$2) -> 0 | J11: =TRUNC((+$E11-(($F11*$F$2)+($G11*$G$2)+($H11*$H$2)+($I11*$I$2)))/$J$2) -> 0 | K11: =TRUNC((+$E11-(($F11*$F$2)+($G11*$G$2)+($H11*$H$2)+($I11*$I$2)+($J11*$J$2)))/$K$2) -> 0 | L11: =TRUNC((+$E11-(($F11*$F$2)+($G11*$G$2)+($H11*$H$2)+($I11*$I$2)+($J11*$J$2)+($K11*$K$2)))/$L$2) -> 0 | M11: =TRUNC((+$E11-(($F11*$F$2)+($G11*$G$2)+($H11*$H$2)+($I11*$I$2)+($J11*$J$2)+($K11*$K$2)+($L11*$L$2)))/$M$2) -> 0 | N11: =TRUNC((+$E11-(($F11*$F$2)+($G11*$G$2)+($H11*$H$2)+($I11*$I$2)+($J11*$J$2)+($K11*$K$2)+($L11*$L$2)+($M11*$M$2)))/$N$2) -> 0 | O11: =IF(E11=((+$F11*$F$2)+($G11*$G$2)+($H11*$H$2)+($I11*$I$2)+($J11*$J$2)+($K11*$K$2)+($L11*$L$2)+($M11*$M$2)+($N11*$N$2)),"OK","faux") -> OK
A12: 10 | B12: =IF(Levée!B15<>0,Levée!B15,"") -> case 10 | C12: =ROUND(Levée!O15,0) -> 0 | D12: =IF(C12=0,0,Pénalités!O15) -> 0 | E12: =IF(ABS(D12)>C12,0,ROUND((C12-ABS(D12)),0)) -> 0 | F12: =TRUNC(E12/$F$2) -> 0 | G12: =TRUNC(MOD(E12,$F$2)/$G$2) -> 0 | H12: =TRUNC((+$E12-(($F12*$F$2)+($G12*$G$2)))/$H$2) -> 0 | I12: =TRUNC((+$E12-(($F12*$F$2)+($G12*$G$2)+($H12*$H$2)))/$I$2) -> 0 | J12: =TRUNC((+$E12-(($F12*$F$2)+($G12*$G$2)+($H12*$H$2)+($I12*$I$2)))/$J$2) -> 0 | K12: =TRUNC((+$E12-(($F12*$F$2)+($G12*$G$2)+($H12*$H$2)+($I12*$I$2)+($J12*$J$2)))/$K$2) -> 0 | L12: =TRUNC((+$E12-(($F12*$F$2)+($G12*$G$2)+($H12*$H$2)+($I12*$I$2)+($J12*$J$2)+($K12*$K$2)))/$L$2) -> 0 | M12: =TRUNC((+$E12-(($F12*$F$2)+($G12*$G$2)+($H12*$H$2)+($I12*$I$2)+($J12*$J$2)+($K12*$K$2)+($L12*$L$2)))/$M$2) -> 0 | N12: =TRUNC((+$E12-(($F12*$F$2)+($G12*$G$2)+($H12*$H$2)+($I12*$I$2)+($J12*$J$2)+($K12*$K$2)+($L12*$L$2)+($M12*$M$2)))/$N$2) -> 0 | O12: =IF(E12=((+$F12*$F$2)+($G12*$G$2)+($H12*$H$2)+($I12*$I$2)+($J12*$J$2)+($K12*$K$2)+($L12*$L$2)+($M12*$M$2)+($N12*$N$2)),"OK","faux") -> OK
A13: 11 | B13: =IF(Levée!B16<>0,Levée!B16,"") -> case 11 | C13: =ROUND(Levée!O16,0) -> 0 | D13: =IF(C13=0,0,Pénalités!O16) -> 0 | E13: =IF(ABS(D13)>C13,0,ROUND((C13-ABS(D13)),0)) -> 0 | F13: =TRUNC(E13/$F$2) -> 0 | G13: =TRUNC(MOD(E13,$F$2)/$G$2) -> 0 | H13: =TRUNC((+$E13-(($F13*$F$2)+($G13*$G$2)))/$H$2) -> 0 | I13: =TRUNC((+$E13-(($F13*$F$2)+($G13*$G$2)+($H13*$H$2)))/$I$2) -> 0 | J13: =TRUNC((+$E13-(($F13*$F$2)+($G13*$G$2)+($H13*$H$2)+($I13*$I$2)))/$J$2) -> 0 | K13: =TRUNC((+$E13-(($F13*$F$2)+($G13*$G$2)+($H13*$H$2)+($I13*$I$2)+($J13*$J$2)))/$K$2) -> 0 | L13: =TRUNC((+$E13-(($F13*$F$2)+($G13*$G$2)+($H13*$H$2)+($I13*$I$2)+($J13*$J$2)+($K13*$K$2)))/$L$2) -> 0 | M13: =TRUNC((+$E13-(($F13*$F$2)+($G13*$G$2)+($H13*$H$2)+($I13*$I$2)+($J13*$J$2)+($K13*$K$2)+($L13*$L$2)))/$M$2) -> 0 | N13: =TRUNC((+$E13-(($F13*$F$2)+($G13*$G$2)+($H13*$H$2)+($I13*$I$2)+($J13*$J$2)+($K13*$K$2)+($L13*$L$2)+($M13*$M$2)))/$N$2) -> 0 | O13: =IF(E13=((+$F13*$F$2)+($G13*$G$2)+($H13*$H$2)+($I13*$I$2)+($J13*$J$2)+($K13*$K$2)+($L13*$L$2)+($M13*$M$2)+($N13*$N$2)),"OK","faux") -> OK
A14: 12 | B14: =IF(Levée!B17<>0,Levée!B17,"") -> case 12 | C14: =ROUND(Levée!O17,0) -> 0 | D14: =IF(C14=0,0,Pénalités!O17) -> 0 | E14: =IF(ABS(D14)>C14,0,ROUND((C14-ABS(D14)),0)) -> 0 | F14: =TRUNC(E14/$F$2) -> 0 | G14: =TRUNC(MOD(E14,$F$2)/$G$2) -> 0 | H14: =TRUNC((+$E14-(($F14*$F$2)+($G14*$G$2)))/$H$2) -> 0 | I14: =TRUNC((+$E14-(($F14*$F$2)+($G14*$G$2)+($H14*$H$2)))/$I$2) -> 0 | J14: =TRUNC((+$E14-(($F14*$F$2)+($G14*$G$2)+($H14*$H$2)+($I14*$I$2)))/$J$2) -> 0 | K14: =TRUNC((+$E14-(($F14*$F$2)+($G14*$G$2)+($H14*$H$2)+($I14*$I$2)+($J14*$J$2)))/$K$2) -> 0 | L14: =TRUNC((+$E14-(($F14*$F$2)+($G14*$G$2)+($H14*$H$2)+($I14*$I$2)+($J14*$J$2)+($K14*$K$2)))/$L$2) -> 0 | M14: =TRUNC((+$E14-(($F14*$F$2)+($G14*$G$2)+($H14*$H$2)+($I14*$I$2)+($J14*$J$2)+($K14*$K$2)+($L14*$L$2)))/$M$2) -> 0 | N14: =TRUNC((+$E14-(($F14*$F$2)+($G14*$G$2)+($H14*$H$2)+($I14*$I$2)+($J14*$J$2)+($K14*$K$2)+($L14*$L$2)+($M14*$M$2)))/$N$2) -> 0 | O14: =IF(E14=((+$F14*$F$2)+($G14*$G$2)+($H14*$H$2)+($I14*$I$2)+($J14*$J$2)+($K14*$K$2)+($L14*$L$2)+($M14*$M$2)+($N14*$N$2)),"OK","faux") -> OK
... A166: 164 | B166: =IF(Levée!B169<>0,Levée!B169,"") -> case 164 | C166: =ROUND(Levée!O169,0) -> 0 | D166: =IF(C166=0,0,Pénalités!O169) -> 0 | E166: =IF(ABS(D166)>C166,0,ROUND((C166-ABS(D166)),0)) -> 0 | F166: =TRUNC(E166/$F$2) -> 0 | G166: =TRUNC(MOD(E166,$F$2)/$G$2) -> 0 | H166: =TRUNC((+$E166-(($F166*$F$2)+($G166*$G$2)))/$H$2) -> 0 | I166: =TRUNC((+$E166-(($F166*$F$2)+($G166*$G$2)+($H166*$H$2)))/$I$2) -> 0 | J166: =TRUNC((+$E166-(($F166*$F$2)+($G166*$G$2)+($H166*$H$2)+($I166*$I$2)))/$J$2) -> 0 | K166: =TRUNC((+$E166-(($F166*$F$2)+($G166*$G$2)+($H166*$H$2)+($I166*$I$2)+($J166*$J$2)))/$K$2) -> 0 | L166: =TRUNC((+$E166-(($F166*$F$2)+($G166*$G$2)+($H166*$H$2)+($I166*$I$2)+($J166*$J$2)+($K166*$K$2)))/$L$2) -> 0 | M166: =TRUNC((+$E166-(($F166*$F$2)+($G166*$G$2)+($H166*$H$2)+($I166*$I$2)+($J166*$J$2)+($K166*$K$2)+($L166*$L$2)))/$M$2) -> 0 | N166: =TRUNC((+$E166-(($F166*$F$2)+($G166*$G$2)+($H166*$H$2)+($I166*$I$2)+($J166*$J$2)+($K166*$K$2)+($L166*$L$2)+($M166*$M$2)))/$N$2) -> 0 | O166: =IF(E166=((+$F166*$F$2)+($G166*$G$2)+($H166*$H$2)+($I166*$I$2)+($J166*$J$2)+($K166*$K$2)+($L166*$L$2)+($M166*$M$2)+($N166*$N$2)),"OK","faux") -> OK
A167: 165 | B167: =IF(Levée!B170<>0,Levée!B170,"") -> case 165 | C167: =ROUND(Levée!O170,0) -> 0 | D167: =IF(C167=0,0,Pénalités!O205) -> 0 | E167: =IF(ABS(D167)>C167,0,ROUND((C167-ABS(D167)),0)) -> 0 | F167: =TRUNC(E167/$F$2) -> 0 | G167: =TRUNC(MOD(E167,$F$2)/$G$2) -> 0 | H167: =TRUNC((+$E167-(($F167*$F$2)+($G167*$G$2)))/$H$2) -> 0 | I167: =TRUNC((+$E167-(($F167*$F$2)+($G167*$G$2)+($H167*$H$2)))/$I$2) -> 0 | J167: =TRUNC((+$E167-(($F167*$F$2)+($G167*$G$2)+($H167*$H$2)+($I167*$I$2)))/$J$2) -> 0 | K167: =TRUNC((+$E167-(($F167*$F$2)+($G167*$G$2)+($H167*$H$2)+($I167*$I$2)+($J167*$J$2)))/$K$2) -> 0 | L167: =TRUNC((+$E167-(($F167*$F$2)+($G167*$G$2)+($H167*$H$2)+($I167*$I$2)+($J167*$J$2)+($K167*$K$2)))/$L$2) -> 0 | M167: =TRUNC((+$E167-(($F167*$F$2)+($G167*$G$2)+($H167*$H$2)+($I167*$I$2)+($J167*$J$2)+($K167*$K$2)+($L167*$L$2)))/$M$2) -> 0 | N167: =TRUNC((+$E167-(($F167*$F$2)+($G167*$G$2)+($H167*$H$2)+($I167*$I$2)+($J167*$J$2)+($K167*$K$2)+($L167*$L$2)+($M167*$M$2)))/$N$2) -> 0 | O167: =IF(E167=((+$F167*$F$2)+($G167*$G$2)+($H167*$H$2)+($I167*$I$2)+($J167*$J$2)+($K167*$K$2)+($L167*$L$2)+($M167*$M$2)+($N167*$N$2)),"OK","faux") -> OK
A168: 166 | B168: =IF(Levée!B171<>0,Levée!B171,"") -> case 166 | C168: =ROUND(Levée!O171,0) -> 0 | D168: =IF(C168=0,0,Pénalités!O171) -> 0 | E168: =IF(ABS(D168)>C168,0,ROUND((C168-ABS(D168)),0)) -> 0 | F168: =TRUNC(E168/$F$2) -> 0 | G168: =TRUNC(MOD(E168,$F$2)/$G$2) -> 0 | H168: =TRUNC((+$E168-(($F168*$F$2)+($G168*$G$2)))/$H$2) -> 0 | I168: =TRUNC((+$E168-(($F168*$F$2)+($G168*$G$2)+($H168*$H$2)))/$I$2) -> 0 | J168: =TRUNC((+$E168-(($F168*$F$2)+($G168*$G$2)+($H168*$H$2)+($I168*$I$2)))/$J$2) -> 0 | K168: =TRUNC((+$E168-(($F168*$F$2)+($G168*$G$2)+($H168*$H$2)+($I168*$I$2)+($J168*$J$2)))/$K$2) -> 0 | L168: =TRUNC((+$E168-(($F168*$F$2)+($G168*$G$2)+($H168*$H$2)+($I168*$I$2)+($J168*$J$2)+($K168*$K$2)))/$L$2) -> 0 | M168: =TRUNC((+$E168-(($F168*$F$2)+($G168*$G$2)+($H168*$H$2)+($I168*$I$2)+($J168*$J$2)+($K168*$K$2)+($L168*$L$2)))/$M$2) -> 0 | N168: =TRUNC((+$E168-(($F168*$F$2)+($G168*$G$2)+($H168*$H$2)+($I168*$I$2)+($J168*$J$2)+($K168*$K$2)+($L168*$L$2)+($M168*$M$2)))/$N$2) -> 0 | O168: =IF(E168=((+$F168*$F$2)+($G168*$G$2)+($H168*$H$2)+($I168*$I$2)+($J168*$J$2)+($K168*$K$2)+($L168*$L$2)+($M168*$M$2)+($N168*$N$2)),"OK","faux") -> OK
A169: 167 | B169: =IF(Levée!B172<>0,Levée!B172,"") -> case 167 | C169: =ROUND(Levée!O172,0) -> 0 | D169: =IF(C169=0,0,Pénalités!O172) -> 0 | E169: =IF(ABS(D169)>C169,0,ROUND((C169-ABS(D169)),0)) -> 0 | F169: =TRUNC(E169/$F$2) -> 0 | G169: =TRUNC(MOD(E169,$F$2)/$G$2) -> 0 | H169: =TRUNC((+$E169-(($F169*$F$2)+($G169*$G$2)))/$H$2) -> 0 | I169: =TRUNC((+$E169-(($F169*$F$2)+($G169*$G$2)+($H169*$H$2)))/$I$2) -> 0 | J169: =TRUNC((+$E169-(($F169*$F$2)+($G169*$G$2)+($H169*$H$2)+($I169*$I$2)))/$J$2) -> 0 | K169: =TRUNC((+$E169-(($F169*$F$2)+($G169*$G$2)+($H169*$H$2)+($I169*$I$2)+($J169*$J$2)))/$K$2) -> 0 | L169: =TRUNC((+$E169-(($F169*$F$2)+($G169*$G$2)+($H169*$H$2)+($I169*$I$2)+($J169*$J$2)+($K169*$K$2)))/$L$2) -> 0 | M169: =TRUNC((+$E169-(($F169*$F$2)+($G169*$G$2)+($H169*$H$2)+($I169*$I$2)+($J169*$J$2)+($K169*$K$2)+($L169*$L$2)))/$M$2) -> 0 | N169: =TRUNC((+$E169-(($F169*$F$2)+($G169*$G$2)+($H169*$H$2)+($I169*$I$2)+($J169*$J$2)+($K169*$K$2)+($L169*$L$2)+($M169*$M$2)))/$N$2) -> 0 | O169: =IF(E169=((+$F169*$F$2)+($G169*$G$2)+($H169*$H$2)+($I169*$I$2)+($J169*$J$2)+($K169*$K$2)+($L169*$L$2)+($M169*$M$2)+($N169*$N$2)),"OK","faux") -> OK
A170: 168 | B170: =IF(Levée!B173<>0,Levée!B173,"") -> case 168 | C170: =ROUND(Levée!O173,0) -> 0 | D170: =IF(C170=0,0,Pénalités!O173) -> 0 | E170: =IF(ABS(D170)>C170,0,ROUND((C170-ABS(D170)),0)) -> 0 | F170: =TRUNC(E170/$F$2) -> 0 | G170: =TRUNC(MOD(E170,$F$2)/$G$2) -> 0 | H170: =TRUNC((+$E170-(($F170*$F$2)+($G170*$G$2)))/$H$2) -> 0 | I170: =TRUNC((+$E170-(($F170*$F$2)+($G170*$G$2)+($H170*$H$2)))/$I$2) -> 0 | J170: =TRUNC((+$E170-(($F170*$F$2)+($G170*$G$2)+($H170*$H$2)+($I170*$I$2)))/$J$2) -> 0 | K170: =TRUNC((+$E170-(($F170*$F$2)+($G170*$G$2)+($H170*$H$2)+($I170*$I$2)+($J170*$J$2)))/$K$2) -> 0 | L170: =TRUNC((+$E170-(($F170*$F$2)+($G170*$G$2)+($H170*$H$2)+($I170*$I$2)+($J170*$J$2)+($K170*$K$2)))/$L$2) -> 0 | M170: =TRUNC((+$E170-(($F170*$F$2)+($G170*$G$2)+($H170*$H$2)+($I170*$I$2)+($J170*$J$2)+($K170*$K$2)+($L170*$L$2)))/$M$2) -> 0 | N170: =TRUNC((+$E170-(($F170*$F$2)+($G170*$G$2)+($H170*$H$2)+($I170*$I$2)+($J170*$J$2)+($K170*$K$2)+($L170*$L$2)+($M170*$M$2)))/$N$2) -> 0 | O170: =IF(E170=((+$F170*$F$2)+($G170*$G$2)+($H170*$H$2)+($I170*$I$2)+($J170*$J$2)+($K170*$K$2)+($L170*$L$2)+($M170*$M$2)+($N170*$N$2)),"OK","faux") -> OK
A171: 169 | B171: =IF(Levée!B174<>0,Levée!B174,"") -> case 169 | C171: =ROUND(Levée!O174,0) -> 0 | D171: =IF(C171=0,0,Pénalités!O174) -> 0 | E171: =IF(ABS(D171)>C171,0,ROUND((C171-ABS(D171)),0)) -> 0 | F171: =TRUNC(E171/$F$2) -> 0 | G171: =TRUNC(MOD(E171,$F$2)/$G$2) -> 0 | H171: =TRUNC((+$E171-(($F171*$F$2)+($G171*$G$2)))/$H$2) -> 0 | I171: =TRUNC((+$E171-(($F171*$F$2)+($G171*$G$2)+($H171*$H$2)))/$I$2) -> 0 | J171: =TRUNC((+$E171-(($F171*$F$2)+($G171*$G$2)+($H171*$H$2)+($I171*$I$2)))/$J$2) -> 0 | K171: =TRUNC((+$E171-(($F171*$F$2)+($G171*$G$2)+($H171*$H$2)+($I171*$I$2)+($J171*$J$2)))/$K$2) -> 0 | L171: =TRUNC((+$E171-(($F171*$F$2)+($G171*$G$2)+($H171*$H$2)+($I171*$I$2)+($J171*$J$2)+($K171*$K$2)))/$L$2) -> 0 | M171: =TRUNC((+$E171-(($F171*$F$2)+($G171*$G$2)+($H171*$H$2)+($I171*$I$2)+($J171*$J$2)+($K171*$K$2)+($L171*$L$2)))/$M$2) -> 0 | N171: =TRUNC((+$E171-(($F171*$F$2)+($G171*$G$2)+($H171*$H$2)+($I171*$I$2)+($J171*$J$2)+($K171*$K$2)+($L171*$L$2)+($M171*$M$2)))/$N$2) -> 0 | O171: =IF(E171=((+$F171*$F$2)+($G171*$G$2)+($H171*$H$2)+($I171*$I$2)+($J171*$J$2)+($K171*$K$2)+($L171*$L$2)+($M171*$M$2)+($N171*$N$2)),"OK","faux") -> OK
A172: 170 | B172: =IF(Levée!B175<>0,Levée!B175,"") -> case 170 | C172: =ROUND(Levée!O175,0) -> 0 | D172: =IF(C172=0,0,Pénalités!O175) -> 0 | E172: =IF(ABS(D172)>C172,0,ROUND((C172-ABS(D172)),0)) -> 0 | F172: =TRUNC(E172/$F$2) -> 0 | G172: =TRUNC(MOD(E172,$F$2)/$G$2) -> 0 | H172: =TRUNC((+$E172-(($F172*$F$2)+($G172*$G$2)))/$H$2) -> 0 | I172: =TRUNC((+$E172-(($F172*$F$2)+($G172*$G$2)+($H172*$H$2)))/$I$2) -> 0 | J172: =TRUNC((+$E172-(($F172*$F$2)+($G172*$G$2)+($H172*$H$2)+($I172*$I$2)))/$J$2) -> 0 | K172: =TRUNC((+$E172-(($F172*$F$2)+($G172*$G$2)+($H172*$H$2)+($I172*$I$2)+($J172*$J$2)))/$K$2) -> 0 | L172: =TRUNC((+$E172-(($F172*$F$2)+($G172*$G$2)+($H172*$H$2)+($I172*$I$2)+($J172*$J$2)+($K172*$K$2)))/$L$2) -> 0 | M172: =TRUNC((+$E172-(($F172*$F$2)+($G172*$G$2)+($H172*$H$2)+($I172*$I$2)+($J172*$J$2)+($K172*$K$2)+($L172*$L$2)))/$M$2) -> 0 | N172: =TRUNC((+$E172-(($F172*$F$2)+($G172*$G$2)+($H172*$H$2)+($I172*$I$2)+($J172*$J$2)+($K172*$K$2)+($L172*$L$2)+($M172*$M$2)))/$N$2) -> 0 | O172: =IF(E172=((+$F172*$F$2)+($G172*$G$2)+($H172*$H$2)+($I172*$I$2)+($J172*$J$2)+($K172*$K$2)+($L172*$L$2)+($M172*$M$2)+($N172*$N$2)),"OK","faux") -> OK
A173: 171 | B173: =IF(Levée!B176<>0,Levée!B176,"") -> case 171 | C173: =ROUND(Levée!O176,0) -> 0 | D173: =IF(C173=0,0,Pénalités!O176) -> 0 | E173: =IF(ABS(D173)>C173,0,ROUND((C173-ABS(D173)),0)) -> 0 | F173: =TRUNC(E173/$F$2) -> 0 | G173: =TRUNC(MOD(E173,$F$2)/$G$2) -> 0 | H173: =TRUNC((+$E173-(($F173*$F$2)+($G173*$G$2)))/$H$2) -> 0 | I173: =TRUNC((+$E173-(($F173*$F$2)+($G173*$G$2)+($H173*$H$2)))/$I$2) -> 0 | J173: =TRUNC((+$E173-(($F173*$F$2)+($G173*$G$2)+($H173*$H$2)+($I173*$I$2)))/$J$2) -> 0 | K173: =TRUNC((+$E173-(($F173*$F$2)+($G173*$G$2)+($H173*$H$2)+($I173*$I$2)+($J173*$J$2)))/$K$2) -> 0 | L173: =TRUNC((+$E173-(($F173*$F$2)+($G173*$G$2)+($H173*$H$2)+($I173*$I$2)+($J173*$J$2)+($K173*$K$2)))/$L$2) -> 0 | M173: =TRUNC((+$E173-(($F173*$F$2)+($G173*$G$2)+($H173*$H$2)+($I173*$I$2)+($J173*$J$2)+($K173*$K$2)+($L173*$L$2)))/$M$2) -> 0 | N173: =TRUNC((+$E173-(($F173*$F$2)+($G173*$G$2)+($H173*$H$2)+($I173*$I$2)+($J173*$J$2)+($K173*$K$2)+($L173*$L$2)+($M173*$M$2)))/$N$2) -> 0 | O173: =IF(E173=((+$F173*$F$2)+($G173*$G$2)+($H173*$H$2)+($I173*$I$2)+($J173*$J$2)+($K173*$K$2)+($L173*$L$2)+($M173*$M$2)+($N173*$N$2)),"OK","faux") -> OK
A174: 172 | B174: =IF(Levée!B177<>0,Levée!B177,"") -> case 172 | C174: =ROUND(Levée!O177,0) -> 0 | D174: =IF(C174=0,0,Pénalités!O177) -> 0 | E174: =IF(ABS(D174)>C174,0,ROUND((C174-ABS(D174)),0)) -> 0 | F174: =TRUNC(E174/$F$2) -> 0 | G174: =TRUNC(MOD(E174,$F$2)/$G$2) -> 0 | H174: =TRUNC((+$E174-(($F174*$F$2)+($G174*$G$2)))/$H$2) -> 0 | I174: =TRUNC((+$E174-(($F174*$F$2)+($G174*$G$2)+($H174*$H$2)))/$I$2) -> 0 | J174: =TRUNC((+$E174-(($F174*$F$2)+($G174*$G$2)+($H174*$H$2)+($I174*$I$2)))/$J$2) -> 0 | K174: =TRUNC((+$E174-(($F174*$F$2)+($G174*$G$2)+($H174*$H$2)+($I174*$I$2)+($J174*$J$2)))/$K$2) -> 0 | L174: =TRUNC((+$E174-(($F174*$F$2)+($G174*$G$2)+($H174*$H$2)+($I174*$I$2)+($J174*$J$2)+($K174*$K$2)))/$L$2) -> 0 | M174: =TRUNC((+$E174-(($F174*$F$2)+($G174*$G$2)+($H174*$H$2)+($I174*$I$2)+($J174*$J$2)+($K174*$K$2)+($L174*$L$2)))/$M$2) -> 0 | N174: =TRUNC((+$E174-(($F174*$F$2)+($G174*$G$2)+($H174*$H$2)+($I174*$I$2)+($J174*$J$2)+($K174*$K$2)+($L174*$L$2)+($M174*$M$2)))/$N$2) -> 0 | O174: =IF(E174=((+$F174*$F$2)+($G174*$G$2)+($H174*$H$2)+($I174*$I$2)+($J174*$J$2)+($K174*$K$2)+($L174*$L$2)+($M174*$M$2)+($N174*$N$2)),"OK","faux") -> OK
A175: 173 | B175: =IF(Levée!B178<>0,Levée!B178,"") -> case 173 | C175: =ROUND(Levée!O178,0) -> 0 | D175: =IF(C175=0,0,Pénalités!O178) -> 0 | E175: =IF(ABS(D175)>C175,0,ROUND((C175-ABS(D175)),0)) -> 0 | F175: =TRUNC(E175/$F$2) -> 0 | G175: =TRUNC(MOD(E175,$F$2)/$G$2) -> 0 | H175: =TRUNC((+$E175-(($F175*$F$2)+($G175*$G$2)))/$H$2) -> 0 | I175: =TRUNC((+$E175-(($F175*$F$2)+($G175*$G$2)+($H175*$H$2)))/$I$2) -> 0 | J175: =TRUNC((+$E175-(($F175*$F$2)+($G175*$G$2)+($H175*$H$2)+($I175*$I$2)))/$J$2) -> 0 | K175: =TRUNC((+$E175-(($F175*$F$2)+($G175*$G$2)+($H175*$H$2)+($I175*$I$2)+($J175*$J$2)))/$K$2) -> 0 | L175: =TRUNC((+$E175-(($F175*$F$2)+($G175*$G$2)+($H175*$H$2)+($I175*$I$2)+($J175*$J$2)+($K175*$K$2)))/$L$2) -> 0 | M175: =TRUNC((+$E175-(($F175*$F$2)+($G175*$G$2)+($H175*$H$2)+($I175*$I$2)+($J175*$J$2)+($K175*$K$2)+($L175*$L$2)))/$M$2) -> 0 | N175: =TRUNC((+$E175-(($F175*$F$2)+($G175*$G$2)+($H175*$H$2)+($I175*$I$2)+($J175*$J$2)+($K175*$K$2)+($L175*$L$2)+($M175*$M$2)))/$N$2) -> 0 | O175: =IF(E175=((+$F175*$F$2)+($G175*$G$2)+($H175*$H$2)+($I175*$I$2)+($J175*$J$2)+($K175*$K$2)+($L175*$L$2)+($M175*$M$2)+($N175*$N$2)),"OK","faux") -> OK
A176: 174 | B176: =IF(Levée!B179<>0,Levée!B179,"") -> case 174 | C176: =ROUND(Levée!O179,0) -> 0 | D176: =IF(C176=0,0,Pénalités!O179) -> 0 | E176: =IF(ABS(D176)>C176,0,ROUND((C176-ABS(D176)),0)) -> 0 | F176: =TRUNC(E176/$F$2) -> 0 | G176: =TRUNC(MOD(E176,$F$2)/$G$2) -> 0 | H176: =TRUNC((+$E176-(($F176*$F$2)+($G176*$G$2)))/$H$2) -> 0 | I176: =TRUNC((+$E176-(($F176*$F$2)+($G176*$G$2)+($H176*$H$2)))/$I$2) -> 0 | J176: =TRUNC((+$E176-(($F176*$F$2)+($G176*$G$2)+($H176*$H$2)+($I176*$I$2)))/$J$2) -> 0 | K176: =TRUNC((+$E176-(($F176*$F$2)+($G176*$G$2)+($H176*$H$2)+($I176*$I$2)+($J176*$J$2)))/$K$2) -> 0 | L176: =TRUNC((+$E176-(($F176*$F$2)+($G176*$G$2)+($H176*$H$2)+($I176*$I$2)+($J176*$J$2)+($K176*$K$2)))/$L$2) -> 0 | M176: =TRUNC((+$E176-(($F176*$F$2)+($G176*$G$2)+($H176*$H$2)+($I176*$I$2)+($J176*$J$2)+($K176*$K$2)+($L176*$L$2)))/$M$2) -> 0 | N176: =TRUNC((+$E176-(($F176*$F$2)+($G176*$G$2)+($H176*$H$2)+($I176*$I$2)+($J176*$J$2)+($K176*$K$2)+($L176*$L$2)+($M176*$M$2)))/$N$2) -> 0 | O176: =IF(E176=((+$F176*$F$2)+($G176*$G$2)+($H176*$H$2)+($I176*$I$2)+($J176*$J$2)+($K176*$K$2)+($L176*$L$2)+($M176*$M$2)+($N176*$N$2)),"OK","faux") -> OK
A177: 175 | B177: =IF(Levée!B180<>0,Levée!B180,"") -> case 175 | C177: =ROUND(Levée!O180,0) -> 0 | D177: =IF(C177=0,0,Pénalités!O180) -> 0 | E177: =IF(ABS(D177)>C177,0,ROUND((C177-ABS(D177)),0)) -> 0 | F177: =TRUNC(E177/$F$2) -> 0 | G177: =TRUNC(MOD(E177,$F$2)/$G$2) -> 0 | H177: =TRUNC((+$E177-(($F177*$F$2)+($G177*$G$2)))/$H$2) -> 0 | I177: =TRUNC((+$E177-(($F177*$F$2)+($G177*$G$2)+($H177*$H$2)))/$I$2) -> 0 | J177: =TRUNC((+$E177-(($F177*$F$2)+($G177*$G$2)+($H177*$H$2)+($I177*$I$2)))/$J$2) -> 0 | K177: =TRUNC((+$E177-(($F177*$F$2)+($G177*$G$2)+($H177*$H$2)+($I177*$I$2)+($J177*$J$2)))/$K$2) -> 0 | L177: =TRUNC((+$E177-(($F177*$F$2)+($G177*$G$2)+($H177*$H$2)+($I177*$I$2)+($J177*$J$2)+($K177*$K$2)))/$L$2) -> 0 | M177: =TRUNC((+$E177-(($F177*$F$2)+($G177*$G$2)+($H177*$H$2)+($I177*$I$2)+($J177*$J$2)+($K177*$K$2)+($L177*$L$2)))/$M$2) -> 0 | N177: =TRUNC((+$E177-(($F177*$F$2)+($G177*$G$2)+($H177*$H$2)+($I177*$I$2)+($J177*$J$2)+($K177*$K$2)+($L177*$L$2)+($M177*$M$2)))/$N$2) -> 0 | O177: =IF(E177=((+$F177*$F$2)+($G177*$G$2)+($H177*$H$2)+($I177*$I$2)+($J177*$J$2)+($K177*$K$2)+($L177*$L$2)+($M177*$M$2)+($N177*$N$2)),"OK","faux") -> OK
A178: 176 | B178: =IF(Levée!B181<>0,Levée!B181,"") -> case 176 | C178: =ROUND(Levée!O181,0) -> 0 | D178: =IF(C178=0,0,Pénalités!O181) -> 0 | E178: =IF(ABS(D178)>C178,0,ROUND((C178-ABS(D178)),0)) -> 0 | F178: =TRUNC(E178/$F$2) -> 0 | G178: =TRUNC(MOD(E178,$F$2)/$G$2) -> 0 | H178: =TRUNC((+$E178-(($F178*$F$2)+($G178*$G$2)))/$H$2) -> 0 | I178: =TRUNC((+$E178-(($F178*$F$2)+($G178*$G$2)+($H178*$H$2)))/$I$2) -> 0 | J178: =TRUNC((+$E178-(($F178*$F$2)+($G178*$G$2)+($H178*$H$2)+($I178*$I$2)))/$J$2) -> 0 | K178: =TRUNC((+$E178-(($F178*$F$2)+($G178*$G$2)+($H178*$H$2)+($I178*$I$2)+($J178*$J$2)))/$K$2) -> 0 | L178: =TRUNC((+$E178-(($F178*$F$2)+($G178*$G$2)+($H178*$H$2)+($I178*$I$2)+($J178*$J$2)+($K178*$K$2)))/$L$2) -> 0 | M178: =TRUNC((+$E178-(($F178*$F$2)+($G178*$G$2)+($H178*$H$2)+($I178*$I$2)+($J178*$J$2)+($K178*$K$2)+($L178*$L$2)))/$M$2) -> 0 | N178: =TRUNC((+$E178-(($F178*$F$2)+($G178*$G$2)+($H178*$H$2)+($I178*$I$2)+($J178*$J$2)+($K178*$K$2)+($L178*$L$2)+($M178*$M$2)))/$N$2) -> 0 | O178: =IF(E178=((+$F178*$F$2)+($G178*$G$2)+($H178*$H$2)+($I178*$I$2)+($J178*$J$2)+($K178*$K$2)+($L178*$L$2)+($M178*$M$2)+($N178*$N$2)),"OK","faux") -> OK
A179: 177 | B179: =IF(Levée!B182<>0,Levée!B182,"") -> case 177 | C179: =ROUND(Levée!O182,0) -> 0 | D179: =IF(C179=0,0,Pénalités!O182) -> 0 | E179: =IF(ABS(D179)>C179,0,ROUND((C179-ABS(D179)),0)) -> 0 | F179: =TRUNC(E179/$F$2) -> 0 | G179: =TRUNC(MOD(E179,$F$2)/$G$2) -> 0 | H179: =TRUNC((+$E179-(($F179*$F$2)+($G179*$G$2)))/$H$2) -> 0 | I179: =TRUNC((+$E179-(($F179*$F$2)+($G179*$G$2)+($H179*$H$2)))/$I$2) -> 0 | J179: =TRUNC((+$E179-(($F179*$F$2)+($G179*$G$2)+($H179*$H$2)+($I179*$I$2)))/$J$2) -> 0 | K179: =TRUNC((+$E179-(($F179*$F$2)+($G179*$G$2)+($H179*$H$2)+($I179*$I$2)+($J179*$J$2)))/$K$2) -> 0 | L179: =TRUNC((+$E179-(($F179*$F$2)+($G179*$G$2)+($H179*$H$2)+($I179*$I$2)+($J179*$J$2)+($K179*$K$2)))/$L$2) -> 0 | M179: =TRUNC((+$E179-(($F179*$F$2)+($G179*$G$2)+($H179*$H$2)+($I179*$I$2)+($J179*$J$2)+($K179*$K$2)+($L179*$L$2)))/$M$2) -> 0 | N179: =TRUNC((+$E179-(($F179*$F$2)+($G179*$G$2)+($H179*$H$2)+($I179*$I$2)+($J179*$J$2)+($K179*$K$2)+($L179*$L$2)+($M179*$M$2)))/$N$2) -> 0 | O179: =IF(E179=((+$F179*$F$2)+($G179*$G$2)+($H179*$H$2)+($I179*$I$2)+($J179*$J$2)+($K179*$K$2)+($L179*$L$2)+($M179*$M$2)+($N179*$N$2)),"OK","faux") -> OK
... A202: 200 | B202: =IF(Levée!B205<>0,Levée!B205,"") -> case 200 | C202: =ROUND(Levée!O205,0) -> 0 | D202: =IF(C202=0,0,Pénalités!O205) -> 0 | E202: =IF(ABS(D202)>C202,0,ROUND((C202-ABS(D202)),0)) -> 0 | F202: =TRUNC(E202/$F$2) -> 0 | G202: =TRUNC(MOD(E202,$F$2)/$G$2) -> 0 | H202: =TRUNC((+$E202-(($F202*$F$2)+($G202*$G$2)))/$H$2) -> 0 | I202: =TRUNC((+$E202-(($F202*$F$2)+($G202*$G$2)+($H202*$H$2)))/$I$2) -> 0 | J202: =TRUNC((+$E202-(($F202*$F$2)+($G202*$G$2)+($H202*$H$2)+($I202*$I$2)))/$J$2) -> 0 | K202: =TRUNC((+$E202-(($F202*$F$2)+($G202*$G$2)+($H202*$H$2)+($I202*$I$2)+($J202*$J$2)))/$K$2) -> 0 | L202: =TRUNC((+$E202-(($F202*$F$2)+($G202*$G$2)+($H202*$H$2)+($I202*$I$2)+($J202*$J$2)+($K202*$K$2)))/$L$2) -> 0 | M202: =TRUNC((+$E202-(($F202*$F$2)+($G202*$G$2)+($H202*$H$2)+($I202*$I$2)+($J202*$J$2)+($K202*$K$2)+($L202*$L$2)))/$M$2) -> 0 | N202: =TRUNC((+$E202-(($F202*$F$2)+($G202*$G$2)+($H202*$H$2)+($I202*$I$2)+($J202*$J$2)+($K202*$K$2)+($L202*$L$2)+($M202*$M$2)))/$N$2) -> 0 | O202: =IF(E202=((+$F202*$F$2)+($G202*$G$2)+($H202*$H$2)+($I202*$I$2)+($J202*$J$2)+($K202*$K$2)+($L202*$L$2)+($M202*$M$2)+($N202*$N$2)),"OK","faux") -> OK
E203: =IF(ABS(D203)>C203,0,ROUND((C203-ABS(D203)),0)) -> 0 | F203: =TRUNC(E203/$F$2) -> 0 | G203: =TRUNC(MOD(E203,$F$2)/$G$2) -> 0 | H203: =TRUNC((+$E203-(($F203*$F$2)+($G203*$G$2)))/$H$2) -> 0 | I203: =TRUNC((+$E203-(($F203*$F$2)+($G203*$G$2)+($H203*$H$2)))/$I$2) -> 0 | J203: =TRUNC((+$E203-(($F203*$F$2)+($G203*$G$2)+($H203*$H$2)+($I203*$I$2)))/$J$2) -> 0 | K203: =TRUNC((+$E203-(($F203*$F$2)+($G203*$G$2)+($H203*$H$2)+($I203*$I$2)+($J203*$J$2)))/$K$2) -> 0 | L203: =TRUNC((+$E203-(($F203*$F$2)+($G203*$G$2)+($H203*$H$2)+($I203*$I$2)+($J203*$J$2)+($K203*$K$2)))/$L$2) -> 0 | M203: =TRUNC((+$E203-(($F203*$F$2)+($G203*$G$2)+($H203*$H$2)+($I203*$I$2)+($J203*$J$2)+($K203*$K$2)+($L203*$L$2)))/$M$2) -> 0 | N203: =TRUNC((+$E203-(($F203*$F$2)+($G203*$G$2)+($H203*$H$2)+($I203*$I$2)+($J203*$J$2)+($K203*$K$2)+($L203*$L$2)+($M203*$M$2)))/$N$2) -> 0 | O203: =IF(E203=((+$F203*$F$2)+($G203*$G$2)+($H203*$H$2)+($I203*$I$2)+($J203*$J$2)+($K203*$K$2)+($L203*$L$2)+($M203*$M$2)+($N203*$N$2)),"OK","faux") -> OK
A204: TOTAL | C204: =SUM(C3:C202) -> 0 | D204: =SUM(D3:D202) -> 0 | E204: =IF(ABS(D204)>C204,0,ROUND((C204-ABS(D204)),0)) -> 0
F205: =SUM(F3:F167) -> 0 | G205: =SUM(G3:G167) -> 0 | H205: =SUM(H3:H167) -> 0 | I205: =SUM(I3:I167) -> 0 | J205: =SUM(J3:J167) -> 0 | K205: =SUM(K3:K167) -> 0 | L205: =SUM(L3:L167) -> 0 | M205: =SUM(M3:M167) -> 0 | N205: =SUM(N3:N167) -> 0

Sheet Final
B1: Nom Prénom : | G1: =VLOOKUP(G2,list2,2,FALSE) -> case 1
B2: Case N° | G2: =Levée!A6 -> 1
B3: Total Levées : | G3: =VLOOKUP(G2,list2,3,FALSE) -> 0
B4: Amendes : | G4: =N10 -> 0
B6: Remboursement : | G6: =G3+G4 -> 0
O7: =IF(B7="Remboursement :",G7,"")
B8: L 1 | C8: L2 | D8: L 3 | E8: L 4 | F8: L 5 | G8: L 6 | H8: L 7 | I8: L 8 | J8: L 9 | K8: L 10 | L8: L 11 | M8: L 12 | N8: TOTAL | O8: =IF(B8="Remboursement :",G8,"")
A9: Levées | B9: =IF(Levée!C6<>"pa",Levée!C6,) -> 0 | C9: =IF(Levée!D6<>"pa",Levée!D6,) -> 0 | D9: =IF(Levée!E6<>"pa",Levée!E6,) -> 0 | E9: =IF(Levée!F6<>"pa",Levée!F6,) -> 0 | F9: =IF(Levée!G6<>"pa",Levée!G6,) -> 0 | G9: =IF(Levée!H6<>"pa",Levée!H6,) -> 0 | H9: =IF(Levée!I6<>"pa",Levée!I6,) -> 0 | I9: =IF(Levée!J6<>"pa",Levée!J6,) -> 0 | ... M9: =IF(Levée!N6<>"pa",Levée!N6,) -> 0 | N9: =SUM(B9:M9) -> 0 | O9: =IF(B9="Remboursement :",G9,"")
A10: Pénalitées | B10: =Pénalités!C6 -> 0 | C10: =Pénalités!D6 -> 0 | D10: =Pénalités!E6 -> 0 | E10: =Pénalités!F6 -> 0 | F10: =Pénalités!G6 -> 0 | G10: =Pénalités!H6 -> 0 | H10: =Pénalités!I6 -> 0 | I10: =Pénalités!J6 -> 0 | ... M10: =Pénalités!N6 -> 0 | N10: =SUM(B10:M10) -> 0 | O10: =IF(B10="Remboursement :",G10,"")
A11: Total | B11: =+B9-ABS(B10) -> 0 | C11: =+C9-ABS(C10) -> 0 | D11: =+D9-ABS(D10) -> 0 | E11: =+E9-ABS(E10) -> 0 | F11: =+F9-ABS(F10) -> 0 | G11: =+G9-ABS(G10) -> 0 | H11: =+H9-ABS(H10) -> 0 | I11: =+I9-ABS(I10) -> 0 | ... M11: =+M9-ABS(M10) -> 0 | N11: =IF(SUM(N9:N10)<0,0,SUM(N9:N10)) -> 0 | O11: =IF(B11="Remboursement :",G11,"")
O12: =IF(B12="Remboursement :",G12,"")
B13: Nom Prénom : | G13: =VLOOKUP(G14,list2,2,FALSE) -> case 2
B14: Case N° | G14: =G2+1 -> 2
B15: Total Levées : | G15: =VLOOKUP(G14,list2,3,FALSE) -> 0
B16: Amendes : | G16: =N22 -> 0
B18: Remboursement : | G18: =G15+G16 -> 0
O19: =IF(B19="Remboursement :",G19,"")
B20: L 1 | C20: L2 | D20: L 3 | E20: L 4 | F20: L 5 | G20: L 6 | H20: L 7 | I20: L 8 | J20: L 9 | K20: L 10 | L20: L 11 | M20: L 12 | N20: TOTAL | O20: =IF(B20="Remboursement :",G20,"")
A21: Levées | B21: =IF(Levée!C18<>"pa",Levée!C18,) -> 0 | C21: =IF(Levée!D18<>"pa",Levée!D18,) -> 0 | D21: =IF(Levée!E18<>"pa",Levée!E18,) -> 0 | E21: =IF(Levée!F18<>"pa",Levée!F18,) -> 0 | F21: =IF(Levée!G18<>"pa",Levée!G18,) -> 0 | G21: =IF(Levée!H18<>"pa",Levée!H18,) -> 0 | H21: =IF(Levée!I18<>"pa",Levée!I18,) -> 0 | I21: =IF(Levée!J18<>"pa",Levée!J18,) -> 0 | ... M21: =IF(Levée!N18<>"pa",Levée!N18,) -> 0 | N21: =SUM(B21:M21) -> 0 | O21: =IF(B21="Remboursement :",G21,"")
A22: Pénalitées | B22: =Pénalités!C18 -> 0 | C22: =Pénalités!D18 -> 0 | D22: =Pénalités!E18 -> 0 | E22: =Pénalités!F18 -> 0 | F22: =Pénalités!G18 -> 0 | G22: =Pénalités!H18 -> 0 | H22: =Pénalités!I18 -> 0 | I22: =Pénalités!J18 -> 0 | ... M22: =Pénalités!N18 -> 0 | N22: =SUM(B22:M22) -> 0 | O22: =IF(B22="Remboursement :",G22,"")
A23: Total | B23: =+B21-ABS(B22) -> 0 | C23: =+C21-ABS(C22) -> 0 | D23: =+D21-ABS(D22) -> 0 | E23: =+E21-ABS(E22) -> 0 | F23: =+F21-ABS(F22) -> 0 | G23: =+G21-ABS(G22) -> 0 | H23: =+H21-ABS(H22) -> 0 | I23: =+I21-ABS(I22) -> 0 | ... M23: =+M21-ABS(M22) -> 0 | N23: =IF(SUM(N21:N22)<0,0,SUM(N21:N22)) -> 0 | O23: =IF(B23="Remboursement :",G23,"")
O24: =IF(B24="Remboursement :",G24,"")
B25: Nom Prénom : | G25: =VLOOKUP(G26,list2,2,FALSE) -> case 3
B26: Case N° | G26: =G14+1 -> 3
B27: Total Levées : | G27: =VLOOKUP(G26,list2,3,FALSE) -> 0
B28: Amendes : | G28: =N34 -> 0
B30: Remboursement : | G30: =G27+G28 -> 0
O31: =IF(B31="Remboursement :",G31,"")
B32: L 1 | C32: L2 | D32: L 3 | E32: L 4 | F32: L 5 | G32: L 6 | H32: L 7 | I32: L 8 | J32: L 9 | K32: L 10 | L32: L 11 | M32: L 12 | N32: TOTAL | O32: =IF(B32="Remboursement :",G32,"")
A33: Levées | B33: =IF(Levée!C30<>"pa",Levée!C30,) -> 0 | C33: =IF(Levée!D30<>"pa",Levée!D30,) -> 0 | D33: =IF(Levée!E30<>"pa",Levée!E30,) -> 0 | E33: =IF(Levée!F30<>"pa",Levée!F30,) -> 0 | F33: =IF(Levée!G30<>"pa",Levée!G30,) -> 0 | G33: =IF(Levée!H30<>"pa",Levée!H30,) -> 0 | H33: =IF(Levée!I30<>"pa",Levée!I30,) -> 0 | I33: =IF(Levée!J30<>"pa",Levée!J30,) -> 0 | ... M33: =IF(Levée!N30<>"pa",Levée!N30,) -> 0 | N33: =SUM(B33:M33) -> 0 | O33: =IF(B33="Remboursement :",G33,"")
A34: Pénalitées | B34: =Pénalités!C30 -> 0 | C34: =Pénalités!D30 -> 0 | D34: =Pénalités!E30 -> 0 | E34: =Pénalités!F30 -> 0 | F34: =Pénalités!G30 -> 0 | G34: =Pénalités!H30 -> 0 | H34: =Pénalités!I30 -> 0 | I34: =Pénalités!J30 -> 0 | ... M34: =Pénalités!N30 -> 0 | N34: =SUM(B34:M34) -> 0 | O34: =IF(B34="Remboursement :",G34,"")
A35: Total | B35: =+B33-ABS(B34) -> 0 | C35: =+C33-ABS(C34) -> 0 | D35: =+D33-ABS(D34) -> 0 | E35: =+E33-ABS(E34) -> 0 | F35: =+F33-ABS(F34) -> 0 | G35: =+G33-ABS(G34) -> 0 | H35: =+H33-ABS(H34) -> 0 | I35: =+I33-ABS(I34) -> 0 | ... M35: =+M33-ABS(M34) -> 0 | N35: =IF(SUM(N33:N34)<0,0,SUM(N33:N34)) -> 0 | O35: =IF(B35="Remboursement :",G35,"")
O36: =IF(B36="Remboursement :",G36,"")
B37: Nom Prénom : | G37: =VLOOKUP(G38,list2,2,FALSE) -> case 4
B38: Case N° | G38: =G26+1 -> 4
B39: Total Levées : | G39: =VLOOKUP(G38,list2,3,FALSE) -> 0
B40: Amendes : | G40: =N46 -> 0
B42: Remboursement : | G42: =G39+G40 -> 0
O43: =IF(B43="Remboursement :",G43,"")
B44: L 1 | C44: L2 | D44: L 3 | E44: L 4 | F44: L 5 | G44: L 6 | H44: L 7 | I44: L 8 | J44: L 9 | K44: L 10 | L44: L 11 | M44: L 12 | N44: TOTAL | O44: =IF(B44="Remboursement :",G44,"")
A45: Levées | B45: =IF(Levée!C42<>"pa",Levée!C42,) -> 0 | C45: =IF(Levée!D42<>"pa",Levée!D42,) -> 0 | D45: =IF(Levée!E42<>"pa",Levée!E42,) -> 0 | E45: =IF(Levée!F42<>"pa",Levée!F42,) -> 0 | F45: =IF(Levée!G42<>"pa",Levée!G42,) -> 0 | G45: =IF(Levée!H42<>"pa",Levée!H42,) -> 0 | H45: =IF(Levée!I42<>"pa",Levée!I42,) -> 0 | I45: =IF(Levée!J42<>"pa",Levée!J42,) -> 0 | ... M45: =IF(Levée!N42<>"pa",Levée!N42,) -> 0 | N45: =SUM(B45:M45) -> 0 | O45: =IF(B45="Remboursement :",G45,"")
A46: Pénalitées | B46: =Pénalités!C42 -> 0 | C46: =Pénalités!D42 -> 0 | D46: =Pénalités!E42 -> 0 | E46: =Pénalités!F42 -> 0 | F46: =Pénalités!G42 -> 0 | G46: =Pénalités!H42 -> 0 | H46: =Pénalités!I42 -> 0 | I46: =Pénalités!J42 -> 0 | ... M46: =Pénalités!N42 -> 0 | N46: =SUM(B46:M46) -> 0 | O46: =IF(B46="Remboursement :",G46,"")
A47: Total | B47: =+B45-ABS(B46) -> 0 | C47: =+C45-ABS(C46) -> 0 | D47: =+D45-ABS(D46) -> 0 | E47: =+E45-ABS(E46) -> 0 | F47: =+F45-ABS(F46) -> 0 | G47: =+G45-ABS(G46) -> 0 | H47: =+H45-ABS(H46) -> 0 | I47: =+I45-ABS(I46) -> 0 | ... M47: =+M45-ABS(M46) -> 0 | N47: =IF(SUM(N45:N46)<0,0,SUM(N45:N46)) -> 0 | O47: =IF(B47="Remboursement :",G47,"")
B49: Nom Prénom : | G49: =VLOOKUP(G50,list2,2,FALSE) -> case 5 | O49: =IF(B49="Remboursement :",G49,"")
B50: Case N° | G50: =Levée!A10 -> 5 | O50: =IF(B50="Remboursement :",G50,"")
B51: Total Levées : | G51: =VLOOKUP(G50,list2,3,FALSE) -> 0 | O51: =IF(B51="Remboursement :",G51,"")
B52: Amendes : | G52: =VLOOKUP(G50,list2,4,FALSE) -> 0 | O52: =IF(B52="Remboursement :",G52,"")
B53: Intérêts : | G53: =VLOOKUP(G50,list2,5,FALSE) -> #REF! | O53: =IF(B53="Remboursement :",G53,"")
B54: Remboursement : | G54: =VLOOKUP(G50,list2,6,FALSE) -> #REF! | O54: =IF(B54="Remboursement :",G54,"") -> #REF!
O55: =IF(B55="Remboursement :",G55,"")
B56: L 1 | C56: L2 | D56: L 3 | E56: L 4 | F56: L 5 | G56: L 6 | H56: L 7 | I56: L 8 | J56: L 9 | K56: L 10 | L56: L 11 | M56: L 12 | N56: TOTAL | O56: =IF(B56="Remboursement :",G56,"")
A57: Levées | B57: =IF(Levée!C10<>"pa",Levée!C10,) -> 0 | C57: =IF(Levée!D10<>"pa",Levée!D10,) -> 0 | D57: =IF(Levée!E10<>"pa",Levée!E10,) -> 0 | E57: =IF(Levée!F10<>"pa",Levée!F10,) -> 0 | F57: =IF(Levée!G10<>"pa",Levée!G10,) -> 0 | G57: =IF(Levée!H10<>"pa",Levée!H10,) -> 0 | H57: =IF(Levée!I10<>"pa",Levée!I10,) -> 0 | I57: =IF(Levée!J10<>"pa",Levée!J10,) -> 0 | ... M57: =IF(Levée!N10<>"pa",Levée!N10,) -> 0 | N57: =SUM(B57:M57) -> 0 | O57: =IF(B57="Remboursement :",G57,"")
A58: Pénalitées | B58: =Pénalités!C10 -> 0 | C58: =Pénalités!D10 -> 0 | D58: =Pénalités!E10 -> 0 | E58: =Pénalités!F10 -> 0 | F58: =Pénalités!G10 -> 0 | G58: =Pénalités!H10 -> 0 | H58: =Pénalités!I10 -> 0 | I58: =Pénalités!J10 -> 0 | ... M58: =Pénalités!N10 -> 0 | N58: =SUM(B58:M58) -> 0 | O58: =IF(B58="Remboursement :",G58,"")
A59: Total | B59: =+B57-ABS(B58) -> 0 | C59: =+C57-ABS(C58) -> 0 | D59: =+D57-ABS(D58) -> 0 | E59: =+E57-ABS(E58) -> 0 | F59: =+F57-ABS(F58) -> 0 | G59: =+G57-ABS(G58) -> 0 | H59: =+H57-ABS(H58) -> 0 | I59: =+I57-ABS(I58) -> 0 | ... M59: =+M57-ABS(M58) -> 0 | N59: =IF(SUM(N57:N58)<0,0,SUM(N57:N58)) -> 0 | O59: =IF(B59="Remboursement :",G59,"")
O60: =IF(B60="Remboursement :",G60,"")
B61: Nom Prénom : | G61: =VLOOKUP(G62,list2,2,FALSE) -> case 6 | O61: =IF(B61="Remboursement :",G61,"")
B62: Case N° | G62: =Levée!A11 -> 6 | O62: =IF(B62="Remboursement :",G62,"")
B63: Total Levées : | G63: =VLOOKUP(G62,list2,3,FALSE) -> 0 | O63: =IF(B63="Remboursement :",G63,"")
B64: Amendes : | G64: =VLOOKUP(G62,list2,4,FALSE) -> 0 | O64: =IF(B64="Remboursement :",G64,"")
B65: Intérêts : | G65: =VLOOKUP(G62,list2,5,FALSE) -> #REF! | O65: =IF(B65="Remboursement :",G65,"")
B66: Remboursement : | G66: =VLOOKUP(G62,list2,6,FALSE) -> #REF! | O66: =IF(B66="Remboursement :",G66,"") -> #REF!
O67: =IF(B67="Remboursement :",G67,"")
B68: L 1 | C68: L2 | D68: L 3 | E68: L 4 | F68: L 5 | G68: L 6 | H68: L 7 | I68: L 8 | J68: L 9 | K68: L 10 | L68: L 11 | M68: L 12 | N68: TOTAL | O68: =IF(B68="Remboursement :",G68,"")
A69: Levées | B69: =IF(Levée!C11<>"pa",Levée!C11,) -> 0 | C69: =IF(Levée!D11<>"pa",Levée!D11,) -> 0 | D69: =IF(Levée!E11<>"pa",Levée!E11,) -> 0 | E69: =IF(Levée!F11<>"pa",Levée!F11,) -> 0 | F69: =IF(Levée!G11<>"pa",Levée!G11,) -> 0 | G69: =IF(Levée!H11<>"pa",Levée!H11,) -> 0 | H69: =IF(Levée!I11<>"pa",Levée!I11,) -> 0 | I69: =IF(Levée!J11<>"pa",Levée!J11,) -> 0 | ... M69: =IF(Levée!N11<>"pa",Levée!N11,) -> 0 | N69: =SUM(B69:M69) -> 0 | O69: =IF(B69="Remboursement :",G69,"")
A70: Pénalitées | B70: =Pénalités!C11 -> 0 | C70: =Pénalités!D11 -> 0 | D70: =Pénalités!E11 -> 0 | E70: =Pénalités!F11 -> 0 | F70: =Pénalités!G11 -> 0 | G70: =Pénalités!H11 -> 0 | H70: =Pénalités!I11 -> 0 | I70: =Pénalités!J11 -> 0 | ... M70: =Pénalités!N11 -> 0 | N70: =SUM(B70:M70) -> 0 | O70: =IF(B70="Remboursement :",G70,"")
A71: Total | B71: =+B69-ABS(B70) -> 0 | C71: =+C69-ABS(C70) -> 0 | D71: =+D69-ABS(D70) -> 0 | E71: =+E69-ABS(E70) -> 0 | F71: =+F69-ABS(F70) -> 0 | G71: =+G69-ABS(G70) -> 0 | H71: =+H69-ABS(H70) -> 0 | I71: =+I69-ABS(I70) -> 0 | ... M71: =+M69-ABS(M70) -> 0 | N71: =IF(SUM(N69:N70)<0,0,SUM(N69:N70)) -> 0 | O71: =IF(B71="Remboursement :",G71,"")
O72: =IF(B72="Remboursement :",G72,"")
B73: Nom Prénom : | G73: =VLOOKUP(G74,list2,2,FALSE) -> case 7 | O73: =IF(B73="Remboursement :",G73,"")
B74: Case N° | G74: =Levée!A12 -> 7 | O74: =IF(B74="Remboursement :",G74,"")
B75: Total Levées : | G75: =VLOOKUP(G74,list2,3,FALSE) -> 0 | O75: =IF(B75="Remboursement :",G75,"")
B76: Amendes : | G76: =VLOOKUP(G74,list2,4,FALSE) -> 0 | O76: =IF(B76="Remboursement :",G76,"")
B77: Intérêts : | G77: =VLOOKUP(G74,list2,5,FALSE) -> #REF! | O77: =IF(B77="Remboursement :",G77,"")
B78: Remboursement : | G78: =VLOOKUP(G74,list2,6,FALSE) -> #REF! | O78: =IF(B78="Remboursement :",G78,"") -> #REF!
O79: =IF(B79="Remboursement :",G79,"")
B80: L 1 | C80: L2 | D80: L 3 | E80: L 4 | F80: L 5 | G80: L 6 | H80: L 7 | I80: L 8 | J80: L 9 | K80: L 10 | L80: L 11 | M80: L 12 | N80: TOTAL | O80: =IF(B80="Remboursement :",G80,"")
A81: Levées | B81: =IF(Levée!C12<>"pa",Levée!C12,) -> 0 | C81: =IF(Levée!D12<>"pa",Levée!D12,) -> 0 | D81: =IF(Levée!E12<>"pa",Levée!E12,) -> 0 | E81: =IF(Levée!F12<>"pa",Levée!F12,) -> 0 | F81: =IF(Levée!G12<>"pa",Levée!G12,) -> 0 | G81: =IF(Levée!H12<>"pa",Levée!H12,) -> 0 | H81: =IF(Levée!I12<>"pa",Levée!I12,) -> 0 | I81: =IF(Levée!J12<>"pa",Levée!J12,) -> 0 | ... M81: =IF(Levée!N12<>"pa",Levée!N12,) -> 0 | N81: =SUM(B81:M81) -> 0 | O81: =IF(B81="Remboursement :",G81,"")
A82: Pénalitées | B82: =Pénalités!C12 -> 0 | C82: =Pénalités!D12 -> 0 | D82: =Pénalités!E12 -> 0 | E82: =Pénalités!F12 -> 0 | F82: =Pénalités!G12 -> 0 | G82: =Pénalités!H12 -> 0 | H82: =Pénalités!I12 -> 0 | I82: =Pénalités!J12 -> 0 | ... M82: =Pénalités!N12 -> 0 | N82: =SUM(B82:M82) -> 0 | O82: =IF(B82="Remboursement :",G82,"")
A83: Total | B83: =+B81-ABS(B82) -> 0 | C83: =+C81-ABS(C82) -> 0 | D83: =+D81-ABS(D82) -> 0 | E83: =+E81-ABS(E82) -> 0 | F83: =+F81-ABS(F82) -> 0 | G83: =+G81-ABS(G82) -> 0 | H83: =+H81-ABS(H82) -> 0 | I83: =+I81-ABS(I82) -> 0 | ... M83: =+M81-ABS(M82) -> 0 | N83: =IF(SUM(N81:N82)<0,0,SUM(N81:N82)) -> 0 | O83: =IF(B83="Remboursement :",G83,"")
O84: =IF(B84="Remboursement :",G84,"")
B85: Nom Prénom : | G85: =VLOOKUP(G86,list2,2,FALSE) -> case 8 | O85: =IF(B85="Remboursement :",G85,"")
B86: Case N° | G86: =Levée!A13 -> 8 | O86: =IF(B86="Remboursement :",G86,"")
B87: Total Levées : | G87: =VLOOKUP(G86,list2,3,FALSE) -> 0 | O87: =IF(B87="Remboursement :",G87,"")
B88: Amendes : | G88: =VLOOKUP(G86,list2,4,FALSE) -> 0 | O88: =IF(B88="Remboursement :",G88,"")
B89: Intérêts : | G89: =VLOOKUP(G86,list2,5,FALSE) -> #REF! | O89: =IF(B89="Remboursement :",G89,"")
B90: Remboursement : | G90: =VLOOKUP(G86,list2,6,FALSE) -> #REF! | O90: =IF(B90="Remboursement :",G90,"") -> #REF!
O91: =IF(B91="Remboursement :",G91,"")
B92: L 1 | C92: L2 | D92: L 3 | E92: L 4 | F92: L 5 | G92: L 6 | H92: L 7 | I92: L 8 | J92: L 9 | K92: L 10 | L92: L 11 | M92: L 12 | N92: TOTAL | O92: =IF(B92="Remboursement :",G92,"")
A93: Levées | B93: =IF(Levée!C13<>"pa",Levée!C13,) -> 0 | C93: =IF(Levée!D13<>"pa",Levée!D13,) -> 0 | D93: =IF(Levée!E13<>"pa",Levée!E13,) -> 0 | E93: =IF(Levée!F13<>"pa",Levée!F13,) -> 0 | F93: =IF(Levée!G13<>"pa",Levée!G13,) -> 0 | G93: =IF(Levée!H13<>"pa",Levée!H13,) -> 0 | H93: =IF(Levée!I13<>"pa",Levée!I13,) -> 0 | I93: =IF(Levée!J13<>"pa",Levée!J13,) -> 0 | ... M93: =IF(Levée!N13<>"pa",Levée!N13,) -> 0 | N93: =SUM(B93:M93) -> 0 | O93: =IF(B93="Remboursement :",G93,"")
A94: Pénalitées | B94: =Pénalités!C13 -> 0 | C94: =Pénalités!D13 -> 0 | D94: =Pénalités!E13 -> 0 | E94: =Pénalités!F13 -> 0 | F94: =Pénalités!G13 -> 0 | G94: =Pénalités!H13 -> 0 | H94: =Pénalités!I13 -> 0 | I94: =Pénalités!J13 -> 0 | ... M94: =Pénalités!N13 -> 0 | N94: =SUM(B94:M94) -> 0 | O94: =IF(B94="Remboursement :",G94,"")
A95: Total | B95: =+B93-ABS(B94) -> 0 | C95: =+C93-ABS(C94) -> 0 | D95: =+D93-ABS(D94) -> 0 | E95: =+E93-ABS(E94) -> 0 | F95: =+F93-ABS(F94) -> 0 | G95: =+G93-ABS(G94) -> 0 | H95: =+H93-ABS(H94) -> 0 | I95: =+I93-ABS(I94) -> 0 | ... M95: =+M93-ABS(M94) -> 0 | N95: =IF(SUM(N93:N94)<0,0,SUM(N93:N94)) -> 0 | O95: =IF(B95="Remboursement :",G95,"")
O96: =IF(B96="Remboursement :",G96,"")
B97: Nom Prénom : | G97: =VLOOKUP(G98,list2,2,FALSE) -> case 9 | O97: =IF(B97="Remboursement :",G97,"")
B98: Case N° | G98: =Levée!A14 -> 9 | O98: =IF(B98="Remboursement :",G98,"")
B99: Total Levées : | G99: =VLOOKUP(G98,list2,3,FALSE) -> 0 | O99: =IF(B99="Remboursement :",G99,"")
B100: Amendes : | G100: =VLOOKUP(G98,list2,4,FALSE) -> 0 | O100: =IF(B100="Remboursement :",G100,"")
B101: Intérêts : | G101: =VLOOKUP(G98,list2,5,FALSE) -> #REF! | O101: =IF(B101="Remboursement :",G101,"")
B102: Remboursement : | G102: =VLOOKUP(G98,list2,6,FALSE) -> #REF! | O102: =IF(B102="Remboursement :",G102,"") -> #REF!
O103: =IF(B103="Remboursement :",G103,"")
B104: L 1 | C104: L2 | D104: L 3 | E104: L 4 | F104: L 5 | G104: L 6 | H104: L 7 | I104: L 8 | J104: L 9 | K104: L 10 | L104: L 11 | M104: L 12 | N104: TOTAL | O104: =IF(B104="Remboursement :",G104,"")
A105: Levées | B105: =IF(Levée!C14<>"pa",Levée!C14,) -> 0 | C105: =IF(Levée!D14<>"pa",Levée!D14,) -> 0 | D105: =IF(Levée!E14<>"pa",Levée!E14,) -> 0 | E105: =IF(Levée!F14<>"pa",Levée!F14,) -> 0 | F105: =IF(Levée!G14<>"pa",Levée!G14,) -> 0 | G105: =IF(Levée!H14<>"pa",Levée!H14,) -> 0 | H105: =IF(Levée!I14<>"pa",Levée!I14,) -> 0 | I105: =IF(Levée!J14<>"pa",Levée!J14,) -> 0 | ... M105: =IF(Levée!N14<>"pa",Levée!N14,) -> 0 | N105: =SUM(B105:M105) -> 0 | O105: =IF(B105="Remboursement :",G105,"")
...
