Workbook
Name Atrait: 'JOURA TRAITER'!$B$2:$B$27

Sheet resultat
A4: Codes | B4: nb | C4: avec nom zone
A5: A1 | B5: =COUNTIF('JOURA TRAITER'!$B$2:$B$27,resultat!A5) -> 2 | C5: =COUNTIF(Atrait,resultat!A5) -> 2
A6: A2 | B6: =COUNTIF('JOURA TRAITER'!$B$2:$B$27,resultat!A6) -> 3 | C6: =COUNTIF(Atrait,resultat!A6) -> 3
A7: A3 | B7: =COUNTIF('JOURA TRAITER'!$B$2:$B$27,resultat!A7) -> 6 | C7: =COUNTIF(Atrait,resultat!A7) -> 6
A8: A4 | B8: =COUNTIF('JOURA TRAITER'!$B$2:$B$27,resultat!A8) -> 2 | C8: =COUNTIF(Atrait,resultat!A8) -> 2
A9: A5 | B9: =COUNTIF('JOURA TRAITER'!$B$2:$B$27,resultat!A9) -> 2 | C9: =COUNTIF(Atrait,resultat!A9) -> 2
A10: A6 | B10: =COUNTIF('JOURA TRAITER'!$B$2:$B$27,resultat!A10) -> 2 | C10: =COUNTIF(Atrait,resultat!A10) -> 2
A11: A7 | B11: =COUNTIF('JOURA TRAITER'!$B$2:$B$27,resultat!A11) -> 1 | C11: =COUNTIF(Atrait,resultat!A11) -> 1
A12: A8 | B12: =COUNTIF('JOURA TRAITER'!$B$2:$B$27,resultat!A12) -> 3 | C12: =COUNTIF(Atrait,resultat!A12) -> 3
A13: A9 | B13: =COUNTIF('JOURA TRAITER'!$B$2:$B$27,resultat!A13) -> 1 | C13: =COUNTIF(Atrait,resultat!A13) -> 1
A14: A10 | B14: =COUNTIF('JOURA TRAITER'!$B$2:$B$27,resultat!A14) -> 0 | C14: =COUNTIF(Atrait,resultat!A14) -> 0
A15: A11 | B15: =COUNTIF('JOURA TRAITER'!$B$2:$B$27,resultat!A15) -> 1 | C15: =COUNTIF(Atrait,resultat!A15) -> 1
A16: A12 | B16: =COUNTIF('JOURA TRAITER'!$B$2:$B$27,resultat!A16) -> 0 | C16: =COUNTIF(Atrait,resultat!A16) -> 0
... A21: A17 | B21: =COUNTIF('JOURA TRAITER'!$B$2:$B$27,resultat!A21) -> 1 | C21: =COUNTIF(Atrait,resultat!A21) -> 1

Sheet JOURA TRAITER
B1: Atrait
B2: A1
B3: A3
B4: A17
B5: A3
B6: A2
B7: A8
B8: A5
B9: A3
B10: A4
B11: A8
B12: A6
... B27: A1

Sheet Feuil3
