Workbook

Sheet Recherche
B2: N°lancement
A3: Recherche | B3: 12345 | E3: Recherche uniquement de Canal 1 à 18. Les autres onglets ne sont pas pris en charge
A4: Rang | B4: 1
D8: Numero unique | E8: Ligne | F8: n° serie rem | G8: lancement | H8: Rg. | I8: LPR | J8: Client | K8: code | S8: createur | T8: date | U8: observation | V8: Canal
D9: 1 | E9: =IFERROR(VLOOKUP($B$3&"_"&D9,'CANAL 17'!$A:$R,2,FALSE),"")&IFERROR(VLOOKUP($B$3&"_"&D9,'[2]CANAL 18'!$A:$R,2,FALSE),"")&IFERROR(VLOOKUP($B$3&"_"&D9,'[3]CANAL 1'!A:R,2,FALSE),"")&IFERROR(VLOOKUP($B$3&"_"&D9,'[4]CANAL 2'!A:R,2,FALSE),"")&IFERROR(VLOOKUP($B$3&"_"&D9,'[5]CANAL 3'!A:R,2,FALSE),"")&IFERROR(VLOOKUP($B$3&"_"&D9,'[6]CANAL 4'!A:R,2,FALSE),"")&IFERROR(VLOOKUP($B$3&"_"&D9,'[7]CANAL 5'!A:R,2,FALSE),"")&IFERROR(VLOOKUP($B$3&"_"&D9,'[8]CANAL 6'!A:R,2,FALSE),"")&IFERROR(VLOOKUP($B$3&"_"&D9,'[9]CANAL 7'!A:R,2,FALSE),"")&IFERROR(VLOOKUP($B$3&"_"&D9,'[10]CANAL 8'!A:R,2,FALSE),"")&IFERROR(VLOOKUP($B$3&"_"&D9,'[11]CANAL 9'!A:R,2,FALSE),"")&IFERROR(VLOOKUP($B$3&"_"&D9,'[12]CANAL 10'!A:R,2,FALSE),"")&IFERROR(VLOOKUP($B$3&"_"&D9,'[13]CANAL 11'!A:R,2,FALSE),"")&IFERROR(VLOOKUP($B$3&"_"&D9,'[14]CANAL 12'!A:R,2,FALSE),"")&IFERROR(VLOOKUP($B$3&"_"&D9,'[15]CANAL 13'!A:R,2,FALSE),"")&IFERROR(VLOOKUP($B$3&"_"&D9,'[16]CANAL 14'!A:R,2,FALSE),"")&IFERROR(VLOOKUP($B$3&"_"&D9,'[17]CANAL 15'!A:R,2,FALSE),"")&IFERROR(VLOOKUP($B$3&"_"&D9,'[18]CANAL 16'!A:R,2,FALSE),"") -> 1 | F9: =IFERROR(VLOOKUP($B$3&"_"&D9,'CANAL 17'!$A:$R,3,FALSE),"")&IFERROR(VLOOKUP($B$3&"_"&D9,'[2]CANAL 18'!$A:$R,3,FALSE),"")&IFERROR(VLOOKUP($B$3&"_"&D9,'[3]CANAL 1'!$A:$R,3,FALSE),"")&IFERROR(VLOOKUP($B$3&"_"&D9,'[4]CANAL 2'!$A:$R,3,FALSE),"")&IFERROR(VLOOKUP($B$3&"_"&D9,'[5]CANAL 3'!$A:$R,3,FALSE),"")&IFERROR(VLOOKUP($B$3&"_"&D9,'[6]CANAL 4'!$A:$R,3,FALSE),"")&IFERROR(VLOOKUP($B$3&"_"&D9,'[7]CANAL 5'!$A:$R,3,FALSE),"")&IFERROR(VLOOKUP($B$3&"_"&D9,'[8]CANAL 6'!$A:$R,3,FALSE),"")&IFERROR(VLOOKUP($B$3&"_"&D9,'[9]CANAL 7'!$A:$R,3,FALSE),"")&IFERROR(VLOOKUP($B$3&"_"&D9,'[10]CANAL 8'!$A:$R,3,FALSE),"")&IFERROR(VLOOKUP($B$3&"_"&D9,'[11]CANAL 9'!$A:$R,3,FALSE),"")&IFERROR(VLOOKUP($B$3&"_"&D9,'[12]CANAL 10'!$A:$R,3,FALSE),"")&IFERROR(VLOOKUP($B$3&"_"&D9,'[13]CANAL 11'!$A:$R,3,FALSE),"")&IFERROR(VLOOKUP($B$3&"_"&D9,'[14]CANAL 12'!$A:$R,3,FALSE),"")&IFERROR(VLOOKUP($B$3&"_"&D9,'[15]CANAL 13'!$A:$R,3,FALSE),"")&IFERROR(VLOOKUP($B$3&"_"&D9,'[16]CANAL 14'!$A:$R,3,FALSE),"")&IFERROR(VLOOKUP($B$3&"_"&D9,'[17]CANAL 15'!$A:$R,3,FALSE),"")&IFERROR(VLOOKUP($B$3&"_"&D9,'[18]CANAL 16'!$A:$R,3,FALSE),"") -> 1234 | G9: =IFERROR(VLOOKUP($B$3&"_"&D9,'CANAL 17'!$A:$R,4,FALSE),"")&IFERROR(VLOOKUP($B$3&"_"&D9,'[2]CANAL 18'!$A:$R,4,FALSE),"")&IFERROR(VLOOKUP($B$3&"_"&D9,'[3]CANAL 1'!$A:$R,4,FALSE),"")&IFERROR(VLOOKUP($B$3&"_"&D9,'[4]CANAL 2'!$A:$R,4,FALSE),"")&IFERROR(VLOOKUP($B$3&"_"&D9,'[5]CANAL 3'!$A:$R,4,FALSE),"")&IFERROR(VLOOKUP($B$3&"_"&D9,'[6]CANAL 4'!$A:$R,4,FALSE),"")&IFERROR(VLOOKUP($B$3&"_"&D9,'[7]CANAL 5'!$A:$R,4,FALSE),"")&IFERROR(VLOOKUP($B$3&"_"&D9,'[8]CANAL 6'!$A:$R,4,FALSE),"")&IFERROR(VLOOKUP($B$3&"_"&D9,'[9]CANAL 7'!$A:$R,4,FALSE),"")&IFERROR(VLOOKUP($B$3&"_"&D9,'[10]CANAL 8'!$A:$R,4,FALSE),"")&IFERROR(VLOOKUP($B$3&"_"&D9,'[11]CANAL 9'!$A:$R,4,FALSE),"")&IFERROR(VLOOKUP($B$3&"_"&D9,'[12]CANAL 10'!$A:$R,4,FALSE),"")&IFERROR(VLOOKUP($B$3&"_"&D9,'[13]CANAL 11'!$A:$R,4,FALSE),"")&IFERROR(VLOOKUP($B$3&"_"&D9,'[14]CANAL 12'!$A:$R,4,FALSE),"")&IFERROR(VLOOKUP($B$3&"_"&D9,'[15]CANAL 13'!$A:$R,4,FALSE),"")&IFERROR(VLOOKUP($B$3&"_"&D9,'[16]CANAL 14'!$A:$R,4,FALSE),"")&IFERROR(VLOOKUP($B$3&"_"&D9,'[17]CANAL 15'!$A:$R,4,FALSE),"")&IFERROR(VLOOKUP($B$3&"_"&D9,'[18]CANAL 16'!$A:$R,4,FALSE),"") -> 12345 | H9: =IFERROR(VLOOKUP($B$3&"_"&D9,'CANAL 17'!$A:$R,5,FALSE),"")&IFERROR(VLOOKUP($B$3&"_"&D9,'[2]CANAL 18'!$A:$R,5,FALSE),"")&IFERROR(VLOOKUP($B$3&"_"&D9,'[3]CANAL 1'!$A:$R,5,FALSE),"")&IFERROR(VLOOKUP($B$3&"_"&D9,'[4]CANAL 2'!$A:$R,5,FALSE),"")&IFERROR(VLOOKUP($B$3&"_"&D9,'[5]CANAL 3'!$A:$R,5,FALSE),"")&IFERROR(VLOOKUP($B$3&"_"&D9,'[6]CANAL 4'!$A:$R,5,FALSE),"")&IFERROR(VLOOKUP($B$3&"_"&D9,'[7]CANAL 5'!$A:$R,5,FALSE),"")&IFERROR(VLOOKUP($B$3&"_"&D9,'[8]CANAL 6'!$A:$R,5,FALSE),"")&IFERROR(VLOOKUP($B$3&"_"&D9,'[9]CANAL 7'!$A:$R,5,FALSE),"")&IFERROR(VLOOKUP($B$3&"_"&D9,'[10]CANAL 8'!$A:$R,5,FALSE),"")&IFERROR(VLOOKUP($B$3&"_"&D9,'[11]CANAL 9'!$A:$R,5,FALSE),"")&IFERROR(VLOOKUP($B$3&"_"&D9,'[12]CANAL 10'!$A:$R,5,FALSE),"")&IFERROR(VLOOKUP($B$3&"_"&D9,'[13]CANAL 11'!$A:$R,5,FALSE),"")&IFERROR(VLOOKUP($B$3&"_"&D9,'[14]CANAL 12'!$A:$R,5,FALSE),"")&IFERROR(VLOOKUP($B$3&"_"&D9,'[15]CANAL 13'!$A:$R,5,FALSE),"")&IFERROR(VLOOKUP($B$3&"_"&D9,'[16]CANAL 14'!$A:$R,5,FALSE),"")&IFERROR(VLOOKUP($B$3&"_"&D9,'[17]CANAL 15'!$A:$R,5,FALSE),"")&IFERROR(VLOOKUP($B$3&"_"&D9,'[18]CANAL 16'!$A:$R,5,FALSE),"") -> 1 | I9: =IFERROR(VLOOKUP($B$3&"_"&D9,'CANAL 17'!$A:$R,6,FALSE),"")&IFERROR(VLOOKUP($B$3&"_"&D9,'[2]CANAL 18'!$A:$R,6,FALSE),"")&IFERROR(VLOOKUP($B$3&"_"&D9,'[3]CANAL 1'!$A:$R,6,FALSE),"")&IFERROR(VLOOKUP($B$3&"_"&D9,'[4]CANAL 2'!$A:$R,6,FALSE),"")&IFERROR(VLOOKUP($B$3&"_"&D9,'[5]CANAL 3'!$A:$R,6,FALSE),"")&IFERROR(VLOOKUP($B$3&"_"&D9,'[6]CANAL 4'!$A:$R,6,FALSE),"")&IFERROR(VLOOKUP($B$3&"_"&D9,'[7]CANAL 5'!$A:$R,6,FALSE),"")&IFERROR(VLOOKUP($B$3&"_"&D9,'[8]CANAL 6'!$A:$R,6,FALSE),"")&IFERROR(VLOOKUP($B$3&"_"&D9,'[9]CANAL 7'!$A:$R,6,FALSE),"")&IFERROR(VLOOKUP($B$3&"_"&D9,'[10]CANAL 8'!$A:$R,6,FALSE),"")&IFERROR(VLOOKUP($B$3&"_"&D9,'[11]CANAL 9'!$A:$R,6,FALSE),"")&IFERROR(VLOOKUP($B$3&"_"&D9,'[12]CANAL 10'!$A:$R,6,FALSE),"")&IFERROR(VLOOKUP($B$3&"_"&D9,'[13]CANAL 11'!$A:$R,6,FALSE),"")&IFERROR(VLOOKUP($B$3&"_"&D9,'[14]CANAL 12'!$A:$R,6,FALSE),"")&IFERROR(VLOOKUP($B$3&"_"&D9,'[15]CANAL 13'!$A:$R,6,FALSE),"")&IFERROR(VLOOKUP($B$3&"_"&D9,'[16]CANAL 14'!$A:$R,6,FALSE),"")&IFERROR(VLOOKUP($B$3&"_"&D9,'[17]CANAL 15'!$A:$R,6,FALSE),"")&IFERROR(VLOOKUP($B$3&"_"&D9,'[18]CANAL 16'!$A:$R,6,FALSE),"") -> rien | J9: =IFERROR(VLOOKUP($B$3&"_"&D9,'CANAL 17'!$A:$R,7,FALSE),"")&IFERROR(VLOOKUP($B$3&"_"&D9,'[2]CANAL 18'!$A:$R,7,FALSE),"")&IFERROR(VLOOKUP($B$3&"_"&D9,'[3]CANAL 1'!$A:$R,7,FALSE),"")&IFERROR(VLOOKUP($B$3&"_"&D9,'[4]CANAL 2'!$A:$R,7,FALSE),"")&IFERROR(VLOOKUP($B$3&"_"&D9,'[5]CANAL 3'!$A:$R,7,FALSE),"")&IFERROR(VLOOKUP($B$3&"_"&D9,'[6]CANAL 4'!$A:$R,7,FALSE),"")&IFERROR(VLOOKUP($B$3&"_"&D9,'[7]CANAL 5'!$A:$R,7,FALSE),"")&IFERROR(VLOOKUP($B$3&"_"&D9,'[8]CANAL 6'!$A:$R,7,FALSE),"")&IFERROR(VLOOKUP($B$3&"_"&D9,'[9]CANAL 7'!$A:$R,7,FALSE),"")&IFERROR(VLOOKUP($B$3&"_"&D9,'[10]CANAL 8'!$A:$R,7,FALSE),"")&IFERROR(VLOOKUP($B$3&"_"&D9,'[11]CANAL 9'!$A:$R,7,FALSE),"")&IFERROR(VLOOKUP($B$3&"_"&D9,'[12]CANAL 10'!$A:$R,7,FALSE),"")&IFERROR(VLOOKUP($B$3&"_"&D9,'[13]CANAL 11'!$A:$R,7,FALSE),"")&IFERROR(VLOOKUP($B$3&"_"&D9,'[14]CANAL 12'!$A:$R,7,FALSE),"")&IFERROR(VLOOKUP($B$3&"_"&D9,'[15]CANAL 13'!$A:$R,7,FALSE),"")&IFERROR(VLOOKUP($B$3&"_"&D9,'[16]CANAL 14'!$A:$R,7,FALSE),"")&IFERROR(VLOOKUP($B$3&"_"&D9,'[17]CANAL 15'!$A:$R,7,FALSE),"")&IFERROR(VLOOKUP($B$3&"_"&D9,'[18]CANAL 16'!$A:$R,7,FALSE),"") -> AZERTY | K9: =IFERROR(VLOOKUP($B$3&"_"&D9,'CANAL 17'!$A:$R,8,FALSE),"")&IFERROR(VLOOKUP($B$3&"_"&D9,'[2]CANAL 18'!$A:$R,8,FALSE),"")&IFERROR(VLOOKUP($B$3&"_"&D9,'[3]CANAL 1'!$A:$R,8,FALSE),"")&IFERROR(VLOOKUP($B$3&"_"&D9,'[4]CANAL 2'!$A:$R,8,FALSE),"")&IFERROR(VLOOKUP($B$3&"_"&D9,'[5]CANAL 3'!$A:$R,8,FALSE),"")&IFERROR(VLOOKUP($B$3&"_"&D9,'[6]CANAL 4'!$A:$R,8,FALSE),"")&IFERROR(VLOOKUP($B$3&"_"&D9,'[7]CANAL 5'!$A:$R,8,FALSE),"")&IFERROR(VLOOKUP($B$3&"_"&D9,'[8]CANAL 6'!$A:$R,8,FALSE),"")&IFERROR(VLOOKUP($B$3&"_"&D9,'[9]CANAL 7'!$A:$R,8,FALSE),"")&IFERROR(VLOOKUP($B$3&"_"&D9,'[10]CANAL 8'!$A:$R,8,FALSE),"")&IFERROR(VLOOKUP($B$3&"_"&D9,'[11]CANAL 9'!$A:$R,8,FALSE),"")&IFERROR(VLOOKUP($B$3&"_"&D9,'[12]CANAL 10'!$A:$R,8,FALSE),"")&IFERROR(VLOOKUP($B$3&"_"&D9,'[13]CANAL 11'!$A:$R,8,FALSE),"")&IFERROR(VLOOKUP($B$3&"_"&D9,'[14]CANAL 12'!$A:$R,8,FALSE),"")&IFERROR(VLOOKUP($B$3&"_"&D9,'[15]CANAL 13'!$A:$R,8,FALSE),"")&IFERROR(VLOOKUP($B$3&"_"&D9,'[16]CANAL 14'!$A:$R,8,FALSE),"")&IFERROR(VLOOKUP($B$3&"_"&D9,'[17]CANAL 15'!$A:$R,8,FALSE),"")&IFERROR(VLOOKUP($B$3&"_"&D9,'[18]CANAL 16'!$A:$R,8,FALSE),"") -> 0 | L9: =IFERROR(VLOOKUP($B$3&"_"&D9,'CANAL 17'!$A:$R,9,FALSE),"")&IFERROR(VLOOKUP($B$3&"_"&D9,'[2]CANAL 18'!$A:$R,9,FALSE),"")&IFERROR(VLOOKUP($B$3&"_"&D9,'[3]CANAL 1'!$A:$R,9,FALSE),"")&IFERROR(VLOOKUP($B$3&"_"&D9,'[4]CANAL 2'!$A:$R,9,FALSE),"")&IFERROR(VLOOKUP($B$3&"_"&D9,'[5]CANAL 3'!$A:$R,9,FALSE),"")&IFERROR(VLOOKUP($B$3&"_"&D9,'[6]CANAL 4'!$A:$R,9,FALSE),"")&IFERROR(VLOOKUP($B$3&"_"&D9,'[7]CANAL 5'!$A:$R,9,FALSE),"")&IFERROR(VLOOKUP($B$3&"_"&D9,'[8]CANAL 6'!$A:$R,9,FALSE),"")&IFERROR(VLOOKUP($B$3&"_"&D9,'[9]CANAL 7'!$A:$R,9,FALSE),"")&IFERROR(VLOOKUP($B$3&"_"&D9,'[10]CANAL 8'!$A:$R,9,FALSE),"")&IFERROR(VLOOKUP($B$3&"_"&D9,'[11]CANAL 9'!$A:$R,9,FALSE),"")&IFERROR(VLOOKUP($B$3&"_"&D9,'[12]CANAL 10'!$A:$R,9,FALSE),"")&IFERROR(VLOOKUP($B$3&"_"&D9,'[13]CANAL 11'!$A:$R,9,FALSE),"")&IFERROR(VLOOKUP($B$3&"_"&D9,'[14]CANAL 12'!$A:$R,9,FALSE),"")&IFERROR(VLOOKUP($B$3&"_"&D9,'[15]CANAL 13'!$A:$R,9,FALSE),"")&IFERROR(VLOOKUP($B$3&"_"&D9,'[16]CANAL 14'!$A:$R,9,FALSE),"")&IFERROR(VLOOKUP($B$3&"_"&D9,'[17]CANAL 15'!$A:$R,9,FALSE),"")&IFERROR(VLOOKUP($B$3&"_"&D9,'[18]CANAL 16'!$A:$R,9,FALSE),"") -> 0 | R9: =IFERROR(VLOOKUP($B$3&"_"&D9,'CANAL 17'!$A:$R,15,FALSE),"")&IFERROR(VLOOKUP($B$3&"_"&D9,'[2]CANAL 18'!$A:$R,15,FALSE),"")&IFERROR(VLOOKUP($B$3&"_"&D9,'[3]CANAL 1'!$A:$R,15,FALSE),"")&IFERROR(VLOOKUP($B$3&"_"&D9,'[4]CANAL 2'!$A:$R,15,FALSE),"")&IFERROR(VLOOKUP($B$3&"_"&D9,'[5]CANAL 3'!$A:$R,15,FALSE),"")&IFERROR(VLOOKUP($B$3&"_"&D9,'[6]CANAL 4'!$A:$R,15,FALSE),"")&IFERROR(VLOOKUP($B$3&"_"&D9,'[7]CANAL 5'!$A:$R,15,FALSE),"")&IFERROR(VLOOKUP($B$3&"_"&D9,'[8]CANAL 6'!$A:$R,15,FALSE),"")&IFERROR(VLOOKUP($B$3&"_"&D9,'[9]CANAL 7'!$A:$R,15,FALSE),"")&IFERROR(VLOOKUP($B$3&"_"&D9,'[10]CANAL 8'!$A:$R,15,FALSE),"")&IFERROR(VLOOKUP($B$3&"_"&D9,'[11]CANAL 9'!$A:$R,15,FALSE),"")&IFERROR(VLOOKUP($B$3&"_"&D9,'[12]CANAL 10'!$A:$R,15,FALSE),"")&IFERROR(VLOOKUP($B$3&"_"&D9,'[13]CANAL 11'!$A:$R,15,FALSE),"")&IFERROR(VLOOKUP($B$3&"_"&D9,'[14]CANAL 12'!$A:$R,15,FALSE),"")&IFERROR(VLOOKUP($B$3&"_"&D9,'[15]CANAL 13'!$A:$R,15,FALSE),"")&IFERROR(VLOOKUP($B$3&"_"&D9,'[16]CANAL 14'!$A:$R,15,FALSE),"")&IFERROR(VLOOKUP($B$3&"_"&D9,'[17]CANAL 15'!$A:$R,15,FALSE),"")&IFERROR(VLOOKUP($B$3&"_"&D9,'[18]CANAL 16'!$A:$R,15,FALSE),"") -> 0
D10: 2 | E10: =IFERROR(VLOOKUP($B$3&"_"&D10,'CANAL 17'!$A:$R,2,FALSE),"")&IFERROR(VLOOKUP($B$3&"_"&D10,'[2]CANAL 18'!$A:$R,2,FALSE),"")&IFERROR(VLOOKUP($B$3&"_"&D10,'[3]CANAL 1'!A:R,2,FALSE),"")&IFERROR(VLOOKUP($B$3&"_"&D10,'[4]CANAL 2'!A:R,2,FALSE),"")&IFERROR(VLOOKUP($B$3&"_"&D10,'[5]CANAL 3'!A:R,2,FALSE),"")&IFERROR(VLOOKUP($B$3&"_"&D10,'[6]CANAL 4'!A:R,2,FALSE),"")&IFERROR(VLOOKUP($B$3&"_"&D10,'[7]CANAL 5'!A:R,2,FALSE),"")&IFERROR(VLOOKUP($B$3&"_"&D10,'[8]CANAL 6'!A:R,2,FALSE),"")&IFERROR(VLOOKUP($B$3&"_"&D10,'[9]CANAL 7'!A:R,2,FALSE),"")&IFERROR(VLOOKUP($B$3&"_"&D10,'[10]CANAL 8'!A:R,2,FALSE),"")&IFERROR(VLOOKUP($B$3&"_"&D10,'[11]CANAL 9'!A:R,2,FALSE),"")&IFERROR(VLOOKUP($B$3&"_"&D10,'[12]CANAL 10'!A:R,2,FALSE),"")&IFERROR(VLOOKUP($B$3&"_"&D10,'[13]CANAL 11'!A:R,2,FALSE),"")&IFERROR(VLOOKUP($B$3&"_"&D10,'[14]CANAL 12'!A:R,2,FALSE),"")&IFERROR(VLOOKUP($B$3&"_"&D10,'[15]CANAL 13'!A:R,2,FALSE),"")&IFERROR(VLOOKUP($B$3&"_"&D10,'[16]CANAL 14'!A:R,2,FALSE),"")&IFERROR(VLOOKUP($B$3&"_"&D10,'[17]CANAL 15'!A:R,2,FALSE),"")&IFERROR(VLOOKUP($B$3&"_"&D10,'[18]CANAL 16'!A:R,2,FALSE),"") -> 2 | F10: =IFERROR(VLOOKUP($B$3&"_"&D10,'CANAL 17'!$A:$R,3,FALSE),"")&IFERROR(VLOOKUP($B$3&"_"&D10,'[2]CANAL 18'!$A:$R,3,FALSE),"")&IFERROR(VLOOKUP($B$3&"_"&D10,'[3]CANAL 1'!$A:$R,3,FALSE),"")&IFERROR(VLOOKUP($B$3&"_"&D10,'[4]CANAL 2'!$A:$R,3,FALSE),"")&IFERROR(VLOOKUP($B$3&"_"&D10,'[5]CANAL 3'!$A:$R,3,FALSE),"")&IFERROR(VLOOKUP($B$3&"_"&D10,'[6]CANAL 4'!$A:$R,3,FALSE),"")&IFERROR(VLOOKUP($B$3&"_"&D10,'[7]CANAL 5'!$A:$R,3,FALSE),"")&IFERROR(VLOOKUP($B$3&"_"&D10,'[8]CANAL 6'!$A:$R,3,FALSE),"")&IFERROR(VLOOKUP($B$3&"_"&D10,'[9]CANAL 7'!$A:$R,3,FALSE),"")&IFERROR(VLOOKUP($B$3&"_"&D10,'[10]CANAL 8'!$A:$R,3,FALSE),"")&IFERROR(VLOOKUP($B$3&"_"&D10,'[11]CANAL 9'!$A:$R,3,FALSE),"")&IFERROR(VLOOKUP($B$3&"_"&D10,'[12]CANAL 10'!$A:$R,3,FALSE),"")&IFERROR(VLOOKUP($B$3&"_"&D10,'[13]CANAL 11'!$A:$R,3,FALSE),"")&IFERROR(VLOOKUP($B$3&"_"&D10,'[14]CANAL 12'!$A:$R,3,FALSE),"")&IFERROR(VLOOKUP($B$3&"_"&D10,'[15]CANAL 13'!$A:$R,3,FALSE),"")&IFERROR(VLOOKUP($B$3&"_"&D10,'[16]CANAL 14'!$A:$R,3,FALSE),"")&IFERROR(VLOOKUP($B$3&"_"&D10,'[17]CANAL 15'!$A:$R,3,FALSE),"")&IFERROR(VLOOKUP($B$3&"_"&D10,'[18]CANAL 16'!$A:$R,3,FALSE),"") -> 1235 | G10: =IFERROR(VLOOKUP($B$3&"_"&D10,'CANAL 17'!$A:$R,4,FALSE),"")&IFERROR(VLOOKUP($B$3&"_"&D10,'[2]CANAL 18'!$A:$R,4,FALSE),"")&IFERROR(VLOOKUP($B$3&"_"&D10,'[3]CANAL 1'!$A:$R,4,FALSE),"")&IFERROR(VLOOKUP($B$3&"_"&D10,'[4]CANAL 2'!$A:$R,4,FALSE),"")&IFERROR(VLOOKUP($B$3&"_"&D10,'[5]CANAL 3'!$A:$R,4,FALSE),"")&IFERROR(VLOOKUP($B$3&"_"&D10,'[6]CANAL 4'!$A:$R,4,FALSE),"")&IFERROR(VLOOKUP($B$3&"_"&D10,'[7]CANAL 5'!$A:$R,4,FALSE),"")&IFERROR(VLOOKUP($B$3&"_"&D10,'[8]CANAL 6'!$A:$R,4,FALSE),"")&IFERROR(VLOOKUP($B$3&"_"&D10,'[9]CANAL 7'!$A:$R,4,FALSE),"")&IFERROR(VLOOKUP($B$3&"_"&D10,'[10]CANAL 8'!$A:$R,4,FALSE),"")&IFERROR(VLOOKUP($B$3&"_"&D10,'[11]CANAL 9'!$A:$R,4,FALSE),"")&IFERROR(VLOOKUP($B$3&"_"&D10,'[12]CANAL 10'!$A:$R,4,FALSE),"")&IFERROR(VLOOKUP($B$3&"_"&D10,'[13]CANAL 11'!$A:$R,4,FALSE),"")&IFERROR(VLOOKUP($B$3&"_"&D10,'[14]CANAL 12'!$A:$R,4,FALSE),"")&IFERROR(VLOOKUP($B$3&"_"&D10,'[15]CANAL 13'!$A:$R,4,FALSE),"")&IFERROR(VLOOKUP($B$3&"_"&D10,'[16]CANAL 14'!$A:$R,4,FALSE),"")&IFERROR(VLOOKUP($B$3&"_"&D10,'[17]CANAL 15'!$A:$R,4,FALSE),"")&IFERROR(VLOOKUP($B$3&"_"&D10,'[18]CANAL 16'!$A:$R,4,FALSE),"") -> 12345 | H10: =IFERROR(VLOOKUP($B$3&"_"&D10,'CANAL 17'!$A:$R,5,FALSE),"")&IFERROR(VLOOKUP($B$3&"_"&D10,'[2]CANAL 18'!$A:$R,5,FALSE),"")&IFERROR(VLOOKUP($B$3&"_"&D10,'[3]CANAL 1'!$A:$R,5,FALSE),"")&IFERROR(VLOOKUP($B$3&"_"&D10,'[4]CANAL 2'!$A:$R,5,FALSE),"")&IFERROR(VLOOKUP($B$3&"_"&D10,'[5]CANAL 3'!$A:$R,5,FALSE),"")&IFERROR(VLOOKUP($B$3&"_"&D10,'[6]CANAL 4'!$A:$R,5,FALSE),"")&IFERROR(VLOOKUP($B$3&"_"&D10,'[7]CANAL 5'!$A:$R,5,FALSE),"")&IFERROR(VLOOKUP($B$3&"_"&D10,'[8]CANAL 6'!$A:$R,5,FALSE),"")&IFERROR(VLOOKUP($B$3&"_"&D10,'[9]CANAL 7'!$A:$R,5,FALSE),"")&IFERROR(VLOOKUP($B$3&"_"&D10,'[10]CANAL 8'!$A:$R,5,FALSE),"")&IFERROR(VLOOKUP($B$3&"_"&D10,'[11]CANAL 9'!$A:$R,5,FALSE),"")&IFERROR(VLOOKUP($B$3&"_"&D10,'[12]CANAL 10'!$A:$R,5,FALSE),"")&IFERROR(VLOOKUP($B$3&"_"&D10,'[13]CANAL 11'!$A:$R,5,FALSE),"")&IFERROR(VLOOKUP($B$3&"_"&D10,'[14]CANAL 12'!$A:$R,5,FALSE),"")&IFERROR(VLOOKUP($B$3&"_"&D10,'[15]CANAL 13'!$A:$R,5,FALSE),"")&IFERROR(VLOOKUP($B$3&"_"&D10,'[16]CANAL 14'!$A:$R,5,FALSE),"")&IFERROR(VLOOKUP($B$3&"_"&D10,'[17]CANAL 15'!$A:$R,5,FALSE),"")&IFERROR(VLOOKUP($B$3&"_"&D10,'[18]CANAL 16'!$A:$R,5,FALSE),"") -> 2 | I10: =IFERROR(VLOOKUP($B$3&"_"&D10,'CANAL 17'!$A:$R,6,FALSE),"")&IFERROR(VLOOKUP($B$3&"_"&D10,'[2]CANAL 18'!$A:$R,6,FALSE),"")&IFERROR(VLOOKUP($B$3&"_"&D10,'[3]CANAL 1'!$A:$R,6,FALSE),"")&IFERROR(VLOOKUP($B$3&"_"&D10,'[4]CANAL 2'!$A:$R,6,FALSE),"")&IFERROR(VLOOKUP($B$3&"_"&D10,'[5]CANAL 3'!$A:$R,6,FALSE),"")&IFERROR(VLOOKUP($B$3&"_"&D10,'[6]CANAL 4'!$A:$R,6,FALSE),"")&IFERROR(VLOOKUP($B$3&"_"&D10,'[7]CANAL 5'!$A:$R,6,FALSE),"")&IFERROR(VLOOKUP($B$3&"_"&D10,'[8]CANAL 6'!$A:$R,6,FALSE),"")&IFERROR(VLOOKUP($B$3&"_"&D10,'[9]CANAL 7'!$A:$R,6,FALSE),"")&IFERROR(VLOOKUP($B$3&"_"&D10,'[10]CANAL 8'!$A:$R,6,FALSE),"")&IFERROR(VLOOKUP($B$3&"_"&D10,'[11]CANAL 9'!$A:$R,6,FALSE),"")&IFERROR(VLOOKUP($B$3&"_"&D10,'[12]CANAL 10'!$A:$R,6,FALSE),"")&IFERROR(VLOOKUP($B$3&"_"&D10,'[13]CANAL 11'!$A:$R,6,FALSE),"")&IFERROR(VLOOKUP($B$3&"_"&D10,'[14]CANAL 12'!$A:$R,6,FALSE),"")&IFERROR(VLOOKUP($B$3&"_"&D10,'[15]CANAL 13'!$A:$R,6,FALSE),"")&IFERROR(VLOOKUP($B$3&"_"&D10,'[16]CANAL 14'!$A:$R,6,FALSE),"")&IFERROR(VLOOKUP($B$3&"_"&D10,'[17]CANAL 15'!$A:$R,6,FALSE),"")&IFERROR(VLOOKUP($B$3&"_"&D10,'[18]CANAL 16'!$A:$R,6,FALSE),"") -> rien | J10: =IFERROR(VLOOKUP($B$3&"_"&D10,'CANAL 17'!$A:$R,7,FALSE),"")&IFERROR(VLOOKUP($B$3&"_"&D10,'[2]CANAL 18'!$A:$R,7,FALSE),"")&IFERROR(VLOOKUP($B$3&"_"&D10,'[3]CANAL 1'!$A:$R,7,FALSE),"")&IFERROR(VLOOKUP($B$3&"_"&D10,'[4]CANAL 2'!$A:$R,7,FALSE),"")&IFERROR(VLOOKUP($B$3&"_"&D10,'[5]CANAL 3'!$A:$R,7,FALSE),"")&IFERROR(VLOOKUP($B$3&"_"&D10,'[6]CANAL 4'!$A:$R,7,FALSE),"")&IFERROR(VLOOKUP($B$3&"_"&D10,'[7]CANAL 5'!$A:$R,7,FALSE),"")&IFERROR(VLOOKUP($B$3&"_"&D10,'[8]CANAL 6'!$A:$R,7,FALSE),"")&IFERROR(VLOOKUP($B$3&"_"&D10,'[9]CANAL 7'!$A:$R,7,FALSE),"")&IFERROR(VLOOKUP($B$3&"_"&D10,'[10]CANAL 8'!$A:$R,7,FALSE),"")&IFERROR(VLOOKUP($B$3&"_"&D10,'[11]CANAL 9'!$A:$R,7,FALSE),"")&IFERROR(VLOOKUP($B$3&"_"&D10,'[12]CANAL 10'!$A:$R,7,FALSE),"")&IFERROR(VLOOKUP($B$3&"_"&D10,'[13]CANAL 11'!$A:$R,7,FALSE),"")&IFERROR(VLOOKUP($B$3&"_"&D10,'[14]CANAL 12'!$A:$R,7,FALSE),"")&IFERROR(VLOOKUP($B$3&"_"&D10,'[15]CANAL 13'!$A:$R,7,FALSE),"")&IFERROR(VLOOKUP($B$3&"_"&D10,'[16]CANAL 14'!$A:$R,7,FALSE),"")&IFERROR(VLOOKUP($B$3&"_"&D10,'[17]CANAL 15'!$A:$R,7,FALSE),"")&IFERROR(VLOOKUP($B$3&"_"&D10,'[18]CANAL 16'!$A:$R,7,FALSE),"") -> AZERTY | K10: =IFERROR(VLOOKUP($B$3&"_"&D10,'CANAL 17'!$A:$R,8,FALSE),"")&IFERROR(VLOOKUP($B$3&"_"&D10,'[2]CANAL 18'!$A:$R,8,FALSE),"")&IFERROR(VLOOKUP($B$3&"_"&D10,'[3]CANAL 1'!$A:$R,8,FALSE),"")&IFERROR(VLOOKUP($B$3&"_"&D10,'[4]CANAL 2'!$A:$R,8,FALSE),"")&IFERROR(VLOOKUP($B$3&"_"&D10,'[5]CANAL 3'!$A:$R,8,FALSE),"")&IFERROR(VLOOKUP($B$3&"_"&D10,'[6]CANAL 4'!$A:$R,8,FALSE),"")&IFERROR(VLOOKUP($B$3&"_"&D10,'[7]CANAL 5'!$A:$R,8,FALSE),"")&IFERROR(VLOOKUP($B$3&"_"&D10,'[8]CANAL 6'!$A:$R,8,FALSE),"")&IFERROR(VLOOKUP($B$3&"_"&D10,'[9]CANAL 7'!$A:$R,8,FALSE),"")&IFERROR(VLOOKUP($B$3&"_"&D10,'[10]CANAL 8'!$A:$R,8,FALSE),"")&IFERROR(VLOOKUP($B$3&"_"&D10,'[11]CANAL 9'!$A:$R,8,FALSE),"")&IFERROR(VLOOKUP($B$3&"_"&D10,'[12]CANAL 10'!$A:$R,8,FALSE),"")&IFERROR(VLOOKUP($B$3&"_"&D10,'[13]CANAL 11'!$A:$R,8,FALSE),"")&IFERROR(VLOOKUP($B$3&"_"&D10,'[14]CANAL 12'!$A:$R,8,FALSE),"")&IFERROR(VLOOKUP($B$3&"_"&D10,'[15]CANAL 13'!$A:$R,8,FALSE),"")&IFERROR(VLOOKUP($B$3&"_"&D10,'[16]CANAL 14'!$A:$R,8,FALSE),"")&IFERROR(VLOOKUP($B$3&"_"&D10,'[17]CANAL 15'!$A:$R,8,FALSE),"")&IFERROR(VLOOKUP($B$3&"_"&D10,'[18]CANAL 16'!$A:$R,8,FALSE),"") -> 0 | L10: =IFERROR(VLOOKUP($B$3&"_"&D10,'CANAL 17'!$A:$R,9,FALSE),"")&IFERROR(VLOOKUP($B$3&"_"&D10,'[2]CANAL 18'!$A:$R,9,FALSE),"")&IFERROR(VLOOKUP($B$3&"_"&D10,'[3]CANAL 1'!$A:$R,9,FALSE),"")&IFERROR(VLOOKUP($B$3&"_"&D10,'[4]CANAL 2'!$A:$R,9,FALSE),"")&IFERROR(VLOOKUP($B$3&"_"&D10,'[5]CANAL 3'!$A:$R,9,FALSE),"")&IFERROR(VLOOKUP($B$3&"_"&D10,'[6]CANAL 4'!$A:$R,9,FALSE),"")&IFERROR(VLOOKUP($B$3&"_"&D10,'[7]CANAL 5'!$A:$R,9,FALSE),"")&IFERROR(VLOOKUP($B$3&"_"&D10,'[8]CANAL 6'!$A:$R,9,FALSE),"")&IFERROR(VLOOKUP($B$3&"_"&D10,'[9]CANAL 7'!$A:$R,9,FALSE),"")&IFERROR(VLOOKUP($B$3&"_"&D10,'[10]CANAL 8'!$A:$R,9,FALSE),"")&IFERROR(VLOOKUP($B$3&"_"&D10,'[11]CANAL 9'!$A:$R,9,FALSE),"")&IFERROR(VLOOKUP($B$3&"_"&D10,'[12]CANAL 10'!$A:$R,9,FALSE),"")&IFERROR(VLOOKUP($B$3&"_"&D10,'[13]CANAL 11'!$A:$R,9,FALSE),"")&IFERROR(VLOOKUP($B$3&"_"&D10,'[14]CANAL 12'!$A:$R,9,FALSE),"")&IFERROR(VLOOKUP($B$3&"_"&D10,'[15]CANAL 13'!$A:$R,9,FALSE),"")&IFERROR(VLOOKUP($B$3&"_"&D10,'[16]CANAL 14'!$A:$R,9,FALSE),"")&IFERROR(VLOOKUP($B$3&"_"&D10,'[17]CANAL 15'!$A:$R,9,FALSE),"")&IFERROR(VLOOKUP($B$3&"_"&D10,'[18]CANAL 16'!$A:$R,9,FALSE),"") -> 0 | R10: =IFERROR(VLOOKUP($B$3&"_"&D10,'CANAL 17'!$A:$R,15,FALSE),"")&IFERROR(VLOOKUP($B$3&"_"&D10,'[2]CANAL 18'!$A:$R,15,FALSE),"")&IFERROR(VLOOKUP($B$3&"_"&D10,'[3]CANAL 1'!$A:$R,15,FALSE),"")&IFERROR(VLOOKUP($B$3&"_"&D10,'[4]CANAL 2'!$A:$R,15,FALSE),"")&IFERROR(VLOOKUP($B$3&"_"&D10,'[5]CANAL 3'!$A:$R,15,FALSE),"")&IFERROR(VLOOKUP($B$3&"_"&D10,'[6]CANAL 4'!$A:$R,15,FALSE),"")&IFERROR(VLOOKUP($B$3&"_"&D10,'[7]CANAL 5'!$A:$R,15,FALSE),"")&IFERROR(VLOOKUP($B$3&"_"&D10,'[8]CANAL 6'!$A:$R,15,FALSE),"")&IFERROR(VLOOKUP($B$3&"_"&D10,'[9]CANAL 7'!$A:$R,15,FALSE),"")&IFERROR(VLOOKUP($B$3&"_"&D10,'[10]CANAL 8'!$A:$R,15,FALSE),"")&IFERROR(VLOOKUP($B$3&"_"&D10,'[11]CANAL 9'!$A:$R,15,FALSE),"")&IFERROR(VLOOKUP($B$3&"_"&D10,'[12]CANAL 10'!$A:$R,15,FALSE),"")&IFERROR(VLOOKUP($B$3&"_"&D10,'[13]CANAL 11'!$A:$R,15,FALSE),"")&IFERROR(VLOOKUP($B$3&"_"&D10,'[14]CANAL 12'!$A:$R,15,FALSE),"")&IFERROR(VLOOKUP($B$3&"_"&D10,'[15]CANAL 13'!$A:$R,15,FALSE),"")&IFERROR(VLOOKUP($B$3&"_"&D10,'[16]CANAL 14'!$A:$R,15,FALSE),"")&IFERROR(VLOOKUP($B$3&"_"&D10,'[17]CANAL 15'!$A:$R,15,FALSE),"")&IFERROR(VLOOKUP($B$3&"_"&D10,'[18]CANAL 16'!$A:$R,15,FALSE),"") -> 1
D11: 3 | E11: =IFERROR(VLOOKUP($B$3&"_"&D11,'CANAL 17'!$A:$R,2,FALSE),"")&IFERROR(VLOOKUP($B$3&"_"&D11,'[2]CANAL 18'!$A:$R,2,FALSE),"")&IFERROR(VLOOKUP($B$3&"_"&D11,'[3]CANAL 1'!A:R,2,FALSE),"")&IFERROR(VLOOKUP($B$3&"_"&D11,'[4]CANAL 2'!A:R,2,FALSE),"")&IFERROR(VLOOKUP($B$3&"_"&D11,'[5]CANAL 3'!A:R,2,FALSE),"")&IFERROR(VLOOKUP($B$3&"_"&D11,'[6]CANAL 4'!A:R,2,FALSE),"")&IFERROR(VLOOKUP($B$3&"_"&D11,'[7]CANAL 5'!A:R,2,FALSE),"")&IFERROR(VLOOKUP($B$3&"_"&D11,'[8]CANAL 6'!A:R,2,FALSE),"")&IFERROR(VLOOKUP($B$3&"_"&D11,'[9]CANAL 7'!A:R,2,FALSE),"")&IFERROR(VLOOKUP($B$3&"_"&D11,'[10]CANAL 8'!A:R,2,FALSE),"")&IFERROR(VLOOKUP($B$3&"_"&D11,'[11]CANAL 9'!A:R,2,FALSE),"")&IFERROR(VLOOKUP($B$3&"_"&D11,'[12]CANAL 10'!A:R,2,FALSE),"")&IFERROR(VLOOKUP($B$3&"_"&D11,'[13]CANAL 11'!A:R,2,FALSE),"")&IFERROR(VLOOKUP($B$3&"_"&D11,'[14]CANAL 12'!A:R,2,FALSE),"")&IFERROR(VLOOKUP($B$3&"_"&D11,'[15]CANAL 13'!A:R,2,FALSE),"")&IFERROR(VLOOKUP($B$3&"_"&D11,'[16]CANAL 14'!A:R,2,FALSE),"")&IFERROR(VLOOKUP($B$3&"_"&D11,'[17]CANAL 15'!A:R,2,FALSE),"")&IFERROR(VLOOKUP($B$3&"_"&D11,'[18]CANAL 16'!A:R,2,FALSE),"") -> 3 | F11: =IFERROR(VLOOKUP($B$3&"_"&D11,'CANAL 17'!$A:$R,3,FALSE),"")&IFERROR(VLOOKUP($B$3&"_"&D11,'[2]CANAL 18'!$A:$R,3,FALSE),"")&IFERROR(VLOOKUP($B$3&"_"&D11,'[3]CANAL 1'!$A:$R,3,FALSE),"")&IFERROR(VLOOKUP($B$3&"_"&D11,'[4]CANAL 2'!$A:$R,3,FALSE),"")&IFERROR(VLOOKUP($B$3&"_"&D11,'[5]CANAL 3'!$A:$R,3,FALSE),"")&IFERROR(VLOOKUP($B$3&"_"&D11,'[6]CANAL 4'!$A:$R,3,FALSE),"")&IFERROR(VLOOKUP($B$3&"_"&D11,'[7]CANAL 5'!$A:$R,3,FALSE),"")&IFERROR(VLOOKUP($B$3&"_"&D11,'[8]CANAL 6'!$A:$R,3,FALSE),"")&IFERROR(VLOOKUP($B$3&"_"&D11,'[9]CANAL 7'!$A:$R,3,FALSE),"")&IFERROR(VLOOKUP($B$3&"_"&D11,'[10]CANAL 8'!$A:$R,3,FALSE),"")&IFERROR(VLOOKUP($B$3&"_"&D11,'[11]CANAL 9'!$A:$R,3,FALSE),"")&IFERROR(VLOOKUP($B$3&"_"&D11,'[12]CANAL 10'!$A:$R,3,FALSE),"")&IFERROR(VLOOKUP($B$3&"_"&D11,'[13]CANAL 11'!$A:$R,3,FALSE),"")&IFERROR(VLOOKUP($B$3&"_"&D11,'[14]CANAL 12'!$A:$R,3,FALSE),"")&IFERROR(VLOOKUP($B$3&"_"&D11,'[15]CANAL 13'!$A:$R,3,FALSE),"")&IFERROR(VLOOKUP($B$3&"_"&D11,'[16]CANAL 14'!$A:$R,3,FALSE),"")&IFERROR(VLOOKUP($B$3&"_"&D11,'[17]CANAL 15'!$A:$R,3,FALSE),"")&IFERROR(VLOOKUP($B$3&"_"&D11,'[18]CANAL 16'!$A:$R,3,FALSE),"") -> 1236 | G11: =IFERROR(VLOOKUP($B$3&"_"&D11,'CANAL 17'!$A:$R,4,FALSE),"")&IFERROR(VLOOKUP($B$3&"_"&D11,'[2]CANAL 18'!$A:$R,4,FALSE),"")&IFERROR(VLOOKUP($B$3&"_"&D11,'[3]CANAL 1'!$A:$R,4,FALSE),"")&IFERROR(VLOOKUP($B$3&"_"&D11,'[4]CANAL 2'!$A:$R,4,FALSE),"")&IFERROR(VLOOKUP($B$3&"_"&D11,'[5]CANAL 3'!$A:$R,4,FALSE),"")&IFERROR(VLOOKUP($B$3&"_"&D11,'[6]CANAL 4'!$A:$R,4,FALSE),"")&IFERROR(VLOOKUP($B$3&"_"&D11,'[7]CANAL 5'!$A:$R,4,FALSE),"")&IFERROR(VLOOKUP($B$3&"_"&D11,'[8]CANAL 6'!$A:$R,4,FALSE),"")&IFERROR(VLOOKUP($B$3&"_"&D11,'[9]CANAL 7'!$A:$R,4,FALSE),"")&IFERROR(VLOOKUP($B$3&"_"&D11,'[10]CANAL 8'!$A:$R,4,FALSE),"")&IFERROR(VLOOKUP($B$3&"_"&D11,'[11]CANAL 9'!$A:$R,4,FALSE),"")&IFERROR(VLOOKUP($B$3&"_"&D11,'[12]CANAL 10'!$A:$R,4,FALSE),"")&IFERROR(VLOOKUP($B$3&"_"&D11,'[13]CANAL 11'!$A:$R,4,FALSE),"")&IFERROR(VLOOKUP($B$3&"_"&D11,'[14]CANAL 12'!$A:$R,4,FALSE),"")&IFERROR(VLOOKUP($B$3&"_"&D11,'[15]CANAL 13'!$A:$R,4,FALSE),"")&IFERROR(VLOOKUP($B$3&"_"&D11,'[16]CANAL 14'!$A:$R,4,FALSE),"")&IFERROR(VLOOKUP($B$3&"_"&D11,'[17]CANAL 15'!$A:$R,4,FALSE),"")&IFERROR(VLOOKUP($B$3&"_"&D11,'[18]CANAL 16'!$A:$R,4,FALSE),"") -> 12345 | H11: =IFERROR(VLOOKUP($B$3&"_"&D11,'CANAL 17'!$A:$R,5,FALSE),"")&IFERROR(VLOOKUP($B$3&"_"&D11,'[2]CANAL 18'!$A:$R,5,FALSE),"")&IFERROR(VLOOKUP($B$3&"_"&D11,'[3]CANAL 1'!$A:$R,5,FALSE),"")&IFERROR(VLOOKUP($B$3&"_"&D11,'[4]CANAL 2'!$A:$R,5,FALSE),"")&IFERROR(VLOOKUP($B$3&"_"&D11,'[5]CANAL 3'!$A:$R,5,FALSE),"")&IFERROR(VLOOKUP($B$3&"_"&D11,'[6]CANAL 4'!$A:$R,5,FALSE),"")&IFERROR(VLOOKUP($B$3&"_"&D11,'[7]CANAL 5'!$A:$R,5,FALSE),"")&IFERROR(VLOOKUP($B$3&"_"&D11,'[8]CANAL 6'!$A:$R,5,FALSE),"")&IFERROR(VLOOKUP($B$3&"_"&D11,'[9]CANAL 7'!$A:$R,5,FALSE),"")&IFERROR(VLOOKUP($B$3&"_"&D11,'[10]CANAL 8'!$A:$R,5,FALSE),"")&IFERROR(VLOOKUP($B$3&"_"&D11,'[11]CANAL 9'!$A:$R,5,FALSE),"")&IFERROR(VLOOKUP($B$3&"_"&D11,'[12]CANAL 10'!$A:$R,5,FALSE),"")&IFERROR(VLOOKUP($B$3&"_"&D11,'[13]CANAL 11'!$A:$R,5,FALSE),"")&IFERROR(VLOOKUP($B$3&"_"&D11,'[14]CANAL 12'!$A:$R,5,FALSE),"")&IFERROR(VLOOKUP($B$3&"_"&D11,'[15]CANAL 13'!$A:$R,5,FALSE),"")&IFERROR(VLOOKUP($B$3&"_"&D11,'[16]CANAL 14'!$A:$R,5,FALSE),"")&IFERROR(VLOOKUP($B$3&"_"&D11,'[17]CANAL 15'!$A:$R,5,FALSE),"")&IFERROR(VLOOKUP($B$3&"_"&D11,'[18]CANAL 16'!$A:$R,5,FALSE),"") -> 2 | I11: =IFERROR(VLOOKUP($B$3&"_"&D11,'CANAL 17'!$A:$R,6,FALSE),"")&IFERROR(VLOOKUP($B$3&"_"&D11,'[2]CANAL 18'!$A:$R,6,FALSE),"")&IFERROR(VLOOKUP($B$3&"_"&D11,'[3]CANAL 1'!$A:$R,6,FALSE),"")&IFERROR(VLOOKUP($B$3&"_"&D11,'[4]CANAL 2'!$A:$R,6,FALSE),"")&IFERROR(VLOOKUP($B$3&"_"&D11,'[5]CANAL 3'!$A:$R,6,FALSE),"")&IFERROR(VLOOKUP($B$3&"_"&D11,'[6]CANAL 4'!$A:$R,6,FALSE),"")&IFERROR(VLOOKUP($B$3&"_"&D11,'[7]CANAL 5'!$A:$R,6,FALSE),"")&IFERROR(VLOOKUP($B$3&"_"&D11,'[8]CANAL 6'!$A:$R,6,FALSE),"")&IFERROR(VLOOKUP($B$3&"_"&D11,'[9]CANAL 7'!$A:$R,6,FALSE),"")&IFERROR(VLOOKUP($B$3&"_"&D11,'[10]CANAL 8'!$A:$R,6,FALSE),"")&IFERROR(VLOOKUP($B$3&"_"&D11,'[11]CANAL 9'!$A:$R,6,FALSE),"")&IFERROR(VLOOKUP($B$3&"_"&D11,'[12]CANAL 10'!$A:$R,6,FALSE),"")&IFERROR(VLOOKUP($B$3&"_"&D11,'[13]CANAL 11'!$A:$R,6,FALSE),"")&IFERROR(VLOOKUP($B$3&"_"&D11,'[14]CANAL 12'!$A:$R,6,FALSE),"")&IFERROR(VLOOKUP($B$3&"_"&D11,'[15]CANAL 13'!$A:$R,6,FALSE),"")&IFERROR(VLOOKUP($B$3&"_"&D11,'[16]CANAL 14'!$A:$R,6,FALSE),"")&IFERROR(VLOOKUP($B$3&"_"&D11,'[17]CANAL 15'!$A:$R,6,FALSE),"")&IFERROR(VLOOKUP($B$3&"_"&D11,'[18]CANAL 16'!$A:$R,6,FALSE),"") -> rien | J11: =IFERROR(VLOOKUP($B$3&"_"&D11,'CANAL 17'!$A:$R,7,FALSE),"")&IFERROR(VLOOKUP($B$3&"_"&D11,'[2]CANAL 18'!$A:$R,7,FALSE),"")&IFERROR(VLOOKUP($B$3&"_"&D11,'[3]CANAL 1'!$A:$R,7,FALSE),"")&IFERROR(VLOOKUP($B$3&"_"&D11,'[4]CANAL 2'!$A:$R,7,FALSE),"")&IFERROR(VLOOKUP($B$3&"_"&D11,'[5]CANAL 3'!$A:$R,7,FALSE),"")&IFERROR(VLOOKUP($B$3&"_"&D11,'[6]CANAL 4'!$A:$R,7,FALSE),"")&IFERROR(VLOOKUP($B$3&"_"&D11,'[7]CANAL 5'!$A:$R,7,FALSE),"")&IFERROR(VLOOKUP($B$3&"_"&D11,'[8]CANAL 6'!$A:$R,7,FALSE),"")&IFERROR(VLOOKUP($B$3&"_"&D11,'[9]CANAL 7'!$A:$R,7,FALSE),"")&IFERROR(VLOOKUP($B$3&"_"&D11,'[10]CANAL 8'!$A:$R,7,FALSE),"")&IFERROR(VLOOKUP($B$3&"_"&D11,'[11]CANAL 9'!$A:$R,7,FALSE),"")&IFERROR(VLOOKUP($B$3&"_"&D11,'[12]CANAL 10'!$A:$R,7,FALSE),"")&IFERROR(VLOOKUP($B$3&"_"&D11,'[13]CANAL 11'!$A:$R,7,FALSE),"")&IFERROR(VLOOKUP($B$3&"_"&D11,'[14]CANAL 12'!$A:$R,7,FALSE),"")&IFERROR(VLOOKUP($B$3&"_"&D11,'[15]CANAL 13'!$A:$R,7,FALSE),"")&IFERROR(VLOOKUP($B$3&"_"&D11,'[16]CANAL 14'!$A:$R,7,FALSE),"")&IFERROR(VLOOKUP($B$3&"_"&D11,'[17]CANAL 15'!$A:$R,7,FALSE),"")&IFERROR(VLOOKUP($B$3&"_"&D11,'[18]CANAL 16'!$A:$R,7,FALSE),"") -> AZERTY | K11: =IFERROR(VLOOKUP($B$3&"_"&D11,'CANAL 17'!$A:$R,8,FALSE),"")&IFERROR(VLOOKUP($B$3&"_"&D11,'[2]CANAL 18'!$A:$R,8,FALSE),"")&IFERROR(VLOOKUP($B$3&"_"&D11,'[3]CANAL 1'!$A:$R,8,FALSE),"")&IFERROR(VLOOKUP($B$3&"_"&D11,'[4]CANAL 2'!$A:$R,8,FALSE),"")&IFERROR(VLOOKUP($B$3&"_"&D11,'[5]CANAL 3'!$A:$R,8,FALSE),"")&IFERROR(VLOOKUP($B$3&"_"&D11,'[6]CANAL 4'!$A:$R,8,FALSE),"")&IFERROR(VLOOKUP($B$3&"_"&D11,'[7]CANAL 5'!$A:$R,8,FALSE),"")&IFERROR(VLOOKUP($B$3&"_"&D11,'[8]CANAL 6'!$A:$R,8,FALSE),"")&IFERROR(VLOOKUP($B$3&"_"&D11,'[9]CANAL 7'!$A:$R,8,FALSE),"")&IFERROR(VLOOKUP($B$3&"_"&D11,'[10]CANAL 8'!$A:$R,8,FALSE),"")&IFERROR(VLOOKUP($B$3&"_"&D11,'[11]CANAL 9'!$A:$R,8,FALSE),"")&IFERROR(VLOOKUP($B$3&"_"&D11,'[12]CANAL 10'!$A:$R,8,FALSE),"")&IFERROR(VLOOKUP($B$3&"_"&D11,'[13]CANAL 11'!$A:$R,8,FALSE),"")&IFERROR(VLOOKUP($B$3&"_"&D11,'[14]CANAL 12'!$A:$R,8,FALSE),"")&IFERROR(VLOOKUP($B$3&"_"&D11,'[15]CANAL 13'!$A:$R,8,FALSE),"")&IFERROR(VLOOKUP($B$3&"_"&D11,'[16]CANAL 14'!$A:$R,8,FALSE),"")&IFERROR(VLOOKUP($B$3&"_"&D11,'[17]CANAL 15'!$A:$R,8,FALSE),"")&IFERROR(VLOOKUP($B$3&"_"&D11,'[18]CANAL 16'!$A:$R,8,FALSE),"") -> 0 | L11: =IFERROR(VLOOKUP($B$3&"_"&D11,'CANAL 17'!$A:$R,9,FALSE),"")&IFERROR(VLOOKUP($B$3&"_"&D11,'[2]CANAL 18'!$A:$R,9,FALSE),"")&IFERROR(VLOOKUP($B$3&"_"&D11,'[3]CANAL 1'!$A:$R,9,FALSE),"")&IFERROR(VLOOKUP($B$3&"_"&D11,'[4]CANAL 2'!$A:$R,9,FALSE),"")&IFERROR(VLOOKUP($B$3&"_"&D11,'[5]CANAL 3'!$A:$R,9,FALSE),"")&IFERROR(VLOOKUP($B$3&"_"&D11,'[6]CANAL 4'!$A:$R,9,FALSE),"")&IFERROR(VLOOKUP($B$3&"_"&D11,'[7]CANAL 5'!$A:$R,9,FALSE),"")&IFERROR(VLOOKUP($B$3&"_"&D11,'[8]CANAL 6'!$A:$R,9,FALSE),"")&IFERROR(VLOOKUP($B$3&"_"&D11,'[9]CANAL 7'!$A:$R,9,FALSE),"")&IFERROR(VLOOKUP($B$3&"_"&D11,'[10]CANAL 8'!$A:$R,9,FALSE),"")&IFERROR(VLOOKUP($B$3&"_"&D11,'[11]CANAL 9'!$A:$R,9,FALSE),"")&IFERROR(VLOOKUP($B$3&"_"&D11,'[12]CANAL 10'!$A:$R,9,FALSE),"")&IFERROR(VLOOKUP($B$3&"_"&D11,'[13]CANAL 11'!$A:$R,9,FALSE),"")&IFERROR(VLOOKUP($B$3&"_"&D11,'[14]CANAL 12'!$A:$R,9,FALSE),"")&IFERROR(VLOOKUP($B$3&"_"&D11,'[15]CANAL 13'!$A:$R,9,FALSE),"")&IFERROR(VLOOKUP($B$3&"_"&D11,'[16]CANAL 14'!$A:$R,9,FALSE),"")&IFERROR(VLOOKUP($B$3&"_"&D11,'[17]CANAL 15'!$A:$R,9,FALSE),"")&IFERROR(VLOOKUP($B$3&"_"&D11,'[18]CANAL 16'!$A:$R,9,FALSE),"") -> 0 | R11: =IFERROR(VLOOKUP($B$3&"_"&D11,'CANAL 17'!$A:$R,15,FALSE),"")&IFERROR(VLOOKUP($B$3&"_"&D11,'[2]CANAL 18'!$A:$R,15,FALSE),"")&IFERROR(VLOOKUP($B$3&"_"&D11,'[3]CANAL 1'!$A:$R,15,FALSE),"")&IFERROR(VLOOKUP($B$3&"_"&D11,'[4]CANAL 2'!$A:$R,15,FALSE),"")&IFERROR(VLOOKUP($B$3&"_"&D11,'[5]CANAL 3'!$A:$R,15,FALSE),"")&IFERROR(VLOOKUP($B$3&"_"&D11,'[6]CANAL 4'!$A:$R,15,FALSE),"")&IFERROR(VLOOKUP($B$3&"_"&D11,'[7]CANAL 5'!$A:$R,15,FALSE),"")&IFERROR(VLOOKUP($B$3&"_"&D11,'[8]CANAL 6'!$A:$R,15,FALSE),"")&IFERROR(VLOOKUP($B$3&"_"&D11,'[9]CANAL 7'!$A:$R,15,FALSE),"")&IFERROR(VLOOKUP($B$3&"_"&D11,'[10]CANAL 8'!$A:$R,15,FALSE),"")&IFERROR(VLOOKUP($B$3&"_"&D11,'[11]CANAL 9'!$A:$R,15,FALSE),"")&IFERROR(VLOOKUP($B$3&"_"&D11,'[12]CANAL 10'!$A:$R,15,FALSE),"")&IFERROR(VLOOKUP($B$3&"_"&D11,'[13]CANAL 11'!$A:$R,15,FALSE),"")&IFERROR(VLOOKUP($B$3&"_"&D11,'[14]CANAL 12'!$A:$R,15,FALSE),"")&IFERROR(VLOOKUP($B$3&"_"&D11,'[15]CANAL 13'!$A:$R,15,FALSE),"")&IFERROR(VLOOKUP($B$3&"_"&D11,'[16]CANAL 14'!$A:$R,15,FALSE),"")&IFERROR(VLOOKUP($B$3&"_"&D11,'[17]CANAL 15'!$A:$R,15,FALSE),"")&IFERROR(VLOOKUP($B$3&"_"&D11,'[18]CANAL 16'!$A:$R,15,FALSE),"") -> 0
D12: 4 | E12: =IFERROR(VLOOKUP($B$3&"_"&D12,'CANAL 17'!$A:$R,2,FALSE),"")&IFERROR(VLOOKUP($B$3&"_"&D12,'[2]CANAL 18'!$A:$R,2,FALSE),"")&IFERROR(VLOOKUP($B$3&"_"&D12,'[3]CANAL 1'!A:R,2,FALSE),"")&IFERROR(VLOOKUP($B$3&"_"&D12,'[4]CANAL 2'!A:R,2,FALSE),"")&IFERROR(VLOOKUP($B$3&"_"&D12,'[5]CANAL 3'!A:R,2,FALSE),"")&IFERROR(VLOOKUP($B$3&"_"&D12,'[6]CANAL 4'!A:R,2,FALSE),"")&IFERROR(VLOOKUP($B$3&"_"&D12,'[7]CANAL 5'!A:R,2,FALSE),"")&IFERROR(VLOOKUP($B$3&"_"&D12,'[8]CANAL 6'!A:R,2,FALSE),"")&IFERROR(VLOOKUP($B$3&"_"&D12,'[9]CANAL 7'!A:R,2,FALSE),"")&IFERROR(VLOOKUP($B$3&"_"&D12,'[10]CANAL 8'!A:R,2,FALSE),"")&IFERROR(VLOOKUP($B$3&"_"&D12,'[11]CANAL 9'!A:R,2,FALSE),"")&IFERROR(VLOOKUP($B$3&"_"&D12,'[12]CANAL 10'!A:R,2,FALSE),"")&IFERROR(VLOOKUP($B$3&"_"&D12,'[13]CANAL 11'!A:R,2,FALSE),"")&IFERROR(VLOOKUP($B$3&"_"&D12,'[14]CANAL 12'!A:R,2,FALSE),"")&IFERROR(VLOOKUP($B$3&"_"&D12,'[15]CANAL 13'!A:R,2,FALSE),"")&IFERROR(VLOOKUP($B$3&"_"&D12,'[16]CANAL 14'!A:R,2,FALSE),"")&IFERROR(VLOOKUP($B$3&"_"&D12,'[17]CANAL 15'!A:R,2,FALSE),"")&IFERROR(VLOOKUP($B$3&"_"&D12,'[18]CANAL 16'!A:R,2,FALSE),"") -> 4 | F12: =IFERROR(VLOOKUP($B$3&"_"&D12,'CANAL 17'!$A:$R,3,FALSE),"")&IFERROR(VLOOKUP($B$3&"_"&D12,'[2]CANAL 18'!$A:$R,3,FALSE),"")&IFERROR(VLOOKUP($B$3&"_"&D12,'[3]CANAL 1'!$A:$R,3,FALSE),"")&IFERROR(VLOOKUP($B$3&"_"&D12,'[4]CANAL 2'!$A:$R,3,FALSE),"")&IFERROR(VLOOKUP($B$3&"_"&D12,'[5]CANAL 3'!$A:$R,3,FALSE),"")&IFERROR(VLOOKUP($B$3&"_"&D12,'[6]CANAL 4'!$A:$R,3,FALSE),"")&IFERROR(VLOOKUP($B$3&"_"&D12,'[7]CANAL 5'!$A:$R,3,FALSE),"")&IFERROR(VLOOKUP($B$3&"_"&D12,'[8]CANAL 6'!$A:$R,3,FALSE),"")&IFERROR(VLOOKUP($B$3&"_"&D12,'[9]CANAL 7'!$A:$R,3,FALSE),"")&IFERROR(VLOOKUP($B$3&"_"&D12,'[10]CANAL 8'!$A:$R,3,FALSE),"")&IFERROR(VLOOKUP($B$3&"_"&D12,'[11]CANAL 9'!$A:$R,3,FALSE),"")&IFERROR(VLOOKUP($B$3&"_"&D12,'[12]CANAL 10'!$A:$R,3,FALSE),"")&IFERROR(VLOOKUP($B$3&"_"&D12,'[13]CANAL 11'!$A:$R,3,FALSE),"")&IFERROR(VLOOKUP($B$3&"_"&D12,'[14]CANAL 12'!$A:$R,3,FALSE),"")&IFERROR(VLOOKUP($B$3&"_"&D12,'[15]CANAL 13'!$A:$R,3,FALSE),"")&IFERROR(VLOOKUP($B$3&"_"&D12,'[16]CANAL 14'!$A:$R,3,FALSE),"")&IFERROR(VLOOKUP($B$3&"_"&D12,'[17]CANAL 15'!$A:$R,3,FALSE),"")&IFERROR(VLOOKUP($B$3&"_"&D12,'[18]CANAL 16'!$A:$R,3,FALSE),"") -> 1237 | G12: =IFERROR(VLOOKUP($B$3&"_"&D12,'CANAL 17'!$A:$R,4,FALSE),"")&IFERROR(VLOOKUP($B$3&"_"&D12,'[2]CANAL 18'!$A:$R,4,FALSE),"")&IFERROR(VLOOKUP($B$3&"_"&D12,'[3]CANAL 1'!$A:$R,4,FALSE),"")&IFERROR(VLOOKUP($B$3&"_"&D12,'[4]CANAL 2'!$A:$R,4,FALSE),"")&IFERROR(VLOOKUP($B$3&"_"&D12,'[5]CANAL 3'!$A:$R,4,FALSE),"")&IFERROR(VLOOKUP($B$3&"_"&D12,'[6]CANAL 4'!$A:$R,4,FALSE),"")&IFERROR(VLOOKUP($B$3&"_"&D12,'[7]CANAL 5'!$A:$R,4,FALSE),"")&IFERROR(VLOOKUP($B$3&"_"&D12,'[8]CANAL 6'!$A:$R,4,FALSE),"")&IFERROR(VLOOKUP($B$3&"_"&D12,'[9]CANAL 7'!$A:$R,4,FALSE),"")&IFERROR(VLOOKUP($B$3&"_"&D12,'[10]CANAL 8'!$A:$R,4,FALSE),"")&IFERROR(VLOOKUP($B$3&"_"&D12,'[11]CANAL 9'!$A:$R,4,FALSE),"")&IFERROR(VLOOKUP($B$3&"_"&D12,'[12]CANAL 10'!$A:$R,4,FALSE),"")&IFERROR(VLOOKUP($B$3&"_"&D12,'[13]CANAL 11'!$A:$R,4,FALSE),"")&IFERROR(VLOOKUP($B$3&"_"&D12,'[14]CANAL 12'!$A:$R,4,FALSE),"")&IFERROR(VLOOKUP($B$3&"_"&D12,'[15]CANAL 13'!$A:$R,4,FALSE),"")&IFERROR(VLOOKUP($B$3&"_"&D12,'[16]CANAL 14'!$A:$R,4,FALSE),"")&IFERROR(VLOOKUP($B$3&"_"&D12,'[17]CANAL 15'!$A:$R,4,FALSE),"")&IFERROR(VLOOKUP($B$3&"_"&D12,'[18]CANAL 16'!$A:$R,4,FALSE),"") -> 12345 | H12: =IFERROR(VLOOKUP($B$3&"_"&D12,'CANAL 17'!$A:$R,5,FALSE),"")&IFERROR(VLOOKUP($B$3&"_"&D12,'[2]CANAL 18'!$A:$R,5,FALSE),"")&IFERROR(VLOOKUP($B$3&"_"&D12,'[3]CANAL 1'!$A:$R,5,FALSE),"")&IFERROR(VLOOKUP($B$3&"_"&D12,'[4]CANAL 2'!$A:$R,5,FALSE),"")&IFERROR(VLOOKUP($B$3&"_"&D12,'[5]CANAL 3'!$A:$R,5,FALSE),"")&IFERROR(VLOOKUP($B$3&"_"&D12,'[6]CANAL 4'!$A:$R,5,FALSE),"")&IFERROR(VLOOKUP($B$3&"_"&D12,'[7]CANAL 5'!$A:$R,5,FALSE),"")&IFERROR(VLOOKUP($B$3&"_"&D12,'[8]CANAL 6'!$A:$R,5,FALSE),"")&IFERROR(VLOOKUP($B$3&"_"&D12,'[9]CANAL 7'!$A:$R,5,FALSE),"")&IFERROR(VLOOKUP($B$3&"_"&D12,'[10]CANAL 8'!$A:$R,5,FALSE),"")&IFERROR(VLOOKUP($B$3&"_"&D12,'[11]CANAL 9'!$A:$R,5,FALSE),"")&IFERROR(VLOOKUP($B$3&"_"&D12,'[12]CANAL 10'!$A:$R,5,FALSE),"")&IFERROR(VLOOKUP($B$3&"_"&D12,'[13]CANAL 11'!$A:$R,5,FALSE),"")&IFERROR(VLOOKUP($B$3&"_"&D12,'[14]CANAL 12'!$A:$R,5,FALSE),"")&IFERROR(VLOOKUP($B$3&"_"&D12,'[15]CANAL 13'!$A:$R,5,FALSE),"")&IFERROR(VLOOKUP($B$3&"_"&D12,'[16]CANAL 14'!$A:$R,5,FALSE),"")&IFERROR(VLOOKUP($B$3&"_"&D12,'[17]CANAL 15'!$A:$R,5,FALSE),"")&IFERROR(VLOOKUP($B$3&"_"&D12,'[18]CANAL 16'!$A:$R,5,FALSE),"") -> 2 | I12: =IFERROR(VLOOKUP($B$3&"_"&D12,'CANAL 17'!$A:$R,6,FALSE),"")&IFERROR(VLOOKUP($B$3&"_"&D12,'[2]CANAL 18'!$A:$R,6,FALSE),"")&IFERROR(VLOOKUP($B$3&"_"&D12,'[3]CANAL 1'!$A:$R,6,FALSE),"")&IFERROR(VLOOKUP($B$3&"_"&D12,'[4]CANAL 2'!$A:$R,6,FALSE),"")&IFERROR(VLOOKUP($B$3&"_"&D12,'[5]CANAL 3'!$A:$R,6,FALSE),"")&IFERROR(VLOOKUP($B$3&"_"&D12,'[6]CANAL 4'!$A:$R,6,FALSE),"")&IFERROR(VLOOKUP($B$3&"_"&D12,'[7]CANAL 5'!$A:$R,6,FALSE),"")&IFERROR(VLOOKUP($B$3&"_"&D12,'[8]CANAL 6'!$A:$R,6,FALSE),"")&IFERROR(VLOOKUP($B$3&"_"&D12,'[9]CANAL 7'!$A:$R,6,FALSE),"")&IFERROR(VLOOKUP($B$3&"_"&D12,'[10]CANAL 8'!$A:$R,6,FALSE),"")&IFERROR(VLOOKUP($B$3&"_"&D12,'[11]CANAL 9'!$A:$R,6,FALSE),"")&IFERROR(VLOOKUP($B$3&"_"&D12,'[12]CANAL 10'!$A:$R,6,FALSE),"")&IFERROR(VLOOKUP($B$3&"_"&D12,'[13]CANAL 11'!$A:$R,6,FALSE),"")&IFERROR(VLOOKUP($B$3&"_"&D12,'[14]CANAL 12'!$A:$R,6,FALSE),"")&IFERROR(VLOOKUP($B$3&"_"&D12,'[15]CANAL 13'!$A:$R,6,FALSE),"")&IFERROR(VLOOKUP($B$3&"_"&D12,'[16]CANAL 14'!$A:$R,6,FALSE),"")&IFERROR(VLOOKUP($B$3&"_"&D12,'[17]CANAL 15'!$A:$R,6,FALSE),"")&IFERROR(VLOOKUP($B$3&"_"&D12,'[18]CANAL 16'!$A:$R,6,FALSE),"") -> rien | J12: =IFERROR(VLOOKUP($B$3&"_"&D12,'CANAL 17'!$A:$R,7,FALSE),"")&IFERROR(VLOOKUP($B$3&"_"&D12,'[2]CANAL 18'!$A:$R,7,FALSE),"")&IFERROR(VLOOKUP($B$3&"_"&D12,'[3]CANAL 1'!$A:$R,7,FALSE),"")&IFERROR(VLOOKUP($B$3&"_"&D12,'[4]CANAL 2'!$A:$R,7,FALSE),"")&IFERROR(VLOOKUP($B$3&"_"&D12,'[5]CANAL 3'!$A:$R,7,FALSE),"")&IFERROR(VLOOKUP($B$3&"_"&D12,'[6]CANAL 4'!$A:$R,7,FALSE),"")&IFERROR(VLOOKUP($B$3&"_"&D12,'[7]CANAL 5'!$A:$R,7,FALSE),"")&IFERROR(VLOOKUP($B$3&"_"&D12,'[8]CANAL 6'!$A:$R,7,FALSE),"")&IFERROR(VLOOKUP($B$3&"_"&D12,'[9]CANAL 7'!$A:$R,7,FALSE),"")&IFERROR(VLOOKUP($B$3&"_"&D12,'[10]CANAL 8'!$A:$R,7,FALSE),"")&IFERROR(VLOOKUP($B$3&"_"&D12,'[11]CANAL 9'!$A:$R,7,FALSE),"")&IFERROR(VLOOKUP($B$3&"_"&D12,'[12]CANAL 10'!$A:$R,7,FALSE),"")&IFERROR(VLOOKUP($B$3&"_"&D12,'[13]CANAL 11'!$A:$R,7,FALSE),"")&IFERROR(VLOOKUP($B$3&"_"&D12,'[14]CANAL 12'!$A:$R,7,FALSE),"")&IFERROR(VLOOKUP($B$3&"_"&D12,'[15]CANAL 13'!$A:$R,7,FALSE),"")&IFERROR(VLOOKUP($B$3&"_"&D12,'[16]CANAL 14'!$A:$R,7,FALSE),"")&IFERROR(VLOOKUP($B$3&"_"&D12,'[17]CANAL 15'!$A:$R,7,FALSE),"")&IFERROR(VLOOKUP($B$3&"_"&D12,'[18]CANAL 16'!$A:$R,7,FALSE),"") -> AZERTY | K12: =IFERROR(VLOOKUP($B$3&"_"&D12,'CANAL 17'!$A:$R,8,FALSE),"")&IFERROR(VLOOKUP($B$3&"_"&D12,'[2]CANAL 18'!$A:$R,8,FALSE),"")&IFERROR(VLOOKUP($B$3&"_"&D12,'[3]CANAL 1'!$A:$R,8,FALSE),"")&IFERROR(VLOOKUP($B$3&"_"&D12,'[4]CANAL 2'!$A:$R,8,FALSE),"")&IFERROR(VLOOKUP($B$3&"_"&D12,'[5]CANAL 3'!$A:$R,8,FALSE),"")&IFERROR(VLOOKUP($B$3&"_"&D12,'[6]CANAL 4'!$A:$R,8,FALSE),"")&IFERROR(VLOOKUP($B$3&"_"&D12,'[7]CANAL 5'!$A:$R,8,FALSE),"")&IFERROR(VLOOKUP($B$3&"_"&D12,'[8]CANAL 6'!$A:$R,8,FALSE),"")&IFERROR(VLOOKUP($B$3&"_"&D12,'[9]CANAL 7'!$A:$R,8,FALSE),"")&IFERROR(VLOOKUP($B$3&"_"&D12,'[10]CANAL 8'!$A:$R,8,FALSE),"")&IFERROR(VLOOKUP($B$3&"_"&D12,'[11]CANAL 9'!$A:$R,8,FALSE),"")&IFERROR(VLOOKUP($B$3&"_"&D12,'[12]CANAL 10'!$A:$R,8,FALSE),"")&IFERROR(VLOOKUP($B$3&"_"&D12,'[13]CANAL 11'!$A:$R,8,FALSE),"")&IFERROR(VLOOKUP($B$3&"_"&D12,'[14]CANAL 12'!$A:$R,8,FALSE),"")&IFERROR(VLOOKUP($B$3&"_"&D12,'[15]CANAL 13'!$A:$R,8,FALSE),"")&IFERROR(VLOOKUP($B$3&"_"&D12,'[16]CANAL 14'!$A:$R,8,FALSE),"")&IFERROR(VLOOKUP($B$3&"_"&D12,'[17]CANAL 15'!$A:$R,8,FALSE),"")&IFERROR(VLOOKUP($B$3&"_"&D12,'[18]CANAL 16'!$A:$R,8,FALSE),"") -> 0 | L12: =IFERROR(VLOOKUP($B$3&"_"&D12,'CANAL 17'!$A:$R,9,FALSE),"")&IFERROR(VLOOKUP($B$3&"_"&D12,'[2]CANAL 18'!$A:$R,9,FALSE),"")&IFERROR(VLOOKUP($B$3&"_"&D12,'[3]CANAL 1'!$A:$R,9,FALSE),"")&IFERROR(VLOOKUP($B$3&"_"&D12,'[4]CANAL 2'!$A:$R,9,FALSE),"")&IFERROR(VLOOKUP($B$3&"_"&D12,'[5]CANAL 3'!$A:$R,9,FALSE),"")&IFERROR(VLOOKUP($B$3&"_"&D12,'[6]CANAL 4'!$A:$R,9,FALSE),"")&IFERROR(VLOOKUP($B$3&"_"&D12,'[7]CANAL 5'!$A:$R,9,FALSE),"")&IFERROR(VLOOKUP($B$3&"_"&D12,'[8]CANAL 6'!$A:$R,9,FALSE),"")&IFERROR(VLOOKUP($B$3&"_"&D12,'[9]CANAL 7'!$A:$R,9,FALSE),"")&IFERROR(VLOOKUP($B$3&"_"&D12,'[10]CANAL 8'!$A:$R,9,FALSE),"")&IFERROR(VLOOKUP($B$3&"_"&D12,'[11]CANAL 9'!$A:$R,9,FALSE),"")&IFERROR(VLOOKUP($B$3&"_"&D12,'[12]CANAL 10'!$A:$R,9,FALSE),"")&IFERROR(VLOOKUP($B$3&"_"&D12,'[13]CANAL 11'!$A:$R,9,FALSE),"")&IFERROR(VLOOKUP($B$3&"_"&D12,'[14]CANAL 12'!$A:$R,9,FALSE),"")&IFERROR(VLOOKUP($B$3&"_"&D12,'[15]CANAL 13'!$A:$R,9,FALSE),"")&IFERROR(VLOOKUP($B$3&"_"&D12,'[16]CANAL 14'!$A:$R,9,FALSE),"")&IFERROR(VLOOKUP($B$3&"_"&D12,'[17]CANAL 15'!$A:$R,9,FALSE),"")&IFERROR(VLOOKUP($B$3&"_"&D12,'[18]CANAL 16'!$A:$R,9,FALSE),"") -> 0 | R12: =IFERROR(VLOOKUP($B$3&"_"&D12,'CANAL 17'!$A:$R,15,FALSE),"")&IFERROR(VLOOKUP($B$3&"_"&D12,'[2]CANAL 18'!$A:$R,15,FALSE),"")&IFERROR(VLOOKUP($B$3&"_"&D12,'[3]CANAL 1'!$A:$R,15,FALSE),"")&IFERROR(VLOOKUP($B$3&"_"&D12,'[4]CANAL 2'!$A:$R,15,FALSE),"")&IFERROR(VLOOKUP($B$3&"_"&D12,'[5]CANAL 3'!$A:$R,15,FALSE),"")&IFERROR(VLOOKUP($B$3&"_"&D12,'[6]CANAL 4'!$A:$R,15,FALSE),"")&IFERROR(VLOOKUP($B$3&"_"&D12,'[7]CANAL 5'!$A:$R,15,FALSE),"")&IFERROR(VLOOKUP($B$3&"_"&D12,'[8]CANAL 6'!$A:$R,15,FALSE),"")&IFERROR(VLOOKUP($B$3&"_"&D12,'[9]CANAL 7'!$A:$R,15,FALSE),"")&IFERROR(VLOOKUP($B$3&"_"&D12,'[10]CANAL 8'!$A:$R,15,FALSE),"")&IFERROR(VLOOKUP($B$3&"_"&D12,'[11]CANAL 9'!$A:$R,15,FALSE),"")&IFERROR(VLOOKUP($B$3&"_"&D12,'[12]CANAL 10'!$A:$R,15,FALSE),"")&IFERROR(VLOOKUP($B$3&"_"&D12,'[13]CANAL 11'!$A:$R,15,FALSE),"")&IFERROR(VLOOKUP($B$3&"_"&D12,'[14]CANAL 12'!$A:$R,15,FALSE),"")&IFERROR(VLOOKUP($B$3&"_"&D12,'[15]CANAL 13'!$A:$R,15,FALSE),"")&IFERROR(VLOOKUP($B$3&"_"&D12,'[16]CANAL 14'!$A:$R,15,FALSE),"")&IFERROR(VLOOKUP($B$3&"_"&D12,'[17]CANAL 15'!$A:$R,15,FALSE),"")&IFERROR(VLOOKUP($B$3&"_"&D12,'[18]CANAL 16'!$A:$R,15,FALSE),"") -> 1
D13: 5 | E13: =IFERROR(VLOOKUP($B$3&"_"&D13,'CANAL 17'!$A:$R,2,FALSE),"")&IFERROR(VLOOKUP($B$3&"_"&D13,'[2]CANAL 18'!$A:$R,2,FALSE),"")&IFERROR(VLOOKUP($B$3&"_"&D13,'[3]CANAL 1'!A:R,2,FALSE),"")&IFERROR(VLOOKUP($B$3&"_"&D13,'[4]CANAL 2'!A:R,2,FALSE),"")&IFERROR(VLOOKUP($B$3&"_"&D13,'[5]CANAL 3'!A:R,2,FALSE),"")&IFERROR(VLOOKUP($B$3&"_"&D13,'[6]CANAL 4'!A:R,2,FALSE),"")&IFERROR(VLOOKUP($B$3&"_"&D13,'[7]CANAL 5'!A:R,2,FALSE),"")&IFERROR(VLOOKUP($B$3&"_"&D13,'[8]CANAL 6'!A:R,2,FALSE),"")&IFERROR(VLOOKUP($B$3&"_"&D13,'[9]CANAL 7'!A:R,2,FALSE),"")&IFERROR(VLOOKUP($B$3&"_"&D13,'[10]CANAL 8'!A:R,2,FALSE),"")&IFERROR(VLOOKUP($B$3&"_"&D13,'[11]CANAL 9'!A:R,2,FALSE),"")&IFERROR(VLOOKUP($B$3&"_"&D13,'[12]CANAL 10'!A:R,2,FALSE),"")&IFERROR(VLOOKUP($B$3&"_"&D13,'[13]CANAL 11'!A:R,2,FALSE),"")&IFERROR(VLOOKUP($B$3&"_"&D13,'[14]CANAL 12'!A:R,2,FALSE),"")&IFERROR(VLOOKUP($B$3&"_"&D13,'[15]CANAL 13'!A:R,2,FALSE),"")&IFERROR(VLOOKUP($B$3&"_"&D13,'[16]CANAL 14'!A:R,2,FALSE),"")&IFERROR(VLOOKUP($B$3&"_"&D13,'[17]CANAL 15'!A:R,2,FALSE),"")&IFERROR(VLOOKUP($B$3&"_"&D13,'[18]CANAL 16'!A:R,2,FALSE),"") | F13: =IFERROR(VLOOKUP($B$3&"_"&D13,'CANAL 17'!$A:$R,3,FALSE),"")&IFERROR(VLOOKUP($B$3&"_"&D13,'[2]CANAL 18'!$A:$R,3,FALSE),"")&IFERROR(VLOOKUP($B$3&"_"&D13,'[3]CANAL 1'!$A:$R,3,FALSE),"")&IFERROR(VLOOKUP($B$3&"_"&D13,'[4]CANAL 2'!$A:$R,3,FALSE),"")&IFERROR(VLOOKUP($B$3&"_"&D13,'[5]CANAL 3'!$A:$R,3,FALSE),"")&IFERROR(VLOOKUP($B$3&"_"&D13,'[6]CANAL 4'!$A:$R,3,FALSE),"")&IFERROR(VLOOKUP($B$3&"_"&D13,'[7]CANAL 5'!$A:$R,3,FALSE),"")&IFERROR(VLOOKUP($B$3&"_"&D13,'[8]CANAL 6'!$A:$R,3,FALSE),"")&IFERROR(VLOOKUP($B$3&"_"&D13,'[9]CANAL 7'!$A:$R,3,FALSE),"")&IFERROR(VLOOKUP($B$3&"_"&D13,'[10]CANAL 8'!$A:$R,3,FALSE),"")&IFERROR(VLOOKUP($B$3&"_"&D13,'[11]CANAL 9'!$A:$R,3,FALSE),"")&IFERROR(VLOOKUP($B$3&"_"&D13,'[12]CANAL 10'!$A:$R,3,FALSE),"")&IFERROR(VLOOKUP($B$3&"_"&D13,'[13]CANAL 11'!$A:$R,3,FALSE),"")&IFERROR(VLOOKUP($B$3&"_"&D13,'[14]CANAL 12'!$A:$R,3,FALSE),"")&IFERROR(VLOOKUP($B$3&"_"&D13,'[15]CANAL 13'!$A:$R,3,FALSE),"")&IFERROR(VLOOKUP($B$3&"_"&D13,'[16]CANAL 14'!$A:$R,3,FALSE),"")&IFERROR(VLOOKUP($B$3&"_"&D13,'[17]CANAL 15'!$A:$R,3,FALSE),"")&IFERROR(VLOOKUP($B$3&"_"&D13,'[18]CANAL 16'!$A:$R,3,FALSE),"") | G13: =IFERROR(VLOOKUP($B$3&"_"&D13,'CANAL 17'!$A:$R,4,FALSE),"")&IFERROR(VLOOKUP($B$3&"_"&D13,'[2]CANAL 18'!$A:$R,4,FALSE),"")&IFERROR(VLOOKUP($B$3&"_"&D13,'[3]CANAL 1'!$A:$R,4,FALSE),"")&IFERROR(VLOOKUP($B$3&"_"&D13,'[4]CANAL 2'!$A:$R,4,FALSE),"")&IFERROR(VLOOKUP($B$3&"_"&D13,'[5]CANAL 3'!$A:$R,4,FALSE),"")&IFERROR(VLOOKUP($B$3&"_"&D13,'[6]CANAL 4'!$A:$R,4,FALSE),"")&IFERROR(VLOOKUP($B$3&"_"&D13,'[7]CANAL 5'!$A:$R,4,FALSE),"")&IFERROR(VLOOKUP($B$3&"_"&D13,'[8]CANAL 6'!$A:$R,4,FALSE),"")&IFERROR(VLOOKUP($B$3&"_"&D13,'[9]CANAL 7'!$A:$R,4,FALSE),"")&IFERROR(VLOOKUP($B$3&"_"&D13,'[10]CANAL 8'!$A:$R,4,FALSE),"")&IFERROR(VLOOKUP($B$3&"_"&D13,'[11]CANAL 9'!$A:$R,4,FALSE),"")&IFERROR(VLOOKUP($B$3&"_"&D13,'[12]CANAL 10'!$A:$R,4,FALSE),"")&IFERROR(VLOOKUP($B$3&"_"&D13,'[13]CANAL 11'!$A:$R,4,FALSE),"")&IFERROR(VLOOKUP($B$3&"_"&D13,'[14]CANAL 12'!$A:$R,4,FALSE),"")&IFERROR(VLOOKUP($B$3&"_"&D13,'[15]CANAL 13'!$A:$R,4,FALSE),"")&IFERROR(VLOOKUP($B$3&"_"&D13,'[16]CANAL 14'!$A:$R,4,FALSE),"")&IFERROR(VLOOKUP($B$3&"_"&D13,'[17]CANAL 15'!$A:$R,4,FALSE),"")&IFERROR(VLOOKUP($B$3&"_"&D13,'[18]CANAL 16'!$A:$R,4,FALSE),"") | H13: =IFERROR(VLOOKUP($B$3&"_"&D13,'CANAL 17'!$A:$R,5,FALSE),"")&IFERROR(VLOOKUP($B$3&"_"&D13,'[2]CANAL 18'!$A:$R,5,FALSE),"")&IFERROR(VLOOKUP($B$3&"_"&D13,'[3]CANAL 1'!$A:$R,5,FALSE),"")&IFERROR(VLOOKUP($B$3&"_"&D13,'[4]CANAL 2'!$A:$R,5,FALSE),"")&IFERROR(VLOOKUP($B$3&"_"&D13,'[5]CANAL 3'!$A:$R,5,FALSE),"")&IFERROR(VLOOKUP($B$3&"_"&D13,'[6]CANAL 4'!$A:$R,5,FALSE),"")&IFERROR(VLOOKUP($B$3&"_"&D13,'[7]CANAL 5'!$A:$R,5,FALSE),"")&IFERROR(VLOOKUP($B$3&"_"&D13,'[8]CANAL 6'!$A:$R,5,FALSE),"")&IFERROR(VLOOKUP($B$3&"_"&D13,'[9]CANAL 7'!$A:$R,5,FALSE),"")&IFERROR(VLOOKUP($B$3&"_"&D13,'[10]CANAL 8'!$A:$R,5,FALSE),"")&IFERROR(VLOOKUP($B$3&"_"&D13,'[11]CANAL 9'!$A:$R,5,FALSE),"")&IFERROR(VLOOKUP($B$3&"_"&D13,'[12]CANAL 10'!$A:$R,5,FALSE),"")&IFERROR(VLOOKUP($B$3&"_"&D13,'[13]CANAL 11'!$A:$R,5,FALSE),"")&IFERROR(VLOOKUP($B$3&"_"&D13,'[14]CANAL 12'!$A:$R,5,FALSE),"")&IFERROR(VLOOKUP($B$3&"_"&D13,'[15]CANAL 13'!$A:$R,5,FALSE),"")&IFERROR(VLOOKUP($B$3&"_"&D13,'[16]CANAL 14'!$A:$R,5,FALSE),"")&IFERROR(VLOOKUP($B$3&"_"&D13,'[17]CANAL 15'!$A:$R,5,FALSE),"")&IFERROR(VLOOKUP($B$3&"_"&D13,'[18]CANAL 16'!$A:$R,5,FALSE),"") | I13: =IFERROR(VLOOKUP($B$3&"_"&D13,'CANAL 17'!$A:$R,6,FALSE),"")&IFERROR(VLOOKUP($B$3&"_"&D13,'[2]CANAL 18'!$A:$R,6,FALSE),"")&IFERROR(VLOOKUP($B$3&"_"&D13,'[3]CANAL 1'!$A:$R,6,FALSE),"")&IFERROR(VLOOKUP($B$3&"_"&D13,'[4]CANAL 2'!$A:$R,6,FALSE),"")&IFERROR(VLOOKUP($B$3&"_"&D13,'[5]CANAL 3'!$A:$R,6,FALSE),"")&IFERROR(VLOOKUP($B$3&"_"&D13,'[6]CANAL 4'!$A:$R,6,FALSE),"")&IFERROR(VLOOKUP($B$3&"_"&D13,'[7]CANAL 5'!$A:$R,6,FALSE),"")&IFERROR(VLOOKUP($B$3&"_"&D13,'[8]CANAL 6'!$A:$R,6,FALSE),"")&IFERROR(VLOOKUP($B$3&"_"&D13,'[9]CANAL 7'!$A:$R,6,FALSE),"")&IFERROR(VLOOKUP($B$3&"_"&D13,'[10]CANAL 8'!$A:$R,6,FALSE),"")&IFERROR(VLOOKUP($B$3&"_"&D13,'[11]CANAL 9'!$A:$R,6,FALSE),"")&IFERROR(VLOOKUP($B$3&"_"&D13,'[12]CANAL 10'!$A:$R,6,FALSE),"")&IFERROR(VLOOKUP($B$3&"_"&D13,'[13]CANAL 11'!$A:$R,6,FALSE),"")&IFERROR(VLOOKUP($B$3&"_"&D13,'[14]CANAL 12'!$A:$R,6,FALSE),"")&IFERROR(VLOOKUP($B$3&"_"&D13,'[15]CANAL 13'!$A:$R,6,FALSE),"")&IFERROR(VLOOKUP($B$3&"_"&D13,'[16]CANAL 14'!$A:$R,6,FALSE),"")&IFERROR(VLOOKUP($B$3&"_"&D13,'[17]CANAL 15'!$A:$R,6,FALSE),"")&IFERROR(VLOOKUP($B$3&"_"&D13,'[18]CANAL 16'!$A:$R,6,FALSE),"") | J13: =IFERROR(VLOOKUP($B$3&"_"&D13,'CANAL 17'!$A:$R,7,FALSE),"")&IFERROR(VLOOKUP($B$3&"_"&D13,'[2]CANAL 18'!$A:$R,7,FALSE),"")&IFERROR(VLOOKUP($B$3&"_"&D13,'[3]CANAL 1'!$A:$R,7,FALSE),"")&IFERROR(VLOOKUP($B$3&"_"&D13,'[4]CANAL 2'!$A:$R,7,FALSE),"")&IFERROR(VLOOKUP($B$3&"_"&D13,'[5]CANAL 3'!$A:$R,7,FALSE),"")&IFERROR(VLOOKUP($B$3&"_"&D13,'[6]CANAL 4'!$A:$R,7,FALSE),"")&IFERROR(VLOOKUP($B$3&"_"&D13,'[7]CANAL 5'!$A:$R,7,FALSE),"")&IFERROR(VLOOKUP($B$3&"_"&D13,'[8]CANAL 6'!$A:$R,7,FALSE),"")&IFERROR(VLOOKUP($B$3&"_"&D13,'[9]CANAL 7'!$A:$R,7,FALSE),"")&IFERROR(VLOOKUP($B$3&"_"&D13,'[10]CANAL 8'!$A:$R,7,FALSE),"")&IFERROR(VLOOKUP($B$3&"_"&D13,'[11]CANAL 9'!$A:$R,7,FALSE),"")&IFERROR(VLOOKUP($B$3&"_"&D13,'[12]CANAL 10'!$A:$R,7,FALSE),"")&IFERROR(VLOOKUP($B$3&"_"&D13,'[13]CANAL 11'!$A:$R,7,FALSE),"")&IFERROR(VLOOKUP($B$3&"_"&D13,'[14]CANAL 12'!$A:$R,7,FALSE),"")&IFERROR(VLOOKUP($B$3&"_"&D13,'[15]CANAL 13'!$A:$R,7,FALSE),"")&IFERROR(VLOOKUP($B$3&"_"&D13,'[16]CANAL 14'!$A:$R,7,FALSE),"")&IFERROR(VLOOKUP($B$3&"_"&D13,'[17]CANAL 15'!$A:$R,7,FALSE),"")&IFERROR(VLOOKUP($B$3&"_"&D13,'[18]CANAL 16'!$A:$R,7,FALSE),"") | K13: =IFERROR(VLOOKUP($B$3&"_"&D13,'CANAL 17'!$A:$R,8,FALSE),"")&IFERROR(VLOOKUP($B$3&"_"&D13,'[2]CANAL 18'!$A:$R,8,FALSE),"")&IFERROR(VLOOKUP($B$3&"_"&D13,'[3]CANAL 1'!$A:$R,8,FALSE),"")&IFERROR(VLOOKUP($B$3&"_"&D13,'[4]CANAL 2'!$A:$R,8,FALSE),"")&IFERROR(VLOOKUP($B$3&"_"&D13,'[5]CANAL 3'!$A:$R,8,FALSE),"")&IFERROR(VLOOKUP($B$3&"_"&D13,'[6]CANAL 4'!$A:$R,8,FALSE),"")&IFERROR(VLOOKUP($B$3&"_"&D13,'[7]CANAL 5'!$A:$R,8,FALSE),"")&IFERROR(VLOOKUP($B$3&"_"&D13,'[8]CANAL 6'!$A:$R,8,FALSE),"")&IFERROR(VLOOKUP($B$3&"_"&D13,'[9]CANAL 7'!$A:$R,8,FALSE),"")&IFERROR(VLOOKUP($B$3&"_"&D13,'[10]CANAL 8'!$A:$R,8,FALSE),"")&IFERROR(VLOOKUP($B$3&"_"&D13,'[11]CANAL 9'!$A:$R,8,FALSE),"")&IFERROR(VLOOKUP($B$3&"_"&D13,'[12]CANAL 10'!$A:$R,8,FALSE),"")&IFERROR(VLOOKUP($B$3&"_"&D13,'[13]CANAL 11'!$A:$R,8,FALSE),"")&IFERROR(VLOOKUP($B$3&"_"&D13,'[14]CANAL 12'!$A:$R,8,FALSE),"")&IFERROR(VLOOKUP($B$3&"_"&D13,'[15]CANAL 13'!$A:$R,8,FALSE),"")&IFERROR(VLOOKUP($B$3&"_"&D13,'[16]CANAL 14'!$A:$R,8,FALSE),"")&IFERROR(VLOOKUP($B$3&"_"&D13,'[17]CANAL 15'!$A:$R,8,FALSE),"")&IFERROR(VLOOKUP($B$3&"_"&D13,'[18]CANAL 16'!$A:$R,8,FALSE),"") | L13: =IFERROR(VLOOKUP($B$3&"_"&D13,'CANAL 17'!$A:$R,9,FALSE),"")&IFERROR(VLOOKUP($B$3&"_"&D13,'[2]CANAL 18'!$A:$R,9,FALSE),"")&IFERROR(VLOOKUP($B$3&"_"&D13,'[3]CANAL 1'!$A:$R,9,FALSE),"")&IFERROR(VLOOKUP($B$3&"_"&D13,'[4]CANAL 2'!$A:$R,9,FALSE),"")&IFERROR(VLOOKUP($B$3&"_"&D13,'[5]CANAL 3'!$A:$R,9,FALSE),"")&IFERROR(VLOOKUP($B$3&"_"&D13,'[6]CANAL 4'!$A:$R,9,FALSE),"")&IFERROR(VLOOKUP($B$3&"_"&D13,'[7]CANAL 5'!$A:$R,9,FALSE),"")&IFERROR(VLOOKUP($B$3&"_"&D13,'[8]CANAL 6'!$A:$R,9,FALSE),"")&IFERROR(VLOOKUP($B$3&"_"&D13,'[9]CANAL 7'!$A:$R,9,FALSE),"")&IFERROR(VLOOKUP($B$3&"_"&D13,'[10]CANAL 8'!$A:$R,9,FALSE),"")&IFERROR(VLOOKUP($B$3&"_"&D13,'[11]CANAL 9'!$A:$R,9,FALSE),"")&IFERROR(VLOOKUP($B$3&"_"&D13,'[12]CANAL 10'!$A:$R,9,FALSE),"")&IFERROR(VLOOKUP($B$3&"_"&D13,'[13]CANAL 11'!$A:$R,9,FALSE),"")&IFERROR(VLOOKUP($B$3&"_"&D13,'[14]CANAL 12'!$A:$R,9,FALSE),"")&IFERROR(VLOOKUP($B$3&"_"&D13,'[15]CANAL 13'!$A:$R,9,FALSE),"")&IFERROR(VLOOKUP($B$3&"_"&D13,'[16]CANAL 14'!$A:$R,9,FALSE),"")&IFERROR(VLOOKUP($B$3&"_"&D13,'[17]CANAL 15'!$A:$R,9,FALSE),"")&IFERROR(VLOOKUP($B$3&"_"&D13,'[18]CANAL 16'!$A:$R,9,FALSE),"") | R13: =IFERROR(VLOOKUP($B$3&"_"&D13,'CANAL 17'!$A:$R,15,FALSE),"")&IFERROR(VLOOKUP($B$3&"_"&D13,'[2]CANAL 18'!$A:$R,15,FALSE),"")&IFERROR(VLOOKUP($B$3&"_"&D13,'[3]CANAL 1'!$A:$R,15,FALSE),"")&IFERROR(VLOOKUP($B$3&"_"&D13,'[4]CANAL 2'!$A:$R,15,FALSE),"")&IFERROR(VLOOKUP($B$3&"_"&D13,'[5]CANAL 3'!$A:$R,15,FALSE),"")&IFERROR(VLOOKUP($B$3&"_"&D13,'[6]CANAL 4'!$A:$R,15,FALSE),"")&IFERROR(VLOOKUP($B$3&"_"&D13,'[7]CANAL 5'!$A:$R,15,FALSE),"")&IFERROR(VLOOKUP($B$3&"_"&D13,'[8]CANAL 6'!$A:$R,15,FALSE),"")&IFERROR(VLOOKUP($B$3&"_"&D13,'[9]CANAL 7'!$A:$R,15,FALSE),"")&IFERROR(VLOOKUP($B$3&"_"&D13,'[10]CANAL 8'!$A:$R,15,FALSE),"")&IFERROR(VLOOKUP($B$3&"_"&D13,'[11]CANAL 9'!$A:$R,15,FALSE),"")&IFERROR(VLOOKUP($B$3&"_"&D13,'[12]CANAL 10'!$A:$R,15,FALSE),"")&IFERROR(VLOOKUP($B$3&"_"&D13,'[13]CANAL 11'!$A:$R,15,FALSE),"")&IFERROR(VLOOKUP($B$3&"_"&D13,'[14]CANAL 12'!$A:$R,15,FALSE),"")&IFERROR(VLOOKUP($B$3&"_"&D13,'[15]CANAL 13'!$A:$R,15,FALSE),"")&IFERROR(VLOOKUP($B$3&"_"&D13,'[16]CANAL 14'!$A:$R,15,FALSE),"")&IFERROR(VLOOKUP($B$3&"_"&D13,'[17]CANAL 15'!$A:$R,15,FALSE),"")&IFERROR(VLOOKUP($B$3&"_"&D13,'[18]CANAL 16'!$A:$R,15,FALSE),"")
D14: 6 | E14: =IFERROR(VLOOKUP($B$3&"_"&D14,'CANAL 17'!$A:$R,2,FALSE),"")&IFERROR(VLOOKUP($B$3&"_"&D14,'[2]CANAL 18'!$A:$R,2,FALSE),"")&IFERROR(VLOOKUP($B$3&"_"&D14,'[3]CANAL 1'!A:R,2,FALSE),"")&IFERROR(VLOOKUP($B$3&"_"&D14,'[4]CANAL 2'!A:R,2,FALSE),"")&IFERROR(VLOOKUP($B$3&"_"&D14,'[5]CANAL 3'!A:R,2,FALSE),"")&IFERROR(VLOOKUP($B$3&"_"&D14,'[6]CANAL 4'!A:R,2,FALSE),"")&IFERROR(VLOOKUP($B$3&"_"&D14,'[7]CANAL 5'!A:R,2,FALSE),"")&IFERROR(VLOOKUP($B$3&"_"&D14,'[8]CANAL 6'!A:R,2,FALSE),"")&IFERROR(VLOOKUP($B$3&"_"&D14,'[9]CANAL 7'!A:R,2,FALSE),"")&IFERROR(VLOOKUP($B$3&"_"&D14,'[10]CANAL 8'!A:R,2,FALSE),"")&IFERROR(VLOOKUP($B$3&"_"&D14,'[11]CANAL 9'!A:R,2,FALSE),"")&IFERROR(VLOOKUP($B$3&"_"&D14,'[12]CANAL 10'!A:R,2,FALSE),"")&IFERROR(VLOOKUP($B$3&"_"&D14,'[13]CANAL 11'!A:R,2,FALSE),"")&IFERROR(VLOOKUP($B$3&"_"&D14,'[14]CANAL 12'!A:R,2,FALSE),"")&IFERROR(VLOOKUP($B$3&"_"&D14,'[15]CANAL 13'!A:R,2,FALSE),"")&IFERROR(VLOOKUP($B$3&"_"&D14,'[16]CANAL 14'!A:R,2,FALSE),"")&IFERROR(VLOOKUP($B$3&"_"&D14,'[17]CANAL 15'!A:R,2,FALSE),"")&IFERROR(VLOOKUP($B$3&"_"&D14,'[18]CANAL 16'!A:R,2,FALSE),"") | F14: =IFERROR(VLOOKUP($B$3&"_"&D14,'CANAL 17'!$A:$R,3,FALSE),"")&IFERROR(VLOOKUP($B$3&"_"&D14,'[2]CANAL 18'!$A:$R,3,FALSE),"")&IFERROR(VLOOKUP($B$3&"_"&D14,'[3]CANAL 1'!$A:$R,3,FALSE),"")&IFERROR(VLOOKUP($B$3&"_"&D14,'[4]CANAL 2'!$A:$R,3,FALSE),"")&IFERROR(VLOOKUP($B$3&"_"&D14,'[5]CANAL 3'!$A:$R,3,FALSE),"")&IFERROR(VLOOKUP($B$3&"_"&D14,'[6]CANAL 4'!$A:$R,3,FALSE),"")&IFERROR(VLOOKUP($B$3&"_"&D14,'[7]CANAL 5'!$A:$R,3,FALSE),"")&IFERROR(VLOOKUP($B$3&"_"&D14,'[8]CANAL 6'!$A:$R,3,FALSE),"")&IFERROR(VLOOKUP($B$3&"_"&D14,'[9]CANAL 7'!$A:$R,3,FALSE),"")&IFERROR(VLOOKUP($B$3&"_"&D14,'[10]CANAL 8'!$A:$R,3,FALSE),"")&IFERROR(VLOOKUP($B$3&"_"&D14,'[11]CANAL 9'!$A:$R,3,FALSE),"")&IFERROR(VLOOKUP($B$3&"_"&D14,'[12]CANAL 10'!$A:$R,3,FALSE),"")&IFERROR(VLOOKUP($B$3&"_"&D14,'[13]CANAL 11'!$A:$R,3,FALSE),"")&IFERROR(VLOOKUP($B$3&"_"&D14,'[14]CANAL 12'!$A:$R,3,FALSE),"")&IFERROR(VLOOKUP($B$3&"_"&D14,'[15]CANAL 13'!$A:$R,3,FALSE),"")&IFERROR(VLOOKUP($B$3&"_"&D14,'[16]CANAL 14'!$A:$R,3,FALSE),"")&IFERROR(VLOOKUP($B$3&"_"&D14,'[17]CANAL 15'!$A:$R,3,FALSE),"")&IFERROR(VLOOKUP($B$3&"_"&D14,'[18]CANAL 16'!$A:$R,3,FALSE),"") | G14: =IFERROR(VLOOKUP($B$3&"_"&D14,'CANAL 17'!$A:$R,4,FALSE),"")&IFERROR(VLOOKUP($B$3&"_"&D14,'[2]CANAL 18'!$A:$R,4,FALSE),"")&IFERROR(VLOOKUP($B$3&"_"&D14,'[3]CANAL 1'!$A:$R,4,FALSE),"")&IFERROR(VLOOKUP($B$3&"_"&D14,'[4]CANAL 2'!$A:$R,4,FALSE),"")&IFERROR(VLOOKUP($B$3&"_"&D14,'[5]CANAL 3'!$A:$R,4,FALSE),"")&IFERROR(VLOOKUP($B$3&"_"&D14,'[6]CANAL 4'!$A:$R,4,FALSE),"")&IFERROR(VLOOKUP($B$3&"_"&D14,'[7]CANAL 5'!$A:$R,4,FALSE),"")&IFERROR(VLOOKUP($B$3&"_"&D14,'[8]CANAL 6'!$A:$R,4,FALSE),"")&IFERROR(VLOOKUP($B$3&"_"&D14,'[9]CANAL 7'!$A:$R,4,FALSE),"")&IFERROR(VLOOKUP($B$3&"_"&D14,'[10]CANAL 8'!$A:$R,4,FALSE),"")&IFERROR(VLOOKUP($B$3&"_"&D14,'[11]CANAL 9'!$A:$R,4,FALSE),"")&IFERROR(VLOOKUP($B$3&"_"&D14,'[12]CANAL 10'!$A:$R,4,FALSE),"")&IFERROR(VLOOKUP($B$3&"_"&D14,'[13]CANAL 11'!$A:$R,4,FALSE),"")&IFERROR(VLOOKUP($B$3&"_"&D14,'[14]CANAL 12'!$A:$R,4,FALSE),"")&IFERROR(VLOOKUP($B$3&"_"&D14,'[15]CANAL 13'!$A:$R,4,FALSE),"")&IFERROR(VLOOKUP($B$3&"_"&D14,'[16]CANAL 14'!$A:$R,4,FALSE),"")&IFERROR(VLOOKUP($B$3&"_"&D14,'[17]CANAL 15'!$A:$R,4,FALSE),"")&IFERROR(VLOOKUP($B$3&"_"&D14,'[18]CANAL 16'!$A:$R,4,FALSE),"") | H14: =IFERROR(VLOOKUP($B$3&"_"&D14,'CANAL 17'!$A:$R,5,FALSE),"")&IFERROR(VLOOKUP($B$3&"_"&D14,'[2]CANAL 18'!$A:$R,5,FALSE),"")&IFERROR(VLOOKUP($B$3&"_"&D14,'[3]CANAL 1'!$A:$R,5,FALSE),"")&IFERROR(VLOOKUP($B$3&"_"&D14,'[4]CANAL 2'!$A:$R,5,FALSE),"")&IFERROR(VLOOKUP($B$3&"_"&D14,'[5]CANAL 3'!$A:$R,5,FALSE),"")&IFERROR(VLOOKUP($B$3&"_"&D14,'[6]CANAL 4'!$A:$R,5,FALSE),"")&IFERROR(VLOOKUP($B$3&"_"&D14,'[7]CANAL 5'!$A:$R,5,FALSE),"")&IFERROR(VLOOKUP($B$3&"_"&D14,'[8]CANAL 6'!$A:$R,5,FALSE),"")&IFERROR(VLOOKUP($B$3&"_"&D14,'[9]CANAL 7'!$A:$R,5,FALSE),"")&IFERROR(VLOOKUP($B$3&"_"&D14,'[10]CANAL 8'!$A:$R,5,FALSE),"")&IFERROR(VLOOKUP($B$3&"_"&D14,'[11]CANAL 9'!$A:$R,5,FALSE),"")&IFERROR(VLOOKUP($B$3&"_"&D14,'[12]CANAL 10'!$A:$R,5,FALSE),"")&IFERROR(VLOOKUP($B$3&"_"&D14,'[13]CANAL 11'!$A:$R,5,FALSE),"")&IFERROR(VLOOKUP($B$3&"_"&D14,'[14]CANAL 12'!$A:$R,5,FALSE),"")&IFERROR(VLOOKUP($B$3&"_"&D14,'[15]CANAL 13'!$A:$R,5,FALSE),"")&IFERROR(VLOOKUP($B$3&"_"&D14,'[16]CANAL 14'!$A:$R,5,FALSE),"")&IFERROR(VLOOKUP($B$3&"_"&D14,'[17]CANAL 15'!$A:$R,5,FALSE),"")&IFERROR(VLOOKUP($B$3&"_"&D14,'[18]CANAL 16'!$A:$R,5,FALSE),"") | I14: =IFERROR(VLOOKUP($B$3&"_"&D14,'CANAL 17'!$A:$R,6,FALSE),"")&IFERROR(VLOOKUP($B$3&"_"&D14,'[2]CANAL 18'!$A:$R,6,FALSE),"")&IFERROR(VLOOKUP($B$3&"_"&D14,'[3]CANAL 1'!$A:$R,6,FALSE),"")&IFERROR(VLOOKUP($B$3&"_"&D14,'[4]CANAL 2'!$A:$R,6,FALSE),"")&IFERROR(VLOOKUP($B$3&"_"&D14,'[5]CANAL 3'!$A:$R,6,FALSE),"")&IFERROR(VLOOKUP($B$3&"_"&D14,'[6]CANAL 4'!$A:$R,6,FALSE),"")&IFERROR(VLOOKUP($B$3&"_"&D14,'[7]CANAL 5'!$A:$R,6,FALSE),"")&IFERROR(VLOOKUP($B$3&"_"&D14,'[8]CANAL 6'!$A:$R,6,FALSE),"")&IFERROR(VLOOKUP($B$3&"_"&D14,'[9]CANAL 7'!$A:$R,6,FALSE),"")&IFERROR(VLOOKUP($B$3&"_"&D14,'[10]CANAL 8'!$A:$R,6,FALSE),"")&IFERROR(VLOOKUP($B$3&"_"&D14,'[11]CANAL 9'!$A:$R,6,FALSE),"")&IFERROR(VLOOKUP($B$3&"_"&D14,'[12]CANAL 10'!$A:$R,6,FALSE),"")&IFERROR(VLOOKUP($B$3&"_"&D14,'[13]CANAL 11'!$A:$R,6,FALSE),"")&IFERROR(VLOOKUP($B$3&"_"&D14,'[14]CANAL 12'!$A:$R,6,FALSE),"")&IFERROR(VLOOKUP($B$3&"_"&D14,'[15]CANAL 13'!$A:$R,6,FALSE),"")&IFERROR(VLOOKUP($B$3&"_"&D14,'[16]CANAL 14'!$A:$R,6,FALSE),"")&IFERROR(VLOOKUP($B$3&"_"&D14,'[17]CANAL 15'!$A:$R,6,FALSE),"")&IFERROR(VLOOKUP($B$3&"_"&D14,'[18]CANAL 16'!$A:$R,6,FALSE),"") | J14: =IFERROR(VLOOKUP($B$3&"_"&D14,'CANAL 17'!$A:$R,7,FALSE),"")&IFERROR(VLOOKUP($B$3&"_"&D14,'[2]CANAL 18'!$A:$R,7,FALSE),"")&IFERROR(VLOOKUP($B$3&"_"&D14,'[3]CANAL 1'!$A:$R,7,FALSE),"")&IFERROR(VLOOKUP($B$3&"_"&D14,'[4]CANAL 2'!$A:$R,7,FALSE),"")&IFERROR(VLOOKUP($B$3&"_"&D14,'[5]CANAL 3'!$A:$R,7,FALSE),"")&IFERROR(VLOOKUP($B$3&"_"&D14,'[6]CANAL 4'!$A:$R,7,FALSE),"")&IFERROR(VLOOKUP($B$3&"_"&D14,'[7]CANAL 5'!$A:$R,7,FALSE),"")&IFERROR(VLOOKUP($B$3&"_"&D14,'[8]CANAL 6'!$A:$R,7,FALSE),"")&IFERROR(VLOOKUP($B$3&"_"&D14,'[9]CANAL 7'!$A:$R,7,FALSE),"")&IFERROR(VLOOKUP($B$3&"_"&D14,'[10]CANAL 8'!$A:$R,7,FALSE),"")&IFERROR(VLOOKUP($B$3&"_"&D14,'[11]CANAL 9'!$A:$R,7,FALSE),"")&IFERROR(VLOOKUP($B$3&"_"&D14,'[12]CANAL 10'!$A:$R,7,FALSE),"")&IFERROR(VLOOKUP($B$3&"_"&D14,'[13]CANAL 11'!$A:$R,7,FALSE),"")&IFERROR(VLOOKUP($B$3&"_"&D14,'[14]CANAL 12'!$A:$R,7,FALSE),"")&IFERROR(VLOOKUP($B$3&"_"&D14,'[15]CANAL 13'!$A:$R,7,FALSE),"")&IFERROR(VLOOKUP($B$3&"_"&D14,'[16]CANAL 14'!$A:$R,7,FALSE),"")&IFERROR(VLOOKUP($B$3&"_"&D14,'[17]CANAL 15'!$A:$R,7,FALSE),"")&IFERROR(VLOOKUP($B$3&"_"&D14,'[18]CANAL 16'!$A:$R,7,FALSE),"") | K14: =IFERROR(VLOOKUP($B$3&"_"&D14,'CANAL 17'!$A:$R,8,FALSE),"")&IFERROR(VLOOKUP($B$3&"_"&D14,'[2]CANAL 18'!$A:$R,8,FALSE),"")&IFERROR(VLOOKUP($B$3&"_"&D14,'[3]CANAL 1'!$A:$R,8,FALSE),"")&IFERROR(VLOOKUP($B$3&"_"&D14,'[4]CANAL 2'!$A:$R,8,FALSE),"")&IFERROR(VLOOKUP($B$3&"_"&D14,'[5]CANAL 3'!$A:$R,8,FALSE),"")&IFERROR(VLOOKUP($B$3&"_"&D14,'[6]CANAL 4'!$A:$R,8,FALSE),"")&IFERROR(VLOOKUP($B$3&"_"&D14,'[7]CANAL 5'!$A:$R,8,FALSE),"")&IFERROR(VLOOKUP($B$3&"_"&D14,'[8]CANAL 6'!$A:$R,8,FALSE),"")&IFERROR(VLOOKUP($B$3&"_"&D14,'[9]CANAL 7'!$A:$R,8,FALSE),"")&IFERROR(VLOOKUP($B$3&"_"&D14,'[10]CANAL 8'!$A:$R,8,FALSE),"")&IFERROR(VLOOKUP($B$3&"_"&D14,'[11]CANAL 9'!$A:$R,8,FALSE),"")&IFERROR(VLOOKUP($B$3&"_"&D14,'[12]CANAL 10'!$A:$R,8,FALSE),"")&IFERROR(VLOOKUP($B$3&"_"&D14,'[13]CANAL 11'!$A:$R,8,FALSE),"")&IFERROR(VLOOKUP($B$3&"_"&D14,'[14]CANAL 12'!$A:$R,8,FALSE),"")&IFERROR(VLOOKUP($B$3&"_"&D14,'[15]CANAL 13'!$A:$R,8,FALSE),"")&IFERROR(VLOOKUP($B$3&"_"&D14,'[16]CANAL 14'!$A:$R,8,FALSE),"")&IFERROR(VLOOKUP($B$3&"_"&D14,'[17]CANAL 15'!$A:$R,8,FALSE),"")&IFERROR(VLOOKUP($B$3&"_"&D14,'[18]CANAL 16'!$A:$R,8,FALSE),"") | L14: =IFERROR(VLOOKUP($B$3&"_"&D14,'CANAL 17'!$A:$R,9,FALSE),"")&IFERROR(VLOOKUP($B$3&"_"&D14,'[2]CANAL 18'!$A:$R,9,FALSE),"")&IFERROR(VLOOKUP($B$3&"_"&D14,'[3]CANAL 1'!$A:$R,9,FALSE),"")&IFERROR(VLOOKUP($B$3&"_"&D14,'[4]CANAL 2'!$A:$R,9,FALSE),"")&IFERROR(VLOOKUP($B$3&"_"&D14,'[5]CANAL 3'!$A:$R,9,FALSE),"")&IFERROR(VLOOKUP($B$3&"_"&D14,'[6]CANAL 4'!$A:$R,9,FALSE),"")&IFERROR(VLOOKUP($B$3&"_"&D14,'[7]CANAL 5'!$A:$R,9,FALSE),"")&IFERROR(VLOOKUP($B$3&"_"&D14,'[8]CANAL 6'!$A:$R,9,FALSE),"")&IFERROR(VLOOKUP($B$3&"_"&D14,'[9]CANAL 7'!$A:$R,9,FALSE),"")&IFERROR(VLOOKUP($B$3&"_"&D14,'[10]CANAL 8'!$A:$R,9,FALSE),"")&IFERROR(VLOOKUP($B$3&"_"&D14,'[11]CANAL 9'!$A:$R,9,FALSE),"")&IFERROR(VLOOKUP($B$3&"_"&D14,'[12]CANAL 10'!$A:$R,9,FALSE),"")&IFERROR(VLOOKUP($B$3&"_"&D14,'[13]CANAL 11'!$A:$R,9,FALSE),"")&IFERROR(VLOOKUP($B$3&"_"&D14,'[14]CANAL 12'!$A:$R,9,FALSE),"")&IFERROR(VLOOKUP($B$3&"_"&D14,'[15]CANAL 13'!$A:$R,9,FALSE),"")&IFERROR(VLOOKUP($B$3&"_"&D14,'[16]CANAL 14'!$A:$R,9,FALSE),"")&IFERROR(VLOOKUP($B$3&"_"&D14,'[17]CANAL 15'!$A:$R,9,FALSE),"")&IFERROR(VLOOKUP($B$3&"_"&D14,'[18]CANAL 16'!$A:$R,9,FALSE),"") | R14: =IFERROR(VLOOKUP($B$3&"_"&D14,'CANAL 17'!$A:$R,15,FALSE),"")&IFERROR(VLOOKUP($B$3&"_"&D14,'[2]CANAL 18'!$A:$R,15,FALSE),"")&IFERROR(VLOOKUP($B$3&"_"&D14,'[3]CANAL 1'!$A:$R,15,FALSE),"")&IFERROR(VLOOKUP($B$3&"_"&D14,'[4]CANAL 2'!$A:$R,15,FALSE),"")&IFERROR(VLOOKUP($B$3&"_"&D14,'[5]CANAL 3'!$A:$R,15,FALSE),"")&IFERROR(VLOOKUP($B$3&"_"&D14,'[6]CANAL 4'!$A:$R,15,FALSE),"")&IFERROR(VLOOKUP($B$3&"_"&D14,'[7]CANAL 5'!$A:$R,15,FALSE),"")&IFERROR(VLOOKUP($B$3&"_"&D14,'[8]CANAL 6'!$A:$R,15,FALSE),"")&IFERROR(VLOOKUP($B$3&"_"&D14,'[9]CANAL 7'!$A:$R,15,FALSE),"")&IFERROR(VLOOKUP($B$3&"_"&D14,'[10]CANAL 8'!$A:$R,15,FALSE),"")&IFERROR(VLOOKUP($B$3&"_"&D14,'[11]CANAL 9'!$A:$R,15,FALSE),"")&IFERROR(VLOOKUP($B$3&"_"&D14,'[12]CANAL 10'!$A:$R,15,FALSE),"")&IFERROR(VLOOKUP($B$3&"_"&D14,'[13]CANAL 11'!$A:$R,15,FALSE),"")&IFERROR(VLOOKUP($B$3&"_"&D14,'[14]CANAL 12'!$A:$R,15,FALSE),"")&IFERROR(VLOOKUP($B$3&"_"&D14,'[15]CANAL 13'!$A:$R,15,FALSE),"")&IFERROR(VLOOKUP($B$3&"_"&D14,'[16]CANAL 14'!$A:$R,15,FALSE),"")&IFERROR(VLOOKUP($B$3&"_"&D14,'[17]CANAL 15'!$A:$R,15,FALSE),"")&IFERROR(VLOOKUP($B$3&"_"&D14,'[18]CANAL 16'!$A:$R,15,FALSE),"")
D15: 7 | E15: =IFERROR(VLOOKUP($B$3&"_"&D15,'CANAL 17'!$A:$R,2,FALSE),"")&IFERROR(VLOOKUP($B$3&"_"&D15,'[2]CANAL 18'!$A:$R,2,FALSE),"")&IFERROR(VLOOKUP($B$3&"_"&D15,'[3]CANAL 1'!A:R,2,FALSE),"")&IFERROR(VLOOKUP($B$3&"_"&D15,'[4]CANAL 2'!A:R,2,FALSE),"")&IFERROR(VLOOKUP($B$3&"_"&D15,'[5]CANAL 3'!A:R,2,FALSE),"")&IFERROR(VLOOKUP($B$3&"_"&D15,'[6]CANAL 4'!A:R,2,FALSE),"")&IFERROR(VLOOKUP($B$3&"_"&D15,'[7]CANAL 5'!A:R,2,FALSE),"")&IFERROR(VLOOKUP($B$3&"_"&D15,'[8]CANAL 6'!A:R,2,FALSE),"")&IFERROR(VLOOKUP($B$3&"_"&D15,'[9]CANAL 7'!A:R,2,FALSE),"")&IFERROR(VLOOKUP($B$3&"_"&D15,'[10]CANAL 8'!A:R,2,FALSE),"")&IFERROR(VLOOKUP($B$3&"_"&D15,'[11]CANAL 9'!A:R,2,FALSE),"")&IFERROR(VLOOKUP($B$3&"_"&D15,'[12]CANAL 10'!A:R,2,FALSE),"")&IFERROR(VLOOKUP($B$3&"_"&D15,'[13]CANAL 11'!A:R,2,FALSE),"")&IFERROR(VLOOKUP($B$3&"_"&D15,'[14]CANAL 12'!A:R,2,FALSE),"")&IFERROR(VLOOKUP($B$3&"_"&D15,'[15]CANAL 13'!A:R,2,FALSE),"")&IFERROR(VLOOKUP($B$3&"_"&D15,'[16]CANAL 14'!A:R,2,FALSE),"")&IFERROR(VLOOKUP($B$3&"_"&D15,'[17]CANAL 15'!A:R,2,FALSE),"")&IFERROR(VLOOKUP($B$3&"_"&D15,'[18]CANAL 16'!A:R,2,FALSE),"") | F15: =IFERROR(VLOOKUP($B$3&"_"&D15,'CANAL 17'!$A:$R,3,FALSE),"")&IFERROR(VLOOKUP($B$3&"_"&D15,'[2]CANAL 18'!$A:$R,3,FALSE),"")&IFERROR(VLOOKUP($B$3&"_"&D15,'[3]CANAL 1'!$A:$R,3,FALSE),"")&IFERROR(VLOOKUP($B$3&"_"&D15,'[4]CANAL 2'!$A:$R,3,FALSE),"")&IFERROR(VLOOKUP($B$3&"_"&D15,'[5]CANAL 3'!$A:$R,3,FALSE),"")&IFERROR(VLOOKUP($B$3&"_"&D15,'[6]CANAL 4'!$A:$R,3,FALSE),"")&IFERROR(VLOOKUP($B$3&"_"&D15,'[7]CANAL 5'!$A:$R,3,FALSE),"")&IFERROR(VLOOKUP($B$3&"_"&D15,'[8]CANAL 6'!$A:$R,3,FALSE),"")&IFERROR(VLOOKUP($B$3&"_"&D15,'[9]CANAL 7'!$A:$R,3,FALSE),"")&IFERROR(VLOOKUP($B$3&"_"&D15,'[10]CANAL 8'!$A:$R,3,FALSE),"")&IFERROR(VLOOKUP($B$3&"_"&D15,'[11]CANAL 9'!$A:$R,3,FALSE),"")&IFERROR(VLOOKUP($B$3&"_"&D15,'[12]CANAL 10'!$A:$R,3,FALSE),"")&IFERROR(VLOOKUP($B$3&"_"&D15,'[13]CANAL 11'!$A:$R,3,FALSE),"")&IFERROR(VLOOKUP($B$3&"_"&D15,'[14]CANAL 12'!$A:$R,3,FALSE),"")&IFERROR(VLOOKUP($B$3&"_"&D15,'[15]CANAL 13'!$A:$R,3,FALSE),"")&IFERROR(VLOOKUP($B$3&"_"&D15,'[16]CANAL 14'!$A:$R,3,FALSE),"")&IFERROR(VLOOKUP($B$3&"_"&D15,'[17]CANAL 15'!$A:$R,3,FALSE),"")&IFERROR(VLOOKUP($B$3&"_"&D15,'[18]CANAL 16'!$A:$R,3,FALSE),"") | G15: =IFERROR(VLOOKUP($B$3&"_"&D15,'CANAL 17'!$A:$R,4,FALSE),"")&IFERROR(VLOOKUP($B$3&"_"&D15,'[2]CANAL 18'!$A:$R,4,FALSE),"")&IFERROR(VLOOKUP($B$3&"_"&D15,'[3]CANAL 1'!$A:$R,4,FALSE),"")&IFERROR(VLOOKUP($B$3&"_"&D15,'[4]CANAL 2'!$A:$R,4,FALSE),"")&IFERROR(VLOOKUP($B$3&"_"&D15,'[5]CANAL 3'!$A:$R,4,FALSE),"")&IFERROR(VLOOKUP($B$3&"_"&D15,'[6]CANAL 4'!$A:$R,4,FALSE),"")&IFERROR(VLOOKUP($B$3&"_"&D15,'[7]CANAL 5'!$A:$R,4,FALSE),"")&IFERROR(VLOOKUP($B$3&"_"&D15,'[8]CANAL 6'!$A:$R,4,FALSE),"")&IFERROR(VLOOKUP($B$3&"_"&D15,'[9]CANAL 7'!$A:$R,4,FALSE),"")&IFERROR(VLOOKUP($B$3&"_"&D15,'[10]CANAL 8'!$A:$R,4,FALSE),"")&IFERROR(VLOOKUP($B$3&"_"&D15,'[11]CANAL 9'!$A:$R,4,FALSE),"")&IFERROR(VLOOKUP($B$3&"_"&D15,'[12]CANAL 10'!$A:$R,4,FALSE),"")&IFERROR(VLOOKUP($B$3&"_"&D15,'[13]CANAL 11'!$A:$R,4,FALSE),"")&IFERROR(VLOOKUP($B$3&"_"&D15,'[14]CANAL 12'!$A:$R,4,FALSE),"")&IFERROR(VLOOKUP($B$3&"_"&D15,'[15]CANAL 13'!$A:$R,4,FALSE),"")&IFERROR(VLOOKUP($B$3&"_"&D15,'[16]CANAL 14'!$A:$R,4,FALSE),"")&IFERROR(VLOOKUP($B$3&"_"&D15,'[17]CANAL 15'!$A:$R,4,FALSE),"")&IFERROR(VLOOKUP($B$3&"_"&D15,'[18]CANAL 16'!$A:$R,4,FALSE),"") | H15: =IFERROR(VLOOKUP($B$3&"_"&D15,'CANAL 17'!$A:$R,5,FALSE),"")&IFERROR(VLOOKUP($B$3&"_"&D15,'[2]CANAL 18'!$A:$R,5,FALSE),"")&IFERROR(VLOOKUP($B$3&"_"&D15,'[3]CANAL 1'!$A:$R,5,FALSE),"")&IFERROR(VLOOKUP($B$3&"_"&D15,'[4]CANAL 2'!$A:$R,5,FALSE),"")&IFERROR(VLOOKUP($B$3&"_"&D15,'[5]CANAL 3'!$A:$R,5,FALSE),"")&IFERROR(VLOOKUP($B$3&"_"&D15,'[6]CANAL 4'!$A:$R,5,FALSE),"")&IFERROR(VLOOKUP($B$3&"_"&D15,'[7]CANAL 5'!$A:$R,5,FALSE),"")&IFERROR(VLOOKUP($B$3&"_"&D15,'[8]CANAL 6'!$A:$R,5,FALSE),"")&IFERROR(VLOOKUP($B$3&"_"&D15,'[9]CANAL 7'!$A:$R,5,FALSE),"")&IFERROR(VLOOKUP($B$3&"_"&D15,'[10]CANAL 8'!$A:$R,5,FALSE),"")&IFERROR(VLOOKUP($B$3&"_"&D15,'[11]CANAL 9'!$A:$R,5,FALSE),"")&IFERROR(VLOOKUP($B$3&"_"&D15,'[12]CANAL 10'!$A:$R,5,FALSE),"")&IFERROR(VLOOKUP($B$3&"_"&D15,'[13]CANAL 11'!$A:$R,5,FALSE),"")&IFERROR(VLOOKUP($B$3&"_"&D15,'[14]CANAL 12'!$A:$R,5,FALSE),"")&IFERROR(VLOOKUP($B$3&"_"&D15,'[15]CANAL 13'!$A:$R,5,FALSE),"")&IFERROR(VLOOKUP($B$3&"_"&D15,'[16]CANAL 14'!$A:$R,5,FALSE),"")&IFERROR(VLOOKUP($B$3&"_"&D15,'[17]CANAL 15'!$A:$R,5,FALSE),"")&IFERROR(VLOOKUP($B$3&"_"&D15,'[18]CANAL 16'!$A:$R,5,FALSE),"") | I15: =IFERROR(VLOOKUP($B$3&"_"&D15,'CANAL 17'!$A:$R,6,FALSE),"")&IFERROR(VLOOKUP($B$3&"_"&D15,'[2]CANAL 18'!$A:$R,6,FALSE),"")&IFERROR(VLOOKUP($B$3&"_"&D15,'[3]CANAL 1'!$A:$R,6,FALSE),"")&IFERROR(VLOOKUP($B$3&"_"&D15,'[4]CANAL 2'!$A:$R,6,FALSE),"")&IFERROR(VLOOKUP($B$3&"_"&D15,'[5]CANAL 3'!$A:$R,6,FALSE),"")&IFERROR(VLOOKUP($B$3&"_"&D15,'[6]CANAL 4'!$A:$R,6,FALSE),"")&IFERROR(VLOOKUP($B$3&"_"&D15,'[7]CANAL 5'!$A:$R,6,FALSE),"")&IFERROR(VLOOKUP($B$3&"_"&D15,'[8]CANAL 6'!$A:$R,6,FALSE),"")&IFERROR(VLOOKUP($B$3&"_"&D15,'[9]CANAL 7'!$A:$R,6,FALSE),"")&IFERROR(VLOOKUP($B$3&"_"&D15,'[10]CANAL 8'!$A:$R,6,FALSE),"")&IFERROR(VLOOKUP($B$3&"_"&D15,'[11]CANAL 9'!$A:$R,6,FALSE),"")&IFERROR(VLOOKUP($B$3&"_"&D15,'[12]CANAL 10'!$A:$R,6,FALSE),"")&IFERROR(VLOOKUP($B$3&"_"&D15,'[13]CANAL 11'!$A:$R,6,FALSE),"")&IFERROR(VLOOKUP($B$3&"_"&D15,'[14]CANAL 12'!$A:$R,6,FALSE),"")&IFERROR(VLOOKUP($B$3&"_"&D15,'[15]CANAL 13'!$A:$R,6,FALSE),"")&IFERROR(VLOOKUP($B$3&"_"&D15,'[16]CANAL 14'!$A:$R,6,FALSE),"")&IFERROR(VLOOKUP($B$3&"_"&D15,'[17]CANAL 15'!$A:$R,6,FALSE),"")&IFERROR(VLOOKUP($B$3&"_"&D15,'[18]CANAL 16'!$A:$R,6,FALSE),"") | J15: =IFERROR(VLOOKUP($B$3&"_"&D15,'CANAL 17'!$A:$R,7,FALSE),"")&IFERROR(VLOOKUP($B$3&"_"&D15,'[2]CANAL 18'!$A:$R,7,FALSE),"")&IFERROR(VLOOKUP($B$3&"_"&D15,'[3]CANAL 1'!$A:$R,7,FALSE),"")&IFERROR(VLOOKUP($B$3&"_"&D15,'[4]CANAL 2'!$A:$R,7,FALSE),"")&IFERROR(VLOOKUP($B$3&"_"&D15,'[5]CANAL 3'!$A:$R,7,FALSE),"")&IFERROR(VLOOKUP($B$3&"_"&D15,'[6]CANAL 4'!$A:$R,7,FALSE),"")&IFERROR(VLOOKUP($B$3&"_"&D15,'[7]CANAL 5'!$A:$R,7,FALSE),"")&IFERROR(VLOOKUP($B$3&"_"&D15,'[8]CANAL 6'!$A:$R,7,FALSE),"")&IFERROR(VLOOKUP($B$3&"_"&D15,'[9]CANAL 7'!$A:$R,7,FALSE),"")&IFERROR(VLOOKUP($B$3&"_"&D15,'[10]CANAL 8'!$A:$R,7,FALSE),"")&IFERROR(VLOOKUP($B$3&"_"&D15,'[11]CANAL 9'!$A:$R,7,FALSE),"")&IFERROR(VLOOKUP($B$3&"_"&D15,'[12]CANAL 10'!$A:$R,7,FALSE),"")&IFERROR(VLOOKUP($B$3&"_"&D15,'[13]CANAL 11'!$A:$R,7,FALSE),"")&IFERROR(VLOOKUP($B$3&"_"&D15,'[14]CANAL 12'!$A:$R,7,FALSE),"")&IFERROR(VLOOKUP($B$3&"_"&D15,'[15]CANAL 13'!$A:$R,7,FALSE),"")&IFERROR(VLOOKUP($B$3&"_"&D15,'[16]CANAL 14'!$A:$R,7,FALSE),"")&IFERROR(VLOOKUP($B$3&"_"&D15,'[17]CANAL 15'!$A:$R,7,FALSE),"")&IFERROR(VLOOKUP($B$3&"_"&D15,'[18]CANAL 16'!$A:$R,7,FALSE),"") | K15: =IFERROR(VLOOKUP($B$3&"_"&D15,'CANAL 17'!$A:$R,8,FALSE),"")&IFERROR(VLOOKUP($B$3&"_"&D15,'[2]CANAL 18'!$A:$R,8,FALSE),"")&IFERROR(VLOOKUP($B$3&"_"&D15,'[3]CANAL 1'!$A:$R,8,FALSE),"")&IFERROR(VLOOKUP($B$3&"_"&D15,'[4]CANAL 2'!$A:$R,8,FALSE),"")&IFERROR(VLOOKUP($B$3&"_"&D15,'[5]CANAL 3'!$A:$R,8,FALSE),"")&IFERROR(VLOOKUP($B$3&"_"&D15,'[6]CANAL 4'!$A:$R,8,FALSE),"")&IFERROR(VLOOKUP($B$3&"_"&D15,'[7]CANAL 5'!$A:$R,8,FALSE),"")&IFERROR(VLOOKUP($B$3&"_"&D15,'[8]CANAL 6'!$A:$R,8,FALSE),"")&IFERROR(VLOOKUP($B$3&"_"&D15,'[9]CANAL 7'!$A:$R,8,FALSE),"")&IFERROR(VLOOKUP($B$3&"_"&D15,'[10]CANAL 8'!$A:$R,8,FALSE),"")&IFERROR(VLOOKUP($B$3&"_"&D15,'[11]CANAL 9'!$A:$R,8,FALSE),"")&IFERROR(VLOOKUP($B$3&"_"&D15,'[12]CANAL 10'!$A:$R,8,FALSE),"")&IFERROR(VLOOKUP($B$3&"_"&D15,'[13]CANAL 11'!$A:$R,8,FALSE),"")&IFERROR(VLOOKUP($B$3&"_"&D15,'[14]CANAL 12'!$A:$R,8,FALSE),"")&IFERROR(VLOOKUP($B$3&"_"&D15,'[15]CANAL 13'!$A:$R,8,FALSE),"")&IFERROR(VLOOKUP($B$3&"_"&D15,'[16]CANAL 14'!$A:$R,8,FALSE),"")&IFERROR(VLOOKUP($B$3&"_"&D15,'[17]CANAL 15'!$A:$R,8,FALSE),"")&IFERROR(VLOOKUP($B$3&"_"&D15,'[18]CANAL 16'!$A:$R,8,FALSE),"") | L15: =IFERROR(VLOOKUP($B$3&"_"&D15,'CANAL 17'!$A:$R,9,FALSE),"")&IFERROR(VLOOKUP($B$3&"_"&D15,'[2]CANAL 18'!$A:$R,9,FALSE),"")&IFERROR(VLOOKUP($B$3&"_"&D15,'[3]CANAL 1'!$A:$R,9,FALSE),"")&IFERROR(VLOOKUP($B$3&"_"&D15,'[4]CANAL 2'!$A:$R,9,FALSE),"")&IFERROR(VLOOKUP($B$3&"_"&D15,'[5]CANAL 3'!$A:$R,9,FALSE),"")&IFERROR(VLOOKUP($B$3&"_"&D15,'[6]CANAL 4'!$A:$R,9,FALSE),"")&IFERROR(VLOOKUP($B$3&"_"&D15,'[7]CANAL 5'!$A:$R,9,FALSE),"")&IFERROR(VLOOKUP($B$3&"_"&D15,'[8]CANAL 6'!$A:$R,9,FALSE),"")&IFERROR(VLOOKUP($B$3&"_"&D15,'[9]CANAL 7'!$A:$R,9,FALSE),"")&IFERROR(VLOOKUP($B$3&"_"&D15,'[10]CANAL 8'!$A:$R,9,FALSE),"")&IFERROR(VLOOKUP($B$3&"_"&D15,'[11]CANAL 9'!$A:$R,9,FALSE),"")&IFERROR(VLOOKUP($B$3&"_"&D15,'[12]CANAL 10'!$A:$R,9,FALSE),"")&IFERROR(VLOOKUP($B$3&"_"&D15,'[13]CANAL 11'!$A:$R,9,FALSE),"")&IFERROR(VLOOKUP($B$3&"_"&D15,'[14]CANAL 12'!$A:$R,9,FALSE),"")&IFERROR(VLOOKUP($B$3&"_"&D15,'[15]CANAL 13'!$A:$R,9,FALSE),"")&IFERROR(VLOOKUP($B$3&"_"&D15,'[16]CANAL 14'!$A:$R,9,FALSE),"")&IFERROR(VLOOKUP($B$3&"_"&D15,'[17]CANAL 15'!$A:$R,9,FALSE),"")&IFERROR(VLOOKUP($B$3&"_"&D15,'[18]CANAL 16'!$A:$R,9,FALSE),"") | R15: =IFERROR(VLOOKUP($B$3&"_"&D15,'CANAL 17'!$A:$R,15,FALSE),"")&IFERROR(VLOOKUP($B$3&"_"&D15,'[2]CANAL 18'!$A:$R,15,FALSE),"")&IFERROR(VLOOKUP($B$3&"_"&D15,'[3]CANAL 1'!$A:$R,15,FALSE),"")&IFERROR(VLOOKUP($B$3&"_"&D15,'[4]CANAL 2'!$A:$R,15,FALSE),"")&IFERROR(VLOOKUP($B$3&"_"&D15,'[5]CANAL 3'!$A:$R,15,FALSE),"")&IFERROR(VLOOKUP($B$3&"_"&D15,'[6]CANAL 4'!$A:$R,15,FALSE),"")&IFERROR(VLOOKUP($B$3&"_"&D15,'[7]CANAL 5'!$A:$R,15,FALSE),"")&IFERROR(VLOOKUP($B$3&"_"&D15,'[8]CANAL 6'!$A:$R,15,FALSE),"")&IFERROR(VLOOKUP($B$3&"_"&D15,'[9]CANAL 7'!$A:$R,15,FALSE),"")&IFERROR(VLOOKUP($B$3&"_"&D15,'[10]CANAL 8'!$A:$R,15,FALSE),"")&IFERROR(VLOOKUP($B$3&"_"&D15,'[11]CANAL 9'!$A:$R,15,FALSE),"")&IFERROR(VLOOKUP($B$3&"_"&D15,'[12]CANAL 10'!$A:$R,15,FALSE),"")&IFERROR(VLOOKUP($B$3&"_"&D15,'[13]CANAL 11'!$A:$R,15,FALSE),"")&IFERROR(VLOOKUP($B$3&"_"&D15,'[14]CANAL 12'!$A:$R,15,FALSE),"")&IFERROR(VLOOKUP($B$3&"_"&D15,'[15]CANAL 13'!$A:$R,15,FALSE),"")&IFERROR(VLOOKUP($B$3&"_"&D15,'[16]CANAL 14'!$A:$R,15,FALSE),"")&IFERROR(VLOOKUP($B$3&"_"&D15,'[17]CANAL 15'!$A:$R,15,FALSE),"")&IFERROR(VLOOKUP($B$3&"_"&D15,'[18]CANAL 16'!$A:$R,15,FALSE),"")
D16: 8 | E16: =IFERROR(VLOOKUP($B$3&"_"&D16,'CANAL 17'!$A:$R,2,FALSE),"")&IFERROR(VLOOKUP($B$3&"_"&D16,'[2]CANAL 18'!$A:$R,2,FALSE),"")&IFERROR(VLOOKUP($B$3&"_"&D16,'[3]CANAL 1'!A:R,2,FALSE),"")&IFERROR(VLOOKUP($B$3&"_"&D16,'[4]CANAL 2'!A:R,2,FALSE),"")&IFERROR(VLOOKUP($B$3&"_"&D16,'[5]CANAL 3'!A:R,2,FALSE),"")&IFERROR(VLOOKUP($B$3&"_"&D16,'[6]CANAL 4'!A:R,2,FALSE),"")&IFERROR(VLOOKUP($B$3&"_"&D16,'[7]CANAL 5'!A:R,2,FALSE),"")&IFERROR(VLOOKUP($B$3&"_"&D16,'[8]CANAL 6'!A:R,2,FALSE),"")&IFERROR(VLOOKUP($B$3&"_"&D16,'[9]CANAL 7'!A:R,2,FALSE),"")&IFERROR(VLOOKUP($B$3&"_"&D16,'[10]CANAL 8'!A:R,2,FALSE),"")&IFERROR(VLOOKUP($B$3&"_"&D16,'[11]CANAL 9'!A:R,2,FALSE),"")&IFERROR(VLOOKUP($B$3&"_"&D16,'[12]CANAL 10'!A:R,2,FALSE),"")&IFERROR(VLOOKUP($B$3&"_"&D16,'[13]CANAL 11'!A:R,2,FALSE),"")&IFERROR(VLOOKUP($B$3&"_"&D16,'[14]CANAL 12'!A:R,2,FALSE),"")&IFERROR(VLOOKUP($B$3&"_"&D16,'[15]CANAL 13'!A:R,2,FALSE),"")&IFERROR(VLOOKUP($B$3&"_"&D16,'[16]CANAL 14'!A:R,2,FALSE),"")&IFERROR(VLOOKUP($B$3&"_"&D16,'[17]CANAL 15'!A:R,2,FALSE),"")&IFERROR(VLOOKUP($B$3&"_"&D16,'[18]CANAL 16'!A:R,2,FALSE),"") | F16: =IFERROR(VLOOKUP($B$3&"_"&D16,'CANAL 17'!$A:$R,3,FALSE),"")&IFERROR(VLOOKUP($B$3&"_"&D16,'[2]CANAL 18'!$A:$R,3,FALSE),"")&IFERROR(VLOOKUP($B$3&"_"&D16,'[3]CANAL 1'!$A:$R,3,FALSE),"")&IFERROR(VLOOKUP($B$3&"_"&D16,'[4]CANAL 2'!$A:$R,3,FALSE),"")&IFERROR(VLOOKUP($B$3&"_"&D16,'[5]CANAL 3'!$A:$R,3,FALSE),"")&IFERROR(VLOOKUP($B$3&"_"&D16,'[6]CANAL 4'!$A:$R,3,FALSE),"")&IFERROR(VLOOKUP($B$3&"_"&D16,'[7]CANAL 5'!$A:$R,3,FALSE),"")&IFERROR(VLOOKUP($B$3&"_"&D16,'[8]CANAL 6'!$A:$R,3,FALSE),"")&IFERROR(VLOOKUP($B$3&"_"&D16,'[9]CANAL 7'!$A:$R,3,FALSE),"")&IFERROR(VLOOKUP($B$3&"_"&D16,'[10]CANAL 8'!$A:$R,3,FALSE),"")&IFERROR(VLOOKUP($B$3&"_"&D16,'[11]CANAL 9'!$A:$R,3,FALSE),"")&IFERROR(VLOOKUP($B$3&"_"&D16,'[12]CANAL 10'!$A:$R,3,FALSE),"")&IFERROR(VLOOKUP($B$3&"_"&D16,'[13]CANAL 11'!$A:$R,3,FALSE),"")&IFERROR(VLOOKUP($B$3&"_"&D16,'[14]CANAL 12'!$A:$R,3,FALSE),"")&IFERROR(VLOOKUP($B$3&"_"&D16,'[15]CANAL 13'!$A:$R,3,FALSE),"")&IFERROR(VLOOKUP($B$3&"_"&D16,'[16]CANAL 14'!$A:$R,3,FALSE),"")&IFERROR(VLOOKUP($B$3&"_"&D16,'[17]CANAL 15'!$A:$R,3,FALSE),"")&IFERROR(VLOOKUP($B$3&"_"&D16,'[18]CANAL 16'!$A:$R,3,FALSE),"") | G16: =IFERROR(VLOOKUP($B$3&"_"&D16,'CANAL 17'!$A:$R,4,FALSE),"")&IFERROR(VLOOKUP($B$3&"_"&D16,'[2]CANAL 18'!$A:$R,4,FALSE),"")&IFERROR(VLOOKUP($B$3&"_"&D16,'[3]CANAL 1'!$A:$R,4,FALSE),"")&IFERROR(VLOOKUP($B$3&"_"&D16,'[4]CANAL 2'!$A:$R,4,FALSE),"")&IFERROR(VLOOKUP($B$3&"_"&D16,'[5]CANAL 3'!$A:$R,4,FALSE),"")&IFERROR(VLOOKUP($B$3&"_"&D16,'[6]CANAL 4'!$A:$R,4,FALSE),"")&IFERROR(VLOOKUP($B$3&"_"&D16,'[7]CANAL 5'!$A:$R,4,FALSE),"")&IFERROR(VLOOKUP($B$3&"_"&D16,'[8]CANAL 6'!$A:$R,4,FALSE),"")&IFERROR(VLOOKUP($B$3&"_"&D16,'[9]CANAL 7'!$A:$R,4,FALSE),"")&IFERROR(VLOOKUP($B$3&"_"&D16,'[10]CANAL 8'!$A:$R,4,FALSE),"")&IFERROR(VLOOKUP($B$3&"_"&D16,'[11]CANAL 9'!$A:$R,4,FALSE),"")&IFERROR(VLOOKUP($B$3&"_"&D16,'[12]CANAL 10'!$A:$R,4,FALSE),"")&IFERROR(VLOOKUP($B$3&"_"&D16,'[13]CANAL 11'!$A:$R,4,FALSE),"")&IFERROR(VLOOKUP($B$3&"_"&D16,'[14]CANAL 12'!$A:$R,4,FALSE),"")&IFERROR(VLOOKUP($B$3&"_"&D16,'[15]CANAL 13'!$A:$R,4,FALSE),"")&IFERROR(VLOOKUP($B$3&"_"&D16,'[16]CANAL 14'!$A:$R,4,FALSE),"")&IFERROR(VLOOKUP($B$3&"_"&D16,'[17]CANAL 15'!$A:$R,4,FALSE),"")&IFERROR(VLOOKUP($B$3&"_"&D16,'[18]CANAL 16'!$A:$R,4,FALSE),"") | H16: =IFERROR(VLOOKUP($B$3&"_"&D16,'CANAL 17'!$A:$R,5,FALSE),"")&IFERROR(VLOOKUP($B$3&"_"&D16,'[2]CANAL 18'!$A:$R,5,FALSE),"")&IFERROR(VLOOKUP($B$3&"_"&D16,'[3]CANAL 1'!$A:$R,5,FALSE),"")&IFERROR(VLOOKUP($B$3&"_"&D16,'[4]CANAL 2'!$A:$R,5,FALSE),"")&IFERROR(VLOOKUP($B$3&"_"&D16,'[5]CANAL 3'!$A:$R,5,FALSE),"")&IFERROR(VLOOKUP($B$3&"_"&D16,'[6]CANAL 4'!$A:$R,5,FALSE),"")&IFERROR(VLOOKUP($B$3&"_"&D16,'[7]CANAL 5'!$A:$R,5,FALSE),"")&IFERROR(VLOOKUP($B$3&"_"&D16,'[8]CANAL 6'!$A:$R,5,FALSE),"")&IFERROR(VLOOKUP($B$3&"_"&D16,'[9]CANAL 7'!$A:$R,5,FALSE),"")&IFERROR(VLOOKUP($B$3&"_"&D16,'[10]CANAL 8'!$A:$R,5,FALSE),"")&IFERROR(VLOOKUP($B$3&"_"&D16,'[11]CANAL 9'!$A:$R,5,FALSE),"")&IFERROR(VLOOKUP($B$3&"_"&D16,'[12]CANAL 10'!$A:$R,5,FALSE),"")&IFERROR(VLOOKUP($B$3&"_"&D16,'[13]CANAL 11'!$A:$R,5,FALSE),"")&IFERROR(VLOOKUP($B$3&"_"&D16,'[14]CANAL 12'!$A:$R,5,FALSE),"")&IFERROR(VLOOKUP($B$3&"_"&D16,'[15]CANAL 13'!$A:$R,5,FALSE),"")&IFERROR(VLOOKUP($B$3&"_"&D16,'[16]CANAL 14'!$A:$R,5,FALSE),"")&IFERROR(VLOOKUP($B$3&"_"&D16,'[17]CANAL 15'!$A:$R,5,FALSE),"")&IFERROR(VLOOKUP($B$3&"_"&D16,'[18]CANAL 16'!$A:$R,5,FALSE),"") | I16: =IFERROR(VLOOKUP($B$3&"_"&D16,'CANAL 17'!$A:$R,6,FALSE),"")&IFERROR(VLOOKUP($B$3&"_"&D16,'[2]CANAL 18'!$A:$R,6,FALSE),"")&IFERROR(VLOOKUP($B$3&"_"&D16,'[3]CANAL 1'!$A:$R,6,FALSE),"")&IFERROR(VLOOKUP($B$3&"_"&D16,'[4]CANAL 2'!$A:$R,6,FALSE),"")&IFERROR(VLOOKUP($B$3&"_"&D16,'[5]CANAL 3'!$A:$R,6,FALSE),"")&IFERROR(VLOOKUP($B$3&"_"&D16,'[6]CANAL 4'!$A:$R,6,FALSE),"")&IFERROR(VLOOKUP($B$3&"_"&D16,'[7]CANAL 5'!$A:$R,6,FALSE),"")&IFERROR(VLOOKUP($B$3&"_"&D16,'[8]CANAL 6'!$A:$R,6,FALSE),"")&IFERROR(VLOOKUP($B$3&"_"&D16,'[9]CANAL 7'!$A:$R,6,FALSE),"")&IFERROR(VLOOKUP($B$3&"_"&D16,'[10]CANAL 8'!$A:$R,6,FALSE),"")&IFERROR(VLOOKUP($B$3&"_"&D16,'[11]CANAL 9'!$A:$R,6,FALSE),"")&IFERROR(VLOOKUP($B$3&"_"&D16,'[12]CANAL 10'!$A:$R,6,FALSE),"")&IFERROR(VLOOKUP($B$3&"_"&D16,'[13]CANAL 11'!$A:$R,6,FALSE),"")&IFERROR(VLOOKUP($B$3&"_"&D16,'[14]CANAL 12'!$A:$R,6,FALSE),"")&IFERROR(VLOOKUP($B$3&"_"&D16,'[15]CANAL 13'!$A:$R,6,FALSE),"")&IFERROR(VLOOKUP($B$3&"_"&D16,'[16]CANAL 14'!$A:$R,6,FALSE),"")&IFERROR(VLOOKUP($B$3&"_"&D16,'[17]CANAL 15'!$A:$R,6,FALSE),"")&IFERROR(VLOOKUP($B$3&"_"&D16,'[18]CANAL 16'!$A:$R,6,FALSE),"") | J16: =IFERROR(VLOOKUP($B$3&"_"&D16,'CANAL 17'!$A:$R,7,FALSE),"")&IFERROR(VLOOKUP($B$3&"_"&D16,'[2]CANAL 18'!$A:$R,7,FALSE),"")&IFERROR(VLOOKUP($B$3&"_"&D16,'[3]CANAL 1'!$A:$R,7,FALSE),"")&IFERROR(VLOOKUP($B$3&"_"&D16,'[4]CANAL 2'!$A:$R,7,FALSE),"")&IFERROR(VLOOKUP($B$3&"_"&D16,'[5]CANAL 3'!$A:$R,7,FALSE),"")&IFERROR(VLOOKUP($B$3&"_"&D16,'[6]CANAL 4'!$A:$R,7,FALSE),"")&IFERROR(VLOOKUP($B$3&"_"&D16,'[7]CANAL 5'!$A:$R,7,FALSE),"")&IFERROR(VLOOKUP($B$3&"_"&D16,'[8]CANAL 6'!$A:$R,7,FALSE),"")&IFERROR(VLOOKUP($B$3&"_"&D16,'[9]CANAL 7'!$A:$R,7,FALSE),"")&IFERROR(VLOOKUP($B$3&"_"&D16,'[10]CANAL 8'!$A:$R,7,FALSE),"")&IFERROR(VLOOKUP($B$3&"_"&D16,'[11]CANAL 9'!$A:$R,7,FALSE),"")&IFERROR(VLOOKUP($B$3&"_"&D16,'[12]CANAL 10'!$A:$R,7,FALSE),"")&IFERROR(VLOOKUP($B$3&"_"&D16,'[13]CANAL 11'!$A:$R,7,FALSE),"")&IFERROR(VLOOKUP($B$3&"_"&D16,'[14]CANAL 12'!$A:$R,7,FALSE),"")&IFERROR(VLOOKUP($B$3&"_"&D16,'[15]CANAL 13'!$A:$R,7,FALSE),"")&IFERROR(VLOOKUP($B$3&"_"&D16,'[16]CANAL 14'!$A:$R,7,FALSE),"")&IFERROR(VLOOKUP($B$3&"_"&D16,'[17]CANAL 15'!$A:$R,7,FALSE),"")&IFERROR(VLOOKUP($B$3&"_"&D16,'[18]CANAL 16'!$A:$R,7,FALSE),"") | K16: =IFERROR(VLOOKUP($B$3&"_"&D16,'CANAL 17'!$A:$R,8,FALSE),"")&IFERROR(VLOOKUP($B$3&"_"&D16,'[2]CANAL 18'!$A:$R,8,FALSE),"")&IFERROR(VLOOKUP($B$3&"_"&D16,'[3]CANAL 1'!$A:$R,8,FALSE),"")&IFERROR(VLOOKUP($B$3&"_"&D16,'[4]CANAL 2'!$A:$R,8,FALSE),"")&IFERROR(VLOOKUP($B$3&"_"&D16,'[5]CANAL 3'!$A:$R,8,FALSE),"")&IFERROR(VLOOKUP($B$3&"_"&D16,'[6]CANAL 4'!$A:$R,8,FALSE),"")&IFERROR(VLOOKUP($B$3&"_"&D16,'[7]CANAL 5'!$A:$R,8,FALSE),"")&IFERROR(VLOOKUP($B$3&"_"&D16,'[8]CANAL 6'!$A:$R,8,FALSE),"")&IFERROR(VLOOKUP($B$3&"_"&D16,'[9]CANAL 7'!$A:$R,8,FALSE),"")&IFERROR(VLOOKUP($B$3&"_"&D16,'[10]CANAL 8'!$A:$R,8,FALSE),"")&IFERROR(VLOOKUP($B$3&"_"&D16,'[11]CANAL 9'!$A:$R,8,FALSE),"")&IFERROR(VLOOKUP($B$3&"_"&D16,'[12]CANAL 10'!$A:$R,8,FALSE),"")&IFERROR(VLOOKUP($B$3&"_"&D16,'[13]CANAL 11'!$A:$R,8,FALSE),"")&IFERROR(VLOOKUP($B$3&"_"&D16,'[14]CANAL 12'!$A:$R,8,FALSE),"")&IFERROR(VLOOKUP($B$3&"_"&D16,'[15]CANAL 13'!$A:$R,8,FALSE),"")&IFERROR(VLOOKUP($B$3&"_"&D16,'[16]CANAL 14'!$A:$R,8,FALSE),"")&IFERROR(VLOOKUP($B$3&"_"&D16,'[17]CANAL 15'!$A:$R,8,FALSE),"")&IFERROR(VLOOKUP($B$3&"_"&D16,'[18]CANAL 16'!$A:$R,8,FALSE),"") | L16: =IFERROR(VLOOKUP($B$3&"_"&D16,'CANAL 17'!$A:$R,9,FALSE),"")&IFERROR(VLOOKUP($B$3&"_"&D16,'[2]CANAL 18'!$A:$R,9,FALSE),"")&IFERROR(VLOOKUP($B$3&"_"&D16,'[3]CANAL 1'!$A:$R,9,FALSE),"")&IFERROR(VLOOKUP($B$3&"_"&D16,'[4]CANAL 2'!$A:$R,9,FALSE),"")&IFERROR(VLOOKUP($B$3&"_"&D16,'[5]CANAL 3'!$A:$R,9,FALSE),"")&IFERROR(VLOOKUP($B$3&"_"&D16,'[6]CANAL 4'!$A:$R,9,FALSE),"")&IFERROR(VLOOKUP($B$3&"_"&D16,'[7]CANAL 5'!$A:$R,9,FALSE),"")&IFERROR(VLOOKUP($B$3&"_"&D16,'[8]CANAL 6'!$A:$R,9,FALSE),"")&IFERROR(VLOOKUP($B$3&"_"&D16,'[9]CANAL 7'!$A:$R,9,FALSE),"")&IFERROR(VLOOKUP($B$3&"_"&D16,'[10]CANAL 8'!$A:$R,9,FALSE),"")&IFERROR(VLOOKUP($B$3&"_"&D16,'[11]CANAL 9'!$A:$R,9,FALSE),"")&IFERROR(VLOOKUP($B$3&"_"&D16,'[12]CANAL 10'!$A:$R,9,FALSE),"")&IFERROR(VLOOKUP($B$3&"_"&D16,'[13]CANAL 11'!$A:$R,9,FALSE),"")&IFERROR(VLOOKUP($B$3&"_"&D16,'[14]CANAL 12'!$A:$R,9,FALSE),"")&IFERROR(VLOOKUP($B$3&"_"&D16,'[15]CANAL 13'!$A:$R,9,FALSE),"")&IFERROR(VLOOKUP($B$3&"_"&D16,'[16]CANAL 14'!$A:$R,9,FALSE),"")&IFERROR(VLOOKUP($B$3&"_"&D16,'[17]CANAL 15'!$A:$R,9,FALSE),"")&IFERROR(VLOOKUP($B$3&"_"&D16,'[18]CANAL 16'!$A:$R,9,FALSE),"") | R16: =IFERROR(VLOOKUP($B$3&"_"&D16,'CANAL 17'!$A:$R,15,FALSE),"")&IFERROR(VLOOKUP($B$3&"_"&D16,'[2]CANAL 18'!$A:$R,15,FALSE),"")&IFERROR(VLOOKUP($B$3&"_"&D16,'[3]CANAL 1'!$A:$R,15,FALSE),"")&IFERROR(VLOOKUP($B$3&"_"&D16,'[4]CANAL 2'!$A:$R,15,FALSE),"")&IFERROR(VLOOKUP($B$3&"_"&D16,'[5]CANAL 3'!$A:$R,15,FALSE),"")&IFERROR(VLOOKUP($B$3&"_"&D16,'[6]CANAL 4'!$A:$R,15,FALSE),"")&IFERROR(VLOOKUP($B$3&"_"&D16,'[7]CANAL 5'!$A:$R,15,FALSE),"")&IFERROR(VLOOKUP($B$3&"_"&D16,'[8]CANAL 6'!$A:$R,15,FALSE),"")&IFERROR(VLOOKUP($B$3&"_"&D16,'[9]CANAL 7'!$A:$R,15,FALSE),"")&IFERROR(VLOOKUP($B$3&"_"&D16,'[10]CANAL 8'!$A:$R,15,FALSE),"")&IFERROR(VLOOKUP($B$3&"_"&D16,'[11]CANAL 9'!$A:$R,15,FALSE),"")&IFERROR(VLOOKUP($B$3&"_"&D16,'[12]CANAL 10'!$A:$R,15,FALSE),"")&IFERROR(VLOOKUP($B$3&"_"&D16,'[13]CANAL 11'!$A:$R,15,FALSE),"")&IFERROR(VLOOKUP($B$3&"_"&D16,'[14]CANAL 12'!$A:$R,15,FALSE),"")&IFERROR(VLOOKUP($B$3&"_"&D16,'[15]CANAL 13'!$A:$R,15,FALSE),"")&IFERROR(VLOOKUP($B$3&"_"&D16,'[16]CANAL 14'!$A:$R,15,FALSE),"")&IFERROR(VLOOKUP($B$3&"_"&D16,'[17]CANAL 15'!$A:$R,15,FALSE),"")&IFERROR(VLOOKUP($B$3&"_"&D16,'[18]CANAL 16'!$A:$R,15,FALSE),"")
D17: 9 | E17: =IFERROR(VLOOKUP($B$3&"_"&D17,'CANAL 17'!$A:$R,2,FALSE),"")&IFERROR(VLOOKUP($B$3&"_"&D17,'[2]CANAL 18'!$A:$R,2,FALSE),"")&IFERROR(VLOOKUP($B$3&"_"&D17,'[3]CANAL 1'!A:R,2,FALSE),"")&IFERROR(VLOOKUP($B$3&"_"&D17,'[4]CANAL 2'!A:R,2,FALSE),"")&IFERROR(VLOOKUP($B$3&"_"&D17,'[5]CANAL 3'!A:R,2,FALSE),"")&IFERROR(VLOOKUP($B$3&"_"&D17,'[6]CANAL 4'!A:R,2,FALSE),"")&IFERROR(VLOOKUP($B$3&"_"&D17,'[7]CANAL 5'!A:R,2,FALSE),"")&IFERROR(VLOOKUP($B$3&"_"&D17,'[8]CANAL 6'!A:R,2,FALSE),"")&IFERROR(VLOOKUP($B$3&"_"&D17,'[9]CANAL 7'!A:R,2,FALSE),"")&IFERROR(VLOOKUP($B$3&"_"&D17,'[10]CANAL 8'!A:R,2,FALSE),"")&IFERROR(VLOOKUP($B$3&"_"&D17,'[11]CANAL 9'!A:R,2,FALSE),"")&IFERROR(VLOOKUP($B$3&"_"&D17,'[12]CANAL 10'!A:R,2,FALSE),"")&IFERROR(VLOOKUP($B$3&"_"&D17,'[13]CANAL 11'!A:R,2,FALSE),"")&IFERROR(VLOOKUP($B$3&"_"&D17,'[14]CANAL 12'!A:R,2,FALSE),"")&IFERROR(VLOOKUP($B$3&"_"&D17,'[15]CANAL 13'!A:R,2,FALSE),"")&IFERROR(VLOOKUP($B$3&"_"&D17,'[16]CANAL 14'!A:R,2,FALSE),"")&IFERROR(VLOOKUP($B$3&"_"&D17,'[17]CANAL 15'!A:R,2,FALSE),"")&IFERROR(VLOOKUP($B$3&"_"&D17,'[18]CANAL 16'!A:R,2,FALSE),"") | F17: =IFERROR(VLOOKUP($B$3&"_"&D17,'CANAL 17'!$A:$R,3,FALSE),"")&IFERROR(VLOOKUP($B$3&"_"&D17,'[2]CANAL 18'!$A:$R,3,FALSE),"")&IFERROR(VLOOKUP($B$3&"_"&D17,'[3]CANAL 1'!$A:$R,3,FALSE),"")&IFERROR(VLOOKUP($B$3&"_"&D17,'[4]CANAL 2'!$A:$R,3,FALSE),"")&IFERROR(VLOOKUP($B$3&"_"&D17,'[5]CANAL 3'!$A:$R,3,FALSE),"")&IFERROR(VLOOKUP($B$3&"_"&D17,'[6]CANAL 4'!$A:$R,3,FALSE),"")&IFERROR(VLOOKUP($B$3&"_"&D17,'[7]CANAL 5'!$A:$R,3,FALSE),"")&IFERROR(VLOOKUP($B$3&"_"&D17,'[8]CANAL 6'!$A:$R,3,FALSE),"")&IFERROR(VLOOKUP($B$3&"_"&D17,'[9]CANAL 7'!$A:$R,3,FALSE),"")&IFERROR(VLOOKUP($B$3&"_"&D17,'[10]CANAL 8'!$A:$R,3,FALSE),"")&IFERROR(VLOOKUP($B$3&"_"&D17,'[11]CANAL 9'!$A:$R,3,FALSE),"")&IFERROR(VLOOKUP($B$3&"_"&D17,'[12]CANAL 10'!$A:$R,3,FALSE),"")&IFERROR(VLOOKUP($B$3&"_"&D17,'[13]CANAL 11'!$A:$R,3,FALSE),"")&IFERROR(VLOOKUP($B$3&"_"&D17,'[14]CANAL 12'!$A:$R,3,FALSE),"")&IFERROR(VLOOKUP($B$3&"_"&D17,'[15]CANAL 13'!$A:$R,3,FALSE),"")&IFERROR(VLOOKUP($B$3&"_"&D17,'[16]CANAL 14'!$A:$R,3,FALSE),"")&IFERROR(VLOOKUP($B$3&"_"&D17,'[17]CANAL 15'!$A:$R,3,FALSE),"")&IFERROR(VLOOKUP($B$3&"_"&D17,'[18]CANAL 16'!$A:$R,3,FALSE),"") | G17: =IFERROR(VLOOKUP($B$3&"_"&D17,'CANAL 17'!$A:$R,4,FALSE),"")&IFERROR(VLOOKUP($B$3&"_"&D17,'[2]CANAL 18'!$A:$R,4,FALSE),"")&IFERROR(VLOOKUP($B$3&"_"&D17,'[3]CANAL 1'!$A:$R,4,FALSE),"")&IFERROR(VLOOKUP($B$3&"_"&D17,'[4]CANAL 2'!$A:$R,4,FALSE),"")&IFERROR(VLOOKUP($B$3&"_"&D17,'[5]CANAL 3'!$A:$R,4,FALSE),"")&IFERROR(VLOOKUP($B$3&"_"&D17,'[6]CANAL 4'!$A:$R,4,FALSE),"")&IFERROR(VLOOKUP($B$3&"_"&D17,'[7]CANAL 5'!$A:$R,4,FALSE),"")&IFERROR(VLOOKUP($B$3&"_"&D17,'[8]CANAL 6'!$A:$R,4,FALSE),"")&IFERROR(VLOOKUP($B$3&"_"&D17,'[9]CANAL 7'!$A:$R,4,FALSE),"")&IFERROR(VLOOKUP($B$3&"_"&D17,'[10]CANAL 8'!$A:$R,4,FALSE),"")&IFERROR(VLOOKUP($B$3&"_"&D17,'[11]CANAL 9'!$A:$R,4,FALSE),"")&IFERROR(VLOOKUP($B$3&"_"&D17,'[12]CANAL 10'!$A:$R,4,FALSE),"")&IFERROR(VLOOKUP($B$3&"_"&D17,'[13]CANAL 11'!$A:$R,4,FALSE),"")&IFERROR(VLOOKUP($B$3&"_"&D17,'[14]CANAL 12'!$A:$R,4,FALSE),"")&IFERROR(VLOOKUP($B$3&"_"&D17,'[15]CANAL 13'!$A:$R,4,FALSE),"")&IFERROR(VLOOKUP($B$3&"_"&D17,'[16]CANAL 14'!$A:$R,4,FALSE),"")&IFERROR(VLOOKUP($B$3&"_"&D17,'[17]CANAL 15'!$A:$R,4,FALSE),"")&IFERROR(VLOOKUP($B$3&"_"&D17,'[18]CANAL 16'!$A:$R,4,FALSE),"") | H17: =IFERROR(VLOOKUP($B$3&"_"&D17,'CANAL 17'!$A:$R,5,FALSE),"")&IFERROR(VLOOKUP($B$3&"_"&D17,'[2]CANAL 18'!$A:$R,5,FALSE),"")&IFERROR(VLOOKUP($B$3&"_"&D17,'[3]CANAL 1'!$A:$R,5,FALSE),"")&IFERROR(VLOOKUP($B$3&"_"&D17,'[4]CANAL 2'!$A:$R,5,FALSE),"")&IFERROR(VLOOKUP($B$3&"_"&D17,'[5]CANAL 3'!$A:$R,5,FALSE),"")&IFERROR(VLOOKUP($B$3&"_"&D17,'[6]CANAL 4'!$A:$R,5,FALSE),"")&IFERROR(VLOOKUP($B$3&"_"&D17,'[7]CANAL 5'!$A:$R,5,FALSE),"")&IFERROR(VLOOKUP($B$3&"_"&D17,'[8]CANAL 6'!$A:$R,5,FALSE),"")&IFERROR(VLOOKUP($B$3&"_"&D17,'[9]CANAL 7'!$A:$R,5,FALSE),"")&IFERROR(VLOOKUP($B$3&"_"&D17,'[10]CANAL 8'!$A:$R,5,FALSE),"")&IFERROR(VLOOKUP($B$3&"_"&D17,'[11]CANAL 9'!$A:$R,5,FALSE),"")&IFERROR(VLOOKUP($B$3&"_"&D17,'[12]CANAL 10'!$A:$R,5,FALSE),"")&IFERROR(VLOOKUP($B$3&"_"&D17,'[13]CANAL 11'!$A:$R,5,FALSE),"")&IFERROR(VLOOKUP($B$3&"_"&D17,'[14]CANAL 12'!$A:$R,5,FALSE),"")&IFERROR(VLOOKUP($B$3&"_"&D17,'[15]CANAL 13'!$A:$R,5,FALSE),"")&IFERROR(VLOOKUP($B$3&"_"&D17,'[16]CANAL 14'!$A:$R,5,FALSE),"")&IFERROR(VLOOKUP($B$3&"_"&D17,'[17]CANAL 15'!$A:$R,5,FALSE),"")&IFERROR(VLOOKUP($B$3&"_"&D17,'[18]CANAL 16'!$A:$R,5,FALSE),"") | I17: =IFERROR(VLOOKUP($B$3&"_"&D17,'CANAL 17'!$A:$R,6,FALSE),"")&IFERROR(VLOOKUP($B$3&"_"&D17,'[2]CANAL 18'!$A:$R,6,FALSE),"")&IFERROR(VLOOKUP($B$3&"_"&D17,'[3]CANAL 1'!$A:$R,6,FALSE),"")&IFERROR(VLOOKUP($B$3&"_"&D17,'[4]CANAL 2'!$A:$R,6,FALSE),"")&IFERROR(VLOOKUP($B$3&"_"&D17,'[5]CANAL 3'!$A:$R,6,FALSE),"")&IFERROR(VLOOKUP($B$3&"_"&D17,'[6]CANAL 4'!$A:$R,6,FALSE),"")&IFERROR(VLOOKUP($B$3&"_"&D17,'[7]CANAL 5'!$A:$R,6,FALSE),"")&IFERROR(VLOOKUP($B$3&"_"&D17,'[8]CANAL 6'!$A:$R,6,FALSE),"")&IFERROR(VLOOKUP($B$3&"_"&D17,'[9]CANAL 7'!$A:$R,6,FALSE),"")&IFERROR(VLOOKUP($B$3&"_"&D17,'[10]CANAL 8'!$A:$R,6,FALSE),"")&IFERROR(VLOOKUP($B$3&"_"&D17,'[11]CANAL 9'!$A:$R,6,FALSE),"")&IFERROR(VLOOKUP($B$3&"_"&D17,'[12]CANAL 10'!$A:$R,6,FALSE),"")&IFERROR(VLOOKUP($B$3&"_"&D17,'[13]CANAL 11'!$A:$R,6,FALSE),"")&IFERROR(VLOOKUP($B$3&"_"&D17,'[14]CANAL 12'!$A:$R,6,FALSE),"")&IFERROR(VLOOKUP($B$3&"_"&D17,'[15]CANAL 13'!$A:$R,6,FALSE),"")&IFERROR(VLOOKUP($B$3&"_"&D17,'[16]CANAL 14'!$A:$R,6,FALSE),"")&IFERROR(VLOOKUP($B$3&"_"&D17,'[17]CANAL 15'!$A:$R,6,FALSE),"")&IFERROR(VLOOKUP($B$3&"_"&D17,'[18]CANAL 16'!$A:$R,6,FALSE),"") | J17: =IFERROR(VLOOKUP($B$3&"_"&D17,'CANAL 17'!$A:$R,7,FALSE),"")&IFERROR(VLOOKUP($B$3&"_"&D17,'[2]CANAL 18'!$A:$R,7,FALSE),"")&IFERROR(VLOOKUP($B$3&"_"&D17,'[3]CANAL 1'!$A:$R,7,FALSE),"")&IFERROR(VLOOKUP($B$3&"_"&D17,'[4]CANAL 2'!$A:$R,7,FALSE),"")&IFERROR(VLOOKUP($B$3&"_"&D17,'[5]CANAL 3'!$A:$R,7,FALSE),"")&IFERROR(VLOOKUP($B$3&"_"&D17,'[6]CANAL 4'!$A:$R,7,FALSE),"")&IFERROR(VLOOKUP($B$3&"_"&D17,'[7]CANAL 5'!$A:$R,7,FALSE),"")&IFERROR(VLOOKUP($B$3&"_"&D17,'[8]CANAL 6'!$A:$R,7,FALSE),"")&IFERROR(VLOOKUP($B$3&"_"&D17,'[9]CANAL 7'!$A:$R,7,FALSE),"")&IFERROR(VLOOKUP($B$3&"_"&D17,'[10]CANAL 8'!$A:$R,7,FALSE),"")&IFERROR(VLOOKUP($B$3&"_"&D17,'[11]CANAL 9'!$A:$R,7,FALSE),"")&IFERROR(VLOOKUP($B$3&"_"&D17,'[12]CANAL 10'!$A:$R,7,FALSE),"")&IFERROR(VLOOKUP($B$3&"_"&D17,'[13]CANAL 11'!$A:$R,7,FALSE),"")&IFERROR(VLOOKUP($B$3&"_"&D17,'[14]CANAL 12'!$A:$R,7,FALSE),"")&IFERROR(VLOOKUP($B$3&"_"&D17,'[15]CANAL 13'!$A:$R,7,FALSE),"")&IFERROR(VLOOKUP($B$3&"_"&D17,'[16]CANAL 14'!$A:$R,7,FALSE),"")&IFERROR(VLOOKUP($B$3&"_"&D17,'[17]CANAL 15'!$A:$R,7,FALSE),"")&IFERROR(VLOOKUP($B$3&"_"&D17,'[18]CANAL 16'!$A:$R,7,FALSE),"") | K17: =IFERROR(VLOOKUP($B$3&"_"&D17,'CANAL 17'!$A:$R,8,FALSE),"")&IFERROR(VLOOKUP($B$3&"_"&D17,'[2]CANAL 18'!$A:$R,8,FALSE),"")&IFERROR(VLOOKUP($B$3&"_"&D17,'[3]CANAL 1'!$A:$R,8,FALSE),"")&IFERROR(VLOOKUP($B$3&"_"&D17,'[4]CANAL 2'!$A:$R,8,FALSE),"")&IFERROR(VLOOKUP($B$3&"_"&D17,'[5]CANAL 3'!$A:$R,8,FALSE),"")&IFERROR(VLOOKUP($B$3&"_"&D17,'[6]CANAL 4'!$A:$R,8,FALSE),"")&IFERROR(VLOOKUP($B$3&"_"&D17,'[7]CANAL 5'!$A:$R,8,FALSE),"")&IFERROR(VLOOKUP($B$3&"_"&D17,'[8]CANAL 6'!$A:$R,8,FALSE),"")&IFERROR(VLOOKUP($B$3&"_"&D17,'[9]CANAL 7'!$A:$R,8,FALSE),"")&IFERROR(VLOOKUP($B$3&"_"&D17,'[10]CANAL 8'!$A:$R,8,FALSE),"")&IFERROR(VLOOKUP($B$3&"_"&D17,'[11]CANAL 9'!$A:$R,8,FALSE),"")&IFERROR(VLOOKUP($B$3&"_"&D17,'[12]CANAL 10'!$A:$R,8,FALSE),"")&IFERROR(VLOOKUP($B$3&"_"&D17,'[13]CANAL 11'!$A:$R,8,FALSE),"")&IFERROR(VLOOKUP($B$3&"_"&D17,'[14]CANAL 12'!$A:$R,8,FALSE),"")&IFERROR(VLOOKUP($B$3&"_"&D17,'[15]CANAL 13'!$A:$R,8,FALSE),"")&IFERROR(VLOOKUP($B$3&"_"&D17,'[16]CANAL 14'!$A:$R,8,FALSE),"")&IFERROR(VLOOKUP($B$3&"_"&D17,'[17]CANAL 15'!$A:$R,8,FALSE),"")&IFERROR(VLOOKUP($B$3&"_"&D17,'[18]CANAL 16'!$A:$R,8,FALSE),"") | L17: =IFERROR(VLOOKUP($B$3&"_"&D17,'CANAL 17'!$A:$R,9,FALSE),"")&IFERROR(VLOOKUP($B$3&"_"&D17,'[2]CANAL 18'!$A:$R,9,FALSE),"")&IFERROR(VLOOKUP($B$3&"_"&D17,'[3]CANAL 1'!$A:$R,9,FALSE),"")&IFERROR(VLOOKUP($B$3&"_"&D17,'[4]CANAL 2'!$A:$R,9,FALSE),"")&IFERROR(VLOOKUP($B$3&"_"&D17,'[5]CANAL 3'!$A:$R,9,FALSE),"")&IFERROR(VLOOKUP($B$3&"_"&D17,'[6]CANAL 4'!$A:$R,9,FALSE),"")&IFERROR(VLOOKUP($B$3&"_"&D17,'[7]CANAL 5'!$A:$R,9,FALSE),"")&IFERROR(VLOOKUP($B$3&"_"&D17,'[8]CANAL 6'!$A:$R,9,FALSE),"")&IFERROR(VLOOKUP($B$3&"_"&D17,'[9]CANAL 7'!$A:$R,9,FALSE),"")&IFERROR(VLOOKUP($B$3&"_"&D17,'[10]CANAL 8'!$A:$R,9,FALSE),"")&IFERROR(VLOOKUP($B$3&"_"&D17,'[11]CANAL 9'!$A:$R,9,FALSE),"")&IFERROR(VLOOKUP($B$3&"_"&D17,'[12]CANAL 10'!$A:$R,9,FALSE),"")&IFERROR(VLOOKUP($B$3&"_"&D17,'[13]CANAL 11'!$A:$R,9,FALSE),"")&IFERROR(VLOOKUP($B$3&"_"&D17,'[14]CANAL 12'!$A:$R,9,FALSE),"")&IFERROR(VLOOKUP($B$3&"_"&D17,'[15]CANAL 13'!$A:$R,9,FALSE),"")&IFERROR(VLOOKUP($B$3&"_"&D17,'[16]CANAL 14'!$A:$R,9,FALSE),"")&IFERROR(VLOOKUP($B$3&"_"&D17,'[17]CANAL 15'!$A:$R,9,FALSE),"")&IFERROR(VLOOKUP($B$3&"_"&D17,'[18]CANAL 16'!$A:$R,9,FALSE),"") | R17: =IFERROR(VLOOKUP($B$3&"_"&D17,'CANAL 17'!$A:$R,15,FALSE),"")&IFERROR(VLOOKUP($B$3&"_"&D17,'[2]CANAL 18'!$A:$R,15,FALSE),"")&IFERROR(VLOOKUP($B$3&"_"&D17,'[3]CANAL 1'!$A:$R,15,FALSE),"")&IFERROR(VLOOKUP($B$3&"_"&D17,'[4]CANAL 2'!$A:$R,15,FALSE),"")&IFERROR(VLOOKUP($B$3&"_"&D17,'[5]CANAL 3'!$A:$R,15,FALSE),"")&IFERROR(VLOOKUP($B$3&"_"&D17,'[6]CANAL 4'!$A:$R,15,FALSE),"")&IFERROR(VLOOKUP($B$3&"_"&D17,'[7]CANAL 5'!$A:$R,15,FALSE),"")&IFERROR(VLOOKUP($B$3&"_"&D17,'[8]CANAL 6'!$A:$R,15,FALSE),"")&IFERROR(VLOOKUP($B$3&"_"&D17,'[9]CANAL 7'!$A:$R,15,FALSE),"")&IFERROR(VLOOKUP($B$3&"_"&D17,'[10]CANAL 8'!$A:$R,15,FALSE),"")&IFERROR(VLOOKUP($B$3&"_"&D17,'[11]CANAL 9'!$A:$R,15,FALSE),"")&IFERROR(VLOOKUP($B$3&"_"&D17,'[12]CANAL 10'!$A:$R,15,FALSE),"")&IFERROR(VLOOKUP($B$3&"_"&D17,'[13]CANAL 11'!$A:$R,15,FALSE),"")&IFERROR(VLOOKUP($B$3&"_"&D17,'[14]CANAL 12'!$A:$R,15,FALSE),"")&IFERROR(VLOOKUP($B$3&"_"&D17,'[15]CANAL 13'!$A:$R,15,FALSE),"")&IFERROR(VLOOKUP($B$3&"_"&D17,'[16]CANAL 14'!$A:$R,15,FALSE),"")&IFERROR(VLOOKUP($B$3&"_"&D17,'[17]CANAL 15'!$A:$R,15,FALSE),"")&IFERROR(VLOOKUP($B$3&"_"&D17,'[18]CANAL 16'!$A:$R,15,FALSE),"")
D18: 10 | E18: =IFERROR(VLOOKUP($B$3&"_"&D18,'CANAL 17'!$A:$R,2,FALSE),"")&IFERROR(VLOOKUP($B$3&"_"&D18,'[2]CANAL 18'!$A:$R,2,FALSE),"")&IFERROR(VLOOKUP($B$3&"_"&D18,'[3]CANAL 1'!A:R,2,FALSE),"")&IFERROR(VLOOKUP($B$3&"_"&D18,'[4]CANAL 2'!A:R,2,FALSE),"")&IFERROR(VLOOKUP($B$3&"_"&D18,'[5]CANAL 3'!A:R,2,FALSE),"")&IFERROR(VLOOKUP($B$3&"_"&D18,'[6]CANAL 4'!A:R,2,FALSE),"")&IFERROR(VLOOKUP($B$3&"_"&D18,'[7]CANAL 5'!A:R,2,FALSE),"")&IFERROR(VLOOKUP($B$3&"_"&D18,'[8]CANAL 6'!A:R,2,FALSE),"")&IFERROR(VLOOKUP($B$3&"_"&D18,'[9]CANAL 7'!A:R,2,FALSE),"")&IFERROR(VLOOKUP($B$3&"_"&D18,'[10]CANAL 8'!A:R,2,FALSE),"")&IFERROR(VLOOKUP($B$3&"_"&D18,'[11]CANAL 9'!A:R,2,FALSE),"")&IFERROR(VLOOKUP($B$3&"_"&D18,'[12]CANAL 10'!A:R,2,FALSE),"")&IFERROR(VLOOKUP($B$3&"_"&D18,'[13]CANAL 11'!A:R,2,FALSE),"")&IFERROR(VLOOKUP($B$3&"_"&D18,'[14]CANAL 12'!A:R,2,FALSE),"")&IFERROR(VLOOKUP($B$3&"_"&D18,'[15]CANAL 13'!A:R,2,FALSE),"")&IFERROR(VLOOKUP($B$3&"_"&D18,'[16]CANAL 14'!A:R,2,FALSE),"")&IFERROR(VLOOKUP($B$3&"_"&D18,'[17]CANAL 15'!A:R,2,FALSE),"")&IFERROR(VLOOKUP($B$3&"_"&D18,'[18]CANAL 16'!A:R,2,FALSE),"") | F18: =IFERROR(VLOOKUP($B$3&"_"&D18,'CANAL 17'!$A:$R,3,FALSE),"")&IFERROR(VLOOKUP($B$3&"_"&D18,'[2]CANAL 18'!$A:$R,3,FALSE),"")&IFERROR(VLOOKUP($B$3&"_"&D18,'[3]CANAL 1'!$A:$R,3,FALSE),"")&IFERROR(VLOOKUP($B$3&"_"&D18,'[4]CANAL 2'!$A:$R,3,FALSE),"")&IFERROR(VLOOKUP($B$3&"_"&D18,'[5]CANAL 3'!$A:$R,3,FALSE),"")&IFERROR(VLOOKUP($B$3&"_"&D18,'[6]CANAL 4'!$A:$R,3,FALSE),"")&IFERROR(VLOOKUP($B$3&"_"&D18,'[7]CANAL 5'!$A:$R,3,FALSE),"")&IFERROR(VLOOKUP($B$3&"_"&D18,'[8]CANAL 6'!$A:$R,3,FALSE),"")&IFERROR(VLOOKUP($B$3&"_"&D18,'[9]CANAL 7'!$A:$R,3,FALSE),"")&IFERROR(VLOOKUP($B$3&"_"&D18,'[10]CANAL 8'!$A:$R,3,FALSE),"")&IFERROR(VLOOKUP($B$3&"_"&D18,'[11]CANAL 9'!$A:$R,3,FALSE),"")&IFERROR(VLOOKUP($B$3&"_"&D18,'[12]CANAL 10'!$A:$R,3,FALSE),"")&IFERROR(VLOOKUP($B$3&"_"&D18,'[13]CANAL 11'!$A:$R,3,FALSE),"")&IFERROR(VLOOKUP($B$3&"_"&D18,'[14]CANAL 12'!$A:$R,3,FALSE),"")&IFERROR(VLOOKUP($B$3&"_"&D18,'[15]CANAL 13'!$A:$R,3,FALSE),"")&IFERROR(VLOOKUP($B$3&"_"&D18,'[16]CANAL 14'!$A:$R,3,FALSE),"")&IFERROR(VLOOKUP($B$3&"_"&D18,'[17]CANAL 15'!$A:$R,3,FALSE),"")&IFERROR(VLOOKUP($B$3&"_"&D18,'[18]CANAL 16'!$A:$R,3,FALSE),"") | G18: =IFERROR(VLOOKUP($B$3&"_"&D18,'CANAL 17'!$A:$R,4,FALSE),"")&IFERROR(VLOOKUP($B$3&"_"&D18,'[2]CANAL 18'!$A:$R,4,FALSE),"")&IFERROR(VLOOKUP($B$3&"_"&D18,'[3]CANAL 1'!$A:$R,4,FALSE),"")&IFERROR(VLOOKUP($B$3&"_"&D18,'[4]CANAL 2'!$A:$R,4,FALSE),"")&IFERROR(VLOOKUP($B$3&"_"&D18,'[5]CANAL 3'!$A:$R,4,FALSE),"")&IFERROR(VLOOKUP($B$3&"_"&D18,'[6]CANAL 4'!$A:$R,4,FALSE),"")&IFERROR(VLOOKUP($B$3&"_"&D18,'[7]CANAL 5'!$A:$R,4,FALSE),"")&IFERROR(VLOOKUP($B$3&"_"&D18,'[8]CANAL 6'!$A:$R,4,FALSE),"")&IFERROR(VLOOKUP($B$3&"_"&D18,'[9]CANAL 7'!$A:$R,4,FALSE),"")&IFERROR(VLOOKUP($B$3&"_"&D18,'[10]CANAL 8'!$A:$R,4,FALSE),"")&IFERROR(VLOOKUP($B$3&"_"&D18,'[11]CANAL 9'!$A:$R,4,FALSE),"")&IFERROR(VLOOKUP($B$3&"_"&D18,'[12]CANAL 10'!$A:$R,4,FALSE),"")&IFERROR(VLOOKUP($B$3&"_"&D18,'[13]CANAL 11'!$A:$R,4,FALSE),"")&IFERROR(VLOOKUP($B$3&"_"&D18,'[14]CANAL 12'!$A:$R,4,FALSE),"")&IFERROR(VLOOKUP($B$3&"_"&D18,'[15]CANAL 13'!$A:$R,4,FALSE),"")&IFERROR(VLOOKUP($B$3&"_"&D18,'[16]CANAL 14'!$A:$R,4,FALSE),"")&IFERROR(VLOOKUP($B$3&"_"&D18,'[17]CANAL 15'!$A:$R,4,FALSE),"")&IFERROR(VLOOKUP($B$3&"_"&D18,'[18]CANAL 16'!$A:$R,4,FALSE),"") | H18: =IFERROR(VLOOKUP($B$3&"_"&D18,'CANAL 17'!$A:$R,5,FALSE),"")&IFERROR(VLOOKUP($B$3&"_"&D18,'[2]CANAL 18'!$A:$R,5,FALSE),"")&IFERROR(VLOOKUP($B$3&"_"&D18,'[3]CANAL 1'!$A:$R,5,FALSE),"")&IFERROR(VLOOKUP($B$3&"_"&D18,'[4]CANAL 2'!$A:$R,5,FALSE),"")&IFERROR(VLOOKUP($B$3&"_"&D18,'[5]CANAL 3'!$A:$R,5,FALSE),"")&IFERROR(VLOOKUP($B$3&"_"&D18,'[6]CANAL 4'!$A:$R,5,FALSE),"")&IFERROR(VLOOKUP($B$3&"_"&D18,'[7]CANAL 5'!$A:$R,5,FALSE),"")&IFERROR(VLOOKUP($B$3&"_"&D18,'[8]CANAL 6'!$A:$R,5,FALSE),"")&IFERROR(VLOOKUP($B$3&"_"&D18,'[9]CANAL 7'!$A:$R,5,FALSE),"")&IFERROR(VLOOKUP($B$3&"_"&D18,'[10]CANAL 8'!$A:$R,5,FALSE),"")&IFERROR(VLOOKUP($B$3&"_"&D18,'[11]CANAL 9'!$A:$R,5,FALSE),"")&IFERROR(VLOOKUP($B$3&"_"&D18,'[12]CANAL 10'!$A:$R,5,FALSE),"")&IFERROR(VLOOKUP($B$3&"_"&D18,'[13]CANAL 11'!$A:$R,5,FALSE),"")&IFERROR(VLOOKUP($B$3&"_"&D18,'[14]CANAL 12'!$A:$R,5,FALSE),"")&IFERROR(VLOOKUP($B$3&"_"&D18,'[15]CANAL 13'!$A:$R,5,FALSE),"")&IFERROR(VLOOKUP($B$3&"_"&D18,'[16]CANAL 14'!$A:$R,5,FALSE),"")&IFERROR(VLOOKUP($B$3&"_"&D18,'[17]CANAL 15'!$A:$R,5,FALSE),"")&IFERROR(VLOOKUP($B$3&"_"&D18,'[18]CANAL 16'!$A:$R,5,FALSE),"") | I18: =IFERROR(VLOOKUP($B$3&"_"&D18,'CANAL 17'!$A:$R,6,FALSE),"")&IFERROR(VLOOKUP($B$3&"_"&D18,'[2]CANAL 18'!$A:$R,6,FALSE),"")&IFERROR(VLOOKUP($B$3&"_"&D18,'[3]CANAL 1'!$A:$R,6,FALSE),"")&IFERROR(VLOOKUP($B$3&"_"&D18,'[4]CANAL 2'!$A:$R,6,FALSE),"")&IFERROR(VLOOKUP($B$3&"_"&D18,'[5]CANAL 3'!$A:$R,6,FALSE),"")&IFERROR(VLOOKUP($B$3&"_"&D18,'[6]CANAL 4'!$A:$R,6,FALSE),"")&IFERROR(VLOOKUP($B$3&"_"&D18,'[7]CANAL 5'!$A:$R,6,FALSE),"")&IFERROR(VLOOKUP($B$3&"_"&D18,'[8]CANAL 6'!$A:$R,6,FALSE),"")&IFERROR(VLOOKUP($B$3&"_"&D18,'[9]CANAL 7'!$A:$R,6,FALSE),"")&IFERROR(VLOOKUP($B$3&"_"&D18,'[10]CANAL 8'!$A:$R,6,FALSE),"")&IFERROR(VLOOKUP($B$3&"_"&D18,'[11]CANAL 9'!$A:$R,6,FALSE),"")&IFERROR(VLOOKUP($B$3&"_"&D18,'[12]CANAL 10'!$A:$R,6,FALSE),"")&IFERROR(VLOOKUP($B$3&"_"&D18,'[13]CANAL 11'!$A:$R,6,FALSE),"")&IFERROR(VLOOKUP($B$3&"_"&D18,'[14]CANAL 12'!$A:$R,6,FALSE),"")&IFERROR(VLOOKUP($B$3&"_"&D18,'[15]CANAL 13'!$A:$R,6,FALSE),"")&IFERROR(VLOOKUP($B$3&"_"&D18,'[16]CANAL 14'!$A:$R,6,FALSE),"")&IFERROR(VLOOKUP($B$3&"_"&D18,'[17]CANAL 15'!$A:$R,6,FALSE),"")&IFERROR(VLOOKUP($B$3&"_"&D18,'[18]CANAL 16'!$A:$R,6,FALSE),"") | J18: =IFERROR(VLOOKUP($B$3&"_"&D18,'CANAL 17'!$A:$R,7,FALSE),"")&IFERROR(VLOOKUP($B$3&"_"&D18,'[2]CANAL 18'!$A:$R,7,FALSE),"")&IFERROR(VLOOKUP($B$3&"_"&D18,'[3]CANAL 1'!$A:$R,7,FALSE),"")&IFERROR(VLOOKUP($B$3&"_"&D18,'[4]CANAL 2'!$A:$R,7,FALSE),"")&IFERROR(VLOOKUP($B$3&"_"&D18,'[5]CANAL 3'!$A:$R,7,FALSE),"")&IFERROR(VLOOKUP($B$3&"_"&D18,'[6]CANAL 4'!$A:$R,7,FALSE),"")&IFERROR(VLOOKUP($B$3&"_"&D18,'[7]CANAL 5'!$A:$R,7,FALSE),"")&IFERROR(VLOOKUP($B$3&"_"&D18,'[8]CANAL 6'!$A:$R,7,FALSE),"")&IFERROR(VLOOKUP($B$3&"_"&D18,'[9]CANAL 7'!$A:$R,7,FALSE),"")&IFERROR(VLOOKUP($B$3&"_"&D18,'[10]CANAL 8'!$A:$R,7,FALSE),"")&IFERROR(VLOOKUP($B$3&"_"&D18,'[11]CANAL 9'!$A:$R,7,FALSE),"")&IFERROR(VLOOKUP($B$3&"_"&D18,'[12]CANAL 10'!$A:$R,7,FALSE),"")&IFERROR(VLOOKUP($B$3&"_"&D18,'[13]CANAL 11'!$A:$R,7,FALSE),"")&IFERROR(VLOOKUP($B$3&"_"&D18,'[14]CANAL 12'!$A:$R,7,FALSE),"")&IFERROR(VLOOKUP($B$3&"_"&D18,'[15]CANAL 13'!$A:$R,7,FALSE),"")&IFERROR(VLOOKUP($B$3&"_"&D18,'[16]CANAL 14'!$A:$R,7,FALSE),"")&IFERROR(VLOOKUP($B$3&"_"&D18,'[17]CANAL 15'!$A:$R,7,FALSE),"")&IFERROR(VLOOKUP($B$3&"_"&D18,'[18]CANAL 16'!$A:$R,7,FALSE),"") | K18: =IFERROR(VLOOKUP($B$3&"_"&D18,'CANAL 17'!$A:$R,8,FALSE),"")&IFERROR(VLOOKUP($B$3&"_"&D18,'[2]CANAL 18'!$A:$R,8,FALSE),"")&IFERROR(VLOOKUP($B$3&"_"&D18,'[3]CANAL 1'!$A:$R,8,FALSE),"")&IFERROR(VLOOKUP($B$3&"_"&D18,'[4]CANAL 2'!$A:$R,8,FALSE),"")&IFERROR(VLOOKUP($B$3&"_"&D18,'[5]CANAL 3'!$A:$R,8,FALSE),"")&IFERROR(VLOOKUP($B$3&"_"&D18,'[6]CANAL 4'!$A:$R,8,FALSE),"")&IFERROR(VLOOKUP($B$3&"_"&D18,'[7]CANAL 5'!$A:$R,8,FALSE),"")&IFERROR(VLOOKUP($B$3&"_"&D18,'[8]CANAL 6'!$A:$R,8,FALSE),"")&IFERROR(VLOOKUP($B$3&"_"&D18,'[9]CANAL 7'!$A:$R,8,FALSE),"")&IFERROR(VLOOKUP($B$3&"_"&D18,'[10]CANAL 8'!$A:$R,8,FALSE),"")&IFERROR(VLOOKUP($B$3&"_"&D18,'[11]CANAL 9'!$A:$R,8,FALSE),"")&IFERROR(VLOOKUP($B$3&"_"&D18,'[12]CANAL 10'!$A:$R,8,FALSE),"")&IFERROR(VLOOKUP($B$3&"_"&D18,'[13]CANAL 11'!$A:$R,8,FALSE),"")&IFERROR(VLOOKUP($B$3&"_"&D18,'[14]CANAL 12'!$A:$R,8,FALSE),"")&IFERROR(VLOOKUP($B$3&"_"&D18,'[15]CANAL 13'!$A:$R,8,FALSE),"")&IFERROR(VLOOKUP($B$3&"_"&D18,'[16]CANAL 14'!$A:$R,8,FALSE),"")&IFERROR(VLOOKUP($B$3&"_"&D18,'[17]CANAL 15'!$A:$R,8,FALSE),"")&IFERROR(VLOOKUP($B$3&"_"&D18,'[18]CANAL 16'!$A:$R,8,FALSE),"") | L18: =IFERROR(VLOOKUP($B$3&"_"&D18,'CANAL 17'!$A:$R,9,FALSE),"")&IFERROR(VLOOKUP($B$3&"_"&D18,'[2]CANAL 18'!$A:$R,9,FALSE),"")&IFERROR(VLOOKUP($B$3&"_"&D18,'[3]CANAL 1'!$A:$R,9,FALSE),"")&IFERROR(VLOOKUP($B$3&"_"&D18,'[4]CANAL 2'!$A:$R,9,FALSE),"")&IFERROR(VLOOKUP($B$3&"_"&D18,'[5]CANAL 3'!$A:$R,9,FALSE),"")&IFERROR(VLOOKUP($B$3&"_"&D18,'[6]CANAL 4'!$A:$R,9,FALSE),"")&IFERROR(VLOOKUP($B$3&"_"&D18,'[7]CANAL 5'!$A:$R,9,FALSE),"")&IFERROR(VLOOKUP($B$3&"_"&D18,'[8]CANAL 6'!$A:$R,9,FALSE),"")&IFERROR(VLOOKUP($B$3&"_"&D18,'[9]CANAL 7'!$A:$R,9,FALSE),"")&IFERROR(VLOOKUP($B$3&"_"&D18,'[10]CANAL 8'!$A:$R,9,FALSE),"")&IFERROR(VLOOKUP($B$3&"_"&D18,'[11]CANAL 9'!$A:$R,9,FALSE),"")&IFERROR(VLOOKUP($B$3&"_"&D18,'[12]CANAL 10'!$A:$R,9,FALSE),"")&IFERROR(VLOOKUP($B$3&"_"&D18,'[13]CANAL 11'!$A:$R,9,FALSE),"")&IFERROR(VLOOKUP($B$3&"_"&D18,'[14]CANAL 12'!$A:$R,9,FALSE),"")&IFERROR(VLOOKUP($B$3&"_"&D18,'[15]CANAL 13'!$A:$R,9,FALSE),"")&IFERROR(VLOOKUP($B$3&"_"&D18,'[16]CANAL 14'!$A:$R,9,FALSE),"")&IFERROR(VLOOKUP($B$3&"_"&D18,'[17]CANAL 15'!$A:$R,9,FALSE),"")&IFERROR(VLOOKUP($B$3&"_"&D18,'[18]CANAL 16'!$A:$R,9,FALSE),"") | R18: =IFERROR(VLOOKUP($B$3&"_"&D18,'CANAL 17'!$A:$R,15,FALSE),"")&IFERROR(VLOOKUP($B$3&"_"&D18,'[2]CANAL 18'!$A:$R,15,FALSE),"")&IFERROR(VLOOKUP($B$3&"_"&D18,'[3]CANAL 1'!$A:$R,15,FALSE),"")&IFERROR(VLOOKUP($B$3&"_"&D18,'[4]CANAL 2'!$A:$R,15,FALSE),"")&IFERROR(VLOOKUP($B$3&"_"&D18,'[5]CANAL 3'!$A:$R,15,FALSE),"")&IFERROR(VLOOKUP($B$3&"_"&D18,'[6]CANAL 4'!$A:$R,15,FALSE),"")&IFERROR(VLOOKUP($B$3&"_"&D18,'[7]CANAL 5'!$A:$R,15,FALSE),"")&IFERROR(VLOOKUP($B$3&"_"&D18,'[8]CANAL 6'!$A:$R,15,FALSE),"")&IFERROR(VLOOKUP($B$3&"_"&D18,'[9]CANAL 7'!$A:$R,15,FALSE),"")&IFERROR(VLOOKUP($B$3&"_"&D18,'[10]CANAL 8'!$A:$R,15,FALSE),"")&IFERROR(VLOOKUP($B$3&"_"&D18,'[11]CANAL 9'!$A:$R,15,FALSE),"")&IFERROR(VLOOKUP($B$3&"_"&D18,'[12]CANAL 10'!$A:$R,15,FALSE),"")&IFERROR(VLOOKUP($B$3&"_"&D18,'[13]CANAL 11'!$A:$R,15,FALSE),"")&IFERROR(VLOOKUP($B$3&"_"&D18,'[14]CANAL 12'!$A:$R,15,FALSE),"")&IFERROR(VLOOKUP($B$3&"_"&D18,'[15]CANAL 13'!$A:$R,15,FALSE),"")&IFERROR(VLOOKUP($B$3&"_"&D18,'[16]CANAL 14'!$A:$R,15,FALSE),"")&IFERROR(VLOOKUP($B$3&"_"&D18,'[17]CANAL 15'!$A:$R,15,FALSE),"")&IFERROR(VLOOKUP($B$3&"_"&D18,'[18]CANAL 16'!$A:$R,15,FALSE),"")
D19: 11 | E19: =IFERROR(VLOOKUP($B$3&"_"&D19,'CANAL 17'!$A:$R,2,FALSE),"")&IFERROR(VLOOKUP($B$3&"_"&D19,'[2]CANAL 18'!$A:$R,2,FALSE),"")&IFERROR(VLOOKUP($B$3&"_"&D19,'[3]CANAL 1'!A:R,2,FALSE),"")&IFERROR(VLOOKUP($B$3&"_"&D19,'[4]CANAL 2'!A:R,2,FALSE),"")&IFERROR(VLOOKUP($B$3&"_"&D19,'[5]CANAL 3'!A:R,2,FALSE),"")&IFERROR(VLOOKUP($B$3&"_"&D19,'[6]CANAL 4'!A:R,2,FALSE),"")&IFERROR(VLOOKUP($B$3&"_"&D19,'[7]CANAL 5'!A:R,2,FALSE),"")&IFERROR(VLOOKUP($B$3&"_"&D19,'[8]CANAL 6'!A:R,2,FALSE),"")&IFERROR(VLOOKUP($B$3&"_"&D19,'[9]CANAL 7'!A:R,2,FALSE),"")&IFERROR(VLOOKUP($B$3&"_"&D19,'[10]CANAL 8'!A:R,2,FALSE),"")&IFERROR(VLOOKUP($B$3&"_"&D19,'[11]CANAL 9'!A:R,2,FALSE),"")&IFERROR(VLOOKUP($B$3&"_"&D19,'[12]CANAL 10'!A:R,2,FALSE),"")&IFERROR(VLOOKUP($B$3&"_"&D19,'[13]CANAL 11'!A:R,2,FALSE),"")&IFERROR(VLOOKUP($B$3&"_"&D19,'[14]CANAL 12'!A:R,2,FALSE),"")&IFERROR(VLOOKUP($B$3&"_"&D19,'[15]CANAL 13'!A:R,2,FALSE),"")&IFERROR(VLOOKUP($B$3&"_"&D19,'[16]CANAL 14'!A:R,2,FALSE),"")&IFERROR(VLOOKUP($B$3&"_"&D19,'[17]CANAL 15'!A:R,2,FALSE),"")&IFERROR(VLOOKUP($B$3&"_"&D19,'[18]CANAL 16'!A:R,2,FALSE),"") | F19: =IFERROR(VLOOKUP($B$3&"_"&D19,'CANAL 17'!$A:$R,3,FALSE),"")&IFERROR(VLOOKUP($B$3&"_"&D19,'[2]CANAL 18'!$A:$R,3,FALSE),"")&IFERROR(VLOOKUP($B$3&"_"&D19,'[3]CANAL 1'!$A:$R,3,FALSE),"")&IFERROR(VLOOKUP($B$3&"_"&D19,'[4]CANAL 2'!$A:$R,3,FALSE),"")&IFERROR(VLOOKUP($B$3&"_"&D19,'[5]CANAL 3'!$A:$R,3,FALSE),"")&IFERROR(VLOOKUP($B$3&"_"&D19,'[6]CANAL 4'!$A:$R,3,FALSE),"")&IFERROR(VLOOKUP($B$3&"_"&D19,'[7]CANAL 5'!$A:$R,3,FALSE),"")&IFERROR(VLOOKUP($B$3&"_"&D19,'[8]CANAL 6'!$A:$R,3,FALSE),"")&IFERROR(VLOOKUP($B$3&"_"&D19,'[9]CANAL 7'!$A:$R,3,FALSE),"")&IFERROR(VLOOKUP($B$3&"_"&D19,'[10]CANAL 8'!$A:$R,3,FALSE),"")&IFERROR(VLOOKUP($B$3&"_"&D19,'[11]CANAL 9'!$A:$R,3,FALSE),"")&IFERROR(VLOOKUP($B$3&"_"&D19,'[12]CANAL 10'!$A:$R,3,FALSE),"")&IFERROR(VLOOKUP($B$3&"_"&D19,'[13]CANAL 11'!$A:$R,3,FALSE),"")&IFERROR(VLOOKUP($B$3&"_"&D19,'[14]CANAL 12'!$A:$R,3,FALSE),"")&IFERROR(VLOOKUP($B$3&"_"&D19,'[15]CANAL 13'!$A:$R,3,FALSE),"")&IFERROR(VLOOKUP($B$3&"_"&D19,'[16]CANAL 14'!$A:$R,3,FALSE),"")&IFERROR(VLOOKUP($B$3&"_"&D19,'[17]CANAL 15'!$A:$R,3,FALSE),"")&IFERROR(VLOOKUP($B$3&"_"&D19,'[18]CANAL 16'!$A:$R,3,FALSE),"") | G19: =IFERROR(VLOOKUP($B$3&"_"&D19,'CANAL 17'!$A:$R,4,FALSE),"")&IFERROR(VLOOKUP($B$3&"_"&D19,'[2]CANAL 18'!$A:$R,4,FALSE),"")&IFERROR(VLOOKUP($B$3&"_"&D19,'[3]CANAL 1'!$A:$R,4,FALSE),"")&IFERROR(VLOOKUP($B$3&"_"&D19,'[4]CANAL 2'!$A:$R,4,FALSE),"")&IFERROR(VLOOKUP($B$3&"_"&D19,'[5]CANAL 3'!$A:$R,4,FALSE),"")&IFERROR(VLOOKUP($B$3&"_"&D19,'[6]CANAL 4'!$A:$R,4,FALSE),"")&IFERROR(VLOOKUP($B$3&"_"&D19,'[7]CANAL 5'!$A:$R,4,FALSE),"")&IFERROR(VLOOKUP($B$3&"_"&D19,'[8]CANAL 6'!$A:$R,4,FALSE),"")&IFERROR(VLOOKUP($B$3&"_"&D19,'[9]CANAL 7'!$A:$R,4,FALSE),"")&IFERROR(VLOOKUP($B$3&"_"&D19,'[10]CANAL 8'!$A:$R,4,FALSE),"")&IFERROR(VLOOKUP($B$3&"_"&D19,'[11]CANAL 9'!$A:$R,4,FALSE),"")&IFERROR(VLOOKUP($B$3&"_"&D19,'[12]CANAL 10'!$A:$R,4,FALSE),"")&IFERROR(VLOOKUP($B$3&"_"&D19,'[13]CANAL 11'!$A:$R,4,FALSE),"")&IFERROR(VLOOKUP($B$3&"_"&D19,'[14]CANAL 12'!$A:$R,4,FALSE),"")&IFERROR(VLOOKUP($B$3&"_"&D19,'[15]CANAL 13'!$A:$R,4,FALSE),"")&IFERROR(VLOOKUP($B$3&"_"&D19,'[16]CANAL 14'!$A:$R,4,FALSE),"")&IFERROR(VLOOKUP($B$3&"_"&D19,'[17]CANAL 15'!$A:$R,4,FALSE),"")&IFERROR(VLOOKUP($B$3&"_"&D19,'[18]CANAL 16'!$A:$R,4,FALSE),"") | H19: =IFERROR(VLOOKUP($B$3&"_"&D19,'CANAL 17'!$A:$R,5,FALSE),"")&IFERROR(VLOOKUP($B$3&"_"&D19,'[2]CANAL 18'!$A:$R,5,FALSE),"")&IFERROR(VLOOKUP($B$3&"_"&D19,'[3]CANAL 1'!$A:$R,5,FALSE),"")&IFERROR(VLOOKUP($B$3&"_"&D19,'[4]CANAL 2'!$A:$R,5,FALSE),"")&IFERROR(VLOOKUP($B$3&"_"&D19,'[5]CANAL 3'!$A:$R,5,FALSE),"")&IFERROR(VLOOKUP($B$3&"_"&D19,'[6]CANAL 4'!$A:$R,5,FALSE),"")&IFERROR(VLOOKUP($B$3&"_"&D19,'[7]CANAL 5'!$A:$R,5,FALSE),"")&IFERROR(VLOOKUP($B$3&"_"&D19,'[8]CANAL 6'!$A:$R,5,FALSE),"")&IFERROR(VLOOKUP($B$3&"_"&D19,'[9]CANAL 7'!$A:$R,5,FALSE),"")&IFERROR(VLOOKUP($B$3&"_"&D19,'[10]CANAL 8'!$A:$R,5,FALSE),"")&IFERROR(VLOOKUP($B$3&"_"&D19,'[11]CANAL 9'!$A:$R,5,FALSE),"")&IFERROR(VLOOKUP($B$3&"_"&D19,'[12]CANAL 10'!$A:$R,5,FALSE),"")&IFERROR(VLOOKUP($B$3&"_"&D19,'[13]CANAL 11'!$A:$R,5,FALSE),"")&IFERROR(VLOOKUP($B$3&"_"&D19,'[14]CANAL 12'!$A:$R,5,FALSE),"")&IFERROR(VLOOKUP($B$3&"_"&D19,'[15]CANAL 13'!$A:$R,5,FALSE),"")&IFERROR(VLOOKUP($B$3&"_"&D19,'[16]CANAL 14'!$A:$R,5,FALSE),"")&IFERROR(VLOOKUP($B$3&"_"&D19,'[17]CANAL 15'!$A:$R,5,FALSE),"")&IFERROR(VLOOKUP($B$3&"_"&D19,'[18]CANAL 16'!$A:$R,5,FALSE),"") | I19: =IFERROR(VLOOKUP($B$3&"_"&D19,'CANAL 17'!$A:$R,6,FALSE),"")&IFERROR(VLOOKUP($B$3&"_"&D19,'[2]CANAL 18'!$A:$R,6,FALSE),"")&IFERROR(VLOOKUP($B$3&"_"&D19,'[3]CANAL 1'!$A:$R,6,FALSE),"")&IFERROR(VLOOKUP($B$3&"_"&D19,'[4]CANAL 2'!$A:$R,6,FALSE),"")&IFERROR(VLOOKUP($B$3&"_"&D19,'[5]CANAL 3'!$A:$R,6,FALSE),"")&IFERROR(VLOOKUP($B$3&"_"&D19,'[6]CANAL 4'!$A:$R,6,FALSE),"")&IFERROR(VLOOKUP($B$3&"_"&D19,'[7]CANAL 5'!$A:$R,6,FALSE),"")&IFERROR(VLOOKUP($B$3&"_"&D19,'[8]CANAL 6'!$A:$R,6,FALSE),"")&IFERROR(VLOOKUP($B$3&"_"&D19,'[9]CANAL 7'!$A:$R,6,FALSE),"")&IFERROR(VLOOKUP($B$3&"_"&D19,'[10]CANAL 8'!$A:$R,6,FALSE),"")&IFERROR(VLOOKUP($B$3&"_"&D19,'[11]CANAL 9'!$A:$R,6,FALSE),"")&IFERROR(VLOOKUP($B$3&"_"&D19,'[12]CANAL 10'!$A:$R,6,FALSE),"")&IFERROR(VLOOKUP($B$3&"_"&D19,'[13]CANAL 11'!$A:$R,6,FALSE),"")&IFERROR(VLOOKUP($B$3&"_"&D19,'[14]CANAL 12'!$A:$R,6,FALSE),"")&IFERROR(VLOOKUP($B$3&"_"&D19,'[15]CANAL 13'!$A:$R,6,FALSE),"")&IFERROR(VLOOKUP($B$3&"_"&D19,'[16]CANAL 14'!$A:$R,6,FALSE),"")&IFERROR(VLOOKUP($B$3&"_"&D19,'[17]CANAL 15'!$A:$R,6,FALSE),"")&IFERROR(VLOOKUP($B$3&"_"&D19,'[18]CANAL 16'!$A:$R,6,FALSE),"") | J19: =IFERROR(VLOOKUP($B$3&"_"&D19,'CANAL 17'!$A:$R,7,FALSE),"")&IFERROR(VLOOKUP($B$3&"_"&D19,'[2]CANAL 18'!$A:$R,7,FALSE),"")&IFERROR(VLOOKUP($B$3&"_"&D19,'[3]CANAL 1'!$A:$R,7,FALSE),"")&IFERROR(VLOOKUP($B$3&"_"&D19,'[4]CANAL 2'!$A:$R,7,FALSE),"")&IFERROR(VLOOKUP($B$3&"_"&D19,'[5]CANAL 3'!$A:$R,7,FALSE),"")&IFERROR(VLOOKUP($B$3&"_"&D19,'[6]CANAL 4'!$A:$R,7,FALSE),"")&IFERROR(VLOOKUP($B$3&"_"&D19,'[7]CANAL 5'!$A:$R,7,FALSE),"")&IFERROR(VLOOKUP($B$3&"_"&D19,'[8]CANAL 6'!$A:$R,7,FALSE),"")&IFERROR(VLOOKUP($B$3&"_"&D19,'[9]CANAL 7'!$A:$R,7,FALSE),"")&IFERROR(VLOOKUP($B$3&"_"&D19,'[10]CANAL 8'!$A:$R,7,FALSE),"")&IFERROR(VLOOKUP($B$3&"_"&D19,'[11]CANAL 9'!$A:$R,7,FALSE),"")&IFERROR(VLOOKUP($B$3&"_"&D19,'[12]CANAL 10'!$A:$R,7,FALSE),"")&IFERROR(VLOOKUP($B$3&"_"&D19,'[13]CANAL 11'!$A:$R,7,FALSE),"")&IFERROR(VLOOKUP($B$3&"_"&D19,'[14]CANAL 12'!$A:$R,7,FALSE),"")&IFERROR(VLOOKUP($B$3&"_"&D19,'[15]CANAL 13'!$A:$R,7,FALSE),"")&IFERROR(VLOOKUP($B$3&"_"&D19,'[16]CANAL 14'!$A:$R,7,FALSE),"")&IFERROR(VLOOKUP($B$3&"_"&D19,'[17]CANAL 15'!$A:$R,7,FALSE),"")&IFERROR(VLOOKUP($B$3&"_"&D19,'[18]CANAL 16'!$A:$R,7,FALSE),"") | K19: =IFERROR(VLOOKUP($B$3&"_"&D19,'CANAL 17'!$A:$R,8,FALSE),"")&IFERROR(VLOOKUP($B$3&"_"&D19,'[2]CANAL 18'!$A:$R,8,FALSE),"")&IFERROR(VLOOKUP($B$3&"_"&D19,'[3]CANAL 1'!$A:$R,8,FALSE),"")&IFERROR(VLOOKUP($B$3&"_"&D19,'[4]CANAL 2'!$A:$R,8,FALSE),"")&IFERROR(VLOOKUP($B$3&"_"&D19,'[5]CANAL 3'!$A:$R,8,FALSE),"")&IFERROR(VLOOKUP($B$3&"_"&D19,'[6]CANAL 4'!$A:$R,8,FALSE),"")&IFERROR(VLOOKUP($B$3&"_"&D19,'[7]CANAL 5'!$A:$R,8,FALSE),"")&IFERROR(VLOOKUP($B$3&"_"&D19,'[8]CANAL 6'!$A:$R,8,FALSE),"")&IFERROR(VLOOKUP($B$3&"_"&D19,'[9]CANAL 7'!$A:$R,8,FALSE),"")&IFERROR(VLOOKUP($B$3&"_"&D19,'[10]CANAL 8'!$A:$R,8,FALSE),"")&IFERROR(VLOOKUP($B$3&"_"&D19,'[11]CANAL 9'!$A:$R,8,FALSE),"")&IFERROR(VLOOKUP($B$3&"_"&D19,'[12]CANAL 10'!$A:$R,8,FALSE),"")&IFERROR(VLOOKUP($B$3&"_"&D19,'[13]CANAL 11'!$A:$R,8,FALSE),"")&IFERROR(VLOOKUP($B$3&"_"&D19,'[14]CANAL 12'!$A:$R,8,FALSE),"")&IFERROR(VLOOKUP($B$3&"_"&D19,'[15]CANAL 13'!$A:$R,8,FALSE),"")&IFERROR(VLOOKUP($B$3&"_"&D19,'[16]CANAL 14'!$A:$R,8,FALSE),"")&IFERROR(VLOOKUP($B$3&"_"&D19,'[17]CANAL 15'!$A:$R,8,FALSE),"")&IFERROR(VLOOKUP($B$3&"_"&D19,'[18]CANAL 16'!$A:$R,8,FALSE),"") | L19: =IFERROR(VLOOKUP($B$3&"_"&D19,'CANAL 17'!$A:$R,9,FALSE),"")&IFERROR(VLOOKUP($B$3&"_"&D19,'[2]CANAL 18'!$A:$R,9,FALSE),"")&IFERROR(VLOOKUP($B$3&"_"&D19,'[3]CANAL 1'!$A:$R,9,FALSE),"")&IFERROR(VLOOKUP($B$3&"_"&D19,'[4]CANAL 2'!$A:$R,9,FALSE),"")&IFERROR(VLOOKUP($B$3&"_"&D19,'[5]CANAL 3'!$A:$R,9,FALSE),"")&IFERROR(VLOOKUP($B$3&"_"&D19,'[6]CANAL 4'!$A:$R,9,FALSE),"")&IFERROR(VLOOKUP($B$3&"_"&D19,'[7]CANAL 5'!$A:$R,9,FALSE),"")&IFERROR(VLOOKUP($B$3&"_"&D19,'[8]CANAL 6'!$A:$R,9,FALSE),"")&IFERROR(VLOOKUP($B$3&"_"&D19,'[9]CANAL 7'!$A:$R,9,FALSE),"")&IFERROR(VLOOKUP($B$3&"_"&D19,'[10]CANAL 8'!$A:$R,9,FALSE),"")&IFERROR(VLOOKUP($B$3&"_"&D19,'[11]CANAL 9'!$A:$R,9,FALSE),"")&IFERROR(VLOOKUP($B$3&"_"&D19,'[12]CANAL 10'!$A:$R,9,FALSE),"")&IFERROR(VLOOKUP($B$3&"_"&D19,'[13]CANAL 11'!$A:$R,9,FALSE),"")&IFERROR(VLOOKUP($B$3&"_"&D19,'[14]CANAL 12'!$A:$R,9,FALSE),"")&IFERROR(VLOOKUP($B$3&"_"&D19,'[15]CANAL 13'!$A:$R,9,FALSE),"")&IFERROR(VLOOKUP($B$3&"_"&D19,'[16]CANAL 14'!$A:$R,9,FALSE),"")&IFERROR(VLOOKUP($B$3&"_"&D19,'[17]CANAL 15'!$A:$R,9,FALSE),"")&IFERROR(VLOOKUP($B$3&"_"&D19,'[18]CANAL 16'!$A:$R,9,FALSE),"") | R19: =IFERROR(VLOOKUP($B$3&"_"&D19,'CANAL 17'!$A:$R,15,FALSE),"")&IFERROR(VLOOKUP($B$3&"_"&D19,'[2]CANAL 18'!$A:$R,15,FALSE),"")&IFERROR(VLOOKUP($B$3&"_"&D19,'[3]CANAL 1'!$A:$R,15,FALSE),"")&IFERROR(VLOOKUP($B$3&"_"&D19,'[4]CANAL 2'!$A:$R,15,FALSE),"")&IFERROR(VLOOKUP($B$3&"_"&D19,'[5]CANAL 3'!$A:$R,15,FALSE),"")&IFERROR(VLOOKUP($B$3&"_"&D19,'[6]CANAL 4'!$A:$R,15,FALSE),"")&IFERROR(VLOOKUP($B$3&"_"&D19,'[7]CANAL 5'!$A:$R,15,FALSE),"")&IFERROR(VLOOKUP($B$3&"_"&D19,'[8]CANAL 6'!$A:$R,15,FALSE),"")&IFERROR(VLOOKUP($B$3&"_"&D19,'[9]CANAL 7'!$A:$R,15,FALSE),"")&IFERROR(VLOOKUP($B$3&"_"&D19,'[10]CANAL 8'!$A:$R,15,FALSE),"")&IFERROR(VLOOKUP($B$3&"_"&D19,'[11]CANAL 9'!$A:$R,15,FALSE),"")&IFERROR(VLOOKUP($B$3&"_"&D19,'[12]CANAL 10'!$A:$R,15,FALSE),"")&IFERROR(VLOOKUP($B$3&"_"&D19,'[13]CANAL 11'!$A:$R,15,FALSE),"")&IFERROR(VLOOKUP($B$3&"_"&D19,'[14]CANAL 12'!$A:$R,15,FALSE),"")&IFERROR(VLOOKUP($B$3&"_"&D19,'[15]CANAL 13'!$A:$R,15,FALSE),"")&IFERROR(VLOOKUP($B$3&"_"&D19,'[16]CANAL 14'!$A:$R,15,FALSE),"")&IFERROR(VLOOKUP($B$3&"_"&D19,'[17]CANAL 15'!$A:$R,15,FALSE),"")&IFERROR(VLOOKUP($B$3&"_"&D19,'[18]CANAL 16'!$A:$R,15,FALSE),"")
D20: 12 | E20: =IFERROR(VLOOKUP($B$3&"_"&D20,'CANAL 17'!$A:$R,2,FALSE),"")&IFERROR(VLOOKUP($B$3&"_"&D20,'[2]CANAL 18'!$A:$R,2,FALSE),"")&IFERROR(VLOOKUP($B$3&"_"&D20,'[3]CANAL 1'!A:R,2,FALSE),"")&IFERROR(VLOOKUP($B$3&"_"&D20,'[4]CANAL 2'!A:R,2,FALSE),"")&IFERROR(VLOOKUP($B$3&"_"&D20,'[5]CANAL 3'!A:R,2,FALSE),"")&IFERROR(VLOOKUP($B$3&"_"&D20,'[6]CANAL 4'!A:R,2,FALSE),"")&IFERROR(VLOOKUP($B$3&"_"&D20,'[7]CANAL 5'!A:R,2,FALSE),"")&IFERROR(VLOOKUP($B$3&"_"&D20,'[8]CANAL 6'!A:R,2,FALSE),"")&IFERROR(VLOOKUP($B$3&"_"&D20,'[9]CANAL 7'!A:R,2,FALSE),"")&IFERROR(VLOOKUP($B$3&"_"&D20,'[10]CANAL 8'!A:R,2,FALSE),"")&IFERROR(VLOOKUP($B$3&"_"&D20,'[11]CANAL 9'!A:R,2,FALSE),"")&IFERROR(VLOOKUP($B$3&"_"&D20,'[12]CANAL 10'!A:R,2,FALSE),"")&IFERROR(VLOOKUP($B$3&"_"&D20,'[13]CANAL 11'!A:R,2,FALSE),"")&IFERROR(VLOOKUP($B$3&"_"&D20,'[14]CANAL 12'!A:R,2,FALSE),"")&IFERROR(VLOOKUP($B$3&"_"&D20,'[15]CANAL 13'!A:R,2,FALSE),"")&IFERROR(VLOOKUP($B$3&"_"&D20,'[16]CANAL 14'!A:R,2,FALSE),"")&IFERROR(VLOOKUP($B$3&"_"&D20,'[17]CANAL 15'!A:R,2,FALSE),"")&IFERROR(VLOOKUP($B$3&"_"&D20,'[18]CANAL 16'!A:R,2,FALSE),"") | F20: =IFERROR(VLOOKUP($B$3&"_"&D20,'CANAL 17'!$A:$R,3,FALSE),"")&IFERROR(VLOOKUP($B$3&"_"&D20,'[2]CANAL 18'!$A:$R,3,FALSE),"")&IFERROR(VLOOKUP($B$3&"_"&D20,'[3]CANAL 1'!$A:$R,3,FALSE),"")&IFERROR(VLOOKUP($B$3&"_"&D20,'[4]CANAL 2'!$A:$R,3,FALSE),"")&IFERROR(VLOOKUP($B$3&"_"&D20,'[5]CANAL 3'!$A:$R,3,FALSE),"")&IFERROR(VLOOKUP($B$3&"_"&D20,'[6]CANAL 4'!$A:$R,3,FALSE),"")&IFERROR(VLOOKUP($B$3&"_"&D20,'[7]CANAL 5'!$A:$R,3,FALSE),"")&IFERROR(VLOOKUP($B$3&"_"&D20,'[8]CANAL 6'!$A:$R,3,FALSE),"")&IFERROR(VLOOKUP($B$3&"_"&D20,'[9]CANAL 7'!$A:$R,3,FALSE),"")&IFERROR(VLOOKUP($B$3&"_"&D20,'[10]CANAL 8'!$A:$R,3,FALSE),"")&IFERROR(VLOOKUP($B$3&"_"&D20,'[11]CANAL 9'!$A:$R,3,FALSE),"")&IFERROR(VLOOKUP($B$3&"_"&D20,'[12]CANAL 10'!$A:$R,3,FALSE),"")&IFERROR(VLOOKUP($B$3&"_"&D20,'[13]CANAL 11'!$A:$R,3,FALSE),"")&IFERROR(VLOOKUP($B$3&"_"&D20,'[14]CANAL 12'!$A:$R,3,FALSE),"")&IFERROR(VLOOKUP($B$3&"_"&D20,'[15]CANAL 13'!$A:$R,3,FALSE),"")&IFERROR(VLOOKUP($B$3&"_"&D20,'[16]CANAL 14'!$A:$R,3,FALSE),"")&IFERROR(VLOOKUP($B$3&"_"&D20,'[17]CANAL 15'!$A:$R,3,FALSE),"")&IFERROR(VLOOKUP($B$3&"_"&D20,'[18]CANAL 16'!$A:$R,3,FALSE),"") | G20: =IFERROR(VLOOKUP($B$3&"_"&D20,'CANAL 17'!$A:$R,4,FALSE),"")&IFERROR(VLOOKUP($B$3&"_"&D20,'[2]CANAL 18'!$A:$R,4,FALSE),"")&IFERROR(VLOOKUP($B$3&"_"&D20,'[3]CANAL 1'!$A:$R,4,FALSE),"")&IFERROR(VLOOKUP($B$3&"_"&D20,'[4]CANAL 2'!$A:$R,4,FALSE),"")&IFERROR(VLOOKUP($B$3&"_"&D20,'[5]CANAL 3'!$A:$R,4,FALSE),"")&IFERROR(VLOOKUP($B$3&"_"&D20,'[6]CANAL 4'!$A:$R,4,FALSE),"")&IFERROR(VLOOKUP($B$3&"_"&D20,'[7]CANAL 5'!$A:$R,4,FALSE),"")&IFERROR(VLOOKUP($B$3&"_"&D20,'[8]CANAL 6'!$A:$R,4,FALSE),"")&IFERROR(VLOOKUP($B$3&"_"&D20,'[9]CANAL 7'!$A:$R,4,FALSE),"")&IFERROR(VLOOKUP($B$3&"_"&D20,'[10]CANAL 8'!$A:$R,4,FALSE),"")&IFERROR(VLOOKUP($B$3&"_"&D20,'[11]CANAL 9'!$A:$R,4,FALSE),"")&IFERROR(VLOOKUP($B$3&"_"&D20,'[12]CANAL 10'!$A:$R,4,FALSE),"")&IFERROR(VLOOKUP($B$3&"_"&D20,'[13]CANAL 11'!$A:$R,4,FALSE),"")&IFERROR(VLOOKUP($B$3&"_"&D20,'[14]CANAL 12'!$A:$R,4,FALSE),"")&IFERROR(VLOOKUP($B$3&"_"&D20,'[15]CANAL 13'!$A:$R,4,FALSE),"")&IFERROR(VLOOKUP($B$3&"_"&D20,'[16]CANAL 14'!$A:$R,4,FALSE),"")&IFERROR(VLOOKUP($B$3&"_"&D20,'[17]CANAL 15'!$A:$R,4,FALSE),"")&IFERROR(VLOOKUP($B$3&"_"&D20,'[18]CANAL 16'!$A:$R,4,FALSE),"") | H20: =IFERROR(VLOOKUP($B$3&"_"&D20,'CANAL 17'!$A:$R,5,FALSE),"")&IFERROR(VLOOKUP($B$3&"_"&D20,'[2]CANAL 18'!$A:$R,5,FALSE),"")&IFERROR(VLOOKUP($B$3&"_"&D20,'[3]CANAL 1'!$A:$R,5,FALSE),"")&IFERROR(VLOOKUP($B$3&"_"&D20,'[4]CANAL 2'!$A:$R,5,FALSE),"")&IFERROR(VLOOKUP($B$3&"_"&D20,'[5]CANAL 3'!$A:$R,5,FALSE),"")&IFERROR(VLOOKUP($B$3&"_"&D20,'[6]CANAL 4'!$A:$R,5,FALSE),"")&IFERROR(VLOOKUP($B$3&"_"&D20,'[7]CANAL 5'!$A:$R,5,FALSE),"")&IFERROR(VLOOKUP($B$3&"_"&D20,'[8]CANAL 6'!$A:$R,5,FALSE),"")&IFERROR(VLOOKUP($B$3&"_"&D20,'[9]CANAL 7'!$A:$R,5,FALSE),"")&IFERROR(VLOOKUP($B$3&"_"&D20,'[10]CANAL 8'!$A:$R,5,FALSE),"")&IFERROR(VLOOKUP($B$3&"_"&D20,'[11]CANAL 9'!$A:$R,5,FALSE),"")&IFERROR(VLOOKUP($B$3&"_"&D20,'[12]CANAL 10'!$A:$R,5,FALSE),"")&IFERROR(VLOOKUP($B$3&"_"&D20,'[13]CANAL 11'!$A:$R,5,FALSE),"")&IFERROR(VLOOKUP($B$3&"_"&D20,'[14]CANAL 12'!$A:$R,5,FALSE),"")&IFERROR(VLOOKUP($B$3&"_"&D20,'[15]CANAL 13'!$A:$R,5,FALSE),"")&IFERROR(VLOOKUP($B$3&"_"&D20,'[16]CANAL 14'!$A:$R,5,FALSE),"")&IFERROR(VLOOKUP($B$3&"_"&D20,'[17]CANAL 15'!$A:$R,5,FALSE),"")&IFERROR(VLOOKUP($B$3&"_"&D20,'[18]CANAL 16'!$A:$R,5,FALSE),"") | I20: =IFERROR(VLOOKUP($B$3&"_"&D20,'CANAL 17'!$A:$R,6,FALSE),"")&IFERROR(VLOOKUP($B$3&"_"&D20,'[2]CANAL 18'!$A:$R,6,FALSE),"")&IFERROR(VLOOKUP($B$3&"_"&D20,'[3]CANAL 1'!$A:$R,6,FALSE),"")&IFERROR(VLOOKUP($B$3&"_"&D20,'[4]CANAL 2'!$A:$R,6,FALSE),"")&IFERROR(VLOOKUP($B$3&"_"&D20,'[5]CANAL 3'!$A:$R,6,FALSE),"")&IFERROR(VLOOKUP($B$3&"_"&D20,'[6]CANAL 4'!$A:$R,6,FALSE),"")&IFERROR(VLOOKUP($B$3&"_"&D20,'[7]CANAL 5'!$A:$R,6,FALSE),"")&IFERROR(VLOOKUP($B$3&"_"&D20,'[8]CANAL 6'!$A:$R,6,FALSE),"")&IFERROR(VLOOKUP($B$3&"_"&D20,'[9]CANAL 7'!$A:$R,6,FALSE),"")&IFERROR(VLOOKUP($B$3&"_"&D20,'[10]CANAL 8'!$A:$R,6,FALSE),"")&IFERROR(VLOOKUP($B$3&"_"&D20,'[11]CANAL 9'!$A:$R,6,FALSE),"")&IFERROR(VLOOKUP($B$3&"_"&D20,'[12]CANAL 10'!$A:$R,6,FALSE),"")&IFERROR(VLOOKUP($B$3&"_"&D20,'[13]CANAL 11'!$A:$R,6,FALSE),"")&IFERROR(VLOOKUP($B$3&"_"&D20,'[14]CANAL 12'!$A:$R,6,FALSE),"")&IFERROR(VLOOKUP($B$3&"_"&D20,'[15]CANAL 13'!$A:$R,6,FALSE),"")&IFERROR(VLOOKUP($B$3&"_"&D20,'[16]CANAL 14'!$A:$R,6,FALSE),"")&IFERROR(VLOOKUP($B$3&"_"&D20,'[17]CANAL 15'!$A:$R,6,FALSE),"")&IFERROR(VLOOKUP($B$3&"_"&D20,'[18]CANAL 16'!$A:$R,6,FALSE),"") | J20: =IFERROR(VLOOKUP($B$3&"_"&D20,'CANAL 17'!$A:$R,7,FALSE),"")&IFERROR(VLOOKUP($B$3&"_"&D20,'[2]CANAL 18'!$A:$R,7,FALSE),"")&IFERROR(VLOOKUP($B$3&"_"&D20,'[3]CANAL 1'!$A:$R,7,FALSE),"")&IFERROR(VLOOKUP($B$3&"_"&D20,'[4]CANAL 2'!$A:$R,7,FALSE),"")&IFERROR(VLOOKUP($B$3&"_"&D20,'[5]CANAL 3'!$A:$R,7,FALSE),"")&IFERROR(VLOOKUP($B$3&"_"&D20,'[6]CANAL 4'!$A:$R,7,FALSE),"")&IFERROR(VLOOKUP($B$3&"_"&D20,'[7]CANAL 5'!$A:$R,7,FALSE),"")&IFERROR(VLOOKUP($B$3&"_"&D20,'[8]CANAL 6'!$A:$R,7,FALSE),"")&IFERROR(VLOOKUP($B$3&"_"&D20,'[9]CANAL 7'!$A:$R,7,FALSE),"")&IFERROR(VLOOKUP($B$3&"_"&D20,'[10]CANAL 8'!$A:$R,7,FALSE),"")&IFERROR(VLOOKUP($B$3&"_"&D20,'[11]CANAL 9'!$A:$R,7,FALSE),"")&IFERROR(VLOOKUP($B$3&"_"&D20,'[12]CANAL 10'!$A:$R,7,FALSE),"")&IFERROR(VLOOKUP($B$3&"_"&D20,'[13]CANAL 11'!$A:$R,7,FALSE),"")&IFERROR(VLOOKUP($B$3&"_"&D20,'[14]CANAL 12'!$A:$R,7,FALSE),"")&IFERROR(VLOOKUP($B$3&"_"&D20,'[15]CANAL 13'!$A:$R,7,FALSE),"")&IFERROR(VLOOKUP($B$3&"_"&D20,'[16]CANAL 14'!$A:$R,7,FALSE),"")&IFERROR(VLOOKUP($B$3&"_"&D20,'[17]CANAL 15'!$A:$R,7,FALSE),"")&IFERROR(VLOOKUP($B$3&"_"&D20,'[18]CANAL 16'!$A:$R,7,FALSE),"") | K20: =IFERROR(VLOOKUP($B$3&"_"&D20,'CANAL 17'!$A:$R,8,FALSE),"")&IFERROR(VLOOKUP($B$3&"_"&D20,'[2]CANAL 18'!$A:$R,8,FALSE),"")&IFERROR(VLOOKUP($B$3&"_"&D20,'[3]CANAL 1'!$A:$R,8,FALSE),"")&IFERROR(VLOOKUP($B$3&"_"&D20,'[4]CANAL 2'!$A:$R,8,FALSE),"")&IFERROR(VLOOKUP($B$3&"_"&D20,'[5]CANAL 3'!$A:$R,8,FALSE),"")&IFERROR(VLOOKUP($B$3&"_"&D20,'[6]CANAL 4'!$A:$R,8,FALSE),"")&IFERROR(VLOOKUP($B$3&"_"&D20,'[7]CANAL 5'!$A:$R,8,FALSE),"")&IFERROR(VLOOKUP($B$3&"_"&D20,'[8]CANAL 6'!$A:$R,8,FALSE),"")&IFERROR(VLOOKUP($B$3&"_"&D20,'[9]CANAL 7'!$A:$R,8,FALSE),"")&IFERROR(VLOOKUP($B$3&"_"&D20,'[10]CANAL 8'!$A:$R,8,FALSE),"")&IFERROR(VLOOKUP($B$3&"_"&D20,'[11]CANAL 9'!$A:$R,8,FALSE),"")&IFERROR(VLOOKUP($B$3&"_"&D20,'[12]CANAL 10'!$A:$R,8,FALSE),"")&IFERROR(VLOOKUP($B$3&"_"&D20,'[13]CANAL 11'!$A:$R,8,FALSE),"")&IFERROR(VLOOKUP($B$3&"_"&D20,'[14]CANAL 12'!$A:$R,8,FALSE),"")&IFERROR(VLOOKUP($B$3&"_"&D20,'[15]CANAL 13'!$A:$R,8,FALSE),"")&IFERROR(VLOOKUP($B$3&"_"&D20,'[16]CANAL 14'!$A:$R,8,FALSE),"")&IFERROR(VLOOKUP($B$3&"_"&D20,'[17]CANAL 15'!$A:$R,8,FALSE),"")&IFERROR(VLOOKUP($B$3&"_"&D20,'[18]CANAL 16'!$A:$R,8,FALSE),"") | L20: =IFERROR(VLOOKUP($B$3&"_"&D20,'CANAL 17'!$A:$R,9,FALSE),"")&IFERROR(VLOOKUP($B$3&"_"&D20,'[2]CANAL 18'!$A:$R,9,FALSE),"")&IFERROR(VLOOKUP($B$3&"_"&D20,'[3]CANAL 1'!$A:$R,9,FALSE),"")&IFERROR(VLOOKUP($B$3&"_"&D20,'[4]CANAL 2'!$A:$R,9,FALSE),"")&IFERROR(VLOOKUP($B$3&"_"&D20,'[5]CANAL 3'!$A:$R,9,FALSE),"")&IFERROR(VLOOKUP($B$3&"_"&D20,'[6]CANAL 4'!$A:$R,9,FALSE),"")&IFERROR(VLOOKUP($B$3&"_"&D20,'[7]CANAL 5'!$A:$R,9,FALSE),"")&IFERROR(VLOOKUP($B$3&"_"&D20,'[8]CANAL 6'!$A:$R,9,FALSE),"")&IFERROR(VLOOKUP($B$3&"_"&D20,'[9]CANAL 7'!$A:$R,9,FALSE),"")&IFERROR(VLOOKUP($B$3&"_"&D20,'[10]CANAL 8'!$A:$R,9,FALSE),"")&IFERROR(VLOOKUP($B$3&"_"&D20,'[11]CANAL 9'!$A:$R,9,FALSE),"")&IFERROR(VLOOKUP($B$3&"_"&D20,'[12]CANAL 10'!$A:$R,9,FALSE),"")&IFERROR(VLOOKUP($B$3&"_"&D20,'[13]CANAL 11'!$A:$R,9,FALSE),"")&IFERROR(VLOOKUP($B$3&"_"&D20,'[14]CANAL 12'!$A:$R,9,FALSE),"")&IFERROR(VLOOKUP($B$3&"_"&D20,'[15]CANAL 13'!$A:$R,9,FALSE),"")&IFERROR(VLOOKUP($B$3&"_"&D20,'[16]CANAL 14'!$A:$R,9,FALSE),"")&IFERROR(VLOOKUP($B$3&"_"&D20,'[17]CANAL 15'!$A:$R,9,FALSE),"")&IFERROR(VLOOKUP($B$3&"_"&D20,'[18]CANAL 16'!$A:$R,9,FALSE),"") | R20: =IFERROR(VLOOKUP($B$3&"_"&D20,'CANAL 17'!$A:$R,15,FALSE),"")&IFERROR(VLOOKUP($B$3&"_"&D20,'[2]CANAL 18'!$A:$R,15,FALSE),"")&IFERROR(VLOOKUP($B$3&"_"&D20,'[3]CANAL 1'!$A:$R,15,FALSE),"")&IFERROR(VLOOKUP($B$3&"_"&D20,'[4]CANAL 2'!$A:$R,15,FALSE),"")&IFERROR(VLOOKUP($B$3&"_"&D20,'[5]CANAL 3'!$A:$R,15,FALSE),"")&IFERROR(VLOOKUP($B$3&"_"&D20,'[6]CANAL 4'!$A:$R,15,FALSE),"")&IFERROR(VLOOKUP($B$3&"_"&D20,'[7]CANAL 5'!$A:$R,15,FALSE),"")&IFERROR(VLOOKUP($B$3&"_"&D20,'[8]CANAL 6'!$A:$R,15,FALSE),"")&IFERROR(VLOOKUP($B$3&"_"&D20,'[9]CANAL 7'!$A:$R,15,FALSE),"")&IFERROR(VLOOKUP($B$3&"_"&D20,'[10]CANAL 8'!$A:$R,15,FALSE),"")&IFERROR(VLOOKUP($B$3&"_"&D20,'[11]CANAL 9'!$A:$R,15,FALSE),"")&IFERROR(VLOOKUP($B$3&"_"&D20,'[12]CANAL 10'!$A:$R,15,FALSE),"")&IFERROR(VLOOKUP($B$3&"_"&D20,'[13]CANAL 11'!$A:$R,15,FALSE),"")&IFERROR(VLOOKUP($B$3&"_"&D20,'[14]CANAL 12'!$A:$R,15,FALSE),"")&IFERROR(VLOOKUP($B$3&"_"&D20,'[15]CANAL 13'!$A:$R,15,FALSE),"")&IFERROR(VLOOKUP($B$3&"_"&D20,'[16]CANAL 14'!$A:$R,15,FALSE),"")&IFERROR(VLOOKUP($B$3&"_"&D20,'[17]CANAL 15'!$A:$R,15,FALSE),"")&IFERROR(VLOOKUP($B$3&"_"&D20,'[18]CANAL 16'!$A:$R,15,FALSE),"")
... D70: 62 | E70: =IFERROR(VLOOKUP($B$3&"_"&D70,'CANAL 17'!$A:$R,2,FALSE),"")&IFERROR(VLOOKUP($B$3&"_"&D70,'[2]CANAL 18'!$A:$R,2,FALSE),"")&IFERROR(VLOOKUP($B$3&"_"&D70,'[3]CANAL 1'!A:R,2,FALSE),"")&IFERROR(VLOOKUP($B$3&"_"&D70,'[4]CANAL 2'!A:R,2,FALSE),"")&IFERROR(VLOOKUP($B$3&"_"&D70,'[5]CANAL 3'!A:R,2,FALSE),"")&IFERROR(VLOOKUP($B$3&"_"&D70,'[6]CANAL 4'!A:R,2,FALSE),"")&IFERROR(VLOOKUP($B$3&"_"&D70,'[7]CANAL 5'!A:R,2,FALSE),"")&IFERROR(VLOOKUP($B$3&"_"&D70,'[8]CANAL 6'!A:R,2,FALSE),"")&IFERROR(VLOOKUP($B$3&"_"&D70,'[9]CANAL 7'!A:R,2,FALSE),"")&IFERROR(VLOOKUP($B$3&"_"&D70,'[10]CANAL 8'!A:R,2,FALSE),"")&IFERROR(VLOOKUP($B$3&"_"&D70,'[11]CANAL 9'!A:R,2,FALSE),"")&IFERROR(VLOOKUP($B$3&"_"&D70,'[12]CANAL 10'!A:R,2,FALSE),"")&IFERROR(VLOOKUP($B$3&"_"&D70,'[13]CANAL 11'!A:R,2,FALSE),"")&IFERROR(VLOOKUP($B$3&"_"&D70,'[14]CANAL 12'!A:R,2,FALSE),"")&IFERROR(VLOOKUP($B$3&"_"&D70,'[15]CANAL 13'!A:R,2,FALSE),"")&IFERROR(VLOOKUP($B$3&"_"&D70,'[16]CANAL 14'!A:R,2,FALSE),"")&IFERROR(VLOOKUP($B$3&"_"&D70,'[17]CANAL 15'!A:R,2,FALSE),"")&IFERROR(VLOOKUP($B$3&"_"&D70,'[18]CANAL 16'!A:R,2,FALSE),"") | F70: =IFERROR(VLOOKUP($B$3&"_"&D70,'CANAL 17'!$A:$R,3,FALSE),"")&IFERROR(VLOOKUP($B$3&"_"&D70,'[2]CANAL 18'!$A:$R,3,FALSE),"")&IFERROR(VLOOKUP($B$3&"_"&D70,'[3]CANAL 1'!$A:$R,3,FALSE),"")&IFERROR(VLOOKUP($B$3&"_"&D70,'[4]CANAL 2'!$A:$R,3,FALSE),"")&IFERROR(VLOOKUP($B$3&"_"&D70,'[5]CANAL 3'!$A:$R,3,FALSE),"")&IFERROR(VLOOKUP($B$3&"_"&D70,'[6]CANAL 4'!$A:$R,3,FALSE),"")&IFERROR(VLOOKUP($B$3&"_"&D70,'[7]CANAL 5'!$A:$R,3,FALSE),"")&IFERROR(VLOOKUP($B$3&"_"&D70,'[8]CANAL 6'!$A:$R,3,FALSE),"")&IFERROR(VLOOKUP($B$3&"_"&D70,'[9]CANAL 7'!$A:$R,3,FALSE),"")&IFERROR(VLOOKUP($B$3&"_"&D70,'[10]CANAL 8'!$A:$R,3,FALSE),"")&IFERROR(VLOOKUP($B$3&"_"&D70,'[11]CANAL 9'!$A:$R,3,FALSE),"")&IFERROR(VLOOKUP($B$3&"_"&D70,'[12]CANAL 10'!$A:$R,3,FALSE),"")&IFERROR(VLOOKUP($B$3&"_"&D70,'[13]CANAL 11'!$A:$R,3,FALSE),"")&IFERROR(VLOOKUP($B$3&"_"&D70,'[14]CANAL 12'!$A:$R,3,FALSE),"")&IFERROR(VLOOKUP($B$3&"_"&D70,'[15]CANAL 13'!$A:$R,3,FALSE),"")&IFERROR(VLOOKUP($B$3&"_"&D70,'[16]CANAL 14'!$A:$R,3,FALSE),"")&IFERROR(VLOOKUP($B$3&"_"&D70,'[17]CANAL 15'!$A:$R,3,FALSE),"")&IFERROR(VLOOKUP($B$3&"_"&D70,'[18]CANAL 16'!$A:$R,3,FALSE),"") | G70: =IFERROR(VLOOKUP($B$3&"_"&D70,'CANAL 17'!$A:$R,4,FALSE),"")&IFERROR(VLOOKUP($B$3&"_"&D70,'[2]CANAL 18'!$A:$R,4,FALSE),"")&IFERROR(VLOOKUP($B$3&"_"&D70,'[3]CANAL 1'!$A:$R,4,FALSE),"")&IFERROR(VLOOKUP($B$3&"_"&D70,'[4]CANAL 2'!$A:$R,4,FALSE),"")&IFERROR(VLOOKUP($B$3&"_"&D70,'[5]CANAL 3'!$A:$R,4,FALSE),"")&IFERROR(VLOOKUP($B$3&"_"&D70,'[6]CANAL 4'!$A:$R,4,FALSE),"")&IFERROR(VLOOKUP($B$3&"_"&D70,'[7]CANAL 5'!$A:$R,4,FALSE),"")&IFERROR(VLOOKUP($B$3&"_"&D70,'[8]CANAL 6'!$A:$R,4,FALSE),"")&IFERROR(VLOOKUP($B$3&"_"&D70,'[9]CANAL 7'!$A:$R,4,FALSE),"")&IFERROR(VLOOKUP($B$3&"_"&D70,'[10]CANAL 8'!$A:$R,4,FALSE),"")&IFERROR(VLOOKUP($B$3&"_"&D70,'[11]CANAL 9'!$A:$R,4,FALSE),"")&IFERROR(VLOOKUP($B$3&"_"&D70,'[12]CANAL 10'!$A:$R,4,FALSE),"")&IFERROR(VLOOKUP($B$3&"_"&D70,'[13]CANAL 11'!$A:$R,4,FALSE),"")&IFERROR(VLOOKUP($B$3&"_"&D70,'[14]CANAL 12'!$A:$R,4,FALSE),"")&IFERROR(VLOOKUP($B$3&"_"&D70,'[15]CANAL 13'!$A:$R,4,FALSE),"")&IFERROR(VLOOKUP($B$3&"_"&D70,'[16]CANAL 14'!$A:$R,4,FALSE),"")&IFERROR(VLOOKUP($B$3&"_"&D70,'[17]CANAL 15'!$A:$R,4,FALSE),"")&IFERROR(VLOOKUP($B$3&"_"&D70,'[18]CANAL 16'!$A:$R,4,FALSE),"") | H70: =IFERROR(VLOOKUP($B$3&"_"&D70,'CANAL 17'!$A:$R,5,FALSE),"")&IFERROR(VLOOKUP($B$3&"_"&D70,'[2]CANAL 18'!$A:$R,5,FALSE),"")&IFERROR(VLOOKUP($B$3&"_"&D70,'[3]CANAL 1'!$A:$R,5,FALSE),"")&IFERROR(VLOOKUP($B$3&"_"&D70,'[4]CANAL 2'!$A:$R,5,FALSE),"")&IFERROR(VLOOKUP($B$3&"_"&D70,'[5]CANAL 3'!$A:$R,5,FALSE),"")&IFERROR(VLOOKUP($B$3&"_"&D70,'[6]CANAL 4'!$A:$R,5,FALSE),"")&IFERROR(VLOOKUP($B$3&"_"&D70,'[7]CANAL 5'!$A:$R,5,FALSE),"")&IFERROR(VLOOKUP($B$3&"_"&D70,'[8]CANAL 6'!$A:$R,5,FALSE),"")&IFERROR(VLOOKUP($B$3&"_"&D70,'[9]CANAL 7'!$A:$R,5,FALSE),"")&IFERROR(VLOOKUP($B$3&"_"&D70,'[10]CANAL 8'!$A:$R,5,FALSE),"")&IFERROR(VLOOKUP($B$3&"_"&D70,'[11]CANAL 9'!$A:$R,5,FALSE),"")&IFERROR(VLOOKUP($B$3&"_"&D70,'[12]CANAL 10'!$A:$R,5,FALSE),"")&IFERROR(VLOOKUP($B$3&"_"&D70,'[13]CANAL 11'!$A:$R,5,FALSE),"")&IFERROR(VLOOKUP($B$3&"_"&D70,'[14]CANAL 12'!$A:$R,5,FALSE),"")&IFERROR(VLOOKUP($B$3&"_"&D70,'[15]CANAL 13'!$A:$R,5,FALSE),"")&IFERROR(VLOOKUP($B$3&"_"&D70,'[16]CANAL 14'!$A:$R,5,FALSE),"")&IFERROR(VLOOKUP($B$3&"_"&D70,'[17]CANAL 15'!$A:$R,5,FALSE),"")&IFERROR(VLOOKUP($B$3&"_"&D70,'[18]CANAL 16'!$A:$R,5,FALSE),"") | I70: =IFERROR(VLOOKUP($B$3&"_"&D70,'CANAL 17'!$A:$R,6,FALSE),"")&IFERROR(VLOOKUP($B$3&"_"&D70,'[2]CANAL 18'!$A:$R,6,FALSE),"")&IFERROR(VLOOKUP($B$3&"_"&D70,'[3]CANAL 1'!$A:$R,6,FALSE),"")&IFERROR(VLOOKUP($B$3&"_"&D70,'[4]CANAL 2'!$A:$R,6,FALSE),"")&IFERROR(VLOOKUP($B$3&"_"&D70,'[5]CANAL 3'!$A:$R,6,FALSE),"")&IFERROR(VLOOKUP($B$3&"_"&D70,'[6]CANAL 4'!$A:$R,6,FALSE),"")&IFERROR(VLOOKUP($B$3&"_"&D70,'[7]CANAL 5'!$A:$R,6,FALSE),"")&IFERROR(VLOOKUP($B$3&"_"&D70,'[8]CANAL 6'!$A:$R,6,FALSE),"")&IFERROR(VLOOKUP($B$3&"_"&D70,'[9]CANAL 7'!$A:$R,6,FALSE),"")&IFERROR(VLOOKUP($B$3&"_"&D70,'[10]CANAL 8'!$A:$R,6,FALSE),"")&IFERROR(VLOOKUP($B$3&"_"&D70,'[11]CANAL 9'!$A:$R,6,FALSE),"")&IFERROR(VLOOKUP($B$3&"_"&D70,'[12]CANAL 10'!$A:$R,6,FALSE),"")&IFERROR(VLOOKUP($B$3&"_"&D70,'[13]CANAL 11'!$A:$R,6,FALSE),"")&IFERROR(VLOOKUP($B$3&"_"&D70,'[14]CANAL 12'!$A:$R,6,FALSE),"")&IFERROR(VLOOKUP($B$3&"_"&D70,'[15]CANAL 13'!$A:$R,6,FALSE),"")&IFERROR(VLOOKUP($B$3&"_"&D70,'[16]CANAL 14'!$A:$R,6,FALSE),"")&IFERROR(VLOOKUP($B$3&"_"&D70,'[17]CANAL 15'!$A:$R,6,FALSE),"")&IFERROR(VLOOKUP($B$3&"_"&D70,'[18]CANAL 16'!$A:$R,6,FALSE),"") | J70: =IFERROR(VLOOKUP($B$3&"_"&D70,'CANAL 17'!$A:$R,7,FALSE),"")&IFERROR(VLOOKUP($B$3&"_"&D70,'[2]CANAL 18'!$A:$R,7,FALSE),"")&IFERROR(VLOOKUP($B$3&"_"&D70,'[3]CANAL 1'!$A:$R,7,FALSE),"")&IFERROR(VLOOKUP($B$3&"_"&D70,'[4]CANAL 2'!$A:$R,7,FALSE),"")&IFERROR(VLOOKUP($B$3&"_"&D70,'[5]CANAL 3'!$A:$R,7,FALSE),"")&IFERROR(VLOOKUP($B$3&"_"&D70,'[6]CANAL 4'!$A:$R,7,FALSE),"")&IFERROR(VLOOKUP($B$3&"_"&D70,'[7]CANAL 5'!$A:$R,7,FALSE),"")&IFERROR(VLOOKUP($B$3&"_"&D70,'[8]CANAL 6'!$A:$R,7,FALSE),"")&IFERROR(VLOOKUP($B$3&"_"&D70,'[9]CANAL 7'!$A:$R,7,FALSE),"")&IFERROR(VLOOKUP($B$3&"_"&D70,'[10]CANAL 8'!$A:$R,7,FALSE),"")&IFERROR(VLOOKUP($B$3&"_"&D70,'[11]CANAL 9'!$A:$R,7,FALSE),"")&IFERROR(VLOOKUP($B$3&"_"&D70,'[12]CANAL 10'!$A:$R,7,FALSE),"")&IFERROR(VLOOKUP($B$3&"_"&D70,'[13]CANAL 11'!$A:$R,7,FALSE),"")&IFERROR(VLOOKUP($B$3&"_"&D70,'[14]CANAL 12'!$A:$R,7,FALSE),"")&IFERROR(VLOOKUP($B$3&"_"&D70,'[15]CANAL 13'!$A:$R,7,FALSE),"")&IFERROR(VLOOKUP($B$3&"_"&D70,'[16]CANAL 14'!$A:$R,7,FALSE),"")&IFERROR(VLOOKUP($B$3&"_"&D70,'[17]CANAL 15'!$A:$R,7,FALSE),"")&IFERROR(VLOOKUP($B$3&"_"&D70,'[18]CANAL 16'!$A:$R,7,FALSE),"") | K70: =IFERROR(VLOOKUP($B$3&"_"&D70,'CANAL 17'!$A:$R,8,FALSE),"")&IFERROR(VLOOKUP($B$3&"_"&D70,'[2]CANAL 18'!$A:$R,8,FALSE),"")&IFERROR(VLOOKUP($B$3&"_"&D70,'[3]CANAL 1'!$A:$R,8,FALSE),"")&IFERROR(VLOOKUP($B$3&"_"&D70,'[4]CANAL 2'!$A:$R,8,FALSE),"")&IFERROR(VLOOKUP($B$3&"_"&D70,'[5]CANAL 3'!$A:$R,8,FALSE),"")&IFERROR(VLOOKUP($B$3&"_"&D70,'[6]CANAL 4'!$A:$R,8,FALSE),"")&IFERROR(VLOOKUP($B$3&"_"&D70,'[7]CANAL 5'!$A:$R,8,FALSE),"")&IFERROR(VLOOKUP($B$3&"_"&D70,'[8]CANAL 6'!$A:$R,8,FALSE),"")&IFERROR(VLOOKUP($B$3&"_"&D70,'[9]CANAL 7'!$A:$R,8,FALSE),"")&IFERROR(VLOOKUP($B$3&"_"&D70,'[10]CANAL 8'!$A:$R,8,FALSE),"")&IFERROR(VLOOKUP($B$3&"_"&D70,'[11]CANAL 9'!$A:$R,8,FALSE),"")&IFERROR(VLOOKUP($B$3&"_"&D70,'[12]CANAL 10'!$A:$R,8,FALSE),"")&IFERROR(VLOOKUP($B$3&"_"&D70,'[13]CANAL 11'!$A:$R,8,FALSE),"")&IFERROR(VLOOKUP($B$3&"_"&D70,'[14]CANAL 12'!$A:$R,8,FALSE),"")&IFERROR(VLOOKUP($B$3&"_"&D70,'[15]CANAL 13'!$A:$R,8,FALSE),"")&IFERROR(VLOOKUP($B$3&"_"&D70,'[16]CANAL 14'!$A:$R,8,FALSE),"")&IFERROR(VLOOKUP($B$3&"_"&D70,'[17]CANAL 15'!$A:$R,8,FALSE),"")&IFERROR(VLOOKUP($B$3&"_"&D70,'[18]CANAL 16'!$A:$R,8,FALSE),"") | L70: =IFERROR(VLOOKUP($B$3&"_"&D70,'CANAL 17'!$A:$R,9,FALSE),"")&IFERROR(VLOOKUP($B$3&"_"&D70,'[2]CANAL 18'!$A:$R,9,FALSE),"")&IFERROR(VLOOKUP($B$3&"_"&D70,'[3]CANAL 1'!$A:$R,9,FALSE),"")&IFERROR(VLOOKUP($B$3&"_"&D70,'[4]CANAL 2'!$A:$R,9,FALSE),"")&IFERROR(VLOOKUP($B$3&"_"&D70,'[5]CANAL 3'!$A:$R,9,FALSE),"")&IFERROR(VLOOKUP($B$3&"_"&D70,'[6]CANAL 4'!$A:$R,9,FALSE),"")&IFERROR(VLOOKUP($B$3&"_"&D70,'[7]CANAL 5'!$A:$R,9,FALSE),"")&IFERROR(VLOOKUP($B$3&"_"&D70,'[8]CANAL 6'!$A:$R,9,FALSE),"")&IFERROR(VLOOKUP($B$3&"_"&D70,'[9]CANAL 7'!$A:$R,9,FALSE),"")&IFERROR(VLOOKUP($B$3&"_"&D70,'[10]CANAL 8'!$A:$R,9,FALSE),"")&IFERROR(VLOOKUP($B$3&"_"&D70,'[11]CANAL 9'!$A:$R,9,FALSE),"")&IFERROR(VLOOKUP($B$3&"_"&D70,'[12]CANAL 10'!$A:$R,9,FALSE),"")&IFERROR(VLOOKUP($B$3&"_"&D70,'[13]CANAL 11'!$A:$R,9,FALSE),"")&IFERROR(VLOOKUP($B$3&"_"&D70,'[14]CANAL 12'!$A:$R,9,FALSE),"")&IFERROR(VLOOKUP($B$3&"_"&D70,'[15]CANAL 13'!$A:$R,9,FALSE),"")&IFERROR(VLOOKUP($B$3&"_"&D70,'[16]CANAL 14'!$A:$R,9,FALSE),"")&IFERROR(VLOOKUP($B$3&"_"&D70,'[17]CANAL 15'!$A:$R,9,FALSE),"")&IFERROR(VLOOKUP($B$3&"_"&D70,'[18]CANAL 16'!$A:$R,9,FALSE),"") | R70: =IFERROR(VLOOKUP($B$3&"_"&D70,'CANAL 17'!$A:$R,15,FALSE),"")&IFERROR(VLOOKUP($B$3&"_"&D70,'[2]CANAL 18'!$A:$R,15,FALSE),"")&IFERROR(VLOOKUP($B$3&"_"&D70,'[3]CANAL 1'!$A:$R,15,FALSE),"")&IFERROR(VLOOKUP($B$3&"_"&D70,'[4]CANAL 2'!$A:$R,15,FALSE),"")&IFERROR(VLOOKUP($B$3&"_"&D70,'[5]CANAL 3'!$A:$R,15,FALSE),"")&IFERROR(VLOOKUP($B$3&"_"&D70,'[6]CANAL 4'!$A:$R,15,FALSE),"")&IFERROR(VLOOKUP($B$3&"_"&D70,'[7]CANAL 5'!$A:$R,15,FALSE),"")&IFERROR(VLOOKUP($B$3&"_"&D70,'[8]CANAL 6'!$A:$R,15,FALSE),"")&IFERROR(VLOOKUP($B$3&"_"&D70,'[9]CANAL 7'!$A:$R,15,FALSE),"")&IFERROR(VLOOKUP($B$3&"_"&D70,'[10]CANAL 8'!$A:$R,15,FALSE),"")&IFERROR(VLOOKUP($B$3&"_"&D70,'[11]CANAL 9'!$A:$R,15,FALSE),"")&IFERROR(VLOOKUP($B$3&"_"&D70,'[12]CANAL 10'!$A:$R,15,FALSE),"")&IFERROR(VLOOKUP($B$3&"_"&D70,'[13]CANAL 11'!$A:$R,15,FALSE),"")&IFERROR(VLOOKUP($B$3&"_"&D70,'[14]CANAL 12'!$A:$R,15,FALSE),"")&IFERROR(VLOOKUP($B$3&"_"&D70,'[15]CANAL 13'!$A:$R,15,FALSE),"")&IFERROR(VLOOKUP($B$3&"_"&D70,'[16]CANAL 14'!$A:$R,15,FALSE),"")&IFERROR(VLOOKUP($B$3&"_"&D70,'[17]CANAL 15'!$A:$R,15,FALSE),"")&IFERROR(VLOOKUP($B$3&"_"&D70,'[18]CANAL 16'!$A:$R,15,FALSE),"")

Sheet CANAL 17
A1: =D1&"_"&COUNTIF($D$1:D1,D1) -> _0 | B1: CHAMPS
A2: =D2&"_"&COUNTIF($D$2:D2,D2) -> lancement_1 | B2: A | C2: n° serie rem | D2: lancement | E2: Rg. | F2: LPR | G2: Client | H2: code | P2: createur | Q2: date | R2: observation | S2: canal 17
A3: =D3&"_"&COUNTIF($D$2:D3,D3) -> 12345_1 | B3: 1 | C3: 1234 | D3: 12345 | E3: 1 | F3: rien | G3: AZERTY | H3: 0 | I3: 0 | J3: 0 | K3: 0 | L3: 0 | M3: 0 | N3: 0 | O3: 0 | P3: moi | Q3: 44615 | R3: rien | S3: 17
A4: =D4&"_"&COUNTIF($D$2:D4,D4) -> 12345_2 | B4: 2 | C4: 1235 | D4: 12345 | E4: 2 | F4: rien | G4: AZERTY | H4: 0 | I4: 0 | J4: 0 | K4: 0 | L4: 0 | M4: 0 | N4: 0 | O4: 1 | P4: moi | Q4: 44616 | R4: rien | S4: 17
A5: =D5&"_"&COUNTIF($D$2:D5,D5) -> 12345_3 | B5: 3 | C5: 1236 | D5: 12345 | E5: 2 | F5: rien | G5: AZERTY | H5: 0 | I5: 0 | J5: 0 | K5: 0 | L5: 0 | M5: 0 | N5: 1 | O5: 0 | P5: moi | Q5: 44617 | R5: rien | S5: 17
A6: =D6&"_"&COUNTIF($D$2:D6,D6) -> 12345_4 | B6: 4 | C6: 1237 | D6: 12345 | E6: 2 | F6: rien | G6: AZERTY | H6: 0 | I6: 0 | J6: 0 | K6: 0 | L6: 0 | M6: 0 | N6: 1 | O6: 1 | P6: moi | Q6: 44618 | R6: rien | S6: 17
A7: =D7&"_"&COUNTIF($D$2:D7,D7) -> _0 | B7: 5 | H7: 0 | I7: 0 | J7: 0 | K7: 0 | L7: 0 | M7: 1 | N7: 0 | O7: 0 | S7: 17
A8: =D8&"_"&COUNTIF($D$2:D8,D8) -> _0 | B8: 6 | H8: 0 | I8: 0 | J8: 0 | K8: 0 | L8: 0 | M8: 1 | N8: 0 | O8: 1 | S8: 17
A9: =D9&"_"&COUNTIF($D$2:D9,D9) -> _0 | B9: 7 | H9: 0 | I9: 0 | J9: 0 | K9: 0 | L9: 0 | M9: 1 | N9: 1 | O9: 0 | S9: 17
A10: =D10&"_"&COUNTIF($D$2:D10,D10) -> _0 | B10: 8 | H10: 0 | I10: 0 | J10: 0 | K10: 0 | L10: 0 | M10: 1 | N10: 1 | O10: 1 | S10: 17
A11: =D11&"_"&COUNTIF($D$2:D11,D11) -> _0 | B11: 9 | H11: 0 | I11: 0 | J11: 0 | K11: 0 | L11: 1 | M11: 0 | N11: 0 | O11: 0 | S11: 17
A12: =D12&"_"&COUNTIF($D$2:D12,D12) -> _0 | B12: 10 | H12: 0 | I12: 0 | J12: 0 | K12: 0 | L12: 1 | M12: 0 | N12: 0 | O12: 1 | S12: 17
A13: =D13&"_"&COUNTIF($D$2:D13,D13) -> _0 | B13: 11 | H13: 0 | I13: 0 | J13: 0 | K13: 0 | L13: 1 | M13: 0 | N13: 1 | O13: 0 | S13: 17
A14: =D14&"_"&COUNTIF($D$2:D14,D14) -> _0 | B14: 12 | H14: 0 | I14: 0 | J14: 0 | K14: 0 | L14: 1 | M14: 0 | N14: 1 | O14: 1 | S14: 17
A15: =D15&"_"&COUNTIF($D$2:D15,D15) -> _0 | B15: 13 | H15: 0 | I15: 0 | J15: 0 | K15: 0 | L15: 1 | M15: 1 | N15: 0 | O15: 0 | S15: 17
A16: =D16&"_"&COUNTIF($D$2:D16,D16) -> _0 | B16: 14 | H16: 0 | I16: 0 | J16: 0 | K16: 0 | L16: 1 | M16: 1 | N16: 0 | O16: 1 | S16: 17
A17: =D17&"_"&COUNTIF($D$2:D17,D17) -> _0 | B17: 15 | H17: 0 | I17: 0 | J17: 0 | K17: 0 | L17: 1 | M17: 1 | N17: 1 | O17: 0 | S17: 17
A18: =D18&"_"&COUNTIF($D$2:D18,D18) -> _0 | B18: 16 | H18: 0 | I18: 0 | J18: 0 | K18: 0 | L18: 1 | M18: 1 | N18: 1 | O18: 1 | S18: 17
... A43: =D43&"_"&COUNTIF($D$2:D43,D43) -> _0 | B43: 41 | H43: 0 | I43: 0 | J43: 1 | K43: 0 | L43: 1 | M43: 0 | N43: 0 | O43: 0 | S43: 17
A44: =D44&"_"&COUNTIF($D$2:D44,D44) -> _0 | B44: B | H44: code | S44: 17
A45: =D45&"_"&COUNTIF($D$2:D45,D45) -> _0 | B45: 42 | H45: 0 | I45: 0 | J45: 1 | K45: 0 | L45: 1 | M45: 0 | N45: 0 | O45: 1 | S45: 17
A46: =D46&"_"&COUNTIF($D$2:D46,D46) -> _0 | B46: 43 | H46: 0 | I46: 0 | J46: 1 | K46: 0 | L46: 1 | M46: 0 | N46: 1 | O46: 0 | S46: 17
A47: =D47&"_"&COUNTIF($D$2:D47,D47) -> _0 | B47: 44 | H47: 0 | I47: 0 | J47: 1 | K47: 0 | L47: 1 | M47: 0 | N47: 1 | O47: 1 | S47: 17
A48: =D48&"_"&COUNTIF($D$2:D48,D48) -> _0 | B48: 45 | H48: 0 | I48: 0 | J48: 1 | K48: 0 | L48: 1 | M48: 1 | N48: 0 | O48: 0 | S48: 17
A49: =D49&"_"&COUNTIF($D$2:D49,D49) -> _0 | B49: 46 | H49: 0 | I49: 0 | J49: 1 | K49: 0 | L49: 1 | M49: 1 | N49: 0 | O49: 1 | S49: 17
A50: =D50&"_"&COUNTIF($D$2:D50,D50) -> _0 | B50: 47 | H50: 0 | I50: 0 | J50: 1 | K50: 0 | L50: 1 | M50: 1 | N50: 1 | O50: 0 | S50: 17
A51: =D51&"_"&COUNTIF($D$2:D51,D51) -> _0 | B51: 48 | H51: 0 | I51: 0 | J51: 1 | K51: 0 | L51: 1 | M51: 1 | N51: 1 | O51: 1 | S51: 17
A52: =D52&"_"&COUNTIF($D$2:D52,D52) -> _0 | B52: 49 | H52: 0 | I52: 0 | J52: 1 | K52: 1 | L52: 0 | M52: 0 | N52: 0 | O52: 0 | S52: 17
A53: =D53&"_"&COUNTIF($D$2:D53,D53) -> _0 | B53: 50 | H53: 0 | I53: 0 | J53: 1 | K53: 1 | L53: 0 | M53: 0 | N53: 0 | O53: 1 | S53: 17
A54: =D54&"_"&COUNTIF($D$2:D54,D54) -> _0 | B54: 51 | H54: 0 | I54: 0 | J54: 1 | K54: 1 | L54: 0 | M54: 0 | N54: 1 | O54: 0 | S54: 17
A55: =D55&"_"&COUNTIF($D$2:D55,D55) -> _0 | B55: 52 | H55: 0 | I55: 0 | J55: 1 | K55: 1 | L55: 0 | M55: 0 | N55: 1 | O55: 1 | S55: 17
A56: =D56&"_"&COUNTIF($D$2:D56,D56) -> _0 | B56: 53 | H56: 0 | I56: 0 | J56: 1 | K56: 1 | L56: 0 | M56: 1 | N56: 0 | O56: 0 | S56: 17
... A66: =D66&"_"&COUNTIF($D$2:D66,D66) -> _0 | B66: 63 | H66: 0 | I66: 0 | J66: 1 | K66: 1 | L66: 1 | M66: 1 | N66: 1 | O66: 0 | S66: 17
A67: =D67&"_"&COUNTIF($D$2:D67,D67) -> _0 | H67: 0 | I67: 0 | J67: 1 | K67: 1 | L67: 1 | M67: 1 | N67: 1 | O67: 0 | S67: 17
A68: =D68&"_"&COUNTIF($D$2:D68,D68) -> _0 | B68: 64 | H68: 0 | I68: 0 | J68: 1 | K68: 1 | L68: 1 | M68: 1 | N68: 1 | O68: 1 | S68: 17
A69: =D69&"_"&COUNTIF($D$2:D69,D69) -> _0 | B69: 65 | H69: 0 | I69: 1 | J69: 0 | K69: 0 | L69: 0 | M69: 0 | N69: 0 | O69: 0 | S69: 17
A70: =D70&"_"&COUNTIF($D$2:D70,D70) -> _0 | B70: 66 | H70: 0 | I70: 1 | J70: 0 | K70: 0 | L70: 0 | M70: 0 | N70: 0 | O70: 1 | S70: 17
A71: =D71&"_"&COUNTIF($D$2:D71,D71) -> _0 | B71: 67 | H71: 0 | I71: 1 | J71: 0 | K71: 0 | L71: 0 | M71: 0 | N71: 1 | O71: 0 | S71: 17
A72: =D72&"_"&COUNTIF($D$2:D72,D72) -> _0 | B72: 68 | H72: 0 | I72: 1 | J72: 0 | K72: 0 | L72: 0 | M72: 0 | N72: 1 | O72: 1 | S72: 17
A73: =D73&"_"&COUNTIF($D$2:D73,D73) -> _0 | B73: 69 | H73: 0 | I73: 1 | J73: 0 | K73: 0 | L73: 0 | M73: 1 | N73: 0 | O73: 0 | S73: 17
A74: =D74&"_"&COUNTIF($D$2:D74,D74) -> _0 | B74: 70 | H74: 0 | I74: 1 | J74: 0 | K74: 0 | L74: 0 | M74: 1 | N74: 0 | O74: 1 | S74: 17
A75: =D75&"_"&COUNTIF($D$2:D75,D75) -> _0 | B75: 71 | H75: 0 | I75: 1 | J75: 0 | K75: 0 | L75: 0 | M75: 1 | N75: 1 | O75: 0 | S75: 17
A76: =D76&"_"&COUNTIF($D$2:D76,D76) -> _0 | B76: 72 | H76: 0 | I76: 1 | J76: 0 | K76: 0 | L76: 0 | M76: 1 | N76: 1 | O76: 1 | S76: 17
A77: =D77&"_"&COUNTIF($D$2:D77,D77) -> _0 | B77: 73 | H77: 0 | I77: 1 | J77: 0 | K77: 0 | L77: 1 | M77: 0 | N77: 0 | O77: 0 | S77: 17
A78: =D78&"_"&COUNTIF($D$2:D78,D78) -> _0 | B78: 74 | H78: 0 | I78: 1 | J78: 0 | K78: 0 | L78: 1 | M78: 0 | N78: 0 | O78: 1 | S78: 17
A79: =D79&"_"&COUNTIF($D$2:D79,D79) -> _0 | B79: 75 | H79: 0 | I79: 1 | J79: 0 | K79: 0 | L79: 1 | M79: 0 | N79: 1 | O79: 0 | S79: 17
... A86: =D86&"_"&COUNTIF($D$2:D86,D86) -> _0 | B86: 82 | H86: 0 | I86: 1 | J86: 0 | K86: 1 | L86: 0 | M86: 0 | N86: 0 | O86: 1 | S86: 17
A87: =D87&"_"&COUNTIF($D$2:D87,D87) -> _0 | B87: C | H87: code | S87: 17
A88: =D88&"_"&COUNTIF($D$2:D88,D88) -> _0 | B88: 83 | H88: 0 | I88: 1 | J88: 0 | K88: 1 | L88: 0 | M88: 0 | N88: 1 | O88: 0 | S88: 17
A89: =D89&"_"&COUNTIF($D$2:D89,D89) -> _0 | B89: 84 | H89: 0 | I89: 1 | J89: 0 | K89: 1 | L89: 0 | M89: 0 | N89: 1 | O89: 1 | S89: 17
A90: =D90&"_"&COUNTIF($D$2:D90,D90) -> _0 | B90: 85 | H90: 0 | I90: 1 | J90: 0 | K90: 1 | L90: 0 | M90: 1 | N90: 0 | O90: 0 | S90: 17
A91: =D91&"_"&COUNTIF($D$2:D91,D91) -> _0 | B91: 86 | H91: 0 | I91: 1 | J91: 0 | K91: 1 | L91: 0 | M91: 1 | N91: 0 | O91: 1 | S91: 17
A92: =D92&"_"&COUNTIF($D$2:D92,D92) -> _0 | B92: 87 | H92: 0 | I92: 1 | J92: 0 | K92: 1 | L92: 0 | M92: 1 | N92: 1 | O92: 0 | S92: 17
A93: =D93&"_"&COUNTIF($D$2:D93,D93) -> _0 | B93: 88 | H93: 0 | I93: 1 | J93: 0 | K93: 1 | L93: 0 | M93: 1 | N93: 1 | O93: 1 | S93: 17
A94: =D94&"_"&COUNTIF($D$2:D94,D94) -> _0 | B94: 89 | H94: 0 | I94: 1 | J94: 0 | K94: 1 | L94: 1 | M94: 0 | N94: 0 | O94: 0 | S94: 17
A95: =D95&"_"&COUNTIF($D$2:D95,D95) -> _0 | B95: 90 | H95: 0 | I95: 1 | J95: 0 | K95: 1 | L95: 1 | M95: 0 | N95: 0 | O95: 1 | S95: 17
A96: =D96&"_"&COUNTIF($D$2:D96,D96) -> _0 | B96: 91 | H96: 0 | I96: 1 | J96: 0 | K96: 1 | L96: 1 | M96: 0 | N96: 1 | O96: 0 | S96: 17
A97: =D97&"_"&COUNTIF($D$2:D97,D97) -> _0 | B97: 92 | H97: 0 | I97: 1 | J97: 0 | K97: 1 | L97: 1 | M97: 0 | N97: 1 | O97: 1 | S97: 17
A98: =D98&"_"&COUNTIF($D$2:D98,D98) -> _0 | B98: 93 | H98: 0 | I98: 1 | J98: 0 | K98: 1 | L98: 1 | M98: 1 | N98: 0 | O98: 0 | S98: 17
A99: =D99&"_"&COUNTIF($D$2:D99,D99) -> _0 | B99: 94 | H99: 0 | I99: 1 | J99: 0 | K99: 1 | L99: 1 | M99: 1 | N99: 0 | O99: 1 | S99: 17
... A128: =D128&"_"&COUNTIF($D$2:D128,D128) -> _0 | B128: 123 | H128: 0 | I128: 1 | J128: 1 | K128: 1 | L128: 1 | M128: 0 | N128: 1 | O128: 0 | S128: 17
A129: =D129&"_"&COUNTIF($D$2:D129,D129) -> _0 | B129: D | H129: code | S129: 17
A130: =D130&"_"&COUNTIF($D$2:D130,D130) -> _0 | B130: 124 | H130: 0 | I130: 1 | J130: 1 | K130: 1 | L130: 1 | M130: 0 | N130: 1 | O130: 1 | S130: 17
A131: =D131&"_"&COUNTIF($D$2:D131,D131) -> _0 | B131: 125 | H131: 0 | I131: 1 | J131: 1 | K131: 1 | L131: 1 | M131: 1 | N131: 0 | O131: 1 | S131: 17
A132: =D132&"_"&COUNTIF($D$2:D132,D132) -> _0 | B132: 126 | H132: 0 | I132: 1 | J132: 1 | K132: 1 | L132: 1 | M132: 1 | N132: 1 | O132: 0 | S132: 17
A133: =D133&"_"&COUNTIF($D$2:D133,D133) -> _0 | B133: 127 | H133: 0 | I133: 1 | J133: 1 | K133: 1 | L133: 1 | M133: 1 | N133: 1 | O133: 1 | S133: 17
A134: =D134&"_"&COUNTIF($D$2:D134,D134) -> _0 | B134: 128 | H134: 1 | I134: 0 | J134: 0 | K134: 0 | L134: 0 | M134: 0 | N134: 0 | O134: 0 | S134: 17
A135: =D135&"_"&COUNTIF($D$2:D135,D135) -> _0 | B135: 129 | H135: 1 | I135: 0 | J135: 0 | K135: 0 | L135: 0 | M135: 0 | N135: 0 | O135: 1 | S135: 17
A136: =D136&"_"&COUNTIF($D$2:D136,D136) -> _0 | B136: 130 | H136: 1 | I136: 0 | J136: 0 | K136: 0 | L136: 0 | M136: 0 | N136: 1 | O136: 0 | S136: 17
A137: =D137&"_"&COUNTIF($D$2:D137,D137) -> _0 | B137: 131 | H137: 1 | I137: 0 | J137: 0 | K137: 0 | L137: 0 | M137: 0 | N137: 1 | O137: 1 | S137: 17
A138: =D138&"_"&COUNTIF($D$2:D138,D138) -> _0 | B138: 132 | H138: 1 | I138: 0 | J138: 0 | K138: 0 | L138: 0 | M138: 1 | N138: 0 | O138: 0 | S138: 17
A139: =D139&"_"&COUNTIF($D$2:D139,D139) -> _0 | B139: 133 | H139: 1 | I139: 0 | J139: 0 | K139: 0 | L139: 0 | M139: 1 | N139: 0 | O139: 1 | S139: 17
A140: =D140&"_"&COUNTIF($D$2:D140,D140) -> _0 | B140: 134 | H140: 1 | I140: 0 | J140: 0 | K140: 0 | L140: 0 | M140: 1 | N140: 1 | O140: 0 | S140: 17
A141: =D141&"_"&COUNTIF($D$2:D141,D141) -> _0 | B141: 135 | H141: 1 | I141: 0 | J141: 0 | K141: 0 | L141: 0 | M141: 1 | N141: 1 | O141: 1 | S141: 17
... A170: =D170&"_"&COUNTIF($D$2:D170,D170) -> _0 | B170: 164 | H170: 1 | I170: 0 | J170: 1 | K170: 0 | L170: 0 | M170: 1 | N170: 0 | O170: 0 | S170: 17
A171: =D171&"_"&COUNTIF($D$2:D171,D171) -> _0 | B171: E | H171: code | S171: 17
A172: =D172&"_"&COUNTIF($D$2:D172,D172) -> _0 | B172: 165 | H172: 1 | I172: 0 | J172: 1 | K172: 0 | L172: 0 | M172: 1 | N172: 0 | O172: 1 | S172: 17
A173: =D173&"_"&COUNTIF($D$2:D173,D173) -> _0 | B173: 166 | H173: 1 | I173: 0 | J173: 1 | K173: 0 | L173: 0 | M173: 1 | N173: 1 | O173: 0 | S173: 17
A174: =D174&"_"&COUNTIF($D$2:D174,D174) -> _0 | B174: 167 | H174: 1 | I174: 0 | J174: 1 | K174: 0 | L174: 0 | M174: 1 | N174: 1 | O174: 1 | S174: 17
A175: =D175&"_"&COUNTIF($D$2:D175,D175) -> _0 | B175: 168 | H175: 1 | I175: 0 | J175: 1 | K175: 0 | L175: 1 | M175: 0 | N175: 0 | O175: 0 | S175: 17
A176: =D176&"_"&COUNTIF($D$2:D176,D176) -> _0 | H176: 1 | I176: 0 | J176: 1 | K176: 0 | L176: 1 | M176: 0 | N176: 0 | O176: 0 | S176: 17
A177: =D177&"_"&COUNTIF($D$2:D177,D177) -> _0 | B177: 169 | H177: 1 | I177: 0 | J177: 1 | K177: 0 | L177: 1 | M177: 0 | N177: 0 | O177: 1 | S177: 17
A178: =D178&"_"&COUNTIF($D$2:D178,D178) -> _0 | H178: 1 | I178: 0 | J178: 1 | K178: 0 | L178: 1 | M178: 0 | N178: 0 | O178: 1 | S178: 17
A179: =D179&"_"&COUNTIF($D$2:D179,D179) -> _0 | B179: 170 | H179: 1 | I179: 0 | J179: 1 | K179: 0 | L179: 1 | M179: 0 | N179: 1 | O179: 0 | S179: 17
A180: =D180&"_"&COUNTIF($D$2:D180,D180) -> _0 | H180: 1 | I180: 0 | J180: 1 | K180: 0 | L180: 1 | M180: 0 | N180: 1 | O180: 0 | S180: 17
A181: =D181&"_"&COUNTIF($D$2:D181,D181) -> _0 | B181: 171 | H181: 1 | I181: 0 | J181: 1 | K181: 0 | L181: 1 | M181: 0 | N181: 1 | O181: 1 | S181: 17
A182: =D182&"_"&COUNTIF($D$2:D182,D182) -> _0 | H182: 1 | I182: 0 | J182: 1 | K182: 0 | L182: 1 | M182: 0 | N182: 1 | O182: 1 | S182: 17
A183: =D183&"_"&COUNTIF($D$2:D183,D183) -> _0 | B183: 172 | H183: 1 | I183: 0 | J183: 1 | K183: 0 | L183: 1 | M183: 1 | N183: 0 | O183: 0 | S183: 17
A184: =D184&"_"&COUNTIF($D$2:D184,D184) -> _0 | B184: 173 | H184: 1 | I184: 0 | J184: 1 | K184: 0 | L184: 1 | M184: 1 | N184: 0 | O184: 1 | S184: 17
A185: =D185&"_"&COUNTIF($D$2:D185,D185) -> _0 | B185: 174 | H185: 1 | I185: 0 | J185: 1 | K185: 0 | L185: 1 | M185: 1 | N185: 1 | O185: 0 | S185: 17
A186: =D186&"_"&COUNTIF($D$2:D186,D186) -> _0 | B186: 175 | H186: 1 | I186: 0 | J186: 1 | K186: 0 | L186: 1 | M186: 1 | N186: 1 | O186: 1 | S186: 17
A187: =D187&"_"&COUNTIF($D$2:D187,D187) -> _0 | B187: 176 | H187: 1 | I187: 0 | J187: 1 | K187: 1 | L187: 0 | M187: 0 | N187: 0 | O187: 0 | S187: 17
A188: =D188&"_"&COUNTIF($D$2:D188,D188) -> _0 | H188: 1 | I188: 0 | J188: 1 | K188: 1 | L188: 0 | M188: 0 | N188: 0 | O188: 0 | S188: 17
A189: =D189&"_"&COUNTIF($D$2:D189,D189) -> _0 | B189: 177 | H189: 1 | I189: 0 | J189: 1 | K189: 1 | L189: 0 | M189: 0 | N189: 0 | O189: 1 | S189: 17
A190: =D190&"_"&COUNTIF($D$2:D190,D190) -> _0 | B190: 178 | H190: 1 | I190: 0 | J190: 1 | K190: 1 | L190: 0 | M190: 0 | N190: 1 | O190: 0 | S190: 17
A191: =D191&"_"&COUNTIF($D$2:D191,D191) -> _0 | B191: 179 | H191: 1 | I191: 0 | J191: 1 | K191: 1 | L191: 0 | M191: 0 | N191: 1 | O191: 1 | S191: 17
A192: =D192&"_"&COUNTIF($D$2:D192,D192) -> _0 | B192: 180 | H192: 1 | I192: 0 | J192: 1 | K192: 1 | L192: 0 | M192: 1 | N192: 0 | O192: 0 | S192: 17
A193: =D193&"_"&COUNTIF($D$2:D193,D193) -> _0 | B193: 181 | H193: 1 | I193: 0 | J193: 1 | K193: 1 | L193: 0 | M193: 1 | N193: 0 | O193: 1 | S193: 17
A194: =D194&"_"&COUNTIF($D$2:D194,D194) -> _0 | B194: 182 | H194: 1 | I194: 0 | J194: 1 | K194: 1 | L194: 0 | M194: 1 | N194: 1 | O194: 0 | S194: 17
A195: =D195&"_"&COUNTIF($D$2:D195,D195) -> _0 | B195: 183 | H195: 1 | I195: 0 | J195: 1 | K195: 1 | L195: 0 | M195: 1 | N195: 1 | O195: 1 | S195: 17
...

Sheet Feuil1
