Workbook

Sheet Recherche
B2: N°lancement
A3: Recherche | B3: 12345 | E3: Recherche uniquement de Canal 1 à 18. Les autres onglets ne sont pas pris en charge
A4: Rang | B4: 1
D8: Numero unique | E8: Ligne | F8: n° serie rem | G8: lancement | H8: Rg. | I8: LPR | J8: Client | K8: code | S8: createur | T8: date | U8: observation | V8: Canal
D9: 1 | E9: =IFERROR(VLOOKUP($B$3&"_"&D9,'CANAL 17'!$A:$R,2,FALSE),"")&IFERROR(VLOOKUP($B$3&"_"&D9,'[2]CANAL 18'!$A:$R,2,FALSE),"")&IFERROR(VLOOKUP($B$3&"_"&D9,'[3]CANAL 1'!A:R,2,FALSE),"")&IFERROR(VLOOKUP($B$3&"_"&D9,'[4]CANAL 2'!A:R,2,FALSE),"")&IFERROR(VLOOKUP($B$3&"_"&D9,'[5]CANAL 3'!A:R,2,FALSE),"")&IFERROR(VLOOKUP($B$3&"_"&D9,'[6]CANAL 4'!A:R,2,FALSE),"")&IFERROR(VLOOKUP($B$3&"_"&D9,'[7]CANAL 5'!A:R,2,FALSE),"")&IFERROR(VLOOKUP($B$3&"_"&D9,'[8]CANAL 6'!A:R,2,FALSE),"")&IFERROR(VLOOKUP($B$3&"_"&D9,'[9]CANAL 7'!A:R,2,FALSE),"")&IFERROR(VLOOKUP($B$3&"_"&D9,'[10]CANAL 8'!A:R,2,FALSE),"")&IFERROR(VLOOKUP($B$3&"_"&D9,'[11]CANAL 9'!A:R,2,FALSE),"")&IFERROR(VLOOKUP($B$3&"_"&D9,'[12]CANAL 10'!A:R,2,FALSE),"")&IFERROR(VLOOKUP($B$3&"_"&D9,'[13]CANAL 11'!A:R,2,FALSE),"")&IFERROR(VLOOKUP($B$3&"_"&D9,'[14]CANAL 12'!A:R,2,FALSE),"")&IFERROR(VLOOKUP($B$3&"_"&D9,'[15]CANAL 13'!A:R,2,FALSE),"")&IFERROR(VLOOKUP($B$3&"_"&D9,'[16]CANAL 14'!A:R,2,FALSE),"")&IFERROR(VLOOKUP($B$3&"_"&D9,'[17]CANAL 15'!A:R,2,FALSE),"")&IFERROR(VLOOKUP($B$3&"_"&D9,'[18]CANAL 16'!A:R,2,FALSE),"") -> 1 | F9: =IFERROR(VLOOKUP($B$3&"_"&D9,'CANAL 17'!$A:$R,3,FALSE),"")&IFERROR(VLOOKUP($B$3&"_"&D9,'[2]CANAL 18'!$A:$R,3,FALSE),"")&IFERROR(VLOOKUP($B$3&"_"&D9,'[3]CANAL 1'!$A:$R,3,FALSE),"")&IFERROR(VLOOKUP($B$3&"_"&D9,'[4]CANAL 2'!$A:$R,3,FALSE),"")&IFERROR(VLOOKUP($B$3&"_"&D9,'[5]CANAL 3'!$A:$R,3,FALSE),"")&IFERROR(VLOOKUP($B$3&"_"&D9,'[6]CANAL 4'!$A:$R,3,FALSE),"")&IFERROR(VLOOKUP($B$3&"_"&D9,'[7]CANAL 5'!$A:$R,3,FALSE),"")&IFERROR(VLOOKUP($B$3&"_"&D9,'[8]CANAL 6'!$A:$R,3,FALSE),"")&IFERROR(VLOOKUP($B$3&"_"&D9,'[9]CANAL 7'!$A:$R,3,FALSE),"")&IFERROR(VLOOKUP($B$3&"_"&D9,'[10]CANAL 8'!$A:$R,3,FALSE),"")&IFERROR(VLOOKUP($B$3&"_"&D9,'[11]CANAL 9'!$A:$R,3,FALSE),"")&IFERROR(VLOOKUP($B$3&"_"&D9,'[12]CANAL 10'!$A:$R,3,FALSE),"")&IFERROR(VLOOKUP($B$3&"_"&D9,'[13]CANAL 11'!$A:$R,3,FALSE),"")&IFERROR(VLOOKUP($B$3&"_"&D9,'[14]CANAL 12'!$A:$R,3,FALSE),"")&IFERROR(VLOOKUP($B$3&"_"&D9,'[15]CANAL 13'!$A:$R,3,FALSE),"")&IFERROR(VLOOKUP($B$3&"_"&D9,'[16]CANAL 14'!$A:$R,3,FALSE),"")&IFERROR(VLOOKUP($B$3&"_"&D9,'[17]CANAL 15'!$A:$R,3,FALSE),"")&IFERROR(VLOOKUP($B$3&"_"&D9,'[18]CANAL 16'!$A:$R,3,FALSE),"") -> 1234 | G9: =IFERROR(VLOOKUP($B$3&"_"&D9,'CANAL 17'!$A:$R,4,FALSE),"")&IFERROR(VLOOKUP($B$3&"_"&D9,'[2]CANAL 18'!$A:$R,4,FALSE),"")&IFERROR(VLOOKUP($B$3&"_"&D9,'[3]CANAL 1'!$A:$R,4,FALSE),"")&IFERROR(VLOOKUP($B$3&"_"&D9,'[4]CANAL 2'!$A:$R,4,FALSE),"")&IFERROR(VLOOKUP($B$3&"_"&D9,'[5]CANAL 3'!$A:$R,4,FALSE),"")&IFERROR(VLOOKUP($B$3&"_"&D9,'[6]CANAL 4'!$A:$R,4,FALSE),"")&IFERROR(VLOOKUP($B$3&"_"&D9,'[7]CANAL 5'!$A:$R,4,FALSE),"")&IFERROR(VLOOKUP($B$3&"_"&D9,'[8]CANAL 6'!$A:$R,4,FALSE),"")&IFERROR(VLOOKUP($B$3&"_"&D9,'[9]CANAL 7'!$A:$R,4,FALSE),"")&IFERROR(VLOOKUP($B$3&"_"&D9,'[10]CANAL 8'!$A:$R,4,FALSE),"")&IFERROR(VLOOKUP($B$3&"_"&D9,'[11]CANAL 9'!$A:$R,4,FALSE),"")&IFERROR(VLOOKUP($B$3&"_"&D9,'[12]CANAL 10'!$A:$R,4,FALSE),"")&IFERROR(VLOOKUP($B$3&"_"&D9,'[13]CANAL 11'!$A:$R,4,FALSE),"")&IFERROR(VLOOKUP($B$3&"_"&D9,'[14]CANAL 12'!$A:$R,4,FALSE),"")&IFERROR(VLOOKUP($B$3&"_"&D9,'[15]CANAL 13'!$A:$R,4,FALSE),"")&IFERROR(VLOOKUP($B$3&"_"&D9,'[16]CANAL 14'!$A:$R,4,FALSE),"")&IFERROR(VLOOKUP($B$3&"_"&D9,'[17]CANAL 15'!$A:$R,4,FALSE),"")&IFERROR(VLOOKUP($B$3&"_"&D9,'[18]CANAL 16'!$A:$R,4,FALSE),"") -> 12345 | H9: =IFERROR(VLOOKUP($B$3&"_"&D9,'CANAL 17'!$A:$R,5,FALSE),"")&IFERROR(VLOOKUP($B$3&"_"&D9,'[2]CANAL 18'!$A:$R,5,FALSE),"")&IFERROR(VLOOKUP($B$3&"_"&D9,'[3]CANAL 1'!$A:$R,5,FALSE),"")&IFERROR(VLOOKUP($B$3&"_"&D9,'[4]CANAL 2'!$A:$R,5,FALSE),"")&IFERROR(VLOOKUP($B$3&"_"&D9,'[5]CANAL 3'!$A:$R,5,FALSE),"")&IFERROR(VLOOKUP($B$3&"_"&D9,'[6]CANAL 4'!$A:$R,5,FALSE),"")&IFERROR(VLOOKUP($B$3&"_"&D9,'[7]CANAL 5'!$A:$R,5,FALSE),"")&IFERROR(VLOOKUP($B$3&"_"&D9,'[8]CANAL 6'!$A:$R,5,FALSE),"")&IFERROR(VLOOKUP($B$3&"_"&D9,'[9]CANAL 7'!$A:$R,5,FALSE),"")&IFERROR(VLOOKUP($B$3&"_"&D9,'[10]CANAL 8'!$A:$R,5,FALSE),"")&IFERROR(VLOOKUP($B$3&"_"&D9,'[11]CANAL 9'!$A:$R,5,FALSE),"")&IFERROR(VLOOKUP($B$3&"_"&D9,'[12]CANAL 10'!$A:$R,5,FALSE),"")&IFERROR(VLOOKUP($B$3&"_"&D9,'[13]CANAL 11'!$A:$R,5,FALSE),"")&IFERROR(VLOOKUP($B$3&"_"&D9,'[14]CANAL 12'!$A:$R,5,FALSE),"")&IFERROR(VLOOKUP($B$3&"_"&D9,'[15]CANAL 13'!$A:$R,5,FALSE),"")&IFERROR(VLOOKUP($B$3&"_"&D9,'[16]CANAL 14'!$A:$R,5,FALSE),"")&IFERROR(VLOOKUP($B$3&"_"&D9,'[17]CANAL 15'!$A:$R,5,FALSE),"")&IFERROR(VLOOKUP($B$3&"_"&D9,'[18]CANAL 16'!$A:$R,5,FALSE),"") -> 1 | I9: =IFERROR(VLOOKUP($B$3&"_"&D9,'CANAL 17'!$A:$R,6,FALSE),"")&IFERROR(VLOOKUP($B$3&"_"&D9,'[2]CANAL 18'!$A:$R,6,FALSE),"")&IFERROR(VLOOKUP($B$3&"_"&D9,'[3]CANAL 1'!$A:$R,6,FALSE),"")&IFERROR(VLOOKUP($B$3&"_"&D9,'[4]CANAL 2'!$A:$R,6,FALSE),"")&IFERROR(VLOOKUP($B$3&"_"&D9,'[5]CANAL 3'!$A:$R,6,FALSE),"")&IFERROR(VLOOKUP($B$3&"_"&D9,'[6]CANAL 4'!$A:$R,6,FALSE),"")&IFERROR(VLOOKUP($B$3&"_"&D9,'[7]CANAL 5'!$A:$R,6,FALSE),"")&IFERROR(VLOOKUP($B$3&"_"&D9,'[8]CANAL 6'!$A:$R,6,FALSE),"")&IFERROR(VLOOKUP($B$3&"_"&D9,'[9]CANAL 7'!$A:$R,6,FALSE),"")&IFERROR(VLOOKUP($B$3&"_"&D9,'[10]CANAL 8'!$A:$R,6,FALSE),"")&IFERROR(VLOOKUP($B$3&"_"&D9,'[11]CANAL 9'!$A:$R,6,FALSE),"")&IFERROR(VLOOKUP($B$3&"_"&D9,'[12]CANAL 10'!$A:$R,6,FALSE),"")&IFERROR(VLOOKUP($B$3&"_"&D9,'[13]CANAL 11'!$A:$R,6,FALSE),"")&IFERROR(VLOOKUP($B$3&"_"&D9,'[14]CANAL 12'!$A:$R,6,FALSE),"")&IFERROR(VLOOKUP($B$3&"_"&D9,'[15]CANAL 13'!$A:$R,6,FALSE),"")&IFERROR(VLOOKUP($B$3&"_"&D9,'[16]CANAL 14'!$A:$R,6,FALSE),"")&IFERROR(VLOOKUP($B$3&"_"&D9,'[17]CANAL 15'!$A:$R,6,FALSE),"")&IFERROR(VLOOKUP($B$3&"_"&D9,'[18]CANAL 16'!$A:$R,6,FALSE),"") -> rien | J9: =IFERROR(VLOOKUP($B$3&"_"&D9,'CANAL 17'!$A:$R,7,FALSE),"")&IFERROR(VLOOKUP($B$3&"_"&D9,'[2]CANAL 18'!$A:$R,7,FALSE),"")&IFERROR(VLOOKUP($B$3&"_"&D9,'[3]CANAL 1'!$A:$R,7,FALSE),"")&IFERROR(VLOOKUP($B$3&"_"&D9,'[4]CANAL 2'!$A:$R,7,FALSE),"")&IFERROR(VLOOKUP($B$3&"_"&D9,'[5]CANAL 3'!$A:$R,7,FALSE),"")&IFERROR(VLOOKUP($B$3&"_"&D9,'[6]CANAL 4'!$A:$R,7,FALSE),"")&IFERROR(VLOOKUP($B$3&"_"&D9,'[7]CANAL 5'!$A:$R,7,FALSE),"")&IFERROR(VLOOKUP($B$3&"_"&D9,'[8]CANAL 6'!$A:$R,7,FALSE),"")&IFERROR(VLOOKUP($B$3&"_"&D9,'[9]CANAL 7'!$A:$R,7,FALSE),"")&IFERROR(VLOOKUP($B$3&"_"&D9,'[10]CANAL 8'!$A:$R,7,FALSE),"")&IFERROR(VLOOKUP($B$3&"_"&D9,'[11]CANAL 9'!$A:$R,7,FALSE),"")&IFERROR(VLOOKUP($B$3&"_"&D9,'[12]CANAL 10'!$A:$R,7,FALSE),"")&IFERROR(VLOOKUP($B$3&"_"&D9,'[13]CANAL 11'!$A:$R,7,FALSE),"")&IFERROR(VLOOKUP($B$3&"_"&D9,'[14]CANAL 12'!$A:$R,7,FALSE),"")&IFERROR(VLOOKUP($B$3&"_"&D9,'[15]CANAL 13'!$A:$R,7,FALSE),"")&IFERROR(VLOOKUP($B$3&"_"&D9,'[16]CANAL 14'!$A:$R,7,FALSE),"")&IFERROR(VLOOKUP($B$3&"_"&D9,'[17]CANAL 15'!$A:$R,7,FALSE),"")&IFERROR(VLOOKUP($B$3&"_"&D9,'[18]CANAL 16'!$A:$R,7,FALSE),"") -> AZERTY | K9: =IFERROR(VLOOKUP($B$3&"_"&D9,'CANAL 17'!$A:$R,8,FALSE),"")&IFERROR(VLOOKUP($B$3&"_"&D9,'[2]CANAL 18'!$A:$R,8,FALSE),"")&IFERROR(VLOOKUP($B$3&"_"&D9,'[3]CANAL 1'!$A:$R,8,FALSE),"")&IFERROR(VLOOKUP($B$3&"_"&D9,'[4]CANAL 2'!$A:$R,8,FALSE),"")&IFERROR(VLOOKUP($B$3&"_"&D9,'[5]CANAL 3'!$A:$R,8,FALSE),"")&IFERROR(VLOOKUP($B$3&"_"&D9,'[6]CANAL 4'!$A:$R,8,FALSE),"")&IFERROR(VLOOKUP($B$3&"_"&D9,'[7]CANAL 5'!$A:$R,8,FALSE),"")&IFERROR(VLOOKUP($B$3&"_"&D9,'[8]CANAL 6'!$A:$R,8,FALSE),"")&IFERROR(VLOOKUP($B$3&"_"&D9,'[9]CANAL 7'!$A:$R,8,FALSE),"")&IFERROR(VLOOKUP($B$3&"_"&D9,'[10]CANAL 8'!$A:$R,8,FALSE),"")&IFERROR(VLOOKUP($B$3&"_"&D9,'[11]CANAL 9'!$A:$R,8,FALSE),"")&IFERROR(VLOOKUP($B$3&"_"&D9,'[12]CANAL 10'!$A:$R,8,FALSE),"")&IFERROR(VLOOKUP($B$3&"_"&D9,'[13]CANAL 11'!$A:$R,8,FALSE),"")&IFERROR(VLOOKUP($B$3&"_"&D9,'[14]CANAL 12'!$A:$R,8,FALSE),"")&IFERROR(VLOOKUP($B$3&"_"&D9,'[15]CANAL 13'!$A:$R,8,FALSE),"")&IFERROR(VLOOKUP($B$3&"_"&D9,'[16]CANAL 14'!$A:$R,8,FALSE),"")&IFERROR(VLOOKUP($B$3&"_"&D9,'[17]CANAL 15'!$A:$R,8,FALSE),"")&IFERROR(VLOOKUP($B$3&"_"&D9,'[18]CANAL 16'!$A:$R,8,FALSE),"") -> 0 | L9: =IFERROR(VLOOKUP($B$3&"_"&D9,'CANAL 17'!$A:$R,9,FALSE),"")&IFERROR(VLOOKUP($B$3&"_"&D9,'[2]CANAL 18'!$A:$R,9,FALSE),"")&IFERROR(VLOOKUP($B$3&"_"&D9,'[3]CANAL 1'!$A:$R,9,FALSE),"")&IFERROR(VLOOKUP($B$3&"_"&D9,'[4]CANAL 2'!$A:$R,9,FALSE),"")&IFERROR(VLOOKUP($B$3&"_"&D9,'[5]CANAL 3'!$A:$R,9,FALSE),"")&IFERROR(VLOOKUP($B$3&"_"&D9,'[6]CANAL 4'!$A:$R,9,FALSE),"")&IFERROR(VLOOKUP($B$3&"_"&D9,'[7]CANAL 5'!$A:$R,9,FALSE),"")&IFERROR(VLOOKUP($B$3&"_"&D9,'[8]CANAL 6'!$A:$R,9,FALSE),"")&IFERROR(VLOOKUP($B$3&"_"&D9,'[9]CANAL 7'!$A:$R,9,FALSE),"")&IFERROR(VLOOKUP($B$3&"_"&D9,'[10]CANAL 8'!$A:$R,9,FALSE),"")&IFERROR(VLOOKUP($B$3&"_"&D9,'[11]CANAL 9'!$A:$R,9,FALSE),"")&IFERROR(VLOOKUP($B$3&"_"&D9,'[12]CANAL 10'!$A:$R,9,FALSE),"")&IFERROR(VLOOKUP($B$3&"_"&D9,'[13]CANAL 11'!$A:$R,9,FALSE),"")&IFERROR(VLOOKUP($B$3&"_"&D9,'[14]CANAL 12'!$A:$R,9,FALSE),"")&IFERROR(VLOOKUP($B$3&"_"&D9,'[15]CANAL 13'!$A:$R,9,FALSE),"")&IFERROR(VLOOKUP($B$3&"_"&D9,'[16]CANAL 14'!$A:$R,9,FALSE),"")&IFERROR(VLOOKUP($B$3&"_"&D9,'[17]CANAL 15'!$A:$R,9,FALSE),"")&IFERROR(VLOOKUP($B$3&"_"&D9,'[18]CANAL 16'!$A:$R,9,FALSE),"") -> 0 | R9: =IFERROR(VLOOKUP($B$3&"_"&D9,'CANAL 17'!$A:$R,15,FALSE),"")&IFERROR(VLOOKUP($B$3&"_"&D9,'[2]CANAL 18'!$A:$R,15,FALSE),"")&IFERROR(VLOOKUP($B$3&"_"&D9,'[3]CANAL 1'!$A:$R,15,FALSE),"")&IFERROR(VLOOKUP($B$3&"_"&D9,'[4]CANAL 2'!$A:$R,15,FALSE),"")&IFERROR(VLOOKUP($B$3&"_"&D9,'[5]CANAL 3'!$A:$R,15,FALSE),"")&IFERROR(VLOOKUP($B$3&"_"&D9,'[6]CANAL 4'!$A:$R,15,FALSE),"")&IFERROR(VLOOKUP($B$3&"_"&D9,'[7]CANAL 5'!$A:$R,15,FALSE),"")&IFERROR(VLOOKUP($B$3&"_"&D9,'[8]CANAL 6'!$A:$R,15,FALSE),"")&IFERROR(VLOOKUP($B$3&"_"&D9,'[9]CANAL 7'!$A:$R,15,FALSE),"")&IFERROR(VLOOKUP($B$3&"_"&D9,'[10]CANAL 8'!$A:$R,15,FALSE),"")&IFERROR(VLOOKUP($B$3&"_"&D9,'[11]CANAL 9'!$A:$R,15,FALSE),"")&IFERROR(VLOOKUP($B$3&"_"&D9,'[12]CANAL 10'!$A:$R,15,FALSE),"")&IFERROR(VLOOKUP($B$3&"_"&D9,'[13]CANAL 11'!$A:$R,15,FALSE),"")&IFERROR(VLOOKUP($B$3&"_"&D9,'[14]CANAL 12'!$A:$R,15,FALSE),"")&IFERROR(VLOOKUP($B$3&"_"&D9,'[15]CANAL 13'!$A:$R,15,FALSE),"")&IFERROR(VLOOKUP($B$3&"_"&D9,'[16]CANAL 14'!$A:$R,15,FALSE),"")&IFERROR(VLOOKUP($B$3&"_"&D9,'[17]CANAL 15'!$A:$R,15,FALSE),"")&IFERROR(VLOOKUP($B$3&"_"&D9,'[18]CANAL 16'!$A:$R,15,FALSE),"") -> 0
D10: 2 | E10: =IFERROR(VLOOKUP($B$3&"_"&D10,'CANAL 17'!$A:$R,2,FALSE),"")&IFERROR(VLOOKUP($B$3&"_"&D10,'[2]CANAL 18'!$A:$R,2,FALSE),"")&IFERROR(VLOOKUP($B$3&"_"&D10,'[3]CANAL 1'!A:R,2,FALSE),"")&IFERROR(VLOOKUP($B$3&"_"&D10,'[4]CANAL 2'!A:R,2,FALSE),"")&IFERROR(VLOOKUP($B$3&"_"&D10,'[5]CANAL 3'!A:R,2,FALSE),"")&IFERROR(VLOOKUP($B$3&"_"&D10,'[6]CANAL 4'!A:R,2,FALSE),"")&IFERROR(VLOOKUP($B$3&"_"&D10,'[7]CANAL 5'!A:R,2,FALSE),"")&IFERROR(VLOOKUP($B$3&"_"&D10,'[8]CANAL 6'!A:R,2,FALSE),"")&IFERROR(VLOOKUP($B$3&"_"&D10,'[9]CANAL 7'!A:R,2,FALSE),"")&IFERROR(VLOOKUP($B$3&"_"&D10,'[10]CANAL 8'!A:R,2,FALSE),"")&IFERROR(VLOOKUP($B$3&"_"&D10,'[11]CANAL 9'!A:R,2,FALSE),"")&IFERROR(VLOOKUP($B$3&"_"&D10,'[12]CANAL 10'!A:R,2,FALSE),"")&IFERROR(VLOOKUP($B$3&"_"&D10,'[13]CANAL 11'!A:R,2,FALSE),"")&IFERROR(VLOOKUP($B$3&"_"&D10,'[14]CANAL 12'!A:R,2,FALSE),"")&IFERROR(VLOOKUP($B$3&"_"&D10,'[15]CANAL 13'!A:R,2,FALSE),"")&IFERROR(VLOOKUP($B$3&"_"&D10,'[16]CANAL 14'!A:R,2,FALSE),"")&IFERROR(VLOOKUP($B$3&"_"&D10,'[17]CANAL 15'!A:R,2,FALSE),"")&IFERROR(VLOOKUP($B$3&"_"&D10,'[18]CANAL 16'!A:R,2,FALSE),"") -> 2 | F10: =IFERROR(VLOOKUP($B$3&"_"&D10,'CANAL 17'!$A:$R,3,FALSE),"")&IFERROR(VLOOKUP($B$3&"_"&D10,'[2]CANAL 18'!$A:$R,3,FALSE),"")&IFERROR(VLOOKUP($B$3&"_"&D10,'[3]CANAL 1'!$A:$R,3,FALSE),"")&IFERROR(VLOOKUP($B$3&"_"&D10,'[4]CANAL 2'!$A:$R,3,FALSE),"")&IFERROR(VLOOKUP($B$3&"_"&D10,'[5]CANAL 3'!$A:$R,3,FALSE),"")&IFERROR(VLOOKUP($B$3&"_"&D10,'[6]CANAL 4'!$A:$R,3,FALSE),"")&IFERROR(VLOOKUP($B$3&"_"&D10,'[7]CANAL 5'!$A:$R,3,FALSE),"")&IFERROR(VLOOKUP($B$3&"_"&D10,'[8]CANAL 6'!$A:$R,3,FALSE),"")&IFERROR(VLOOKUP($B$3&"_"&D10,'[9]CANAL 7'!$A:$R,3,FALSE),"")&IFERROR(VLOOKUP($B$3&"_"&D10,'[10]CANAL 8'!$A:$R,3,FALSE),"")&IFERROR(VLOOKUP($B$3&"_"&D10,'[11]CANAL 9'!$A:$R,3,FALSE),"")&IFERROR(VLOOKUP($B$3&"_"&D10,'[12]CANAL 10'!$A:$R,3,FALSE),"")&IFERROR(VLOOKUP($B$3&"_"&D10,'[13]CANAL 11'!$A:$R,3,FALSE),"")&IFERROR(VLOOKUP($B$3&"_"&D10,'[14]CANAL 12'!$A:$R,3,FALSE),"")&IFERROR(VLOOKUP($B$3&"_"&D10,'[15]CANAL 13'!$A:$R,3,FALSE),"")&IFERROR(VLOOKUP($B$3&"_"&D10,'[16]CANAL 14'!$A:$R,3,FALSE),"")&IFERROR(VLOOKUP($B$3&"_"&D10,'[17]CANAL 15'!$A:$R,3,FALSE),"")&IFERROR(VLOOKUP($B$3&"_"&D10,'[18]CANAL 16'!$A:$R,3,FALSE),"") -> 1235 | G10: =IFERROR(VLOOKUP($B$3&"_"&D10,'CANAL 17'!$A:$R,4,FALSE),"")&IFERROR(VLOOKUP($B$3&"_"&D10,'[2]CANAL 18'!$A:$R,4,FALSE),"")&IFERROR(VLOOKUP($B$3&"_"&D10,'[3]CANAL 1'!$A:$R,4,FALSE),"")&IFERROR(VLOOKUP($B$3&"_"&D10,'[4]CANAL 2'!$A:$R,4,FALSE),"")&IFERROR(VLOOKUP($B$3&"_"&D10,'[5]CANAL 3'!$A:$R,4,FALSE),"")&IFERROR(VLOOKUP($B$3&"_"&D10,'[6]CANAL 4'!$A:$R,4,FALSE),"")&IFERROR(VLOOKUP($B$3&"_"&D10,'[7]CANAL 5'!$A:$R,4,FALSE),"")&IFERROR(VLOOKUP($B$3&"_"&D10,'[8]CANAL 6'!$A:$R,4,FALSE),"")&IFERROR(VLOOKUP($B$3&"_"&D10,'[9]CANAL 7'!$A:$R,4,FALSE),"")&IFERROR(VLOOKUP($B$3&"_"&D10,'[10]CANAL 8'!$A:$R,4,FALSE),"")&IFERROR(VLOOKUP($B$3&"_"&D10,'[11]CANAL 9'!$A:$R,4,FALSE),"")&IFERROR(VLOOKUP($B$3&"_"&D10,'[12]CANAL 10'!$A:$R,4,FALSE),"")&IFERROR(VLOOKUP($B$3&"_"&D10,'[13]CANAL 11'!$A:$R,4,FALSE),"")&IFERROR(VLOOKUP($B$3&"_"&D10,'[14]CANAL 12'!$A:$R,4,FALSE),"")&IFERROR(VLOOKUP($B$3&"_"&D10,'[15]CANAL 13'!$A:$R,4,FALSE),"")&IFERROR(VLOOKUP($B$3&"_"&D10,'[16]CANAL 14'!$A:$R,4,FALSE),"")&IFERROR(VLOOKUP($B$3&"_"&D10,'[17]CANAL 15'!$A:$R,4,FALSE),"")&IFERROR(VLOOKUP($B$3&"_"&D10,'[18]CANAL 16'!$A:$R,4,FALSE),"") -> 12345 | H10: =IFERROR(VLOOKUP($B$3&"_"&D10,'CANAL 17'!$A:$R,5,FALSE),"")&IFERROR(VLOOKUP($B$3&"_"&D10,'[2]CANAL 18'!$A:$R,5,FALSE),"")&IFERROR(VLOOKUP($B$3&"_"&D10,'[3]CANAL 1'!$A:$R,5,FALSE),"")&IFERROR(VLOOKUP($B$3&"_"&D10,'[4]CANAL 2'!$A:$R,5,FALSE),"")&IFERROR(VLOOKUP($B$3&"_"&D10,'[5]CANAL 3'!$A:$R,5,FALSE),"")&IFERROR(VLOOKUP($B$3&"_"&D10,'[6]CANAL 4'!$A:$R,5,FALSE),"")&IFERROR(VLOOKUP($B$3&"_"&D10,'[7]CANAL 5'!$A:$R,5,FALSE),"")&IFERROR(VLOOKUP($B$3&"_"&D10,'[8]CANAL 6'!$A:$R,5,FALSE),"")&IFERROR(VLOOKUP($B$3&"_"&D10,'[9]CANAL 7'!$A:$R,5,FALSE),"")&IFERROR(VLOOKUP($B$3&"_"&D10,'[10]CANAL 8'!$A:$R,5,FALSE),"")&IFERROR(VLOOKUP($B$3&"_"&D10,'[11]CANAL 9'!$A:$R,5,FALSE),"")&IFERROR(VLOOKUP($B$3&"_"&D10,'[12]CANAL 10'!$A:$R,5,FALSE),"")&IFERROR(VLOOKUP($B$3&"_"&D10,'[13]CANAL 11'!$A:$R,5,FALSE),"")&IFERROR(VLOOKUP($B$3&"_"&D10,'[14]CANAL 12'!$A:$R,5,FALSE),"")&IFERROR(VLOOKUP($B$3&"_"&D10,'[15]CANAL 13'!$A:$R,5,FALSE),"")&IFERROR(VLOOKUP($B$3&"_"&D10,'[16]CANAL 14'!$A:$R,5,FALSE),"")&IFERROR(VLOOKUP($B$3&"_"&D10,'[17]CANAL 15'!$A:$R,5,FALSE),"")&IFERROR(VLOOKUP($B$3&"_"&D10,'[18]CANAL 16'!$A:$R,5,FALSE),"") -> 2 | I10: =IFERROR(VLOOKUP($B$3&"_"&D10,'CANAL 17'!$A:$R,6,FALSE),"")&IFERROR(VLOOKUP($B$3&"_"&D10,'[2]CANAL 18'!$A:$R,6,FALSE),"")&IFERROR(VLOOKUP($B$3&"_"&D10,'[3]CANAL 1'!$A:$R,6,FALSE),"")&IFERROR(VLOOKUP($B$3&"_"&D10,'[4]CANAL 2'!$A:$R,6,FALSE),"")&IFERROR(VLOOKUP($B$3&"_"&D10,'[5]CANAL 3'!$A:$R,6,FALSE),"")&IFERROR(VLOOKUP($B$3&"_"&D10,'[6]CANAL 4'!$A:$R,6,FALSE),"")&IFERROR(VLOOKUP($B$3&"_"&D10,'[7]CANAL 5'!$A:$R,6,FALSE),"")&IFERROR(VLOOKUP($B$3&"_"&D10,'[8]CANAL 6'!$A:$R,6,FALSE),"")&IFERROR(VLOOKUP($B$3&"_"&D10,'[9]CANAL 7'!$A:$R,6,FALSE),"")&IFERROR(VLOOKUP($B$3&"_"&D10,'[10]CANAL 8'!$A:$R,6,FALSE),"")&IFERROR(VLOOKUP($B$3&"_"&D10,'[11]CANAL 9'!$A:$R,6,FALSE),"")&IFERROR(VLOOKUP($B$3&"_"&D10,'[12]CANAL 10'!$A:$R,6,FALSE),"")&IFERROR(VLOOKUP($B$3&"_"&D10,'[13]CANAL 11'!$A:$R,6,FALSE),"")&IFERROR(VLOOKUP($B$3&"_"&D10,'[14]CANAL 12'!$A:$R,6,FALSE),"")&IFERROR(VLOOKUP($B$3&"_"&D10,'[15]CANAL 13'!$A:$R,6,FALSE),"")&IFERROR(VLOOKUP($B$3&"_"&D10,'[16]CANAL 14'!$A:$R,6,FALSE),"")&IFERROR(VLOOKUP($B$3&"_"&D10,'[17]CANAL 15'!$A:$R,6,FALSE),"")&IFERROR(VLOOKUP($B$3&"_"&D10,'[18]CANAL 16'!$A:$R,6,FALSE),"") -> rien | J10: =IFERROR(VLOOKUP($B$3&"_"&D10,'CANAL 17'!$A:$R,7,FALSE),"")&IFERROR(VLOOKUP($B$3&"_"&D10,'[2]CANAL 18'!$A:$R,7,FALSE),"")&IFERROR(VLOOKUP($B$3&"_"&D10,'[3]CANAL 1'!$A:$R,7,FALSE),"")&IFERROR(VLOOKUP($B$3&"_"&D10,'[4]CANAL 2'!$A:$R,7,FALSE),"")&IFERROR(VLOOKUP($B$3&"_"&D10,'[5]CANAL 3'!$A:$R,7,FALSE),"")&IFERROR(VLOOKUP($B$3&"_"&D10,'[6]CANAL 4'!$A:$R,7,FALSE),"")&IFERROR(VLOOKUP($B$3&"_"&D10,'[7]CANAL 5'!$A:$R,7,FALSE),"")&IFERROR(VLOOKUP($B$3&"_"&D10,'[8]CANAL 6'!$A:$R,7,FALSE),"")&IFERROR(VLOOKUP($B$3&"_"&D10,'[9]CANAL 7'!$A:$R,7,FALSE),"")&IFERROR(VLOOKUP($B$3&"_"&D10,'[10]CANAL 8'!$A:$R,7,FALSE),"")&IFERROR(VLOOKUP($B$3&"_"&D10,'[11]CANAL 9'!$A:$R,7,FALSE),"")&IFERROR(VLOOKUP($B$3&"_"&D10,'[12]CANAL 10'!$A:$R,7,FALSE),"")&IFERROR(VLOOKUP($B$3&"_"&D10,'[13]CANAL 11'!$A:$R,7,FALSE),"")&IFERROR(VLOOKUP($B$3&"_"&D10,'[14]CANAL 12'!$A:$R,7,FALSE),"")&IFERROR(VLOOKUP($B$3&"_"&D10,'[15]CANAL 13'!$A:$R,7,FALSE),"")&IFERROR(VLOOKUP($B$3&"_"&D10,'[16]CANAL 14'!$A:$R,7,FALSE),"")&IFERROR(VLOOKUP($B$3&"_"&D10,'[17]CANAL 15'!$A:$R,7,FALSE),"")&IFERROR(VLOOKUP($B$3&"_"&D10,'[18]CANAL 16'!$A:$R,7,FALSE),"") -> AZERTY | K10: =IFERROR(VLOOKUP($B$3&"_"&D10,'CANAL 17'!$A:$R,8,FALSE),"")&IFERROR(VLOOKUP($B$3&"_"&D10,'[2]CANAL 18'!$A:$R,8,FALSE),"")&IFERROR(VLOOKUP($B$3&"_"&D10,'[3]CANAL 1'!$A:$R,8,FALSE),"")&IFERROR(VLOOKUP($B$3&"_"&D10,'[4]CANAL 2'!$A:$R,8,FALSE),"")&IFERROR(VLOOKUP($B$3&"_"&D10,'[5]CANAL 3'!$A:$R,8,FALSE),"")&IFERROR(VLOOKUP($B$3&"_"&D10,'[6]CANAL 4'!$A:$R,8,FALSE),"")&IFERROR(VLOOKUP($B$3&"_"&D10,'[7]CANAL 5'!$A:$R,8,FALSE),"")&IFERROR(VLOOKUP($B$3&"_"&D10,'[8]CANAL 6'!$A:$R,8,FALSE),"")&IFERROR(VLOOKUP($B$3&"_"&D10,'[9]CANAL 7'!$A:$R,8,FALSE),"")&IFERROR(VLOOKUP($B$3&"_"&D10,'[10]CANAL 8'!$A:$R,8,FALSE),"")&IFERROR(VLOOKUP($B$3&"_"&D10,'[11]CANAL 9'!$A:$R,8,FALSE),"")&IFERROR(VLOOKUP($B$3&"_"&D10,'[12]CANAL 10'!$A:$R,8,FALSE),"")&IFERROR(VLOOKUP($B$3&"_"&D10,'[13]CANAL 11'!$A:$R,8,FALSE),"")&IFERROR(VLOOKUP($B$3&"_"&D10,'[14]CANAL 12'!$A:$R,8,FALSE),"")&IFERROR(VLOOKUP($B$3&"_"&D10,'[15]CANAL 13'!$A:$R,8,FALSE),"")&IFERROR(VLOOKUP($B$3&"_"&D10,'[16]CANAL 14'!$A:$R,8,FALSE),"")&IFERROR(VLOOKUP($B$3&"_"&D10,'[17]CANAL 15'!$A:$R,8,FALSE),"")&IFERROR(VLOOKUP($B$3&"_"&D10,'[18]CANAL 16'!$A:$R,8,FALSE),"") -> 0 | L10: =IFERROR(VLOOKUP($B$3&"_"&D10,'CANAL 17'!$A:$R,9,FALSE),"")&IFERROR(VLOOKUP($B$3&"_"&D10,'[2]CANAL 18'!$A:$R,9,FALSE),"")&IFERROR(VLOOKUP($B$3&"_"&D10,'[3]CANAL 1'!$A:$R,9,FALSE),"")&IFERROR(VLOOKUP($B$3&"_"&D10,'[4]CANAL 2'!$A:$R,9,FALSE),"")&IFERROR(VLOOKUP($B$3&"_"&D10,'[5]CANAL 3'!$A:$R,9,FALSE),"")&IFERROR(VLOOKUP($B$3&"_"&D10,'[6]CANAL 4'!$A:$R,9,FALSE),"")&IFERROR(VLOOKUP($B$3&"_"&D10,'[7]CANAL 5'!$A:$R,9,FALSE),"")&IFERROR(VLOOKUP($B$3&"_"&D10,'[8]CANAL 6'!$A:$R,9,FALSE),"")&IFERROR(VLOOKUP($B$3&"_"&D10,'[9]CANAL 7'!$A:$R,9,FALSE),"")&IFERROR(VLOOKUP($B$3&"_"&D10,'[10]CANAL 8'!$A:$R,9,FALSE),"")&IFERROR(VLOOKUP($B$3&"_"&D10,'[11]CANAL 9'!$A:$R,9,FALSE),"")&IFERROR(VLOOKUP($B$3&"_"&D10,'[12]CANAL 10'!$A:$R,9,FALSE),"")&IFERROR(VLOOKUP($B$3&"_"&D10,'[13]CANAL 11'!$A:$R,9,FALSE),"")&IFERROR(VLOOKUP($B$3&"_"&D10,'[14]CANAL 12'!$A:$R,9,FALSE),"")&IFERROR(VLOOKUP($B$3&"_"&D10,'[15]CANAL 13'!$A:$R,9,FALSE),"")&IFERROR(VLOOKUP($B$3&"_"&D10,'[16]CANAL 14'!$A:$R,9,FALSE),"")&IFERROR(VLOOKUP($B$3&"_"&D10,'[17]CANAL 15'!$A:$R,9,FALSE),"")&IFERROR(VLOOKUP($B$3&"_"&D10,'[18]CANAL 16'!$A:$R,9,FALSE),"") -> 0 | R10: =IFERROR(VLOOKUP($B$3&"_"&D10,'CANAL 17'!$A:$R,15,FALSE),"")&IFERROR(VLOOKUP($B$3&"_"&D10,'[2]CANAL 18'!$A:$R,15,FALSE),"")&IFERROR(VLOOKUP($B$3&"_"&D10,'[3]CANAL 1'!$A:$R,15,FALSE),"")&IFERROR(VLOOKUP($B$3&"_"&D10,'[4]CANAL 2'!$A:$R,15,FALSE),"")&IFERROR(VLOOKUP($B$3&"_"&D10,'[5]CANAL 3'!$A:$R,15,FALSE),"")&IFERROR(VLOOKUP($B$3&"_"&D10,'[6]CANAL 4'!$A:$R,15,FALSE),"")&IFERROR(VLOOKUP($B$3&"_"&D10,'[7]CANAL 5'!$A:$R,15,FALSE),"")&IFERROR(VLOOKUP($B$3&"_"&D10,'[8]CANAL 6'!$A:$R,15,FALSE),"")&IFERROR(VLOOKUP($B$3&"_"&D10,'[9]CANAL 7'!$A:$R,15,FALSE),"")&IFERROR(VLOOKUP($B$3&"_"&D10,'[10]CANAL 8'!$A:$R,15,FALSE),"")&IFERROR(VLOOKUP($B$3&"_"&D10,'[11]CANAL 9'!$A:$R,15,FALSE),"")&IFERROR(VLOOKUP($B$3&"_"&D10,'[12]CANAL 10'!$A:$R,15,FALSE),"")&IFERROR(VLOOKUP($B$3&"_"&D10,'[13]CANAL 11'!$A:$R,15,FALSE),"")&IFERROR(VLOOKUP($B$3&"_"&D10,'[14]CANAL 12'!$A:$R,15,FALSE),"")&IFERROR(VLOOKUP($B$3&"_"&D10,'[15]CANAL 13'!$A:$R,15,FALSE),"")&IFERROR(VLOOKUP($B$3&"_"&D10,'[16]CANAL 14'!$A:$R,15,FALSE),"")&IFERROR(VLOOKUP($B$3&"_"&D10,'[17]CANAL 15'!$A:$R,15,FALSE),"")&IFERROR(VLOOKUP($B$3&"_"&D10,'[18]CANAL 16'!$A:$R,15,FALSE),"") -> 1
D11: 3 | E11: =IFERROR(VLOOKUP($B$3&"_"&D11,'CANAL 17'!$A:$R,2,FALSE),"")&IFERROR(VLOOKUP($B$3&"_"&D11,'[2]CANAL 18'!$A:$R,2,FALSE),"")&IFERROR(VLOOKUP($B$3&"_"&D11,'[3]CANAL 1'!A:R,2,FALSE),"")&IFERROR(VLOOKUP($B$3&"_"&D11,'[4]CANAL 2'!A:R,2,FALSE),"")&IFERROR(VLOOKUP($B$3&"_"&D11,'[5]CANAL 3'!A:R,2,FALSE),"")&IFERROR(VLOOKUP($B$3&"_"&D11,'[6]CANAL 4'!A:R,2,FALSE),"")&IFERROR(VLOOKUP($B$3&"_"&D11,'[7]CANAL 5'!A:R,2,FALSE),"")&IFERROR(VLOOKUP($B$3&"_"&D11,'[8]CANAL 6'!A:R,2,FALSE),"")&IFERROR(VLOOKUP($B$3&"_"&D11,'[9]CANAL 7'!A:R,2,FALSE),"")&IFERROR(VLOOKUP($B$3&"_"&D11,'[10]CANAL 8'!A:R,2,FALSE),"")&IFERROR(VLOOKUP($B$3&"_"&D11,'[11]CANAL 9'!A:R,2,FALSE),"")&IFERROR(VLOOKUP($B$3&"_"&D11,'[12]CANAL 10'!A:R,2,FALSE),"")&IFERROR(VLOOKUP($B$3&"_"&D11,'[13]CANAL 11'!A:R,2,FALSE),"")&IFERROR(VLOOKUP($B$3&"_"&D11,'[14]CANAL 12'!A:R,2,FALSE),"")&IFERROR(VLOOKUP($B$3&"_"&D11,'[15]CANAL 13'!A:R,2,FALSE),"")&IFERROR(VLOOKUP($B$3&"_"&D11,'[16]CANAL 14'!A:R,2,FALSE),"")&IFERROR(VLOOKUP($B$3&"_"&D11,'[17]CANAL 15'!A:R,2,FALSE),"")&IFERROR(VLOOKUP($B$3&"_"&D11,'[18]CANAL 16'!A:R,2,FALSE),"") -> 3 | F11: =IFERROR(VLOOKUP($B$3&"_"&D11,'CANAL 17'!$A:$R,3,FALSE),"")&IFERROR(VLOOKUP($B$3&"_"&D11,'[2]CANAL 18'!$A:$R,3,FALSE),"")&IFERROR(VLOOKUP($B$3&"_"&D11,'[3]CANAL 1'!$A:$R,3,FALSE),"")&IFERROR(VLOOKUP($B$3&"_"&D11,'[4]CANAL 2'!$A:$R,3,FALSE),"")&IFERROR(VLOOKUP($B$3&"_"&D11,'[5]CANAL 3'!$A:$R,3,FALSE),"")&IFERROR(VLOOKUP($B$3&"_"&D11,'[6]CANAL 4'!$A:$R,3,FALSE),"")&IFERROR(VLOOKUP($B$3&"_"&D11,'[7]CANAL 5'!$A:$R,3,FALSE),"")&IFERROR(VLOOKUP($B$3&"_"&D11,'[8]CANAL 6'!$A:$R,3,FALSE),"")&IFERROR(VLOOKUP($B$3&"_"&D11,'[9]CANAL 7'!$A:$R,3,FALSE),"")&IFERROR(VLOOKUP($B$3&"_"&D11,'[10]CANAL 8'!$A:$R,3,FALSE),"")&IFERROR(VLOOKUP($B$3&"_"&D11,'[11]CANAL 9'!$A:$R,3,FALSE),"")&IFERROR(VLOOKUP($B$3&"_"&D11,'[12]CANAL 10'!$A:$R,3,FALSE),"")&IFERROR(VLOOKUP($B$3&"_"&D11,'[13]CANAL 11'!$A:$R,3,FALSE),"")&IFERROR(VLOOKUP($B$3&"_"&D11,'[14]CANAL 12'!$A:$R,3,FALSE),"")&IFERROR(VLOOKUP($B$3&"_"&D11,'[15]CANAL 13'!$A:$R,3,FALSE),"")&IFERROR(VLOOKUP($B$3&"_"&D11,'[16]CANAL 14'!$A:$R,3,FALSE),"")&IFERROR(VLOOKUP($B$3&"_"&D11,'[17]CANAL 15'!$A:$R,3,FALSE),"")&IFERROR(VLOOKUP($B$3&"_"&D11,'[18]CANAL 16'!$A:$R,3,FALSE),"") -> 1236 | G11: =IFERROR(VLOOKUP($B$3&"_"&D11,'CANAL 17'!$A:$R,4,FALSE),"")&IFERROR(VLOOKUP($B$3&"_"&D11,'[2]CANAL 18'!$A:$R,4,FALSE),"")&IFERROR(VLOOKUP($B$3&"_"&D11,'[3]CANAL 1'!$A:$R,4,FALSE),"")&IFERROR(VLOOKUP($B$3&"_"&D11,'[4]CANAL 2'!$A:$R,4,FALSE),"")&IFERROR(VLOOKUP($B$3&"_"&D11,'[5]CANAL 3'!$A:$R,4,FALSE),"")&IFERROR(VLOOKUP($B$3&"_"&D11,'[6]CANAL 4'!$A:$R,4,FALSE),"")&IFERROR(VLOOKUP($B$3&"_"&D11,'[7]CANAL 5'!$A:$R,4,FALSE),"")&IFERROR(VLOOKUP($B$3&"_"&D11,'[8]CANAL 6'!$A:$R,4,FALSE),"")&IFERROR(VLOOKUP($B$3&"_"&D11,'[9]CANAL 7'!$A:$R,4,FALSE),"")&IFERROR(VLOOKUP($B$3&"_"&D11,'[10]CANAL 8'!$A:$R,4,FALSE),"")&IFERROR(VLOOKUP($B$3&"_"&D11,'[11]CANAL 9'!$A:$R,4,FALSE),"")&IFERROR(VLOOKUP($B$3&"_"&D11,'[12]CANAL 10'!$A:$R,4,FALSE),"")&IFERROR(VLOOKUP($B$3&"_"&D11,'[13]CANAL 11'!$A:$R,4,FALSE),"")&IFERROR(VLOOKUP($B$3&"_"&D11,'[14]CANAL 12'!$A:$R,4,FALSE),"")&IFERROR(VLOOKUP($B$3&"_"&D11,'[15]CANAL 13'!$A:$R,4,FALSE),"")&IFERROR(VLOOKUP($B$3&"_"&D11,'[16]CANAL 14'!$A:$R,4,FALSE),"")&IFERROR(VLOOKUP($B$3&"_"&D11,'[17]CANAL 15'!$A:$R,4,FALSE),"")&IFERROR(VLOOKUP($B$3&"_"&D11,'[18]CANAL 16'!$A:$R,4,FALSE),"") -> 12345 | H11: =IFERROR(VLOOKUP($B$3&"_"&D11,'CANAL 17'!$A:$R,5,FALSE),"")&IFERROR(VLOOKUP($B$3&"_"&D11,'[2]CANAL 18'!$A:$R,5,FALSE),"")&IFERROR(VLOOKUP($B$3&"_"&D11,'[3]CANAL 1'!$A:$R,5,FALSE),"")&IFERROR(VLOOKUP($B$3&"_"&D11,'[4]CANAL 2'!$A:$R,5,FALSE),"")&IFERROR(VLOOKUP($B$3&"_"&D11,'[5]CANAL 3'!$A:$R,5,FALSE),"")&IFERROR(VLOOKUP($B$3&"_"&D11,'[6]CANAL 4'!$A:$R,5,FALSE),"")&IFERROR(VLOOKUP($B$3&"_"&D11,'[7]CANAL 5'!$A:$R,5,FALSE),"")&IFERROR(VLOOKUP($B$3&"_"&D11,'[8]CANAL 6'!$A:$R,5,FALSE),"")&IFERROR(VLOOKUP($B$3&"_"&D11,'[9]CANAL 7'!$A:$R,5,FALSE),"")&IFERROR(VLOOKUP($B$3&"_"&D11,'[10]CANAL 8'!$A:$R,5,FALSE),"")&IFERROR(VLOOKUP($B$3&"_"&D11,'[11]CANAL 9'!$A:$R,5,FALSE),"")&IFERROR(VLOOKUP($B$3&"_"&D11,'[12]CANAL 10'!$A:$R,5,FALSE),"")&IFERROR(VLOOKUP($B$3&"_"&D11,'[13]CANAL 11'!$A:$R,5,FALSE),"")&IFERROR(VLOOKUP($B$3&"_"&D11,'[14]CANAL 12'!$A:$R,5,FALSE),"")&IFERROR(VLOOKUP($B$3&"_"&D11,'[15]CANAL 13'!$A:$R,5,FALSE),"")&IFERROR(VLOOKUP($B$3&"_"&D11,'[16]CANAL 14'!$A:$R,5,FALSE),"")&IFERROR(VLOOKUP($B$3&"_"&D11,'[17]CANAL 15'!$A:$R,5,FALSE),"")&IFERROR(VLOOKUP($B$3&"_"&D11,'[18]CANAL 16'!$A:$R,5,FALSE),"") -> 2 | I11: =IFERROR(VLOOKUP($B$3&"_"&D11,'CANAL 17'!$A:$R,6,FALSE),"")&IFERROR(VLOOKUP($B$3&"_"&D11,'[2]CANAL 18'!$A:$R,6,FALSE),"")&IFERROR(VLOOKUP($B$3&"_"&D11,'[3]CANAL 1'!$A:$R,6,FALSE),"")&IFERROR(VLOOKUP($B$3&"_"&D11,'[4]CANAL 2'!$A:$R,6,FALSE),"")&IFERROR(VLOOKUP($B$3&"_"&D11,'[5]CANAL 3'!$A:$R,6,FALSE),"")&IFERROR(VLOOKUP($B$3&"_"&D11,'[6]CANAL 4'!$A:$R,6,FALSE),"")&IFERROR(VLOOKUP($B$3&"_"&D11,'[7]CANAL 5'!$A:$R,6,FALSE),"")&IFERROR(VLOOKUP($B$3&"_"&D11,'[8]CANAL 6'!$A:$R,6,FALSE),"")&IFERROR(VLOOKUP($B$3&"_"&D11,'[9]CANAL 7'!$A:$R,6,FALSE),"")&IFERROR(VLOOKUP($B$3&"_"&D11,'[10]CANAL 8'!$A:$R,6,FALSE),"")&IFERROR(VLOOKUP($B$3&"_"&D11,'[11]CANAL 9'!$A:$R,6,FALSE),"")&IFERROR(VLOOKUP($B$3&"_"&D11,'[12]CANAL 10'!$A:$R,6,FALSE),"")&IFERROR(VLOOKUP($B$3&"_"&D11,'[13]CANAL 11'!$A:$R,6,FALSE),"")&IFERROR(VLOOKUP($B$3&"_"&D11,'[14]CANAL 12'!$A:$R,6,FALSE),"")&IFERROR(VLOOKUP($B$3&"_"&D11,'[15]CANAL 13'!$A:$R,6,FALSE),"")&IFERROR(VLOOKUP($B$3&"_"&D11,'[16]CANAL 14'!$A:$R,6,FALSE),"")&IFERROR(VLOOKUP($B$3&"_"&D11,'[17]CANAL 15'!$A:$R,6,FALSE),"")&IFERROR(VLOOKUP($B$3&"_"&D11,'[18]CANAL 16'!$A:$R,6,FALSE),"") -> rien | J11: =IFERROR(VLOOKUP($B$3&"_"&D11,'CANAL 17'!$A:$R,7,FALSE),"")&IFERROR(VLOOKUP($B$3&"_"&D11,'[2]CANAL 18'!$A:$R,7,FALSE),"")&IFERROR(VLOOKUP($B$3&"_"&D11,'[3]CANAL 1'!$A:$R,7,FALSE),"")&IFERROR(VLOOKUP($B$3&"_"&D11,'[4]CANAL 2'!$A:$R,7,FALSE),"")&IFERROR(VLOOKUP($B$3&"_"&D11,'[5]CANAL 3'!$A:$R,7,FALSE),"")&IFERROR(VLOOKUP($B$3&"_"&D11,'[6]CANAL 4'!$A:$R,7,FALSE),"")&IFERROR(VLOOKUP($B$3&"_"&D11,'[7]CANAL 5'!$A:$R,7,FALSE),"")&IFERROR(VLOOKUP($B$3&"_"&D11,'[8]CANAL 6'!$A:$R,7,FALSE),"")&IFERROR(VLOOKUP($B$3&"_"&D11,'[9]CANAL 7'!$A:$R,7,FALSE),"")&IFERROR(VLOOKUP($B$3&"_"&D11,'[10]CANAL 8'!$A:$R,7,FALSE),"")&IFERROR(VLOOKUP($B$3&"_"&D11,'[11]CANAL 9'!$A:$R,7,FALSE),"")&IFERROR(VLOOKUP($B$3&"_"&D11,'[12]CANAL 10'!$A:$R,7,FALSE),"")&IFERROR(VLOOKUP($B$3&"_"&D11,'[13]CANAL 11'!$A:$R,7,FALSE),"")&IFERROR(VLOOKUP($B$3&"_"&D11,'[14]CANAL 12'!$A:$R,7,FALSE),"")&IFERROR(VLOOKUP($B$3&"_"&D11,'[15]CANAL 13'!$A:$R,7,FALSE),"")&IFERROR(VLOOKUP($B$3&"_"&D11,'[16]CANAL 14'!$A:$R,7,FALSE),"")&IFERROR(VLOOKUP($B$3&"_"&D11,'[17]CANAL 15'!$A:$R,7,FALSE),"")&IFERROR(VLOOKUP($B$3&"_"&D11,'[18]CANAL 16'!$A:$R,7,FALSE),"") -> AZERTY | K11: =IFERROR(VLOOKUP($B$3&"_"&D11,'CANAL 17'!$A:$R,8,FALSE),"")&IFERROR(VLOOKUP($B$3&"_"&D11,'[2]CANAL 18'!$A:$R,8,FALSE),"")&IFERROR(VLOOKUP($B$3&"_"&D11,'[3]CANAL 1'!$A:$R,8,FALSE),"")&IFERROR(VLOOKUP($B$3&"_"&D11,'[4]CANAL 2'!$A:$R,8,FALSE),"")&IFERROR(VLOOKUP($B$3&"_"&D11,'[5]CANAL 3'!$A:$R,8,FALSE),"")&IFERROR(VLOOKUP($B$3&"_"&D11,'[6]CANAL 4'!$A:$R,8,FALSE),"")&IFERROR(VLOOKUP($B$3&"_"&D11,'[7]CANAL 5'!$A:$R,8,FALSE),"")&IFERROR(VLOOKUP($B$3&"_"&D11,'[8]CANAL 6'!$A:$R,8,FALSE),"")&IFERROR(VLOOKUP($B$3&"_"&D11,'[9]CANAL 7'!$A:$R,8,FALSE),"")&IFERROR(VLOOKUP($B$3&"_"&D11,'[10]CANAL 8'!$A:$R,8,FALSE),"")&IFERROR(VLOOKUP($B$3&"_"&D11,'[11]CANAL 9'!$A:$R,8,FALSE),"")&IFERROR(VLOOKUP($B$3&"_"&D11,'[12]CANAL 10'!$A:$R,8,FALSE),"")&IFERROR(VLOOKUP($B$3&"_"&D11,'[13]CANAL 11'!$A:$R,8,FALSE),"")&IFERROR(VLOOKUP($B$3&"_"&D11,'[14]CANAL 12'!$A:$R,8,FALSE),"")&IFERROR(VLOOKUP($B$3&"_"&D11,'[15]CANAL 13'!$A:$R,8,FALSE),"")&IFERROR(VLOOKUP($B$3&"_"&D11,'[16]CANAL 14'!$A:$R,8,FALSE),"")&IFERROR(VLOOKUP($B$3&"_"&D11,'[17]CANAL 15'!$A:$R,8,FALSE),"")&IFERROR(VLOOKUP($B$3&"_"&D11,'[18]CANAL 16'!$A:$R,8,FALSE),"") -> 0 | L11: =IFERROR(VLOOKUP($B$3&"_"&D11,'CANAL 17'!$A:$R,9,FALSE),"")&IFERROR(VLOOKUP($B$3&"_"&D11,'[2]CANAL 18'!$A:$R,9,FALSE),"")&IFERROR(VLOOKUP($B$3&"_"&D11,'[3]CANAL 1'!$A:$R,9,FALSE),"")&IFERROR(VLOOKUP($B$3&"_"&D11,'[4]CANAL 2'!$A:$R,9,FALSE),"")&IFERROR(VLOOKUP($B$3&"_"&D11,'[5]CANAL 3'!$A:$R,9,FALSE),"")&IFERROR(VLOOKUP($B$3&"_"&D11,'[6]CANAL 4'!$A:$R,9,FALSE),"")&IFERROR(VLOOKUP($B$3&"_"&D11,'[7]CANAL 5'!$A:$R,9,FALSE),"")&IFERROR(VLOOKUP($B$3&"_"&D11,'[8]CANAL 6'!$A:$R,9,FALSE),"")&IFERROR(VLOOKUP($B$3&"_"&D11,'[9]CANAL 7'!$A:$R,9,FALSE),"")&IFERROR(VLOOKUP($B$3&"_"&D11,'[10]CANAL 8'!$A:$R,9,FALSE),"")&IFERROR(VLOOKUP($B$3&"_"&D11,'[11]CANAL 9'!$A:$R,9,FALSE),"")&IFERROR(VLOOKUP($B$3&"_"&D11,'[12]CANAL 10'!$A:$R,9,FALSE),"")&IFERROR(VLOOKUP($B$3&"_"&D11,'[13]CANAL 11'!$A:$R,9,FALSE),"")&IFERROR(VLOOKUP($B$3&"_"&D11,'[14]CANAL 12'!$A:$R,9,FALSE),"")&IFERROR(VLOOKUP($B$3&"_"&D11,'[15]CANAL 13'!$A:$R,9,FALSE),"")&IFERROR(VLOOKUP($B$3&"_"&D11,'[16]CANAL 14'!$A:$R,9,FALSE),"")&IFERROR(VLOOKUP($B$3&"_"&D11,'[17]CANAL 15'!$A:$R,9,FALSE),"")&IFERROR(VLOOKUP($B$3&"_"&D11,'[18]CANAL 16'!$A:$R,9,FALSE),"") -> 0 | R11: =IFERROR(VLOOKUP($B$3&"_"&D11,'CANAL 17'!$A:$R,15,FALSE),"")&IFERROR(VLOOKUP($B$3&"_"&D11,'[2]CANAL 18'!$A:$R,15,FALSE),"")&IFERROR(VLOOKUP($B$3&"_"&D11,'[3]CANAL 1'!$A:$R,15,FALSE),"")&IFERROR(VLOOKUP($B$3&"_"&D11,'[4]CANAL 2'!$A:$R,15,FALSE),"")&IFERROR(VLOOKUP($B$3&"_"&D11,'[5]CANAL 3'!$A:$R,15,FALSE),"")&IFERROR(VLOOKUP($B$3&"_"&D11,'[6]CANAL 4'!$A:$R,15,FALSE),"")&IFERROR(VLOOKUP($B$3&"_"&D11,'[7]CANAL 5'!$A:$R,15,FALSE),"")&IFERROR(VLOOKUP($B$3&"_"&D11,'[8]CANAL 6'!$A:$R,15,FALSE),"")&IFERROR(VLOOKUP($B$3&"_"&D11,'[9]CANAL 7'!$A:$R,15,FALSE),"")&IFERROR(VLOOKUP($B$3&"_"&D11,'[10]CANAL 8'!$A:$R,15,FALSE),"")&IFERROR(VLOOKUP($B$3&"_"&D11,'[11]CANAL 9'!$A:$R,15,FALSE),"")&IFERROR(VLOOKUP($B$3&"_"&D11,'[12]CANAL 10'!$A:$R,15,FALSE),"")&IFERROR(VLOOKUP($B$3&"_"&D11,'[13]CANAL 11'!$A:$R,15,FALSE),"")&IFERROR(VLOOKUP($B$3&"_"&D11,'[14]CANAL 12'!$A:$R,15,FALSE),"")&IFERROR(VLOOKUP($B$3&"_"&D11,'[15]CANAL 13'!$A:$R,15,FALSE),"")&IFERROR(VLOOKUP($B$3&"_"&D11,'[16]CANAL 14'!$A:$R,15,FALSE),"")&IFERROR(VLOOKUP($B$3&"_"&D11,'[17]CANAL 15'!$A:$R,15,FALSE),"")&IFERROR(VLOOKUP($B$3&"_"&D11,'[18]CANAL 16'!$A:$R,15,FALSE),"") -> 0
D12: 4 | E12: =IFERROR(VLOOKUP($B$3&"_"&D12,'CANAL 17'!$A:$R,2,FALSE),"")&IFERROR(VLOOKUP($B$3&"_"&D12,'[2]CANAL 18'!$A:$R,2,FALSE),"")&IFERROR(VLOOKUP($B$3&"_"&D12,'[3]CANAL 1'!A:R,2,FALSE),"")&IFERROR(VLOOKUP($B$3&"_"&D12,'[4]CANAL 2'!A:R,2,FALSE),"")&IFERROR(VLOOKUP($B$3&"_"&D12,'[5]CANAL 3'!A:R,2,FALSE),"")&IFERROR(VLOOKUP($B$3&"_"&D12,'[6]CANAL 4'!A:R,2,FALSE),"")&IFERROR(VLOOKUP($B$3&"_"&D12,'[7]CANAL 5'!A:R,2,FALSE),"")&IFERROR(VLOOKUP($B$3&"_"&D12,'[8]CANAL 6'!A:R,2,FALSE),"")&IFERROR(VLOOKUP($B$3&"_"&D12,'[9]CANAL 7'!A:R,2,FALSE),"")&IFERROR(VLOOKUP($B$3&"_"&D12,'[10]CANAL 8'!A:R,2,FALSE),"")&IFERROR(VLOOKUP($B$3&"_"&D12,'[11]CANAL 9'!A:R,2,FALSE),"")&IFERROR(VLOOKUP($B$3&"_"&D12,'[12]CANAL 10'!A:R,2,FALSE),"")&IFERROR(VLOOKUP($B$3&"_"&D12,'[13]CANAL 11'!A:R,2,FALSE),"")&IFERROR(VLOOKUP($B$3&"_"&D12,'[14]CANAL 12'!A:R,2,FALSE),"")&IFERROR(VLOOKUP($B$3&"_"&D12,'[15]CANAL 13'!A:R,2,FALSE),"")&IFERROR(VLOOKUP($B$3&"_"&D12,'[16]CANAL 14'!A:R,2,FALSE),"")&IFERROR(VLOOKUP($B$3&"_"&D12,'[17]CANAL 15'!A:R,2,FALSE),"")&IFERROR(VLOOKUP($B$3&"_"&D12,'[18]CANAL 16'!A:R,2,FALSE),"") -> 4 | F12: =IFERROR(VLOOKUP($B$3&"_"&D12,'CANAL 17'!$A:$R,3,FALSE),"")&IFERROR(VLOOKUP($B$3&"_"&D12,'[2]CANAL 18'!$A:$R,3,FALSE),"")&IFERROR(VLOOKUP($B$3&"_"&D12,'[3]CANAL 1'!$A:$R,3,FALSE),"")&IFERROR(VLOOKUP($B$3&"_"&D12,'[4]CANAL 2'!$A:$R,3,FALSE),"")&IFERROR(VLOOKUP($B$3&"_"&D12,'[5]CANAL 3'!$A:$R,3,FALSE),"")&IFERROR(VLOOKUP($B$3&"_"&D12,'[6]CANAL 4'!$A:$R,3,FALSE),"")&IFERROR(VLOOKUP($B$3&"_"&D12,'[7]CANAL 5'!$A:$R,3,FALSE),"")&IFERROR(VLOOKUP($B$3&"_"&D12,'[8]CANAL 6'!$A:$R,3,FALSE),"")&IFERROR(VLOOKUP($B$3&"_"&D12,'[9]CANAL 7'!$A:$R,3,FALSE),"")&IFERROR(VLOOKUP($B$3&"_"&D12,'[10]CANAL 8'!$A:$R,3,FALSE),"")&IFERROR(VLOOKUP($B$3&"_"&D12,'[11]CANAL 9'!$A:$R,3,FALSE),"")&IFERROR(VLOOKUP($B$3&"_"&D12,'[12]CANAL 10'!$A:$R,3,FALSE),"")&IFERROR(VLOOKUP($B$3&"_"&D12,'[13]CANAL 11'!$A:$R,3,FALSE),"")&IFERROR(VLOOKUP($B$3&"_"&D12,'[14]CANAL 12'!$A:$R,3,FALSE),"")&IFERROR(VLOOKUP($B$3&"_"&D12,'[15]CANAL 13'!$A:$R,3,FALSE),"")&IFERROR(VLOOKUP($B$3&"_"&D12,'[16]CANAL 14'!$A:$R,3,FALSE),"")&IFERROR(VLOOKUP($B$3&"_"&D12,'[17]CANAL 15'!$A:$R,3,FALSE),"")&IFERROR(VLOOKUP($B$3&"_"&D12,'[18]CANAL 16'!$A:$R,3,FALSE),"") -> 1237 | G12: =IFERROR(VLOOKUP($B$3&"_"&D12,'CANAL 17'!$A:$R,4,FALSE),"")&IFERROR(VLOOKUP($B$3&"_"&D12,'[2]CANAL 18'!$A:$R,4,FALSE),"")&IFERROR(VLOOKUP($B$3&"_"&D12,'[3]CANAL 1'!$A:$R,4,FALSE),"")&IFERROR(VLOOKUP($B$3&"_"&D12,'[4]CANAL 2'!$A:$R,4,FALSE),"")&IFERROR(VLOOKUP($B$3&"_"&D12,'[5]CANAL 3'!$A:$R,4,FALSE),"")&IFERROR(VLOOKUP($B$3&"_"&D12,'[6]CANAL 4'!$A:$R,4,FALSE),"")&IFERROR(VLOOKUP($B$3&"_"&D12,'[7]CANAL 5'!$A:$R,4,FALSE),"")&IFERROR(VLOOKUP($B$3&"_"&D12,'[8]CANAL 6'!$A:$R,4,FALSE),"")&IFERROR(VLOOKUP($B$3&"_"&D12,'[9]CANAL 7'!$A:$R,4,FALSE),"")&IFERROR(VLOOKUP($B$3&"_"&D12,'[10]CANAL 8'!$A:$R,4,FALSE),"")&IFERROR(VLOOKUP($B$3&"_"&D12,'[11]CANAL 9'!$A:$R,4,FALSE),"")&IFERROR(VLOOKUP($B$3&"_"&D12,'[12]CANAL 10'!$A:$R,4,FALSE),"")&IFERROR(VLOOKUP($B$3&"_"&D12,'[13]CANAL 11'!$A:$R,4,FALSE),"")&IFERROR(VLOOKUP($B$3&"_"&D12,'[14]CANAL 12'!$A:$R,4,FALSE),"")&IFERROR(VLOOKUP($B$3&"_"&D12,'[15]CANAL 13'!$A:$R,4,FALSE),"")&IFERROR(VLOOKUP($B$3&"_"&D12,'[16]CANAL 14'!$A:$R,4,FALSE),"")&IFERROR(VLOOKUP($B$3&"_"&D12,'[17]CANAL 15'!$A:$R,4,FALSE),"")&IFERROR(VLOOKUP($B$3&"_"&D12,'[18]CANAL 16'!$A:$R,4,FALSE),"") -> 12345 | H12: =IFERROR(VLOOKUP($B$3&"_"&D12,'CANAL 17'!$A:$R,5,FALSE),"")&IFERROR(VLOOKUP($B$3&"_"&D12,'[2]CANAL 18'!$A:$R,5,FALSE),"")&IFERROR(VLOOKUP($B$3&"_"&D12,'[3]CANAL 1'!$A:$R,5,FALSE),"")&IFERROR(VLOOKUP($B$3&"_"&D12,'[4]CANAL 2'!$A:$R,5,FALSE),"")&IFERROR(VLOOKUP($B$3&"_"&D12,'[5]CANAL 3'!$A:$R,5,FALSE),"")&IFERROR(VLOOKUP($B$3&"_"&D12,'[6]CANAL 4'!$A:$R,5,FALSE),"")&IFERROR(VLOOKUP($B$3&"_"&D12,'[7]CANAL 5'!$A:$R,5,FALSE),"")&IFERROR(VLOOKUP($B$3&"_"&D12,'[8]CANAL 6'!$A:$R,5,FALSE),"")&IFERROR(VLOOKUP($B$3&"_"&D12,'[9]CANAL 7'!$A:$R,5,FALSE),"")&IFERROR(VLOOKUP($B$3&"_"&D12,'[10]CANAL 8'!$A:$R,5,FALSE),"")&IFERROR(VLOOKUP($B$3&"_"&D12,'[11]CANAL 9'!$A:$R,5,FALSE),"")&IFERROR(VLOOKUP($B$3&"_"&D12,'[12]CANAL 10'!$A:$R,5,FALSE),"")&IFERROR(VLOOKUP($B$3&"_"&D12,'[13]CANAL 11'!$A:$R,5,FALSE),"")&IFERROR(VLOOKUP($B$3&"_"&D12,'[14]CANAL 12'!$A:$R,5,FALSE),"")&IFERROR(VLOOKUP($B$3&"_"&D12,'[15]CANAL 13'!$A:$R,5,FALSE),"")&IFERROR(VLOOKUP($B$3&"_"&D12,'[16]CANAL 14'!$A:$R,5,FALSE),"")&IFERROR(VLOOKUP($B$3&"_"&D12,'[17]CANAL 15'!$A:$R,5,FALSE),"")&IFERROR(VLOOKUP($B$3&"_"&D12,'[18]CANAL 16'!$A:$R,5,FALSE),"") -> 2 | I12: =IFERROR(VLOOKUP($B$3&"_"&D12,'CANAL 17'!$A:$R,6,FALSE),"")&IFERROR(VLOOKUP($B$3&"_"&D12,'[2]CANAL 18'!$A:$R,6,FALSE),"")&IFERROR(VLOOKUP($B$3&"_"&D12,'[3]CANAL 1'!$A:$R,6,FALSE),"")&IFERROR(VLOOKUP($B$3&"_"&D12,'[4]CANAL 2'!$A:$R,6,FALSE),"")&IFERROR(VLOOKUP($B$3&"_"&D12,'[5]CANAL 3'!$A:$R,6,FALSE),"")&IFERROR(VLOOKUP($B$3&"_"&D12,'[6]CANAL 4'!$A:$R,6,FALSE),"")&IFERROR(VLOOKUP($B$3&"_"&D12,'[7]CANAL 5'!$A:$R,6,FALSE),"")&IFERROR(VLOOKUP($B$3&"_"&D12,'[8]CANAL 6'!$A:$R,6,FALSE),"")&IFERROR(VLOOKUP($B$3&"_"&D12,'[9]CANAL 7'!$A:$R,6,FALSE),"")&IFERROR(VLOOKUP($B$3&"_"&D12,'[10]CANAL 8'!$A:$R,6,FALSE),"")&IFERROR(VLOOKUP($B$3&"_"&D12,'[11]CANAL 9'!$A:$R,6,FALSE),"")&IFERROR(VLOOKUP($B$3&"_"&D12,'[12]CANAL 10'!$A:$R,6,FALSE),"")&IFERROR(VLOOKUP($B$3&"_"&D12,'[13]CANAL 11'!$A:$R,6,FALSE),"")&IFERROR(VLOOKUP($B$3&"_"&D12,'[14]CANAL 12'!$A:$R,6,FALSE),"")&IFERROR(VLOOKUP($B$3&"_"&D12,'[15]CANAL 13'!$A:$R,6,FALSE),"")&IFERROR(VLOOKUP($B$3&"_"&D12,'[16]CANAL 14'!$A:$R,6,FALSE),"")&IFERROR(VLOOKUP($B$3&"_"&D12,'[17]CANAL 15'!$A:$R,6,FALSE),"")&IFERROR(VLOOKUP($B$3&"_"&D12,'[18]CANAL 16'!$A:$R,6,FALSE),"") -> rien | J12: =IFERROR(VLOOKUP($B$3&"_"&D12,'CANAL 17'!$A:$R,7,FALSE),"")&IFERROR(VLOOKUP($B$3&"_"&D12,'[2]CANAL 18'!$A:$R,7,FALSE),"")&IFERROR(VLOOKUP($B$3&"_"&D12,'[3]CANAL 1'!$A:$R,7,FALSE),"")&IFERROR(VLOOKUP($B$3&"_"&D12,'[4]CANAL 2'!$A:$R,7,FALSE),"")&IFERROR(VLOOKUP($B$3&"_"&D12,'[5]CANAL 3'!$A:$R,7,FALSE),"")&IFERROR(VLOOKUP($B$3&"_"&D12,'[6]CANAL 4'!$A:$R,7,FALSE),"")&IFERROR(VLOOKUP($B$3&"_"&D12,'[7]CANAL 5'!$A:$R,7,FALSE),"")&IFERROR(VLOOKUP($B$3&"_"&D12,'[8]CANAL 6'!$A:$R,7,FALSE),"")&IFERROR(VLOOKUP($B$3&"_"&D12,'[9]CANAL 7'!$A:$R,7,FALSE),"")&IFERROR(VLOOKUP($B$3&"_"&D12,'[10]CANAL 8'!$A:$R,7,FALSE),"")&IFERROR(VLOOKUP($B$3&"_"&D12,'[11]CANAL 9'!$A:$R,7,FALSE),"")&IFERROR(VLOOKUP($B$3&"_"&D12,'[12]CANAL 10'!$A:$R,7,FALSE),"")&IFERROR(VLOOKUP($B$3&"_"&D12,'[13]CANAL 11'!$A:$R,7,FALSE),"")&IFERROR(VLOOKUP($B$3&"_"&D12,'[14]CANAL 12'!$A:$R,7,FALSE),"")&IFERROR(VLOOKUP($B$3&"_"&D12,'[15]CANAL 13'!$A:$R,7,FALSE),"")&IFERROR(VLOOKUP($B$3&"_"&D12,'[16]CANAL 14'!$A:$R,7,FALSE),"")&IFERROR(VLOOKUP($B$3&"_"&D12,'[17]CANAL 15'!$A:$R,7,FALSE),"")&IFERROR(VLOOKUP($B$3&"_"&D12,'[18]CANAL 16'!$A:$R,7,FALSE),"") -> AZERTY | K12: =IFERROR(VLOOKUP($B$3&"_"&D12,'CANAL 17'!$A:$R,8,FALSE),"")&IFERROR(VLOOKUP($B$3&"_"&D12,'[2]CANAL 18'!$A:$R,8,FALSE),"")&IFERROR(VLOOKUP($B$3&"_"&D12,'[3]CANAL 1'!$A:$R,8,FALSE),"")&IFERROR(VLOOKUP($B$3&"_"&D12,'[4]CANAL 2'!$A:$R,8,FALSE),"")&IFERROR(VLOOKUP($B$3&"_"&D12,'[5]CANAL 3'!$A:$R,8,FALSE),"")&IFERROR(VLOOKUP($B$3&"_"&D12,'[6]CANAL 4'!$A:$R,8,FALSE),"")&IFERROR(VLOOKUP($B$3&"_"&D12,'[7]CANAL 5'!$A:$R,8,FALSE),"")&IFERROR(VLOOKUP($B$3&"_"&D12,'[8]CANAL 6'!$A:$R,8,FALSE),"")&IFERROR(VLOOKUP($B$3&"_"&D12,'[9]CANAL 7'!$A:$R,8,FALSE),"")&IFERROR(VLOOKUP($B$3&"_"&D12,'[10]CANAL 8'!$A:$R,8,FALSE),"")&IFERROR(VLOOKUP($B$3&"_"&D12,'[11]CANAL 9'!$A:$R,8,FALSE),"")&IFERROR(VLOOKUP($B$3&"_"&D12,'[12]CANAL 10'!$A:$R,8,FALSE),"")&IFERROR(VLOOKUP($B$3&"_"&D12,'[13]CANAL 11'!$A:$R,8,FALSE),"")&IFERROR(VLOOKUP($B$3&"_"&D12,'[14]CANAL 12'!$A:$R,8,FALSE),"")&IFERROR(VLOOKUP($B$3&"_"&D12,'[15]CANAL 13'!$A:$R,8,FALSE),"")&IFERROR(VLOOKUP($B$3&"_"&D12,'[16]CANAL 14'!$A:$R,8,FALSE),"")&IFERROR(VLOOKUP($B$3&"_"&D12,'[17]CANAL 15'!$A:$R,8,FALSE),"")&IFERROR(VLOOKUP($B$3&"_"&D12,'[18]CANAL 16'!$A:$R,8,FALSE),"") -> 0 | L12: =IFERROR(VLOOKUP($B$3&"_"&D12,'CANAL 17'!$A:$R,9,FALSE),"")&IFERROR(VLOOKUP($B$3&"_"&D12,'[2]CANAL 18'!$A:$R,9,FALSE),"")&IFERROR(VLOOKUP($B$3&"_"&D12,'[3]CANAL 1'!$A:$R,9,FALSE),"")&IFERROR(VLOOKUP($B$3&"_"&D12,'[4]CANAL 2'!$A:$R,9,FALSE),"")&IFERROR(VLOOKUP($B$3&"_"&D12,'[5]CANAL 3'!$A:$R,9,FALSE),"")&IFERROR(VLOOKUP($B$3&"_"&D12,'[6]CANAL 4'!$A:$R,9,FALSE),"")&IFERROR(VLOOKUP($B$3&"_"&D12,'[7]CANAL 5'!$A:$R,9,FALSE),"")&IFERROR(VLOOKUP($B$3&"_"&D12,'[8]CANAL 6'!$A:$R,9,FALSE),"")&IFERROR(VLOOKUP($B$3&"_"&D12,'[9]CANAL 7'!$A:$R,9,FALSE),"")&IFERROR(VLOOKUP($B$3&"_"&D12,'[10]CANAL 8'!$A:$R,9,FALSE),"")&IFERROR(VLOOKUP($B$3&"_"&D12,'[11]CANAL 9'!$A:$R,9,FALSE),"")&IFERROR(VLOOKUP($B$3&"_"&D12,'[12]CANAL 10'!$A:$R,9,FALSE),"")&IFERROR(VLOOKUP($B$3&"_"&D12,'[13]CANAL 11'!$A:$R,9,FALSE),"")&IFERROR(VLOOKUP($B$3&"_"&D12,'[14]CANAL 12'!$A:$R,9,FALSE),"")&IFERROR(VLOOKUP($B$3&"_"&D12,'[15]CANAL 13'!$A:$R,9,FALSE),"")&IFERROR(VLOOKUP($B$3&"_"&D12,'[16]CANAL 14'!$A:$R,9,FALSE),"")&IFERROR(VLOOKUP($B$3&"_"&D12,'[17]CANAL 15'!$A:$R,9,FALSE),"")&IFERROR(VLOOKUP($B$3&"_"&D12,'[18]CANAL 16'!$A:$R,9,FALSE),"") -> 0 | R12: =IFERROR(VLOOKUP($B$3&"_"&D12,'CANAL 17'!$A:$R,15,FALSE),"")&IFERROR(VLOOKUP($B$3&"_"&D12,'[2]CANAL 18'!$A:$R,15,FALSE),"")&IFERROR(VLOOKUP($B$3&"_"&D12,'[3]CANAL 1'!$A:$R,15,FALSE),"")&IFERROR(VLOOKUP($B$3&"_"&D12,'[4]CANAL 2'!$A:$R,15,FALSE),"")&IFERROR(VLOOKUP($B$3&"_"&D12,'[5]CANAL 3'!$A:$R,15,FALSE),"")&IFERROR(VLOOKUP($B$3&"_"&D12,'[6]CANAL 4'!$A:$R,15,FALSE),"")&IFERROR(VLOOKUP($B$3&"_"&D12,'[7]CANAL 5'!$A:$R,15,FALSE),"")&IFERROR(VLOOKUP($B$3&"_"&D12,'[8]CANAL 6'!$A:$R,15,FALSE),"")&IFERROR(VLOOKUP($B$3&"_"&D12,'[9]CANAL 7'!$A:$R,15,FALSE),"")&IFERROR(VLOOKUP($B$3&"_"&D12,'[10]CANAL 8'!$A:$R,15,FALSE),"")&IFERROR(VLOOKUP($B$3&"_"&D12,'[11]CANAL 9'!$A:$R,15,FALSE),"")&IFERROR(VLOOKUP($B$3&"_"&D12,'[12]CANAL 10'!$A:$R,15,FALSE),"")&IFERROR(VLOOKUP($B$3&"_"&D12,'[13]CANAL 11'!$A:$R,15,FALSE),"")&IFERROR(VLOOKUP($B$3&"_"&D12,'[14]CANAL 12'!$A:$R,15,FALSE),"")&IFERROR(VLOOKUP($B$3&"_"&D12,'[15]CANAL 13'!$A:$R,15,FALSE),"")&IFERROR(VLOOKUP($B$3&"_"&D12,'[16]CANAL 14'!$A:$R,15,FALSE),"")&IFERROR(VLOOKUP($B$3&"_"&D12,'[17]CANAL 15'!$A:$R,15,FALSE),"")&IFERROR(VLOOKUP($B$3&"_"&D12,'[18]CANAL 16'!$A:$R,15,FALSE),"") -> 1
D13: 5 | E13: =IFERROR(VLOOKUP($B$3&"_"&D13,'CANAL 17'!$A:$R,2,FALSE),"")&IFERROR(VLOOKUP($B$3&"_"&D13,'[2]CANAL 18'!$A:$R,2,FALSE),"")&IFERROR(VLOOKUP($B$3&"_"&D13,'[3]CANAL 1'!A:R,2,FALSE),"")&IFERROR(VLOOKUP($B$3&"_"&D13,'[4]CANAL 2'!A:R,2,FALSE),"")&IFERROR(VLOOKUP($B$3&"_"&D13,'[5]CANAL 3'!A:R,2,FALSE),"")&IFERROR(VLOOKUP($B$3&"_"&D13,'[6]CANAL 4'!A:R,2,FALSE),"")&IFERROR(VLOOKUP($B$3&"_"&D13,'[7]CANAL 5'!A:R,2,FALSE),"")&IFERROR(VLOOKUP($B$3&"_"&D13,'[8]CANAL 6'!A:R,2,FALSE),"")&IFERROR(VLOOKUP($B$3&"_"&D13,'[9]CANAL 7'!A:R,2,FALSE),"")&IFERROR(VLOOKUP($B$3&"_"&D13,'[10]CANAL 8'!A:R,2,FALSE),"")&IFERROR(VLOOKUP($B$3&"_"&D13,'[11]CANAL 9'!A:R,2,FALSE),"")&IFERROR(VLOOKUP($B$3&"_"&D13,'[12]CANAL 10'!A:R,2,FALSE),"")&IFERROR(VLOOKUP($B$3&"_"&D13,'[13]CANAL 11'!A:R,2,FALSE),"")&IFERROR(VLOOKUP($B$3&"_"&D13,'[14]CANAL 12'!A:R,2,FALSE),"")&IFERROR(VLOOKUP($B$3&"_"&D13,'[15]CANAL 13'!A:R,2,FALSE),"")&IFERROR(VLOOKUP($B$3&"_"&D13,'[16]CANAL 14'!A:R,2,FALSE),"")&IFERROR(VLOOKUP($B$3&"_"&D13,'[17]CANAL 15'!A:R,2,FALSE),"")&IFERROR(VLOOKUP($B$3&"_"&D13,'[18]CANAL 16'!A:R,2,FALSE),"") | F13: =IFERROR(VLOOKUP($B$3&"_"&D13,'CANAL 17'!$A:$R,3,FALSE),"")&IFERROR(VLOOKUP($B$3&"_"&D13,'[2]CANAL 18'!$A:$R,3,FALSE),"")&IFERROR(VLOOKUP($B$3&"_"&D13,'[3]CANAL 1'!$A:$R,3,FALSE),"")&IFERROR(VLOOKUP($B$3&"_"&D13,'[4]CANAL 2'!$A:$R,3,FALSE),"")&IFERROR(VLOOKUP($B$3&"_"&D13,'[5]CANAL 3'!$A:$R,3,FALSE),"")&IFERROR(VLOOKUP($B$3&"_"&D13,'[6]CANAL 4'!$A:$R,3,FALSE),"")&IFERROR(VLOOKUP($B$3&"_"&D13,'[7]CANAL 5'!$A:$R,3,FALSE),"")&IFERROR(VLOOKUP($B$3&"_"&D13,'[8]CANAL 6'!$A:$R,3,FALSE),"")&IFERROR(VLOOKUP($B$3&"_"&D13,'[9]CANAL 7'!$A:$R,3,FALSE),"")&IFERROR(VLOOKUP($B$3&"_"&D13,'[10]CANAL 8'!$A:$R,3,FALSE),"")&IFERROR(VLOOKUP($B$3&"_"&D13,'[11]CANAL 9'!$A:$R,3,FALSE),"")&IFERROR(VLOOKUP($B$3&"_"&D13,'[12]CANAL 10'!$A:$R,3,FALSE),"")&IFERROR(VLOOKUP($B$3&"_"&D13,'[13]CANAL 11'!$A:$R,3,FALSE),"")&IFERROR(VLOOKUP($B$3&"_"&D13,'[14]CANAL 12'!$A:$R,3,FALSE),"")&IFERROR(VLOOKUP($B$3&"_"&D13,'[15]CANAL 13'!$A:$R,3,FALSE),"")&IFERROR(VLOOKUP($B$3&"_"&D13,'[16]CANAL 14'!$A:$R,3,FALSE),"")&IFERROR(VLOOKUP($B$3&"_"&D13,'[17]CANAL 15'!$A:$R,3,FALSE),"")&IFERROR(VLOOKUP($B$3&"_"&D13,'[18]CANAL 16'!$A:$R,3,FALSE),"") | G13: =IFERROR(VLOOKUP($B$3&"_"&D13,'CANAL 17'!$A:$R,4,FALSE),"")&IFERROR(VLOOKUP($B$3&"_"&D13,'[2]CANAL 18'!$A:$R,4,FALSE),"")&IFERROR(VLOOKUP($B$3&"_"&D13,'[3]CANAL 1'!$A:$R,4,FALSE),"")&IFERROR(VLOOKUP($B$3&"_"&D13,'[4]CANAL 2'!$A:$R,4,FALSE),"")&IFERROR(VLOOKUP($B$3&"_"&D13,'[5]CANAL 3'!$A:$R,4,FALSE),"")&IFERROR(VLOOKUP($B$3&"_"&D13,'[6]CANAL 4'!$A:$R,4,FALSE),"")&IFERROR(VLOOKUP($B$3&"_"&D13,'[7]CANAL 5'!$A:$R,4,FALSE),"")&IFERROR(VLOOKUP($B$3&"_"&D13,'[8]CANAL 6'!$A:$R,4,FALSE),"")&IFERROR(VLOOKUP($B$3&"_"&D13,'[9]CANAL 7'!$A:$R,4,FALSE),"")&IFERROR(VLOOKUP($B$3&"_"&D13,'[10]CANAL 8'!$A:$R,4,FALSE),"")&IFERROR(VLOOKUP($B$3&"_"&D13,'[11]CANAL 9'!$A:$R,4,FALSE),"")&IFERROR(VLOOKUP($B$3&"_"&D13,'[12]CANAL 10'!$A:$R,4,FALSE),"")&IFERROR(VLOOKUP($B$3&"_"&D13,'[13]CANAL 11'!$A:$R,4,FALSE),"")&IFERROR(VLOOKUP($B$3&"_"&D13,'[14]CANAL 12'!$A:$R,4,FALSE),"")&IFERROR(VLOOKUP($B$3&"_"&D13,'[15]CANAL 13'!$A:$R,4,FALSE),"")&IFERROR(VLOOKUP($B$3&"_"&D13,'[16]CANAL 14'!$A:$R,4,FALSE),"")&IFERROR(VLOOKUP($B$3&"_"&D13,'[17]CANAL 15'!$A:$R,4,FALSE),"")&IFERROR(VLOOKUP($B$3&"_"&D13,'[18]CANAL 16'!$A:$R,4,FALSE),"") | H13: =IFERROR(VLOOKUP($B$3&"_"&D13,'CANAL 17'!$A:$R,5,FALSE),"")&IFERROR(VLOOKUP($B$3&"_"&D13,'[2]CANAL 18'!$A:$R,5,FALSE),"")&IFERROR(VLOOKUP($B$3&"_"&D13,'[3]CANAL 1'!$A:$R,5,FALSE),"")&IFERROR(VLOOKUP($B$3&"_"&D13,'[4]CANAL 2'!$A:$R,5,FALSE),"")&IFERROR(VLOOKUP($B$3&"_"&D13,'[5]CANAL 3'!$A:$R,5,FALSE),"")&IFERROR(VLOOKUP($B$3&"_"&D13,'[6]CANAL 4'!$A:$R,5,FALSE),"")&IFERROR(VLOOKUP($B$3&"_"&D13,'[7]CANAL 5'!$A:$R,5,FALSE),"")&IFERROR(VLOOKUP($B$3&"_"&D13,'[8]CANAL 6'!$A:$R,5,FALSE),"")&IFERROR(VLOOKUP($B$3&"_"&D13,'[9]CANAL 7'!$A:$R,5,FALSE),"")&IFERROR(VLOOKUP($B$3&"_"&D13,'[10]CANAL 8'!$A:$R,5,FALSE),"")&IFERROR(VLOOKUP($B$3&"_"&D13,'[11]CANAL 9'!$A:$R,5,FALSE),"")&IFERROR(VLOOKUP($B$3&"_"&D13,'[12]CANAL 10'!$A:$R,5,FALSE),"")&IFERROR(VLOOKUP($B$3&"_"&D13,'[13]CANAL 11'!$A:$R,5,FALSE),"")&IFERROR(VLOOKUP($B$3&"_"&D13,'[14]CANAL 12'!$A:$R,5,FALSE),"")&IFERROR(VLOOKUP($B$3&"_"&D13,'[15]CANAL 13'!$A:$R,5,FALSE),"")&IFERROR(VLOOKUP($B$3&"_"&D13,'[16]CANAL 14'!$A:$R,5,FALSE),"")&IFERROR(VLOOKUP($B$3&"_"&D13,'[17]CANAL 15'!$A:$R,5,FALSE),"")&IFERROR(VLOOKUP($B$3&"_"&D13,'[18]CANAL 16'!$A:$R,5,FALSE),"") | I13: =IFERROR(VLOOKUP($B$3&"_"&D13,'CANAL 17'!$A:$R,6,FALSE),"")&IFERROR(VLOOKUP($B$3&"_"&D13,'[2]CANAL 18'!$A:$R,6,FALSE),"")&IFERROR(VLOOKUP($B$3&"_"&D13,'[3]CANAL 1'!$A:$R,6,FALSE),"")&IFERROR(VLOOKUP($B$3&"_"&D13,'[4]CANAL 2'!$A:$R,6,FALSE),"")&IFERROR(VLOOKUP($B$3&"_"&D13,'[5]CANAL 3'!$A:$R,6,FALSE),"")&IFERROR(VLOOKUP($B$3&"_"&D13,'[6]CANAL 4'!$A:$R,6,FALSE),"")&IFERROR(VLOOKUP($B$3&"_"&D13,'[7]CANAL 5'!$A:$R,6,FALSE),"")&IFERROR(VLOOKUP($B$3&"_"&D13,'[8]CANAL 6'!$A:$R,6,FALSE),"")&IFERROR(VLOOKUP($B$3&"_"&D13,'[9]CANAL 7'!$A:$R,6,FALSE),"")&IFERROR(VLOOKUP($B$3&"_"&D13,'[10]CANAL 8'!$A:$R,6,FALSE),"")&IFERROR(VLOOKUP($B$3&"_"&D13,'[11]CANAL 9'!$A:$R,6,FALSE),"")&IFERROR(VLOOKUP($B$3&"_"&D13,'[12]CANAL 10'!$A:$R,6,FALSE),"")&IFERROR(VLOOKUP($B$3&"_"&D13,'[13]CANAL 11'!$A:$R,6,FALSE),"")&IFERROR(VLOOKUP($B$3&"_"&D13,'[14]CANAL 12'!$A:$R,6,FALSE),"")&IFERROR(VLOOKUP($B$3&"_"&D13,'[15]CANAL 13'!$A:$R,6,FALSE),"")&IFERROR(VLOOKUP($B$3&"_"&D13,'[16]CANAL 14'!$A:$R,6,FALSE),"")&IFERROR(VLOOKUP($B$3&"_"&D13,'[17]CANAL 15'!$A:$R,6,FALSE),"")&IFERROR(VLOOKUP($B$3&"_"&D13,'[18]CANAL 16'!$A:$R,6,FALSE),"") | J13: =IFERROR(VLOOKUP($B$3&"_"&D13,'CANAL 17'!$A:$R,7,FALSE),"")&IFERROR(VLOOKUP($B$3&"_"&D13,'[2]CANAL 18'!$A:$R,7,FALSE),"")&IFERROR(VLOOKUP($B$3&"_"&D13,'[3]CANAL 1'!$A:$R,7,FALSE),"")&IFERROR(VLOOKUP($B$3&"_"&D13,'[4]CANAL 2'!$A:$R,7,FALSE),"")&IFERROR(VLOOKUP($B$3&"_"&D13,'[5]CANAL 3'!$A:$R,7,FALSE),"")&IFERROR(VLOOKUP($B$3&"_"&D13,'[6]CANAL 4'!$A:$R,7,FALSE),"")&IFERROR(VLOOKUP($B$3&"_"&D13,'[7]CANAL 5'!$A:$R,7,FALSE),"")&IFERROR(VLOOKUP($B$3&"_"&D13,'[8]CANAL 6'!$A:$R,7,FALSE),"")&IFERROR(VLOOKUP($B$3&"_"&D13,'[9]CANAL 7'!$A:$R,7,FALSE),"")&IFERROR(VLOOKUP($B$3&"_"&D13,'[10]CANAL 8'!$A:$R,7,FALSE),"")&IFERROR(VLOOKUP($B$3&"_"&D13,'[11]CANAL 9'!$A:$R,7,FALSE),"")&IFERROR(VLOOKUP($B$3&"_"&D13,'[12]CANAL 10'!$A:$R,7,FALSE),"")&IFERROR(VLOOKUP($B$3&"_"&D13,'[13]CANAL 11'!$A:$R,7,FALSE),"")&IFERROR(VLOOKUP($B$3&"_"&D13,'[14]CANAL 12'!$A:$R,7,FALSE),"")&IFERROR(VLOOKUP($B$3&"_"&D13,'[15]CANAL 13'!$A:$R,7,FALSE),"")&IFERROR(VLOOKUP($B$3&"_"&D13,'[16]CANAL 14'!$A:$R,7,FALSE),"")&IFERROR(VLOOKUP($B$3&"_"&D13,'[17]CANAL 15'!$A:$R,7,FALSE),"")&IFERROR(VLOOKUP($B$3&"_"&D13,'[18]CANAL 16'!$A:$R,7,FALSE),"") | K13: =IFERROR(VLOOKUP($B$3&"_"&D13,'CANAL 17'!$A:$R,8,FALSE),"")&IFERROR(VLOOKUP($B$3&"_"&D13,'[2]CANAL 18'!$A:$R,8,FALSE),"")&IFERROR(VLOOKUP($B$3&"_"&D13,'[3]CANAL 1'!$A:$R,8,FALSE),"")&IFERROR(VLOOKUP($B$3&"_"&D13,'[4]CANAL 2'!$A:$R,8,FALSE),"")&IFERROR(VLOOKUP($B$3&"_"&D13,'[5]CANAL 3'!$A:$R,8,FALSE),"")&IFERROR(VLOOKUP($B$3&"_"&D13,'[6]CANAL 4'!$A:$R,8,FALSE),"")&IFERROR(VLOOKUP($B$3&"_"&D13,'[7]CANAL 5'!$A:$R,8,FALSE),"")&IFERROR(VLOOKUP($B$3&"_"&D13,'[8]CANAL 6'!$A:$R,8,FALSE),"")&IFERROR(VLOOKUP($B$3&"_"&D13,'[9]CANAL 7'!$A:$R,8,FALSE),"")&IFERROR(VLOOKUP($B$3&"_"&D13,'[10]CANAL 8'!$A:$R,8,FALSE),"")&IFERROR(VLOOKUP($B$3&"_"&D13,'[11]CANAL 9'!$A:$R,8,FALSE),"")&IFERROR(VLOOKUP($B$3&"_"&D13,'[12]CANAL 10'!$A:$R,8,FALSE),"")&IFERROR(VLOOKUP($B$3&"_"&D13,'[13]CANAL 11'!$A:$R,8,FALSE),"")&IFERROR(VLOOKUP($B$3&"_"&D13,'[14]CANAL 12'!$A:$R,8,FALSE),"")&IFERROR(VLOOKUP($B$3&"_"&D13,'[15]CANAL 13'!$A:$R,8,FALSE),"")&IFERROR(VLOOKUP($B$3&"_"&D13,'[16]CANAL 14'!$A:$R,8,FALSE),"")&IFERROR(VLOOKUP($B$3&"_"&D13,'[17]CANAL 15'!$A:$R,8,FALSE),"")&IFERROR(VLOOKUP($B$3&"_"&D13,'[18]CANAL 16'!$A:$R,8,FALSE),"") | L13: =IFERROR(VLOOKUP($B$3&"_"&D13,'CANAL 17'!$A:$R,9,FALSE),"")&IFERROR(VLOOKUP($B$3&"_"&D13,'[2]CANAL 18'!$A:$R,9,FALSE),"")&IFERROR(VLOOKUP($B$3&"_"&D13,'[3]CANAL 1'!$A:$R,9,FALSE),"")&IFERROR(VLOOKUP($B$3&"_"&D13,'[4]CANAL 2'!$A:$R,9,FALSE),"")&IFERROR(VLOOKUP($B$3&"_"&D13,'[5]CANAL 3'!$A:$R,9,FALSE),"")&IFERROR(VLOOKUP($B$3&"_"&D13,'[6]CANAL 4'!$A:$R,9,FALSE),"")&IFERROR(VLOOKUP($B$3&"_"&D13,'[7]CANAL 5'!$A:$R,9,FALSE),"")&IFERROR(VLOOKUP($B$3&"_"&D13,'[8]CANAL 6'!$A:$R,9,FALSE),"")&IFERROR(VLOOKUP($B$3&"_"&D13,'[9]CANAL 7'!$A:$R,9,FALSE),"")&IFERROR(VLOOKUP($B$3&"_"&D13,'[10]CANAL 8'!$A:$R,9,FALSE),"")&IFERROR(VLOOKUP($B$3&"_"&D13,'[11]CANAL 9'!$A:$R,9,FALSE),"")&IFERROR(VLOOKUP($B$3&"_"&D13,'[12]CANAL 10'!$A:$R,9,FALSE),"")&IFERROR(VLOOKUP($B$3&"_"&D13,'[13]CANAL 11'!$A:$R,9,FALSE),"")&IFERROR(VLOOKUP($B$3&"_"&D13,'[14]CANAL 12'!$A:$R,9,FALSE),"")&IFERROR(VLOOKUP($B$3&"_"&D13,'[15]CANAL 13'!$A:$R,9,FALSE),"")&IFERROR(VLOOKUP($B$3&"_"&D13,'[16]CANAL 14'!$A:$R,9,FALSE),"")&IFERROR(VLOOKUP($B$3&"_"&D13,'[17]CANAL 15'!$A:$R,9,FALSE),"")&IFERROR(VLOOKUP($B$3&"_"&D13,'[18]CANAL 16'!$A:$R,9,FALSE),"") | R13: =IFERROR(VLOOKUP($B$3&"_"&D13,'CANAL 17'!$A:$R,15,FALSE),"")&IFERROR(VLOOKUP($B$3&"_"&D13,'[2]CANAL 18'!$A:$R,15,FALSE),"")&IFERROR(VLOOKUP($B$3&"_"&D13,'[3]CANAL 1'!$A:$R,15,FALSE),"")&IFERROR(VLOOKUP($B$3&"_"&D13,'[4]CANAL 2'!$A:$R,15,FALSE),"")&IFERROR(VLOOKUP($B$3&"_"&D13,'[5]CANAL 3'!$A:$R,15,FALSE),"")&IFERROR(VLOOKUP($B$3&"_"&D13,'[6]CANAL 4'!$A:$R,15,FALSE),"")&IFERROR(VLOOKUP($B$3&"_"&D13,'[7]CANAL 5'!$A:$R,15,FALSE),"")&IFERROR(VLOOKUP($B$3&"_"&D13,'[8]CANAL 6'!$A:$R,15,FALSE),"")&IFERROR(VLOOKUP($B$3&"_"&D13,'[9]CANAL 7'!$A:$R,15,FALSE),"")&IFERROR(VLOOKUP($B$3&"_"&D13,'[10]CANAL 8'!$A:$R,15,FALSE),"")&IFERROR(VLOOKUP($B$3&"_"&D13,'[11]CANAL 9'!$A:$R,15,FALSE),"")&IFERROR(VLOOKUP($B$3&"_"&D13,'[12]CANAL 10'!$A:$R,15,FALSE),"")&IFERROR(VLOOKUP($B$3&"_"&D13,'[13]CANAL 11'!$A:$R,15,FALSE),"")&IFERROR(VLOOKUP($B$3&"_"&D13,'[14]CANAL 12'!$A:$R,15,FALSE),"")&IFERROR(VLOOKUP($B$3&"_"&D13,'[15]CANAL 13'!$A:$R,15,FALSE),"")&IFERROR(VLOOKUP($B$3&"_"&D13,'[16]CANAL 14'!$A:$R,15,FALSE),"")&IFERROR(VLOOKUP($B$3&"_"&D13,'[17]CANAL 15'!$A:$R,15,FALSE),"")&IFERROR(VLOOKUP($B$3&"_"&D13,'[18]CANAL 16'!$A:$R,15,FALSE),"")
