Workbook
Name Atteintes1: atteintes!$G$6:$G$10
Name Atteintes10: atteintes!$T$6:$T$11
Name Atteintes11: atteintes!$U$6:$U$14
Name Atteintes12: atteintes!$V$6:$V$9
Name Atteintes13: atteintes!$W$6:$W$10
Name Atteintes14: atteintes!$X$6:$X$10
Name Atteintes15: atteintes!$Y$6
Name Atteintes16: atteintes!$Z$6:$Z$9
Name Atteintes17: atteintes!$AA$6:$AA$11
Name Atteintes18: atteintes!$AB$6:$AB$11
Name Atteintes2: atteintes!$H$6:$H$14
Name Atteintes3: atteintes!$I$6:$I$10
Name Atteintes4: atteintes!$J$6:$J$18
Name Atteintes5: atteintes!$O$6:$O$12
Name Atteintes6: atteintes!$P$6:$P$14
Name Atteintes7: atteintes!$Q$6:$Q$12
Name Atteintes8: atteintes!$R$6:$R$12
Name Atteintes9: atteintes!$S$6:$S$9
Name Fréquence: 'correspondance coefficients'!$B$3:$B$7
Name Gravité: 'correspondance coefficients'!$B$10:$B$13
Name Listetypesderisques: atteintes!$G$2:$AB$2
Name Maîtrise: 'correspondance coefficients'!$B$16:$B$19
Name Nbagentsconcernés: 'correspondance coefficients'!$B$27:$B$29

Sheet 1 Présentation 
A1: IDENTIFICATION DE L'UNITE DE TRAVAIL
A4: Direction concernée :
A6: Service concerné :
A7: Thématique/Equipe
A8: Nom de l'unité de travail :
A9: Date de l'observation :
A10: Intervenant(s) :
A11: Référent du groupe de travail :
A12: Effectif de l'unité de travail :
A13: Horaires de travail :
A16: Désignation du personnel et Lieux de travail : (insérer autant de lignes supplémentaires que de besoin)
A35: Spécificité(s)
... A45: Vu et validé par le chef de service le :

Sheet 2 Tableau
A2: Référencement risque | B2: Date de mise à jour | C2: Direction | D2: Service | E2: Unité de travail | F2: Activité(s) concernée(s) | G2: Description de la situation dangereuse | H2: Type de risque | J2: Atteinte ou conséquence sur la santé et la sécurité des agents N°1 | K2: Atteinte ou conséquence sur la santé et la sécurité des agents N°2 | L2: Atteinte ou conséquence sur la santé et la sécurité des agents N°3 | M2: Atteinte ou conséquence sur la santé et la sécurité des agents N°4 | N2: Nombre d'agents | O2: F (fréquence) | P2: corres F | Q2: G (gravité) | R2: corres G | S2: Mesures de prévention existantes (techniques/organisationnelles/humaines) | T2: M (Niveau des mesures de prévention) | U2: corres M | V2: R=FGM (niveau de risque) 2023 | W2: R=FGM (niveau de risque) 2020 | X2: Mesure(s) de prévention suggérée(s) (techniques/organisationnelles/humaines) | Y2: Mesure(s) de prévention retenue(s) par la direction | Z2: Date cible de réalisation de la mesure proposée | AA2: Responsable(s) pour la mise en place ou demandeur(s) si exécution par autre(s) service | AB2: Service(s) chargé(s) de la mise en œuvre de la mesure | AC2: Commentaires | AD2: Date effective de la réalisation
B3: 45352 | F3: rangement dans les rayons | G3: les agents utilisent un chariot à roulettes | H3: 1- Risques liés aux équipements, machines, outils. | I3: =HLOOKUP(H3,atteintes!G2:AB3,2,FALSE) -> Atteintes1 | J3: Contusion, écrasement | K3: Trouble musculo - squelettique | L3: --- | M3: --- | N3: Partiel | O3: Très fréquent | P3: =VLOOKUP($O3,'correspondance coefficients'!$B$3:$C$7,2,FALSE) -> 4 | Q3: Sérieux | R3: =VLOOKUP($Q3,'correspondance coefficients'!$B$10:$C$13,2,FALSE) -> 2 | S3: révision périodique des chariots | T3: Mesures de prévention insuffisantes | U3: =VLOOKUP($T3,'correspondance coefficients'!$B$16:$C$19,2,FALSE) -> 0.7 | V3: =P3*R3*U3 -> 5.6 | X3: remplacement des chariots obsolètes / usés
H4: 1- Risques liés aux équipements, machines, outils. | I4: =HLOOKUP(H4,atteintes!G3:AB4,2,FALSE) -> #N/A | J4: --- | K4: --- | L4: --- | M4: --- | N4: Un | O4: Sans intérêt | P4: =VLOOKUP($O4,'correspondance coefficients'!$B$3:$C$7,2,FALSE) -> 0 | Q4: Bénin | R4: =VLOOKUP($Q4,'correspondance coefficients'!$B$10:$C$13,2,FALSE) -> 1 | T4: Mesures de prévention insuffisantes | U4: =VLOOKUP($T4,'correspondance coefficients'!$B$16:$C$19,2,FALSE) -> 0.7 | V4: =P4*R4*U4 -> 0
H5: 1- Risques liés aux équipements, machines, outils. | I5: =HLOOKUP(H5,atteintes!G4:AB5,2,FALSE) -> #N/A | J5: --- | K5: --- | L5: --- | M5: --- | N5: Un | O5: Sans intérêt | P5: =VLOOKUP($O5,'correspondance coefficients'!$B$3:$C$7,2,FALSE) -> 0 | Q5: Bénin | R5: =VLOOKUP($Q5,'correspondance coefficients'!$B$10:$C$13,2,FALSE) -> 1 | T5: Mesures de prévention insuffisantes | U5: =VLOOKUP($T5,'correspondance coefficients'!$B$16:$C$19,2,FALSE) -> 0.7 | V5: =P5*R5*U5 -> 0
H6: 1- Risques liés aux équipements, machines, outils. | I6: =HLOOKUP(H6,atteintes!G5:AB6,2,FALSE) -> #N/A | J6: --- | K6: --- | L6: --- | M6: --- | N6: Un | O6: Sans intérêt | P6: =VLOOKUP($O6,'correspondance coefficients'!$B$3:$C$7,2,FALSE) -> 0 | Q6: Bénin | R6: =VLOOKUP($Q6,'correspondance coefficients'!$B$10:$C$13,2,FALSE) -> 1 | T6: Mesures de prévention insuffisantes | U6: =VLOOKUP($T6,'correspondance coefficients'!$B$16:$C$19,2,FALSE) -> 0.7 | V6: =P6*R6*U6 -> 0
H7: 1- Risques liés aux équipements, machines, outils. | I7: =HLOOKUP(H7,atteintes!G6:AB7,2,FALSE) -> #N/A | J7: --- | K7: --- | L7: --- | M7: --- | N7: Un | O7: Sans intérêt | P7: =VLOOKUP($O7,'correspondance coefficients'!$B$3:$C$7,2,FALSE) -> 0 | Q7: Bénin | R7: =VLOOKUP($Q7,'correspondance coefficients'!$B$10:$C$13,2,FALSE) -> 1 | T7: Mesures de prévention insuffisantes | U7: =VLOOKUP($T7,'correspondance coefficients'!$B$16:$C$19,2,FALSE) -> 0.7 | V7: =P7*R7*U7 -> 0
H8: 1- Risques liés aux équipements, machines, outils. | I8: =HLOOKUP(H8,atteintes!G7:AB8,2,FALSE) -> #N/A | J8: --- | K8: --- | L8: --- | M8: --- | N8: Un | O8: Sans intérêt | P8: =VLOOKUP($O8,'correspondance coefficients'!$B$3:$C$7,2,FALSE) -> 0 | Q8: Bénin | R8: =VLOOKUP($Q8,'correspondance coefficients'!$B$10:$C$13,2,FALSE) -> 1 | T8: Mesures de prévention insuffisantes | U8: =VLOOKUP($T8,'correspondance coefficients'!$B$16:$C$19,2,FALSE) -> 0.7 | V8: =P8*R8*U8 -> 0
H9: 1- Risques liés aux équipements, machines, outils. | I9: =HLOOKUP(H9,atteintes!G8:AB9,2,FALSE) -> #N/A | J9: --- | K9: --- | L9: --- | M9: --- | N9: Un | O9: Très rare | P9: =VLOOKUP($O9,'correspondance coefficients'!$B$3:$C$7,2,FALSE) -> 1 | Q9: Grave | R9: =VLOOKUP($Q9,'correspondance coefficients'!$B$10:$C$13,2,FALSE) -> 3 | T9: Mesures de prévention insuffisantes | U9: =VLOOKUP($T9,'correspondance coefficients'!$B$16:$C$19,2,FALSE) -> 0.7 | V9: =P9*R9*U9 -> 2.1
H10: 1- Risques liés aux équipements, machines, outils. | I10: =HLOOKUP(H10,atteintes!G9:AB10,2,FALSE) -> #N/A | J10: --- | K10: --- | L10: --- | M10: --- | N10: Un | O10: Très rare | P10: =VLOOKUP($O10,'correspondance coefficients'!$B$3:$C$7,2,FALSE) -> 1 | Q10: Grave | R10: =VLOOKUP($Q10,'correspondance coefficients'!$B$10:$C$13,2,FALSE) -> 3 | T10: Mesures de prévention insuffisantes | U10: =VLOOKUP($T10,'correspondance coefficients'!$B$16:$C$19,2,FALSE) -> 0.7 | V10: =P10*R10*U10 -> 2.1
H11: 1- Risques liés aux équipements, machines, outils. | I11: =HLOOKUP(H11,atteintes!G10:AB11,2,FALSE) -> #N/A | J11: --- | K11: --- | L11: --- | M11: --- | N11: Un | O11: Très rare | P11: =VLOOKUP($O11,'correspondance coefficients'!$B$3:$C$7,2,FALSE) -> 1 | Q11: Grave | R11: =VLOOKUP($Q11,'correspondance coefficients'!$B$10:$C$13,2,FALSE) -> 3 | T11: Mesures de prévention insuffisantes | U11: =VLOOKUP($T11,'correspondance coefficients'!$B$16:$C$19,2,FALSE) -> 0.7 | V11: =P11*R11*U11 -> 2.1
H12: 1- Risques liés aux équipements, machines, outils. | I12: =HLOOKUP(H12,atteintes!G11:AB12,2,FALSE) -> #N/A | J12: --- | K12: --- | L12: --- | M12: --- | N12: Un | O12: Très rare | P12: =VLOOKUP($O12,'correspondance coefficients'!$B$3:$C$7,2,FALSE) -> 1 | Q12: Grave | R12: =VLOOKUP($Q12,'correspondance coefficients'!$B$10:$C$13,2,FALSE) -> 3 | T12: Mesures de prévention insuffisantes | U12: =VLOOKUP($T12,'correspondance coefficients'!$B$16:$C$19,2,FALSE) -> 0.7 | V12: =P12*R12*U12 -> 2.1
H13: 1- Risques liés aux équipements, machines, outils. | I13: =HLOOKUP(H13,atteintes!G12:AB13,2,FALSE) -> #N/A | J13: --- | K13: --- | L13: --- | M13: --- | N13: Un | O13: Très rare | P13: =VLOOKUP($O13,'correspondance coefficients'!$B$3:$C$7,2,FALSE) -> 1 | Q13: Grave | R13: =VLOOKUP($Q13,'correspondance coefficients'!$B$10:$C$13,2,FALSE) -> 3 | T13: Mesures de prévention insuffisantes | U13: =VLOOKUP($T13,'correspondance coefficients'!$B$16:$C$19,2,FALSE) -> 0.7 | V13: =P13*R13*U13 -> 2.1
H14: 1- Risques liés aux équipements, machines, outils. | I14: =HLOOKUP(H14,atteintes!G13:AB14,2,FALSE) -> #N/A | J14: --- | K14: --- | L14: --- | M14: --- | N14: Un | O14: Très rare | P14: =VLOOKUP($O14,'correspondance coefficients'!$B$3:$C$7,2,FALSE) -> 1 | Q14: Grave | R14: =VLOOKUP($Q14,'correspondance coefficients'!$B$10:$C$13,2,FALSE) -> 3 | T14: Mesures de prévention insuffisantes | U14: =VLOOKUP($T14,'correspondance coefficients'!$B$16:$C$19,2,FALSE) -> 0.7 | V14: =P14*R14*U14 -> 2.1
H15: 1- Risques liés aux équipements, machines, outils. | I15: =HLOOKUP(H15,atteintes!G14:AB15,2,FALSE) -> #N/A | J15: --- | K15: --- | L15: --- | M15: --- | N15: Un | O15: Très rare | P15: =VLOOKUP($O15,'correspondance coefficients'!$B$3:$C$7,2,FALSE) -> 1 | Q15: Grave | R15: =VLOOKUP($Q15,'correspondance coefficients'!$B$10:$C$13,2,FALSE) -> 3 | T15: Mesures de prévention insuffisantes | U15: =VLOOKUP($T15,'correspondance coefficients'!$B$16:$C$19,2,FALSE) -> 0.7 | V15: =P15*R15*U15 -> 2.1
... H200: 1- Risques liés aux équipements, machines, outils. | I200: =HLOOKUP(H200,atteintes!G199:AB200,2,FALSE) -> #N/A | J200: --- | K200: --- | L200: --- | M200: --- | N200: Un | O200: Très rare | P200: =VLOOKUP($O200,'correspondance coefficients'!$B$3:$C$7,2,FALSE) -> 1 | Q200: Grave | R200: =VLOOKUP($Q200,'correspondance coefficients'!$B$10:$C$13,2,FALSE) -> 3 | T200: Mesures de prévention insuffisantes | U200: =VLOOKUP($T200,'correspondance coefficients'!$B$16:$C$19,2,FALSE) -> 0.7 | V200: =P200*R200*U200 -> 2.1

Sheet graphique
A1: TYPE DE RISQUE | B1: Moyenne de R=FGM (niveau de risque)
A2: 01 - Risques liés aux équipements de travail (machines et outils)
A3: 02 - Risques liés aux produits dangereux (produits chimiques + CMR + risques biologiques)
A4: 03 - Risques liés aux installations électriques (électricité)
A5: 04 - Risques physiques (ambiances lumineuses, bruit, thermiques, vibrations, aération des locaux, climatiques)
A6: 05 - Risques liés aux activités manuelles, au poste de travail (T.M.S)
A7: 06 - Risques liés à la manutention mécanique
A8: 07 - Risques liés aux déplacement / circulations
A9: 08 - Risques liés à l'incendie et à l'explosion
A10: 09 - Risques liés aux installations sanitaires / locaux de travail / installation de restauration
A11: 10 - Risques liés à la conduite de véhicule
A12: 11 - Risques liés à la chute (de plain pied et hauteur)
A13: 12 - Risques liés au travail isolé
... A20: Total général

Sheet récapitulatif plan prévention

Sheet dates de mise à jour
A1: dates de mise à jour
A3: validation

Sheet statistiques

Sheet correspondance coefficients
B2: F : Fréquence d'exposition et/ou durée d'exposition
B3: Sans intérêt | C3: 0 | D3: (activité non concernée)
B4: Très rare | C4: 1 | D4: (Annuel)
B5: Peu fréquent | C5: 2 | D5: (Mensuel / annuel sur un ou plusieurs jours)
B6: Fréquent | C6: 3 | D6: (Hebdomadaire / mensuel sur un ou plusieurs jours)
B7: Très fréquent | C7: 4 | D7: (Quotidien hebdomadaire sur un ou plusieurs jours)
B9: G :
B10: Bénin | C10: 1 | D10: (Inconfort, accident ou maladie n'entraînant pas d'arrêt de travail)
B11: Sérieux | C11: 2 | D11: (Accident ou maladie avec arrêt de travail)
B12: Grave | C12: 3 | D12: (Accident ou maladie avec incapacité permanente partielle)
B13: Très grave | C13: 4 | D13: (Accident ou maladie ayant des conséquences irréversibles ou décès)
B15: M : Niveau de maîtrise
B16: Mesures de prévention efficaces et adaptées | C16: 0.05
B17: Mesures de prévention pouvant encore être améliorées | C17: 0.3
B18: Mesures de prévention insuffisantes | C18: 0.7
B19: Aucune mesure de prévention | C19: 1
B21: R : niveau de risque
B22: R> ou = à 8
B23: 3<ou=R<8
B24: R<3
B26: Nombre agents concernés
B27: Un
B28: Partiel
B29: Tous

Sheet atteintes
A2: Nature des risques | B2: Atteintes et conséquences sur la santé et la sécurité au travail | C2: Code | G2: 1- Risques liés aux équipements, machines, outils. | H2: 2- Risques liés aux produits dangereux. | I2: 3- Risques liés aux installations électriques. | J2: 4- Risques physiques bruit. | K2: 4- Risques physiques ambiances lumineuses. | L2: 4- Risques physiques thermiques. | M2: 4- Risques physiques vibrations. | N2: 4- Risques physiques aération des locaux. | O2: 5- Risques liés aux activités manuelles au poste de travail. | P2: 6- Risques liés à la manutention mécanique. | Q2: 7- Risques liés aux déplacements, circulation. | R2: 8- Risques liés à l’incendie et à l’explosion. | S2: 9- Risques liés aux installations sanitaires. | T2: 10- Risques liés à la conduite de véhicule. | U2: 11- Risques de chute. | V2: 12- Risques liés au travail isolé. | W2: 13- Risques liés au travail administratif. | X2: 14- Risques liés aux violences et agressions. | Y2: 15- Risques liés à l’accueil des nouveaux arrivants. | Z2: 16- Risques liés à l’organisation des premiers secours. | AA2: 17- Risques liés à l’organisation de la prévention. | AB2: 18- Risques liés aux EPI.
A3: 1- Risques liés aux équipements de travail (machines et outils) | B3: Plaie | C3: A1 | G3: Atteintes1 | H3: Atteintes2 | I3: Atteintes3 | J3: Atteintes4 | K3: Atteintes4 | L3: Atteintes4 | M3: Atteintes4 | N3: Atteintes4 | O3: Atteintes5 | P3: Atteintes6 | Q3: Atteintes7 | R3: Atteintes8 | S3: Atteintes9 | T3: Atteintes10 | U3: Atteintes11 | V3: Atteintes12 | W3: Atteintes13 | X3: Atteintes14 | Y3: Atteintes15 | Z3: Atteintes16 | AA3: Atteintes17 | AB3: Atteintes18
B4: Contusion, écrasement | C4: A2 | E4: 1- Risques liés aux équipements, machines, outils.
B5: Trouble musculo - squelettique | C5: A3 | E5: 2- Risques liés aux produits dangereux. | G5: Atteintes1 | H5: Atteintes2 | I5: Atteintes3 | J5: Atteintes4 | K5: Atteintes4 | L5: Atteintes4 | M5: Atteintes4 | N5: Atteintes4 | O5: Atteintes5 | P5: Atteintes6 | Q5: Atteintes7 | R5: Atteintes8 | S5: Atteintes9 | T5: Atteintes10 | U5: Atteintes11 | V5: Atteintes12 | W5: Atteintes13 | X5: Atteintes14 | Y5: Atteintes15 | Z5: Atteintes16 | AA5: Atteintes17 | AB5: Atteintes18
B6: Amputation | C6: A4 | E6: 3- Risques liés aux installations électriques. | G6: --- | H6: --- | I6: --- | J6: --- | K6: --- | L6: --- | M6: --- | N6: --- | O6: --- | P6: --- | Q6: --- | R6: --- | S6: --- | T6: --- | U6: --- | V6: --- | W6: --- | X6: --- | Y6: Polytraumatisme | Z6: Plaie | AA6: --- | AB6: ---
A7: 2- Risques liés aux produits dangereux (produits chimiques + CMR + risques biologiques) | B7: Lésion cutanée (allergique ou irritative) | C7: A5 | E7: 4- Risques physiques bruit. | G7: Amputation | H7: Cancer | I7: Brûlure (physique ou chimique) | J7: Brûlure | K7: Brûlure | L7: Brûlure | M7: Brûlure | N7: Brûlure | O7: Contusion | P7: Amputation | Q7: Contusion | R7: Brûlure | S7: Infection | T7: Contusion | U7: Contusion | V7: Choc psychologique | W7: Cataracte | X7: Choc psychologique | Z7: --- | AA7: Fatigue physique et mentale | AB7: Brûlure
B8: Lésion broncho - pulmonaire (allergique ou irritative) | C8: A6 | E8: 4- Risques physiques ambiances lumineuses. | G8: Contusion, écrasement | H8: Lésion broncho - pulmonaire (allergique ou irritative) | I8: Décès | J8: Coup de chaleur | K8: Coup de chaleur | L8: Coup de chaleur | M8: Coup de chaleur | N8: Coup de chaleur | O8: Ecrasement | P8: Contusion | Q8: Décès | R8: Décès | S8: Lésion cutanée | T8: Décès | U8: Décès | V8: Contusion | W8: Fatigue physique et mentale | X8: Contusion | Z8: Brûlure | AA8: Trouble du sommeil | AB8: Entorse
B9: Lésion oculaire (allergique ou irritative) | C9: A7 | E9: 4- Risques physiques thermiques. | G9: Plaie | H9: Lésion cutanée (allergique ou irritative) | I9: Electrisation | J9: Engelure | K9: Engelure | L9: Engelure | M9: Engelure | N9: Engelure | O9: Entorse | P9: Décès | Q9: Entorse | R9: Lésion hépato - pulmonaire | S9: Plaie | T9: Fracture | U9: Entorse | V9: Plaie | W9: Trouble psychique | X9: Plaie | Z9: Traumatisme | AA9: Trouble musculo – squelettique | AB9: Lésion
B10: Lésion ORL (allergique ou irritative) | C10: A8 | E10: 4- Risques physiques vibrations. | G10: Trouble musculo - squelettique | H10: Lésion oculaire (allergique ou irritative) | I10: Electrocution | J10: Fatigue physique ou mentale | K10: Fatigue physique ou mentale | L10: Fatigue physique ou mentale | M10: Fatigue physique ou mentale | N10: Fatigue physique ou mentale | O10: Fracture | P10: Ecrasement | Q10: Fracture | R10: Lésion neurologique | T10: Plaie | U10: Fracture | W10: Trouble visuel | X10: Trouble psychique | AA10: Trouble psychique | AB10: Plaie
B11: Trouble hépato - digestif | C11: A9 | E11: 4- Risques physiques aération des locaux. | H11: Lésion ORL (allergique ou irritative) | J11: Infection | K11: Infection | L11: Infection | M11: Infection | N11: Infection | O11: Lésion neurologique | P11: Lésion rachidienne | Q11: Plaie | R11: Trouble auditif, surdité | T11: Polytraumatisme | U11: Lésion neurologique | AA11: Trouble psychosomatique | AB11: Trouble auditif
B12: Trouble hématologique | C12: A10 | E12: 5- Risques liés aux activités manuelles au poste de travail. | H12: Trouble de la reproduction | J12: Lésion (oculaire, broncho - pulmonaire…) | K12: Lésion (oculaire, broncho - pulmonaire…) | L12: Lésion (oculaire, broncho - pulmonaire…) | M12: Lésion (oculaire, broncho - pulmonaire…) | N12: Lésion (oculaire, broncho - pulmonaire…) | O12: Lésion rachidienne | P12: Plaie | Q12: Polytraumatisme | R12: Trouble psychique | U12: Lésion rachidienne
B13: Trouble de la reproduction | C13: A11 | E13: 6- Risques liés à la manutention mécanique. | H13: Trouble hématologique | J13: Trouble auditif, surdité | K13: Trouble auditif, surdité | L13: Trouble auditif, surdité | M13: Trouble auditif, surdité | N13: Trouble auditif, surdité | P13: Trauma crânien | U13: Plaie
B14: Cancer | C14: A12 | E14: 7- Risques liés aux déplacements, circulation. | H14: Trouble hépato - digestif | J14: Trouble cardiaque | K14: Trouble cardiaque | L14: Trouble cardiaque | M14: Trouble cardiaque | N14: Trouble cardiaque | P14: Trouble musculo - squelettique | U14: Trauma crânien
A15: 3- Risques liés aux installations électriques (électricité) | B15: Brûlure (physique ou chimique) | C15: A13 | E15: 8- Risques liés à l’incendie et à l’explosion. | J15: Trouble de l'équilibre et/ou neurologique | K15: Trouble de l'équilibre et/ou neurologique | L15: Trouble de l'équilibre et/ou neurologique | M15: Trouble de l'équilibre et/ou neurologique | N15: Trouble de l'équilibre et/ou neurologique
B16: Electrisation | C16: A14 | E16: 9- Risques liés aux installations sanitaires. | J16: Trouble psychique | K16: Trouble psychique | L16: Trouble psychique | M16: Trouble psychique | N16: Trouble psychique
B17: Electrocution | C17: A15 | E17: 10- Risques liés à la conduite de véhicule. | J17: Trouble visuel | K17: Trouble visuel | L17: Trouble visuel | M17: Trouble visuel | N17: Trouble visuel
B18: Décès | C18: A16 | E18: 11- Risques de chute. | J18: Troubles divers (hépato - digestif, hématologique…) | K18: Troubles divers (hépato - digestif, hématologique…) | L18: Troubles divers (hépato - digestif, hématologique…) | M18: Troubles divers (hépato - digestif, hématologique…) | N18: Troubles divers (hépato - digestif, hématologique…)
A19: 4- Risques physiques (ambiances lumineuses, bruit, thermiques, vibrations, aération des locaux, climatiques) | B19: Trouble visuel | C19: A17 | E19: 12- Risques liés au travail isolé.
B20: Fatigue physique ou mentale | C20: A18 | E20: 13- Risques liés au travail administratif.
B21: Trouble psychique | C21: A19 | E21: 14- Risques liés aux violences et agressions.
B22: Brûlure | C22: A13 | E22: 15- Risques liés à l’accueil des nouveaux arrivants.
B23: Coup de chaleur | C23: A20 | E23: 16- Risques liés à l’organisation des premiers secours.
B24: Trouble cardiaque | C24: A21 | E24: 17- Risques liés à l’organisation de la prévention.
B25: Engelure | C25: A22 | E25: 18- Risques liés aux EPI.
B26: Trouble auditif, surdité | C26: A23
B27: Trouble de l'équilibre et/ou neurologique | C27: A24
B28: Lésion (oculaire, broncho - pulmonaire…) | C28: A6
B29: Infection | C29: A25
B30: Troubles divers (hépato - digestif, hématologique…) | C30: A9
A31: 5- Risques liés aux activités manuelles, au poste de travail (T.M.S) | B31: Contusion | C31: A2
B32: Ecrasement | C32: A2
B33: Entorse | C33: A26
B34: Fracture | C34: A27
B35: Lésion rachidienne | C35: A28
B36: Lésion neurologique | C36: A29
A37: 6- Risques liés à la manutention mécanique | B37: Plaie | C37: A1
B38: Contusion | C38: A2
B39: Ecrasement | C39: A37
B40: Trouble musculo - squelettique | C40: A3
B41: Lésion rachidienne | C41: A28
B42: Trauma crânien | C42: A30
B43: Amputation | C43: A4
B44: Décès | C44: A16
A45: 7- Risques liés aux déplacement / circulations | B45: Plaie | C45: A1
B46: Contusion | C46: A2
B47: Entorse | C47: A26
B48: Fracture | C48: A27
B49: Polytraumatisme | C49: A31
B50: Décès | C50: A16
A51: 8- Risques liés à l'incendie et à l'explosion | B51: Brûlure | C51: A13
B52: Lésion hépato - pulmonaire | C52: A32
B53: Trouble auditif, surdité | C53: A23
B54: Lésion neurologique | C54: A29
B55: Trouble psychique | C55: A19
B56: Décès | C56: A16
A57: 9- Risques liés aux installations sanitaires / locaux de travail / installation de restauration | B57: Infection | C57: A25
B58: Lésion cutanée | C58: A5
B59: Plaie | C59: A1
A60: 10- Risques liés à la conduite de véhicule | B60: Plaie | C60: A1
B61: Contusion | C61: A2
B62: Fracture | C62: A27
B63: Polytraumatisme | C63: A31
B64: Décès | C64: A16
A65: 11- Risques liés à la chute (de plain pied et hauteur) | B65: Plaie | C65: A1
B66: Contusion | C66: A2
B67: Entorse | C67: A26
B68: Fracture | C68: A27
B69: Lésion rachidienne | C69: A28
B70: Lésion neurologique | C70: A29
B71: Trauma crânien | C71: A30
B72: Décès | C72: A16
A73: 12- Risques liés au travail isolé | B73: Plaie | C73: A1
B74: Contusion | C74: A2
B75: Choc psychologique | C75: A33
A76: 13- Risques liés au travail administratif (écran de signalisation et poste de travail) | B76: Trouble visuel | C76: A17
B77: Fatigue physique et mentale | C77: A18
B78: Trouble psychique | C78: A19
B79: Cataracte | C79: A34
A80: 14- Risques liés aux violences et agressions | B80: Plaie | C80: A1
B81: Contusion | C81: A2
B82: Choc psychologique | C82: A33
B83: Trouble psychique | C83: A19
A84: 15- Risques liés à l'accueil des nouveaux arrivants | B84: Polytraumatisme | C84: A31
A85: 16- Risques liés à l'organisation des premiers secours | B85: Plaie | C85: A1
B86: Traumatisme | C86: A35
B87: Brûlure | C87: A13
A88: 17- Risques liés à l'organisation de la prévention | B88: Fatigue physique et mentale | C88: A18
B89: Trouble du sommeil | C89: A36
B90: Trouble psychique | C90: A19
B91: Trouble psychosomatique | C91: A37
B92: Trouble musculo – squelettique | C92: A3
A93: 18- Risques liés aux EPI / vêtements de travail | B93: Plaie | C93: A1
B94: Entorse | C94: A26
B95: Brûlure | C95: A13
B96: Lésion | C96: A6
B97: Trouble auditif | C97: A23
