Workbook
Name GD: 'Votes des élèves'!$C$3:$C$6,'Votes des élèves'!$C$7:$C$10
Name GR: 'Votes des élèves'!$K$4:$L$36
Name NE: 'Votes des élèves'!$L$1
Name PRN: 'Votes des élèves'!$C$3:$C$6,'Votes des élèves'!$C$7:$C$10,'Votes des élèves'!$C$11:$C$14

Sheet Votes des élèves
A1: Colonne1 | B1: Classe | C1: Nom | D1: C1 | E1: C2 | F1: C3 | G1: C4 | H1: Ordre | I1: Groupe | K1: Nb d'étudiants | L1: =MATCH("",C2:C476,-1) -> 435 | M1: NE
A2: =ALEAS( NE,1, NE,TRUE) -> #NAME? | B2: =VLOOKUP(Tableau4[[#This Row],[Nom]],'Liste des élèves'!$D$1:$E$612,2,FALSE) -> 2C10 | C2: Hariz Narjisse | D2: 30 | E2: 10 | F2: 21 | G2: 1 | H2: 1 | I2: =IF(D2*(COUNTIF($I$1:$I1,D2)<INDEX(GR,D2,2)),D2,IF(E2*(COUNTIF($I$1:$I1,E2)<INDEX(GR,E2,2)),E2,IF(F2*(COUNTIF($I$1:$I1,F2)<INDEX(GR,F2,2)),F2,IF(G2*(COUNTIF($I$1:$I1,G2)<INDEX(GR,G2,2)),G2)))) -> 30
A3: =ALEAS( NE,1, NE,TRUE) -> #NAME? | B3: =VLOOKUP(Tableau4[[#This Row],[Nom]],'Liste des élèves'!$D$1:$E$612,2,FALSE) -> 4G2 | C3: Benlarbi Amal | D3: 12 | E3: 19 | F3: 13 | G3: 18 | H3: 2 | I3: =IF(D3*(COUNTIF($I$1:$I2,D3)<INDEX(GR,D3,2)),D3,IF(E3*(COUNTIF($I$1:$I2,E3)<INDEX(GR,E3,2)),E3,IF(F3*(COUNTIF($I$1:$I2,F3)<INDEX(GR,F3,2)),F3,IF(G3*(COUNTIF($I$1:$I2,G3)<INDEX(GR,G3,2)),G3)))) -> 12 | K3: Groupe | L3: effectif maxi | M3: GR | N3: effectif réel | Q3: Complet ? | R3: Nombre de places restantes | S3: Local 1 | T3: Local 2 | U3: Local 3 | V3: MEE(s) Local 1 | W3: MEE Local 2 | X3: MEE Local 3
A4: =ALEAS( NE,1, NE,TRUE) -> #NAME? | B4: =VLOOKUP(Tableau4[[#This Row],[Nom]],'Liste des élèves'!$D$1:$E$612,2,FALSE) -> 3G4 | C4: Fares Théa | D4: 15 | E4: 12 | F4: 11 | G4: 30 | H4: 3 | I4: =IF(D4*(COUNTIF($I$1:$I3,D4)<INDEX(GR,D4,2)),D4,IF(E4*(COUNTIF($I$1:$I3,E4)<INDEX(GR,E4,2)),E4,IF(F4*(COUNTIF($I$1:$I3,F4)<INDEX(GR,F4,2)),F4,IF(G4*(COUNTIF($I$1:$I3,G4)<INDEX(GR,G4,2)),G4)))) -> 15 | K4: 1 | L4: 24 | N4: =COUNTIF(Tableau4[Groupe],K4) -> 5 | O4: =COUNTIF(I:I,N4) -> 8 | P4: 1) 1 - Participe à un concours de Podcast | Q4: =IF(N4=L4,"Oui","Non") -> Non | R4: =L4-N4 -> 19
A5: =ALEAS( NE,1, NE,TRUE) -> #NAME? | B5: =VLOOKUP(Tableau4[[#This Row],[Nom]],'Liste des élèves'!$D$1:$E$612,2,FALSE) -> 3G5 | C5: Ben Kajjou Ikram | D5: 25 | E5: 26 | F5: 24 | G5: 30 | H5: 4 | I5: =IF(D5*(COUNTIF($I$1:$I4,D5)<INDEX(GR,D5,2)),D5,IF(E5*(COUNTIF($I$1:$I4,E5)<INDEX(GR,E5,2)),E5,IF(F5*(COUNTIF($I$1:$I4,F5)<INDEX(GR,F5,2)),F5,IF(G5*(COUNTIF($I$1:$I4,G5)<INDEX(GR,G5,2)),G5)))) -> 25 | K5: 2 | L5: 15 | N5: =COUNTIF(Tableau4[Groupe],K5) -> 4 | O5: 2 | P5: 2) 2 - La jeunesse | Q5: =IF(N5=L5,"Oui","Non") -> Non | R5: =L5-N5 -> 11
A6: =ALEAS( NE,1, NE,TRUE) -> #NAME? | B6: =VLOOKUP(Tableau4[[#This Row],[Nom]],'Liste des élèves'!$D$1:$E$612,2,FALSE) -> 4G1 | C6: Khadira Ben Kaddour Lina | D6: 12 | E6: 9 | F6: 29 | G6: 15 | H6: 5 | I6: =IF(D6*(COUNTIF($I$1:$I5,D6)<INDEX(GR,D6,2)),D6,IF(E6*(COUNTIF($I$1:$I5,E6)<INDEX(GR,E6,2)),E6,IF(F6*(COUNTIF($I$1:$I5,F6)<INDEX(GR,F6,2)),F6,IF(G6*(COUNTIF($I$1:$I5,G6)<INDEX(GR,G6,2)),G6)))) -> 12 | K6: 3 | L6: 15 | N6: =COUNTIF(Tableau4[Groupe],K6) -> 15 | O6: 3 | P6: 3) 3 - Cercle de parole pour les filles | Q6: =IF(N6=L6,"Oui","Non") -> Oui | R6: =L6-N6 -> 0
A7: =ALEAS( NE,1, NE,TRUE) -> #NAME? | B7: =VLOOKUP(Tableau4[[#This Row],[Nom]],'Liste des élèves'!$D$1:$E$612,2,FALSE) -> 2C3 | C7: Debboun Hachad Sara | D7: 30 | E7: 15 | F7: 14 | G7: 9 | H7: 6 | I7: =IF(D7*(COUNTIF($I$1:$I6,D7)<INDEX(GR,D7,2)),D7,IF(E7*(COUNTIF($I$1:$I6,E7)<INDEX(GR,E7,2)),E7,IF(F7*(COUNTIF($I$1:$I6,F7)<INDEX(GR,F7,2)),F7,IF(G7*(COUNTIF($I$1:$I6,G7)<INDEX(GR,G7,2)),G7)))) -> 30 | K7: 4 | L7: 15 | N7: =COUNTIF(Tableau4[Groupe],K7) -> 15 | O7: 4 | P7: 4) 4 - Viva España ! | Q7: =IF(N7=L7,"Oui","Non") -> Oui | R7: =L7-N7 -> 0
A8: =ALEAS( NE,1, NE,TRUE) -> #NAME? | B8: =VLOOKUP(Tableau4[[#This Row],[Nom]],'Liste des élèves'!$D$1:$E$612,2,FALSE) -> 3G1 | C8: Laghmich Wissal | D8: 25 | E8: 27 | F8: 30 | G8: 29 | H8: 7 | I8: =IF(D8*(COUNTIF($I$1:$I7,D8)<INDEX(GR,D8,2)),D8,IF(E8*(COUNTIF($I$1:$I7,E8)<INDEX(GR,E8,2)),E8,IF(F8*(COUNTIF($I$1:$I7,F8)<INDEX(GR,F8,2)),F8,IF(G8*(COUNTIF($I$1:$I7,G8)<INDEX(GR,G8,2)),G8)))) -> 25 | K8: 5 | L8: 20 | N8: =COUNTIF(Tableau4[Groupe],K8) -> 8 | O8: 5 | P8: 5) 5 - Dance Cover (atelier préparé par des élèves !) | Q8: =IF(N8=L8,"Oui","Non") -> Non | R8: =L8-N8 -> 12
A9: =ALEAS( NE,1, NE,TRUE) -> #NAME? | B9: =VLOOKUP(Tableau4[[#This Row],[Nom]],'Liste des élèves'!$D$1:$E$612,2,FALSE) -> 2C2 | C9: Halhoul Korchi Ilias | D9: 25 | E9: 27 | F9: 29 | G9: 30 | H9: 8 | I9: =IF(D9*(COUNTIF($I$1:$I8,D9)<INDEX(GR,D9,2)),D9,IF(E9*(COUNTIF($I$1:$I8,E9)<INDEX(GR,E9,2)),E9,IF(F9*(COUNTIF($I$1:$I8,F9)<INDEX(GR,F9,2)),F9,IF(G9*(COUNTIF($I$1:$I8,G9)<INDEX(GR,G9,2)),G9)))) -> 25 | K9: 6 | L9: 15 | N9: =COUNTIF(Tableau4[Groupe],K9) -> 7 | O9: 6 | P9: 6) 6 - Planche de bandes dessinées | Q9: =IF(N9=L9,"Oui","Non") -> Non | R9: =L9-N9 -> 8
A10: =ALEAS( NE,1, NE,TRUE) -> #NAME? | B10: =VLOOKUP(Tableau4[[#This Row],[Nom]],'Liste des élèves'!$D$1:$E$612,2,FALSE) -> 5G1 | C10: Deleglise Lucie | D10: 22 | E10: 19 | F10: 4 | G10: 16 | H10: 9 | I10: =IF(D10*(COUNTIF($I$1:$I9,D10)<INDEX(GR,D10,2)),D10,IF(E10*(COUNTIF($I$1:$I9,E10)<INDEX(GR,E10,2)),E10,IF(F10*(COUNTIF($I$1:$I9,F10)<INDEX(GR,F10,2)),F10,IF(G10*(COUNTIF($I$1:$I9,G10)<INDEX(GR,G10,2)),G10)))) -> 22 | K10: 7 | L10: 24 | N10: =COUNTIF(Tableau4[Groupe],K10) -> 1 | O10: 7 | P10: 7) 7 - Gospel, chants de liberté - Partie 1 | Q10: =IF(N10=L10,"Oui","Non") -> Non | R10: =L10-N10 -> 23
A11: =ALEAS( NE,1, NE,TRUE) -> #NAME? | B11: =VLOOKUP(Tableau4[[#This Row],[Nom]],'Liste des élèves'!$D$1:$E$612,2,FALSE) -> 2C5 | C11: Dimos Apostolos | D11: 9 | E11: 30 | F11: 29 | G11: 24 | H11: 10 | I11: =IF(D11*(COUNTIF($I$1:$I10,D11)<INDEX(GR,D11,2)),D11,IF(E11*(COUNTIF($I$1:$I10,E11)<INDEX(GR,E11,2)),E11,IF(F11*(COUNTIF($I$1:$I10,F11)<INDEX(GR,F11,2)),F11,IF(G11*(COUNTIF($I$1:$I10,G11)<INDEX(GR,G11,2)),G11)))) -> 9 | K11: 8 | L11: 15 | N11: =COUNTIF(Tableau4[Groupe],K11) -> 2 | O11: 8 | P11: 8) 8 - Balance ton slam ! | Q11: =IF(N11=L11,"Oui","Non") -> Non | R11: =L11-N11 -> 13
A12: =ALEAS( NE,1, NE,TRUE) -> #NAME? | B12: =VLOOKUP(Tableau4[[#This Row],[Nom]],'Liste des élèves'!$D$1:$E$612,2,FALSE) -> 3G6 | C12: Tchumtchoua Alexiane | D12: 9 | E12: 15 | F12: 12 | G12: 30 | H12: 11 | I12: =IF(D12*(COUNTIF($I$1:$I11,D12)<INDEX(GR,D12,2)),D12,IF(E12*(COUNTIF($I$1:$I11,E12)<INDEX(GR,E12,2)),E12,IF(F12*(COUNTIF($I$1:$I11,F12)<INDEX(GR,F12,2)),F12,IF(G12*(COUNTIF($I$1:$I11,G12)<INDEX(GR,G12,2)),G12)))) -> 9 | K12: 9 | L12: 15 | N12: =COUNTIF(Tableau4[Groupe],K12) -> 15 | O12: 9 | P12: 9) 9 - Sieste contée | Q12: =IF(N12=L12,"Oui","Non") -> Oui | R12: =L12-N12 -> 0
A13: =ALEAS( NE,1, NE,TRUE) -> #NAME? | B13: =VLOOKUP(Tableau4[[#This Row],[Nom]],'Liste des élèves'!$D$1:$E$612,2,FALSE) -> 2C2 | C13: Troch Joaquin Townes | D13: 27 | E13: 15 | F13: 30 | G13: 29 | H13: 12 | I13: =IF(D13*(COUNTIF($I$1:$I12,D13)<INDEX(GR,D13,2)),D13,IF(E13*(COUNTIF($I$1:$I12,E13)<INDEX(GR,E13,2)),E13,IF(F13*(COUNTIF($I$1:$I12,F13)<INDEX(GR,F13,2)),F13,IF(G13*(COUNTIF($I$1:$I12,G13)<INDEX(GR,G13,2)),G13)))) -> 27 | K13: 10 | L13: 15 | N13: =COUNTIF(Tableau4[Groupe],K13) -> 11 | O13: 10 | P13: 10) 10 - Atelier d'écriture créative | Q13: =IF(N13=L13,"Oui","Non") -> Non | R13: =L13-N13 -> 4
A14: =ALEAS( NE,1, NE,TRUE) -> #NAME? | B14: =VLOOKUP(Tableau4[[#This Row],[Nom]],'Liste des élèves'!$D$1:$E$612,2,FALSE) -> 5G2 | C14: Boutaleb Mohamed | D14: 22 | E14: 30 | F14: 21 | G14: 29 | H14: 13 | I14: =IF(D14*(COUNTIF($I$1:$I13,D14)<INDEX(GR,D14,2)),D14,IF(E14*(COUNTIF($I$1:$I13,E14)<INDEX(GR,E14,2)),E14,IF(F14*(COUNTIF($I$1:$I13,F14)<INDEX(GR,F14,2)),F14,IF(G14*(COUNTIF($I$1:$I13,G14)<INDEX(GR,G14,2)),G14)))) -> 22 | K14: 11 | L14: 24 | N14: =COUNTIF(Tableau4[Groupe],K14) -> 12 | O14: 11 | P14: 11) 11 - Décoration d'intérieur - Grandes idées à petits prix | Q14: =IF(N14=L14,"Oui","Non") -> Non | R14: =L14-N14 -> 12
A15: =ALEAS( NE,1, NE,TRUE) -> #NAME? | B15: =VLOOKUP(Tableau4[[#This Row],[Nom]],'Liste des élèves'!$D$1:$E$612,2,FALSE) -> 2C9 | C15: Kezimana Naomie | D15: 30 | E15: 29 | F15: 15 | G15: 3 | H15: 14 | I15: =IF(D15*(COUNTIF($I$1:$I14,D15)<INDEX(GR,D15,2)),D15,IF(E15*(COUNTIF($I$1:$I14,E15)<INDEX(GR,E15,2)),E15,IF(F15*(COUNTIF($I$1:$I14,F15)<INDEX(GR,F15,2)),F15,IF(G15*(COUNTIF($I$1:$I14,G15)<INDEX(GR,G15,2)),G15)))) -> 30 | K15: 12 | L15: 24 | N15: =COUNTIF(Tableau4[Groupe],K15) -> 20 | O15: 12 | P15: 12) 12 - Fabriquer des organes en pâte à sel | Q15: =IF(N15=L15,"Oui","Non") -> Non | R15: =L15-N15 -> 4
A16: =ALEAS( NE,1, NE,TRUE) -> #NAME? | B16: =VLOOKUP(Tableau4[[#This Row],[Nom]],'Liste des élèves'!$D$1:$E$612,2,FALSE) -> 3G5 | C16: Khandjav Guyen | D16: 29 | E16: 30 | F16: 13 | G16: 4 | H16: 15 | I16: =IF(D16*(COUNTIF($I$1:$I15,D16)<INDEX(GR,D16,2)),D16,IF(E16*(COUNTIF($I$1:$I15,E16)<INDEX(GR,E16,2)),E16,IF(F16*(COUNTIF($I$1:$I15,F16)<INDEX(GR,F16,2)),F16,IF(G16*(COUNTIF($I$1:$I15,G16)<INDEX(GR,G16,2)),G16)))) -> 29 | K16: 13 | L16: 15 | N16: =COUNTIF(Tableau4[Groupe],K16) -> 7 | O16: 13 | P16: 13) 13 - Handlettering | Q16: =IF(N16=L16,"Oui","Non") -> Non | R16: =L16-N16 -> 8
... A22: =ALEAS( NE,1, NE,TRUE) -> #NAME? | B22: =VLOOKUP(Tableau4[[#This Row],[Nom]],'Liste des élèves'!$D$1:$E$612,2,FALSE) -> 4G2 | C22: Belgada Ayoub | D22: 25 | E22: 26 | F22: 30 | G22: 29 | H22: 21 | I22: =IF(D22*(COUNTIF($I$1:$I21,D22)<INDEX(GR,D22,2)),D22,IF(E22*(COUNTIF($I$1:$I21,E22)<INDEX(GR,E22,2)),E22,IF(F22*(COUNTIF($I$1:$I21,F22)<INDEX(GR,F22,2)),F22,IF(G22*(COUNTIF($I$1:$I21,G22)<INDEX(GR,G22,2)),G22)))) -> 25 | K22: 19 | L22: 15 | N22: =COUNTIF(Tableau4[Groupe],K22) -> 2 | O22: 19 | P22: 19) 19 - Création de pancartes en bois customisées | Q22: =IF(N22=L22,"Oui","Non") -> Non | R22: =L22-N22 -> 13
A23: =ALEAS( NE,1, NE,TRUE) -> #NAME? | B23: =VLOOKUP(Tableau4[[#This Row],[Nom]],'Liste des élèves'!$D$1:$E$612,2,FALSE) -> 3G3 | C23: Fudulache Debora Oana | D23: 9 | E23: 15 | F23: 20 | G23: 30 | H23: 22 | I23: =IF(D23*(COUNTIF($I$1:$I22,D23)<INDEX(GR,D23,2)),D23,IF(E23*(COUNTIF($I$1:$I22,E23)<INDEX(GR,E23,2)),E23,IF(F23*(COUNTIF($I$1:$I22,F23)<INDEX(GR,F23,2)),F23,IF(G23*(COUNTIF($I$1:$I22,G23)<INDEX(GR,G23,2)),G23)))) -> 9 | K23: 20 | L23: 15 | N23: =COUNTIF(Tableau4[Groupe],K23) -> 10 | P23: 20) 20 - Ça pousse, ça mousse et ça fait des bulles ! | Q23: =IF(N23=L23,"Oui","Non") -> Non | R23: =L23-N23 -> 5
A24: =ALEAS( NE,1, NE,TRUE) -> #NAME? | B24: =VLOOKUP(Tableau4[[#This Row],[Nom]],'Liste des élèves'!$D$1:$E$612,2,FALSE) -> 1C6 | C24: El Hajioui Amine | D24: 25 | E24: 30 | F24: 29 | G24: 24 | H24: 23 | I24: =IF(D24*(COUNTIF($I$1:$I23,D24)<INDEX(GR,D24,2)),D24,IF(E24*(COUNTIF($I$1:$I23,E24)<INDEX(GR,E24,2)),E24,IF(F24*(COUNTIF($I$1:$I23,F24)<INDEX(GR,F24,2)),F24,IF(G24*(COUNTIF($I$1:$I23,G24)<INDEX(GR,G24,2)),G24)))) -> 25 | K24: 21 | L24: 15 | N24: =COUNTIF(Tableau4[Groupe],K24) -> 13 | P24: 21) 21 - Introduction au Graphic Design (seulement 2C, 3GT, 4GT et 5GT) | Q24: =IF(N24=L24,"Oui","Non") -> Non | R24: =L24-N24 -> 2
A25: =ALEAS( NE,1, NE,TRUE) -> #NAME? | B25: =VLOOKUP(Tableau4[[#This Row],[Nom]],'Liste des élèves'!$D$1:$E$612,2,FALSE) -> 4G2 | C25: Ibrahimi Hajar | D25: 26 | E25: 30 | F25: 16 | G25: 5 | H25: 24 | I25: =IF(D25*(COUNTIF($I$1:$I24,D25)<INDEX(GR,D25,2)),D25,IF(E25*(COUNTIF($I$1:$I24,E25)<INDEX(GR,E25,2)),E25,IF(F25*(COUNTIF($I$1:$I24,F25)<INDEX(GR,F25,2)),F25,IF(G25*(COUNTIF($I$1:$I24,G25)<INDEX(GR,G25,2)),G25)))) -> 26 | K25: 22 | L25: 24 | N25: =COUNTIF(Tableau4[Groupe],K25) -> 14 | P25: 22) 22 - J'Excel en mathématiques (priorité 5GT) | Q25: =IF(N25=L25,"Oui","Non") -> Non | R25: =L25-N25 -> 10
A26: =ALEAS( NE,1, NE,TRUE) -> #NAME? | B26: =VLOOKUP(Tableau4[[#This Row],[Nom]],'Liste des élèves'!$D$1:$E$612,2,FALSE) -> 3G6 | C26: Rochas Dos Santos Arthur | D26: 27 | E26: 21 | F26: 16 | G26: 29 | H26: 25 | I26: =IF(D26*(COUNTIF($I$1:$I25,D26)<INDEX(GR,D26,2)),D26,IF(E26*(COUNTIF($I$1:$I25,E26)<INDEX(GR,E26,2)),E26,IF(F26*(COUNTIF($I$1:$I25,F26)<INDEX(GR,F26,2)),F26,IF(G26*(COUNTIF($I$1:$I25,G26)<INDEX(GR,G26,2)),G26)))) -> 27 | K26: 23 | L26: 15 | N26: =COUNTIF(Tableau4[Groupe],K26) -> 15 | P26: 23) 23 - Natation (prendre ses affaires de natation !) | Q26: =IF(N26=L26,"Oui","Non") -> Oui | R26: =L26-N26 -> 0
A27: =ALEAS( NE,1, NE,TRUE) -> #NAME? | B27: =VLOOKUP(Tableau4[[#This Row],[Nom]],'Liste des élèves'!$D$1:$E$612,2,FALSE) -> 1C6 | C27: Ajouaou Siham | D27: 9 | E27: 16 | F27: 10 | G27: 29 | H27: 26 | I27: =IF(D27*(COUNTIF($I$1:$I26,D27)<INDEX(GR,D27,2)),D27,IF(E27*(COUNTIF($I$1:$I26,E27)<INDEX(GR,E27,2)),E27,IF(F27*(COUNTIF($I$1:$I26,F27)<INDEX(GR,F27,2)),F27,IF(G27*(COUNTIF($I$1:$I26,G27)<INDEX(GR,G27,2)),G27)))) -> 9 | K27: 24 | L27: 24 | N27: =COUNTIF(Tableau4[Groupe],K27) -> 24 | P27: 24) 24 - Renforcement musculaire (prendre sa tenue de sport et sa gourde) | Q27: =IF(N27=L27,"Oui","Non") -> Oui | R27: =L27-N27 -> 0
A28: =ALEAS( NE,1, NE,TRUE) -> #NAME? | B28: =VLOOKUP(Tableau4[[#This Row],[Nom]],'Liste des élèves'!$D$1:$E$612,2,FALSE) -> 2C2 | C28: Mutuza Kisanga Nouna | D28: 25 | E28: 15 | F28: 29 | G28: 30 | H28: 27 | I28: =IF(D28*(COUNTIF($I$1:$I27,D28)<INDEX(GR,D28,2)),D28,IF(E28*(COUNTIF($I$1:$I27,E28)<INDEX(GR,E28,2)),E28,IF(F28*(COUNTIF($I$1:$I27,F28)<INDEX(GR,F28,2)),F28,IF(G28*(COUNTIF($I$1:$I27,G28)<INDEX(GR,G28,2)),G28)))) -> 25 | K28: 25 | L28: 22 | N28: =COUNTIF(Tableau4[Groupe],K28) -> 22 | P28: 25) 25 - Futsal (prendre sa tenue de sport) | Q28: =IF(N28=L28,"Oui","Non") -> Oui | R28: =L28-N28 -> 0
A29: =ALEAS( NE,1, NE,TRUE) -> #NAME? | B29: =VLOOKUP(Tableau4[[#This Row],[Nom]],'Liste des élèves'!$D$1:$E$612,2,FALSE) -> 1C1 | C29: Al Jebanwi Roukaya | D29: 25 | E29: 15 | F29: 30 | G29: 29 | H29: 28 | I29: =IF(D29*(COUNTIF($I$1:$I28,D29)<INDEX(GR,D29,2)),D29,IF(E29*(COUNTIF($I$1:$I28,E29)<INDEX(GR,E29,2)),E29,IF(F29*(COUNTIF($I$1:$I28,F29)<INDEX(GR,F29,2)),F29,IF(G29*(COUNTIF($I$1:$I28,G29)<INDEX(GR,G29,2)),G29)))) -> 25 | K29: 26 | L29: 15 | N29: =COUNTIF(Tableau4[Groupe],K29) -> 15 | P29: 26) 26 - Street Football (priorité aux 3GT, 4GT et 5GT) | Q29: =IF(N29=L29,"Oui","Non") -> Oui | R29: =L29-N29 -> 0
A30: =ALEAS( NE,1, NE,TRUE) -> #NAME? | B30: =VLOOKUP(Tableau4[[#This Row],[Nom]],'Liste des élèves'!$D$1:$E$612,2,FALSE) -> 2C9 | C30: Maimuni Rabab | D30: 29 | E30: 30 | F30: 6 | G30: 16 | H30: 29 | I30: =IF(D30*(COUNTIF($I$1:$I29,D30)<INDEX(GR,D30,2)),D30,IF(E30*(COUNTIF($I$1:$I29,E30)<INDEX(GR,E30,2)),E30,IF(F30*(COUNTIF($I$1:$I29,F30)<INDEX(GR,F30,2)),F30,IF(G30*(COUNTIF($I$1:$I29,G30)<INDEX(GR,G30,2)),G30)))) -> 29 | K30: 27 | L30: 14 | N30: =COUNTIF(Tableau4[Groupe],K30) -> 14 | P30: 27) 27 - Volley (prendre sa tenue de sport) | Q30: =IF(N30=L30,"Oui","Non") -> Oui | R30: =L30-N30 -> 0
A31: =ALEAS( NE,1, NE,TRUE) -> #NAME? | B31: =VLOOKUP(Tableau4[[#This Row],[Nom]],'Liste des élèves'!$D$1:$E$612,2,FALSE) -> 1C3 | C31: Carvalho Moura Raissa | D31: 17 | E31: 20 | F31: 16 | G31: 11 | H31: 30 | I31: =IF(D31*(COUNTIF($I$1:$I30,D31)<INDEX(GR,D31,2)),D31,IF(E31*(COUNTIF($I$1:$I30,E31)<INDEX(GR,E31,2)),E31,IF(F31*(COUNTIF($I$1:$I30,F31)<INDEX(GR,F31,2)),F31,IF(G31*(COUNTIF($I$1:$I30,G31)<INDEX(GR,G31,2)),G31)))) -> 17 | K31: 28 | L31: 15 | N31: =COUNTIF(Tableau4[Groupe],K31) -> 6 | P31: 28) 28 - Running the city (prendre sa tenue de sport - priorité aux 3GT, 4GT et 5GT) | Q31: =IF(N31=L31,"Oui","Non") -> Non | R31: =L31-N31 -> 9
A32: =ALEAS( NE,1, NE,TRUE) -> #NAME? | B32: =VLOOKUP(Tableau4[[#This Row],[Nom]],'Liste des élèves'!$D$1:$E$612,2,FALSE) -> 1C4 | C32: Belgada Hajar | D32: 30 | E32: 15 | F32: 29 | G32: 27 | H32: 31 | I32: =IF(D32*(COUNTIF($I$1:$I31,D32)<INDEX(GR,D32,2)),D32,IF(E32*(COUNTIF($I$1:$I31,E32)<INDEX(GR,E32,2)),E32,IF(F32*(COUNTIF($I$1:$I31,F32)<INDEX(GR,F32,2)),F32,IF(G32*(COUNTIF($I$1:$I31,G32)<INDEX(GR,G32,2)),G32)))) -> 30 | K32: 29 | L32: 60 | N32: =COUNTIF(Tableau4[Groupe],K32) -> 60 | P32: 29) 29 - Jeux de société | Q32: =IF(N32=L32,"Oui","Non") -> Oui | R32: =L32-N32 -> 0
A33: =ALEAS( NE,1, NE,TRUE) -> #NAME? | B33: =VLOOKUP(Tableau4[[#This Row],[Nom]],'Liste des élèves'!$D$1:$E$612,2,FALSE) -> 1C5 | C33: Mansaré Sitan | D33: 1 | E33: 9 | F33: 29 | G33: 30 | H33: 32 | I33: =IF(D33*(COUNTIF($I$1:$I32,D33)<INDEX(GR,D33,2)),D33,IF(E33*(COUNTIF($I$1:$I32,E33)<INDEX(GR,E33,2)),E33,IF(F33*(COUNTIF($I$1:$I32,F33)<INDEX(GR,F33,2)),F33,IF(G33*(COUNTIF($I$1:$I32,G33)<INDEX(GR,G33,2)),G33)))) -> 1 | K33: 30 | L33: 30 | N33: =COUNTIF(Tableau4[Groupe],K33) -> 30 | P33: 30) 30 - Loup-garou | Q33: =IF(N33=L33,"Oui","Non") -> Oui
A34: =ALEAS( NE,1, NE,TRUE) -> #NAME? | B34: =VLOOKUP(Tableau4[[#This Row],[Nom]],'Liste des élèves'!$D$1:$E$612,2,FALSE) -> 3G1 | C34: Mouchafi Rayan | D34: 26 | E34: 25 | F34: 27 | G34: 30 | H34: 33 | I34: =IF(D34*(COUNTIF($I$1:$I33,D34)<INDEX(GR,D34,2)),D34,IF(E34*(COUNTIF($I$1:$I33,E34)<INDEX(GR,E34,2)),E34,IF(F34*(COUNTIF($I$1:$I33,F34)<INDEX(GR,F34,2)),F34,IF(G34*(COUNTIF($I$1:$I33,G34)<INDEX(GR,G34,2)),G34)))) -> 26 | N34: =COUNTIF(Tableau4[Groupe],K34) -> 0
A35: =ALEAS( NE,1, NE,TRUE) -> #NAME? | B35: =VLOOKUP(Tableau4[[#This Row],[Nom]],'Liste des élèves'!$D$1:$E$612,2,FALSE) -> 1C5 | C35: Ouali Hafsa | D35: 30 | E35: 10 | F35: 3 | G35: 6 | H35: 34 | I35: =IF(D35*(COUNTIF($I$1:$I34,D35)<INDEX(GR,D35,2)),D35,IF(E35*(COUNTIF($I$1:$I34,E35)<INDEX(GR,E35,2)),E35,IF(F35*(COUNTIF($I$1:$I34,F35)<INDEX(GR,F35,2)),F35,IF(G35*(COUNTIF($I$1:$I34,G35)<INDEX(GR,G35,2)),G35)))) -> 30 | N35: =COUNTIF(Tableau4[Groupe],K35) -> 0
A36: =ALEAS( NE,1, NE,TRUE) -> #NAME? | B36: =VLOOKUP(Tableau4[[#This Row],[Nom]],'Liste des élèves'!$D$1:$E$612,2,FALSE) -> 2C10 | C36: Bosollati Ayoub | D36: 25 | E36: 27 | F36: 26 | G36: 15 | H36: 35 | I36: =IF(D36*(COUNTIF($I$1:$I35,D36)<INDEX(GR,D36,2)),D36,IF(E36*(COUNTIF($I$1:$I35,E36)<INDEX(GR,E36,2)),E36,IF(F36*(COUNTIF($I$1:$I35,F36)<INDEX(GR,F36,2)),F36,IF(G36*(COUNTIF($I$1:$I35,G36)<INDEX(GR,G36,2)),G36)))) -> 25 | N36: =COUNTIF(Tableau4[Groupe],K36) -> 0 | S36: Locaux restant : | V36: MEE restant :
A37: =ALEAS( NE,1, NE,TRUE) -> #NAME? | B37: =VLOOKUP(Tableau4[[#This Row],[Nom]],'Liste des élèves'!$D$1:$E$612,2,FALSE) -> 2C8 | C37: Boulif Mohamed-Amine | D37: 30 | E37: 16 | F37: 11 | G37: 20 | H37: 36 | I37: =IF(D37*(COUNTIF($I$1:$I36,D37)<INDEX(GR,D37,2)),D37,IF(E37*(COUNTIF($I$1:$I36,E37)<INDEX(GR,E37,2)),E37,IF(F37*(COUNTIF($I$1:$I36,F37)<INDEX(GR,F37,2)),F37,IF(G37*(COUNTIF($I$1:$I36,G37)<INDEX(GR,G37,2)),G37)))) -> 30 | O37: 20
A38: =ALEAS( NE,1, NE,TRUE) -> #NAME? | B38: =VLOOKUP(Tableau4[[#This Row],[Nom]],'Liste des élèves'!$D$1:$E$612,2,FALSE) -> 2C7 | C38: Yaakoubi Mahera | D38: 29 | E38: 11 | F38: 12 | G38: 18 | H38: 37 | I38: =IF(D38*(COUNTIF($I$1:$I37,D38)<INDEX(GR,D38,2)),D38,IF(E38*(COUNTIF($I$1:$I37,E38)<INDEX(GR,E38,2)),E38,IF(F38*(COUNTIF($I$1:$I37,F38)<INDEX(GR,F38,2)),F38,IF(G38*(COUNTIF($I$1:$I37,G38)<INDEX(GR,G38,2)),G38)))) -> 29 | O38: 21
A39: =ALEAS( NE,1, NE,TRUE) -> #NAME? | B39: =VLOOKUP(Tableau4[[#This Row],[Nom]],'Liste des élèves'!$D$1:$E$612,2,FALSE) -> 2C9 | C39: Moczulski Mateusz | D39: 25 | E39: 30 | F39: 29 | G39: 27 | H39: 38 | I39: =IF(D39*(COUNTIF($I$1:$I38,D39)<INDEX(GR,D39,2)),D39,IF(E39*(COUNTIF($I$1:$I38,E39)<INDEX(GR,E39,2)),E39,IF(F39*(COUNTIF($I$1:$I38,F39)<INDEX(GR,F39,2)),F39,IF(G39*(COUNTIF($I$1:$I38,G39)<INDEX(GR,G39,2)),G39)))) -> 25 | O39: 22
A40: =ALEAS( NE,1, NE,TRUE) -> #NAME? | B40: =VLOOKUP(Tableau4[[#This Row],[Nom]],'Liste des élèves'!$D$1:$E$612,2,FALSE) -> 2C7 | C40: Rhzioual Berrada Batoul | D40: 24 | E40: 30 | F40: 29 | G40: 15 | H40: 39 | I40: =IF(D40*(COUNTIF($I$1:$I39,D40)<INDEX(GR,D40,2)),D40,IF(E40*(COUNTIF($I$1:$I39,E40)<INDEX(GR,E40,2)),E40,IF(F40*(COUNTIF($I$1:$I39,F40)<INDEX(GR,F40,2)),F40,IF(G40*(COUNTIF($I$1:$I39,G40)<INDEX(GR,G40,2)),G40)))) -> 24 | O40: 23
A41: =ALEAS( NE,1, NE,TRUE) -> #NAME? | B41: =VLOOKUP(Tableau4[[#This Row],[Nom]],'Liste des élèves'!$D$1:$E$612,2,FALSE) -> 2C8 | C41: Abdul Sater Hassan | D41: 21 | E41: 11 | F41: 15 | G41: 12 | H41: 40 | I41: =IF(D41*(COUNTIF($I$1:$I40,D41)<INDEX(GR,D41,2)),D41,IF(E41*(COUNTIF($I$1:$I40,E41)<INDEX(GR,E41,2)),E41,IF(F41*(COUNTIF($I$1:$I40,F41)<INDEX(GR,F41,2)),F41,IF(G41*(COUNTIF($I$1:$I40,G41)<INDEX(GR,G41,2)),G41)))) -> 21
A42: =ALEAS( NE,1, NE,TRUE) -> #NAME? | B42: =VLOOKUP(Tableau4[[#This Row],[Nom]],'Liste des élèves'!$D$1:$E$612,2,FALSE) -> 2C7 | C42: Barfi Rayana | D42: 4 | E42: 11 | F42: 3 | G42: 2 | H42: 41 | I42: =IF(D42*(COUNTIF($I$1:$I41,D42)<INDEX(GR,D42,2)),D42,IF(E42*(COUNTIF($I$1:$I41,E42)<INDEX(GR,E42,2)),E42,IF(F42*(COUNTIF($I$1:$I41,F42)<INDEX(GR,F42,2)),F42,IF(G42*(COUNTIF($I$1:$I41,G42)<INDEX(GR,G42,2)),G42)))) -> 4
A43: =ALEAS( NE,1, NE,TRUE) -> #NAME? | B43: =VLOOKUP(Tableau4[[#This Row],[Nom]],'Liste des élèves'!$D$1:$E$612,2,FALSE) -> 2C3 | C43: Tshileo Muepo Esdras | D43: 30 | E43: 28 | F43: 25 | G43: 29 | H43: 42 | I43: =IF(D43*(COUNTIF($I$1:$I42,D43)<INDEX(GR,D43,2)),D43,IF(E43*(COUNTIF($I$1:$I42,E43)<INDEX(GR,E43,2)),E43,IF(F43*(COUNTIF($I$1:$I42,F43)<INDEX(GR,F43,2)),F43,IF(G43*(COUNTIF($I$1:$I42,G43)<INDEX(GR,G43,2)),G43)))) -> 30
A44: =ALEAS( NE,1, NE,TRUE) -> #NAME? | B44: =VLOOKUP(Tableau4[[#This Row],[Nom]],'Liste des élèves'!$D$1:$E$612,2,FALSE) -> 3G1 | C44: Dehas Layla | D44: 5 | E44: 16 | F44: 17 | G44: 30 | H44: 43 | I44: =IF(D44*(COUNTIF($I$1:$I43,D44)<INDEX(GR,D44,2)),D44,IF(E44*(COUNTIF($I$1:$I43,E44)<INDEX(GR,E44,2)),E44,IF(F44*(COUNTIF($I$1:$I43,F44)<INDEX(GR,F44,2)),F44,IF(G44*(COUNTIF($I$1:$I43,G44)<INDEX(GR,G44,2)),G44)))) -> 5 | K44: somme effectifs maxis : | L44: =SUM(L4:L36) -> 603 | M44: affectés | N44: =SUM(N4:N36) -> 405
A45: =ALEAS( NE,1, NE,TRUE) -> #NAME? | B45: =VLOOKUP(Tableau4[[#This Row],[Nom]],'Liste des élèves'!$D$1:$E$612,2,FALSE) -> 2C7 | C45: Akdim Mehdi | D45: 29 | E45: 30 | F45: 6 | G45: 16 | H45: 44 | I45: =IF(D45*(COUNTIF($I$1:$I44,D45)<INDEX(GR,D45,2)),D45,IF(E45*(COUNTIF($I$1:$I44,E45)<INDEX(GR,E45,2)),E45,IF(F45*(COUNTIF($I$1:$I44,F45)<INDEX(GR,F45,2)),F45,IF(G45*(COUNTIF($I$1:$I44,G45)<INDEX(GR,G45,2)),G45)))) -> 29 | M45: non-affectés | N45: =COUNTIF($I:$I,"FAUX") -> 30
A46: =ALEAS( NE,1, NE,TRUE) -> #NAME? | B46: =VLOOKUP(Tableau4[[#This Row],[Nom]],'Liste des élèves'!$D$1:$E$612,2,FALSE) -> 2C7 | C46: Valette Gina | D46: 30 | E46: 6 | F46: 19 | G46: 18 | H46: 45 | I46: =IF(D46*(COUNTIF($I$1:$I45,D46)<INDEX(GR,D46,2)),D46,IF(E46*(COUNTIF($I$1:$I45,E46)<INDEX(GR,E46,2)),E46,IF(F46*(COUNTIF($I$1:$I45,F46)<INDEX(GR,F46,2)),F46,IF(G46*(COUNTIF($I$1:$I45,G46)<INDEX(GR,G46,2)),G46)))) -> 30 | N46: =SUM(N44:N45) -> 435
A47: =ALEAS( NE,1, NE,TRUE) -> #NAME? | B47: =VLOOKUP(Tableau4[[#This Row],[Nom]],'Liste des élèves'!$D$1:$E$612,2,FALSE) -> 1C6 | C47: Hama Hamidou Rakiatou | D47: 15 | E47: 21 | F47: 30 | G47: 20 | H47: 46 | I47: =IF(D47*(COUNTIF($I$1:$I46,D47)<INDEX(GR,D47,2)),D47,IF(E47*(COUNTIF($I$1:$I46,E47)<INDEX(GR,E47,2)),E47,IF(F47*(COUNTIF($I$1:$I46,F47)<INDEX(GR,F47,2)),F47,IF(G47*(COUNTIF($I$1:$I46,G47)<INDEX(GR,G47,2)),G47)))) -> 15 | N47: =N46=NE -> TRUE
A48: =ALEAS( NE,1, NE,TRUE) -> #NAME? | B48: =VLOOKUP(Tableau4[[#This Row],[Nom]],'Liste des élèves'!$D$1:$E$612,2,FALSE) -> 4G2 | C48: Radu Sebastian | D48: 25 | E48: 26 | F48: 27 | G48: 30 | H48: 47 | I48: =IF(D48*(COUNTIF($I$1:$I47,D48)<INDEX(GR,D48,2)),D48,IF(E48*(COUNTIF($I$1:$I47,E48)<INDEX(GR,E48,2)),E48,IF(F48*(COUNTIF($I$1:$I47,F48)<INDEX(GR,F48,2)),F48,IF(G48*(COUNTIF($I$1:$I47,G48)<INDEX(GR,G48,2)),G48)))) -> 25
A49: =ALEAS( NE,1, NE,TRUE) -> #NAME? | B49: =VLOOKUP(Tableau4[[#This Row],[Nom]],'Liste des élèves'!$D$1:$E$612,2,FALSE) -> 2C9 | C49: Bayane Neil | D49: 29 | E49: 30 | F49: 13 | G49: 4 | H49: 48 | I49: =IF(D49*(COUNTIF($I$1:$I48,D49)<INDEX(GR,D49,2)),D49,IF(E49*(COUNTIF($I$1:$I48,E49)<INDEX(GR,E49,2)),E49,IF(F49*(COUNTIF($I$1:$I48,F49)<INDEX(GR,F49,2)),F49,IF(G49*(COUNTIF($I$1:$I48,G49)<INDEX(GR,G49,2)),G49)))) -> 29
A50: =ALEAS( NE,1, NE,TRUE) -> #NAME? | B50: =VLOOKUP(Tableau4[[#This Row],[Nom]],'Liste des élèves'!$D$1:$E$612,2,FALSE) -> 1C1 | C50: Errami Sofiane | D50: 26 | E50: 25 | F50: 27 | G50: 30 | H50: 49 | I50: =IF(D50*(COUNTIF($I$1:$I49,D50)<INDEX(GR,D50,2)),D50,IF(E50*(COUNTIF($I$1:$I49,E50)<INDEX(GR,E50,2)),E50,IF(F50*(COUNTIF($I$1:$I49,F50)<INDEX(GR,F50,2)),F50,IF(G50*(COUNTIF($I$1:$I49,G50)<INDEX(GR,G50,2)),G50)))) -> 26
A51: =ALEAS( NE,1, NE,TRUE) -> #NAME? | B51: =VLOOKUP(Tableau4[[#This Row],[Nom]],'Liste des élèves'!$D$1:$E$612,2,FALSE) -> 3G5 | C51: Benazi Mohamed | D51: 25 | E51: 26 | F51: 27 | G51: 24 | H51: 50 | I51: =IF(D51*(COUNTIF($I$1:$I50,D51)<INDEX(GR,D51,2)),D51,IF(E51*(COUNTIF($I$1:$I50,E51)<INDEX(GR,E51,2)),E51,IF(F51*(COUNTIF($I$1:$I50,F51)<INDEX(GR,F51,2)),F51,IF(G51*(COUNTIF($I$1:$I50,G51)<INDEX(GR,G51,2)),G51)))) -> 25
A52: =ALEAS( NE,1, NE,TRUE) -> #NAME? | B52: =VLOOKUP(Tableau4[[#This Row],[Nom]],'Liste des élèves'!$D$1:$E$612,2,FALSE) -> 2C4 | C52: Mulaj Ilir | D52: 25 | E52: 27 | F52: 29 | G52: 30 | H52: 51 | I52: =IF(D52*(COUNTIF($I$1:$I51,D52)<INDEX(GR,D52,2)),D52,IF(E52*(COUNTIF($I$1:$I51,E52)<INDEX(GR,E52,2)),E52,IF(F52*(COUNTIF($I$1:$I51,F52)<INDEX(GR,F52,2)),F52,IF(G52*(COUNTIF($I$1:$I51,G52)<INDEX(GR,G52,2)),G52)))) -> 25
A53: =ALEAS( NE,1, NE,TRUE) -> #NAME? | B53: =VLOOKUP(Tableau4[[#This Row],[Nom]],'Liste des élèves'!$D$1:$E$612,2,FALSE) -> 1C3 | C53: Ouechak Wissam | D53: 25 | E53: 17 | F53: 3 | G53: 10 | H53: 52 | I53: =IF(D53*(COUNTIF($I$1:$I52,D53)<INDEX(GR,D53,2)),D53,IF(E53*(COUNTIF($I$1:$I52,E53)<INDEX(GR,E53,2)),E53,IF(F53*(COUNTIF($I$1:$I52,F53)<INDEX(GR,F53,2)),F53,IF(G53*(COUNTIF($I$1:$I52,G53)<INDEX(GR,G53,2)),G53)))) -> 25
A54: =ALEAS( NE,1, NE,TRUE) -> #NAME? | B54: =VLOOKUP(Tableau4[[#This Row],[Nom]],'Liste des élèves'!$D$1:$E$612,2,FALSE) -> 3G4 | C54: Ayoub Ahmad | D54: 6 | E54: 29 | F54: 23 | G54: 15 | H54: 53 | I54: =IF(D54*(COUNTIF($I$1:$I53,D54)<INDEX(GR,D54,2)),D54,IF(E54*(COUNTIF($I$1:$I53,E54)<INDEX(GR,E54,2)),E54,IF(F54*(COUNTIF($I$1:$I53,F54)<INDEX(GR,F54,2)),F54,IF(G54*(COUNTIF($I$1:$I53,G54)<INDEX(GR,G54,2)),G54)))) -> 6
A55: =ALEAS( NE,1, NE,TRUE) -> #NAME? | B55: =VLOOKUP(Tableau4[[#This Row],[Nom]],'Liste des élèves'!$D$1:$E$612,2,FALSE) -> #N/A | C55: Mikani-Nafayebi Ambre | D55: 9 | E55: 29 | F55: 27 | G55: 30 | H55: 54 | I55: =IF(D55*(COUNTIF($I$1:$I54,D55)<INDEX(GR,D55,2)),D55,IF(E55*(COUNTIF($I$1:$I54,E55)<INDEX(GR,E55,2)),E55,IF(F55*(COUNTIF($I$1:$I54,F55)<INDEX(GR,F55,2)),F55,IF(G55*(COUNTIF($I$1:$I54,G55)<INDEX(GR,G55,2)),G55)))) -> 9
A56: =ALEAS( NE,1, NE,TRUE) -> #NAME? | B56: =VLOOKUP(Tableau4[[#This Row],[Nom]],'Liste des élèves'!$D$1:$E$612,2,FALSE) -> 1C2 | C56: Maffogou Oceane | D56: 23 | E56: 15 | F56: 30 | G56: 29 | H56: 55 | I56: =IF(D56*(COUNTIF($I$1:$I55,D56)<INDEX(GR,D56,2)),D56,IF(E56*(COUNTIF($I$1:$I55,E56)<INDEX(GR,E56,2)),E56,IF(F56*(COUNTIF($I$1:$I55,F56)<INDEX(GR,F56,2)),F56,IF(G56*(COUNTIF($I$1:$I55,G56)<INDEX(GR,G56,2)),G56)))) -> 23
A57: =ALEAS( NE,1, NE,TRUE) -> #NAME? | B57: =VLOOKUP(Tableau4[[#This Row],[Nom]],'Liste des élèves'!$D$1:$E$612,2,FALSE) -> 4G2 | C57: Abo Marie | D57: 10 | E57: 13 | F57: 21 | G57: 30 | H57: 56 | I57: =IF(D57*(COUNTIF($I$1:$I56,D57)<INDEX(GR,D57,2)),D57,IF(E57*(COUNTIF($I$1:$I56,E57)<INDEX(GR,E57,2)),E57,IF(F57*(COUNTIF($I$1:$I56,F57)<INDEX(GR,F57,2)),F57,IF(G57*(COUNTIF($I$1:$I56,G57)<INDEX(GR,G57,2)),G57)))) -> 10
A58: =ALEAS( NE,1, NE,TRUE) -> #NAME? | B58: =VLOOKUP(Tableau4[[#This Row],[Nom]],'Liste des élèves'!$D$1:$E$612,2,FALSE) -> 1C4 | C58: Molough Houdayfa | D58: 23 | E58: 29 | F58: 30 | G58: 9 | H58: 57 | I58: =IF(D58*(COUNTIF($I$1:$I57,D58)<INDEX(GR,D58,2)),D58,IF(E58*(COUNTIF($I$1:$I57,E58)<INDEX(GR,E58,2)),E58,IF(F58*(COUNTIF($I$1:$I57,F58)<INDEX(GR,F58,2)),F58,IF(G58*(COUNTIF($I$1:$I57,G58)<INDEX(GR,G58,2)),G58)))) -> 23
A59: =ALEAS( NE,1, NE,TRUE) -> #NAME? | B59: =VLOOKUP(Tableau4[[#This Row],[Nom]],'Liste des élèves'!$D$1:$E$612,2,FALSE) -> 1C6 | C59: Iya Mpia Odette | D59: 11 | E59: 30 | F59: 27 | G59: 3 | H59: 58 | I59: =IF(D59*(COUNTIF($I$1:$I58,D59)<INDEX(GR,D59,2)),D59,IF(E59*(COUNTIF($I$1:$I58,E59)<INDEX(GR,E59,2)),E59,IF(F59*(COUNTIF($I$1:$I58,F59)<INDEX(GR,F59,2)),F59,IF(G59*(COUNTIF($I$1:$I58,G59)<INDEX(GR,G59,2)),G59)))) -> 11
... A436: =ALEAS( NE,1, NE,TRUE) -> #NAME? | B436: =VLOOKUP(Tableau4[[#This Row],[Nom]],'Liste des élèves'!$D$1:$E$612,2,FALSE) -> 2C6 | C436: Albu Andréi | D436: 25 | E436: 27 | F436: 30 | G436: 15 | H436: 435 | I436: =IF(D436*(COUNTIF($I$1:$I435,D436)<INDEX(GR,D436,2)),D436,IF(E436*(COUNTIF($I$1:$I435,E436)<INDEX(GR,E436,2)),E436,IF(F436*(COUNTIF($I$1:$I435,F436)<INDEX(GR,F436,2)),F436,IF(G436*(COUNTIF($I$1:$I435,G436)<INDEX(GR,G436,2)),G436)))) -> FALSE
A437: =ALEAS( NE,1, NE,TRUE) -> #NAME? | B437: =VLOOKUP(Tableau4[[#This Row],[Nom]],'Liste des élèves'!$D$1:$E$612,2,FALSE) -> #N/A | H437: 436 | I437: =IF(D437*(COUNTIF($I$1:$I436,D437)<INDEX(GR,D437,2)),D437,IF(E437*(COUNTIF($I$1:$I436,E437)<INDEX(GR,E437,2)),E437,IF(F437*(COUNTIF($I$1:$I436,F437)<INDEX(GR,F437,2)),F437,IF(G437*(COUNTIF($I$1:$I436,G437)<INDEX(GR,G437,2)),G437)))) -> #VALUE!
A438: =ALEAS( NE,1, NE,TRUE) -> #NAME? | B438: =VLOOKUP(Tableau4[[#This Row],[Nom]],'Liste des élèves'!$D$1:$E$612,2,FALSE) -> #N/A | H438: 437 | I438: =IF(D438*(COUNTIF($I$1:$I437,D438)<INDEX(GR,D438,2)),D438,IF(E438*(COUNTIF($I$1:$I437,E438)<INDEX(GR,E438,2)),E438,IF(F438*(COUNTIF($I$1:$I437,F438)<INDEX(GR,F438,2)),F438,IF(G438*(COUNTIF($I$1:$I437,G438)<INDEX(GR,G438,2)),G438)))) -> #VALUE!
A439: =ALEAS( NE,1, NE,TRUE) -> #NAME? | B439: =VLOOKUP(Tableau4[[#This Row],[Nom]],'Liste des élèves'!$D$1:$E$612,2,FALSE) -> #N/A | H439: 438 | I439: =IF(D439*(COUNTIF($I$1:$I438,D439)<INDEX(GR,D439,2)),D439,IF(E439*(COUNTIF($I$1:$I438,E439)<INDEX(GR,E439,2)),E439,IF(F439*(COUNTIF($I$1:$I438,F439)<INDEX(GR,F439,2)),F439,IF(G439*(COUNTIF($I$1:$I438,G439)<INDEX(GR,G439,2)),G439)))) -> #VALUE!
A440: =ALEAS( NE,1, NE,TRUE) -> #NAME? | B440: =VLOOKUP(Tableau4[[#This Row],[Nom]],'Liste des élèves'!$D$1:$E$612,2,FALSE) -> #N/A | H440: 439 | I440: =IF(D440*(COUNTIF($I$1:$I439,D440)<INDEX(GR,D440,2)),D440,IF(E440*(COUNTIF($I$1:$I439,E440)<INDEX(GR,E440,2)),E440,IF(F440*(COUNTIF($I$1:$I439,F440)<INDEX(GR,F440,2)),F440,IF(G440*(COUNTIF($I$1:$I439,G440)<INDEX(GR,G440,2)),G440)))) -> #VALUE!
A441: =ALEAS( NE,1, NE,TRUE) -> #NAME? | B441: =VLOOKUP(Tableau4[[#This Row],[Nom]],'Liste des élèves'!$D$1:$E$612,2,FALSE) -> #N/A | H441: 440 | I441: =IF(D441*(COUNTIF($I$1:$I440,D441)<INDEX(GR,D441,2)),D441,IF(E441*(COUNTIF($I$1:$I440,E441)<INDEX(GR,E441,2)),E441,IF(F441*(COUNTIF($I$1:$I440,F441)<INDEX(GR,F441,2)),F441,IF(G441*(COUNTIF($I$1:$I440,G441)<INDEX(GR,G441,2)),G441)))) -> #VALUE!
A442: =ALEAS( NE,1, NE,TRUE) -> #NAME? | B442: =VLOOKUP(Tableau4[[#This Row],[Nom]],'Liste des élèves'!$D$1:$E$612,2,FALSE) -> #N/A | H442: 441 | I442: =IF(D442*(COUNTIF($I$1:$I441,D442)<INDEX(GR,D442,2)),D442,IF(E442*(COUNTIF($I$1:$I441,E442)<INDEX(GR,E442,2)),E442,IF(F442*(COUNTIF($I$1:$I441,F442)<INDEX(GR,F442,2)),F442,IF(G442*(COUNTIF($I$1:$I441,G442)<INDEX(GR,G442,2)),G442)))) -> #VALUE!
A443: =ALEAS( NE,1, NE,TRUE) -> #NAME? | B443: =VLOOKUP(Tableau4[[#This Row],[Nom]],'Liste des élèves'!$D$1:$E$612,2,FALSE) -> #N/A | H443: 442 | I443: =IF(D443*(COUNTIF($I$1:$I442,D443)<INDEX(GR,D443,2)),D443,IF(E443*(COUNTIF($I$1:$I442,E443)<INDEX(GR,E443,2)),E443,IF(F443*(COUNTIF($I$1:$I442,F443)<INDEX(GR,F443,2)),F443,IF(G443*(COUNTIF($I$1:$I442,G443)<INDEX(GR,G443,2)),G443)))) -> #VALUE!
A444: =ALEAS( NE,1, NE,TRUE) -> #NAME? | B444: =VLOOKUP(Tableau4[[#This Row],[Nom]],'Liste des élèves'!$D$1:$E$612,2,FALSE) -> #N/A | H444: 443 | I444: =IF(D444*(COUNTIF($I$1:$I443,D444)<INDEX(GR,D444,2)),D444,IF(E444*(COUNTIF($I$1:$I443,E444)<INDEX(GR,E444,2)),E444,IF(F444*(COUNTIF($I$1:$I443,F444)<INDEX(GR,F444,2)),F444,IF(G444*(COUNTIF($I$1:$I443,G444)<INDEX(GR,G444,2)),G444)))) -> #VALUE!
A445: =ALEAS( NE,1, NE,TRUE) -> #NAME? | B445: =VLOOKUP(Tableau4[[#This Row],[Nom]],'Liste des élèves'!$D$1:$E$612,2,FALSE) -> #N/A | H445: 444 | I445: =IF(D445*(COUNTIF($I$1:$I444,D445)<INDEX(GR,D445,2)),D445,IF(E445*(COUNTIF($I$1:$I444,E445)<INDEX(GR,E445,2)),E445,IF(F445*(COUNTIF($I$1:$I444,F445)<INDEX(GR,F445,2)),F445,IF(G445*(COUNTIF($I$1:$I444,G445)<INDEX(GR,G445,2)),G445)))) -> #VALUE!
A446: =ALEAS( NE,1, NE,TRUE) -> #NAME? | B446: =VLOOKUP(Tableau4[[#This Row],[Nom]],'Liste des élèves'!$D$1:$E$612,2,FALSE) -> #N/A | H446: 445 | I446: =IF(D446*(COUNTIF($I$1:$I445,D446)<INDEX(GR,D446,2)),D446,IF(E446*(COUNTIF($I$1:$I445,E446)<INDEX(GR,E446,2)),E446,IF(F446*(COUNTIF($I$1:$I445,F446)<INDEX(GR,F446,2)),F446,IF(G446*(COUNTIF($I$1:$I445,G446)<INDEX(GR,G446,2)),G446)))) -> #VALUE!
A447: =ALEAS( NE,1, NE,TRUE) -> #NAME? | B447: =VLOOKUP(Tableau4[[#This Row],[Nom]],'Liste des élèves'!$D$1:$E$612,2,FALSE) -> #N/A | H447: 446 | I447: =IF(D447*(COUNTIF($I$1:$I446,D447)<INDEX(GR,D447,2)),D447,IF(E447*(COUNTIF($I$1:$I446,E447)<INDEX(GR,E447,2)),E447,IF(F447*(COUNTIF($I$1:$I446,F447)<INDEX(GR,F447,2)),F447,IF(G447*(COUNTIF($I$1:$I446,G447)<INDEX(GR,G447,2)),G447)))) -> #VALUE!
A448: =ALEAS( NE,1, NE,TRUE) -> #NAME? | B448: =VLOOKUP(Tableau4[[#This Row],[Nom]],'Liste des élèves'!$D$1:$E$612,2,FALSE) -> #N/A | H448: 447 | I448: =IF(D448*(COUNTIF($I$1:$I447,D448)<INDEX(GR,D448,2)),D448,IF(E448*(COUNTIF($I$1:$I447,E448)<INDEX(GR,E448,2)),E448,IF(F448*(COUNTIF($I$1:$I447,F448)<INDEX(GR,F448,2)),F448,IF(G448*(COUNTIF($I$1:$I447,G448)<INDEX(GR,G448,2)),G448)))) -> #VALUE!
... A476: =ALEAS( NE,1, NE,TRUE) -> #NAME? | B476: =VLOOKUP(Tableau4[[#This Row],[Nom]],'Liste des élèves'!$D$1:$E$612,2,FALSE) -> #N/A | H476: 475 | I476: =IF(D476*(COUNTIF($I$1:$I475,D476)<INDEX(GR,D476,2)),D476,IF(E476*(COUNTIF($I$1:$I475,E476)<INDEX(GR,E476,2)),E476,IF(F476*(COUNTIF($I$1:$I475,F476)<INDEX(GR,F476,2)),F476,IF(G476*(COUNTIF($I$1:$I475,G476)<INDEX(GR,G476,2)),G476)))) -> #VALUE!

Sheet Répartition par atelier
A4: Groupe | B4: Nom | C4: Classe | D4: C1 | E4: C2 | F4: C3 | G4: C4
A5: 1 | B5: Ahmad Tanzeel | C5: 1C3 | D5: 1 | E5: 17 | F5: 11 | G5: 15
A6: 1 | B6: Lamsani Omar | C6: 1C5 | D6: 1 | E6: 24 | F6: 25 | G6: 26
A7: 1 | B7: Touil Imran | C7: 1C3 | D7: 29 | E7: 1 | F7: 6 | G7: 4
A8: 1 | B8: El Benaïssi Hajar | C8: 1C1 | D8: 30 | E8: 25 | F8: 15 | G8: 1
A9: 1 | B9: Mansaré Sitan | C9: 1C5 | D9: 1 | E9: 9 | F9: 29 | G9: 30
A10: 2 | B10: Antofie Nicolae | C10: 2C5 | D10: 30 | E10: 2 | F10: 19 | G10: 29
A11: 2 | B11: El Hachioui Aya | C11: 4G2 | D11: 15 | E11: 25 | F11: 30 | G11: 2
A12: 2 | B12: Masua Lavodrama Mathilde | C12: 5G1 | D12: 15 | E12: 2 | F12: 12 | G12: 22
A13: 2 | B13: Neamt Andrada | C13: 4G1 | D13: 26 | E13: 2 | F13: 27 | G13: 25
A14: 3 | B14: Bendaira Sara | C14: 2C6 | D14: 3 | E14: 5 | F14: 8 | G14: 15
A15: 3 | B15: Braun Léna | C15: 4G1 | D15: 3 | E15: 10 | F15: 4 | G15: 2
A16: 3 | B16: Chatioui El Hamoudani Ismael | C16: 2C5 | D16: 25 | E16: 27 | F16: 30 | G16: 3
... A231: 23 | B231: Maffogou Oceane | C231: 1C2 | D231: 23 | E231: 15 | F231: 30 | G231: 29
A232: FAUX | B232: Ajouaou Iman | C232: 3G2 | D232: 30 | E232: 27 | F232: 25 | G232: 15
A233: FAUX | B233: Albu Andréi | C233: 2C6 | D233: 25 | E233: 27 | F233: 30 | G233: 15
A234: FAUX | B234: Badjoko Aradjabu Raphaelle | C234: 3G1 | D234: 30 | E234: 27 | F234: 25 | G234: 15
A235: FAUX | B235: Bah Aissatou | C235: 3G1 | D235: 30 | E235: 27 | F235: 25 | G235: 15
A236: FAUX | B236: Balan Rares-Stefan | C236: 2C10 | D236: 25 | E236: 30 | F236: 15 | G236: 27
A237: FAUX | B237: Ben Fatah Ghita | C237: 2C3 | D237: 15 | E237: 26 | F237: 25 | G237: 27
A238: FAUX | B238: Boudhan Dounia | C238: 1C1 | D238: 30 | E238: 9 | F238: 27 | G238: 29
A239: FAUX | B239: Bouhnani Rayan | C239: 3G1 | D239: 29 | E239: 30 | F239: 26 | G239: 25
A240: FAUX | B240: Crol William | C240: 2C3 | D240: 30 | E240: 29 | F240: 27 | G240: 9
A241: FAUX | B241: Darkwah Caleb | C241: 2C6 | D241: 25 | E241: 27 | F241: 30 | G241: 29
A242: FAUX | B242: Dibiani Ahmed | C242: 3G6 | D242: 27 | E242: 25 | F242: 24 | G242: 30
A243: FAUX | B243: Hajjour Soufiane | C243: 2C8 | D243: 25 | E243: 3 | F243: 26 | G243: 30
... A261: FAUX | B261: Silla Yuego Nathan Djoukouf | C261: 1C4 | D261: 25 | E261: 26 | F261: 27 | G261: 30
A262: 13 | B262: Hoxha Antonela Ana | C262: 1C5 | D262: 9 | E262: 13 | F262: 10 | G262: 17
A263: 13 | B263: Janczewska Natasza | C263: 2C5 | D263: 27 | E263: 13 | F263: 4 | G263: 24
A264: 13 | B264: Mansouri Leyla | C264: 3G6 | D264: 9 | E264: 30 | F264: 27 | G264: 13
A265: 13 | B265: Postaru Ryana | C265: 2C5 | D265: 13 | E265: 4 | F265: 3 | G265: 20
A266: 13 | B266: Orzepowski Sebastian | C266: 2C4 | D266: 16 | E266: 13 | F266: 6 | G266: 10
A267: 13 | B267: Cornil Oumayma | C267: 3G2 | D267: 13 | E267: 11 | F267: 10 | G267: 14
A268: 13 | B268: Hachti Bernane Bilal | C268: 1C5 | D268: 25 | E268: 13 | F268: 15 | G268: 20
A269: 28 | B269: Jones Samuel | C269: 1C3 | D269: 26 | E269: 27 | F269: 28 | G269: 30
A270: 28 | B270: Rabi Imrane | C270: 2C8 | D270: 30 | E270: 27 | F270: 28 | G270: 25
A271: 28 | B271: Sakouane Zaghdoud Ilyas | C271: 3G2 | D271: 25 | E271: 26 | F271: 27 | G271: 28
A272: 28 | B272: Goffin Hugo | C272: 2C10 | D272: 25 | E272: 26 | F272: 27 | G272: 28
A273: 28 | B273: Katako Omeonga Bryan | C273: 2C1 | D273: 27 | E273: 24 | F273: 28 | G273: 30
... A439: 26 | B439: Mazouz Walid | C439: 1C4 | D439: 25 | E439: 30 | F439: 26 | G439: 28
A440: #VALEUR! | B440: (vide) | C440: #N/A | D440: (vide) | E440: (vide) | F440: (vide) | G440: (vide)

Sheet Répartition par classe
A3: Classe | B3: Nom | C3: Groupe
A4: 1C1 | B4: Al Jebanwi Roukaya | C4: 30
B5: Boudhan Dounia | C5: 24
B6: El Moughafir Younes | C6: 4
B7: Erghioui Sami | C7: 18
B8: Errami Sofiane | C8: 24
B9: Irakiza Audry | C9: 29
B10: Kastit Manal | C10: 20
B11: Lebrun Gabriel | C11: 25
B12: Ngassa Lyne | C12: 12
B13: Teleaga Andrea | C13: 4
B14: Zlaiji Haitam | C14: 16
B15: Yamani Mohamed | C15: 29
B16: El Benaïssi Hajar | C16: 24
... B19: Mahuwa Wamona Noemie | C19: 30
A20: 1C2 | B20: Himi Ayman | C20: 1
B21: Abdelkhalak Ayoub | C21: 18
B22: Benali Bassma | C22: 30
B23: Baccouche Arij | C23: 24
B24: Al Jamili Adam | C24: 5
B25: Benkaddour Adam | C25: 5
B26: Badjoko Aradjabu Gabriel | C26: 3
B27: Nyebha Evelyne | C27: 24
B28: Almeida Fagundes de Lima Anna Luiza | C28: 4
B29: Benhadine Ryad | C29: 26
B30: Maffogou Oceane | C30: 28
B31: Zaidi Harone | C31: 23
B32: Amri Ines | C32: 29
B33: Shahab Sami | C33: 29
A34: 1C3 | B34: Ahmad Tanzeel | C34: 29
B35: Assouik Rania | C35: 12
B36: Bah Abdoulaye | C36: 30
B37: Burlacu Andreea-Elena | C37: 29
B38: Fardounni Selma | C38: 6
B39: Fereaoun Hoda | C39: 15
B40: Fudulache Andra Lidia | C40: 29
B41: Jones Samuel | C41: 24
B42: Tahir Saeed Umaima | C42: 20
B43: Touil Imran | C43: 10
B44: Ouechak Wissam | C44: 17
B45: Carvalho Moura Raissa | C45: 27
A46: 1C4 | B46: Bachiri Chaimae | C46: 24
B47: Belgada Hajar | C47: 24
B48: Bertrand Thilyan | C48: 16
B49: Dehas Soraya | C49: 22
B50: Farag Ali | C50: 23
B51: M'Saouri Romaysa | C51: 23
B52: Molough Houdayfa | C52: 25
B53: Oudrhiri Tasnime | C53: 14
B54: Rbie Inès | C54: 29
B55: Hamdaoui Othman | C55: 3
B56: Olariu Elvira | C56: 15
B57: Ghazal Hussein | C57: 29
B58: Elosrouti Ramos Ishaq | C58: 30
B59: Mazouz Walid | C59: FAUX
B60: Mataich Amine | C60: 4
B61: Benfatah Jad | C61: 21
B62: Rahji Wiam | C62: 11
B63: Mulakilwa Mwanga-Bwanamuzuri Sophie-Peniel | C63: 3
B64: Silla Yuego Nathan Djoukouf | C64: 24
A65: 1C5 | B65: Enama Enyegue Elroï | C65: 24
B66: Hamidou Malika | C66: 17
B67: Hoxha Antonela Ana | C67: FAUX
B68: Kerrami Réda | C68: 9
B69: Lamsani Omar | C69: 29
B70: Mvibudulu Matondo Luca | C70: 11
B71: Ouali Hafsa | C71: 10
B72: Taheri Sarah | C72: 23
B73: Zaalouki Safa | C73: 3
B74: Djabout Aïcha | C74: 17
B75: El Ahrache Khalil | C75: 3
B76: Saouti Mehdi | C76: 13
B77: Khadira Ben Kaddour Sabrine | C77: 29
B78: Mulaj Florent | C78: 26
B79: Tazeddine Akram | C79: 16
B80: Hachti Bernane Bilal | C80: 30
B81: Maghrioue Yassin | C81: FAUX
B82: Mansaré Sitan | C82: 11
A83: 1C6 | B83: Benlarbi Sara | C83: 29
B84: Hama Hamidou Rakiatou | C84: 30
B85: Iabkriman Lamia | C85: 25
B86: Iya Mpia Odette | C86: 29
B87: Johnson Nelly | C87: 25
B88: Miafo Manuela | C88: 15
B89: Mohammed Imane | C89: 29
B90: Ouriaghli Adame | C90: 15
B91: Soulimani Ismail | C91: 21
B92: Thaimi Lejayne | C92: 29
B93: Wu Sichen | C93: 13
B94: Kenzaoui Darine | C94: 17
B95: El Hajioui Amine | C95: 15
... B99: Ajouaou Siham | C99: 12
A100: 1D | B100: Adamou Imane | C100: 16
B101: El Amrani Nidal | C101: 13
B102: Hung Pham Khanh | C102: FAUX
B103: Saïssay Yassir | C103: 20
B104: Da Costa Carvalho Gil | C104: 26
B105: Olenga Balengola Goodness | C105: 9
B106: Senhaji Reda | C106: 22
B107: Kitata Christivie | C107: 29
...

Sheet Liste des élèves
B1: Prénom | C1: Nom | D1: Concat | E1: Classe
B2: Roukaya | C2: Al Jebanwi | D2: =_xlfn.CONCAT(C2," ",B2) -> Al Jebanwi Roukaya | E2: 1C1
B3: Ayoub | C3: Baccouche | D3: =_xlfn.CONCAT(C3," ",B3) -> Baccouche Ayoub | E3: 1C1
B4: Saliou | C4: Bah | D4: =_xlfn.CONCAT(C4," ",B4) -> Bah Saliou | E4: 1C1
B5: Dounia | C5: Boudhan | D5: =_xlfn.CONCAT(C5," ",B5) -> Boudhan Dounia | E5: 1C1
B6: Aymen | C6: Bougrine | D6: =_xlfn.CONCAT(C6," ",B6) -> Bougrine Aymen | E6: 1C1
B7: Hajar | C7: El Benaïssi | D7: =_xlfn.CONCAT(C7," ",B7) -> El Benaïssi Hajar | E7: 1C1
B8: Younes | C8: El Moughafir | D8: =_xlfn.CONCAT(C8," ",B8) -> El Moughafir Younes | E8: 1C1
B9: Sami | C9: Erghioui | D9: =_xlfn.CONCAT(C9," ",B9) -> Erghioui Sami | E9: 1C1
B10: Sofiane | C10: Errami | D10: =_xlfn.CONCAT(C10," ",B10) -> Errami Sofiane | E10: 1C1
B11: Audry | C11: Irakiza | D11: =_xlfn.CONCAT(C11," ",B11) -> Irakiza Audry | E11: 1C1
B12: Manal | C12: Kastit | D12: =_xlfn.CONCAT(C12," ",B12) -> Kastit Manal | E12: 1C1
B13: Ismael | C13: Kherchouch | D13: =_xlfn.CONCAT(C13," ",B13) -> Kherchouch Ismael | E13: 1C1
... B612: Mamadou | C612: Balde | D612: =_xlfn.CONCAT(C612," ",B612) -> Balde Mamadou | E612: 5G2
