Workbook
Name Base2009: '2009'!$A$3:$S$16
Name Base2010: '2010'!$A$3:$S$16

Sheet 2010
B1: <<Vide
A2: Code | B2: Libellés | C2: CODE INTERNE | D2: Date référence | E2: Date butoir | F2: DIF1 | G2: DIF2 | H2: Suivi par | I2: Date demande CAT | J2: Date 1ère relance | K2: Date 2ème relance | L2: Date retour | M2: Date demande emetteur | N2: Suspens | O2: Observations | P2: Date clôture | Q2: Nombre Ajustement | R2: NBRE LIGNES CLIENTS | S2: VALORISATION
A3: AU12 | B3: AURIVE | C3: 30 000 | R3: 9 | S3: 14019.39
A4: AU13 | B4: AURIVE 1 | C4: 31 000 | R4: 48 | S4: 97993.55
A5: BA20 | B5: BANC | C5: 30 000 | R5: 15 | S5: 47204.08
A6: DEV20 | B6: DEVISE | C6: 30 000 | R6: 1 | S6: 2300
A7: DEV21 | B7: DEVISE1 | C7: 30 000 | R7: 2 | S7: 3824.83
A8: DEV22 | B8: DEVISE 2 | C8: 30 000 | R8: 2 | S8: 13291.74
A9: FI30 | B9: FIDELE | C9: 30 000 | R9: 1 | S9: 138301.68
A10: LE21 | B10: LE CREDIT | C10: 30 000 | R10: 7 | S10: 9599.5
A11: LE22 | B11: LE CREDIT1 | C11: 30 000 | R11: 1 | S11: 105.48
A12: LE23 | B12: LE CREDIT 2 | C12: 30 000 | R12: 3 | S12: 11564.78
A13: LE24 | B13: LE CREDIT 3 | C13: 30 000 | R13: 2 | S13: 915.72
A14: LE25 | B14: LE CREDIT 4 | C14: 32 000 | R14: 1 | S14: 33869.1
... A22: SLI301 | B22: SLIMAN | C22: 30 000 | R22: 6 | S22: 129358.24

Sheet 2009
B1: <<Vide
A2: Code | B2: Libellés | C2: CODE INTERNE | D2: Date référence | E2: Date butoir | F2: DIF1 | G2: DIF2 | H2: Suivi par | I2: Date demande CAT | J2: Date 1ère relance | K2: Date 2ème relance | L2: Date Retour | M2: Date Demande Emetteur | N2: Suspens | O2: Observations | P2: Date Clôture | Q2: Nombre Ajustements | R2: Nombre Lignes | S2: Valorisation
A3: DEV20 | B3: DEVISE | C3: 30 000 | D3: 39828 | E3: 40923.75 | F3: oui | H3: JP | I3: 40015 | L3: 40015 | P3: 40015 | R3: 49 | S3: 105155.2
A4: DEV21 | B4: DEVISE1 | C4: 30 000 | D4: 39813 | E4: 40908.75 | F4: oui | H4: JP | I4: 40015 | L4: 40015 | O4: OK | P4: 40015 | R4: 5 | S4: 3.38
A5: DEV22 | B5: DEVISE 2 | C5: 30 000 | E5: 40178 | H5: JP | I5: 40177 | L5: 40177 | P5: 40178 | R5: 1 | S5: 1849.1
A6: BA20 | B6: BANC | C6: 30 000 | D6: 38743 | E6: 39838.75 | H6: JP | I6: 39905 | L6: 40018 | P6: 40024 | R6: 1 | S6: 49211.46
A7: FI30 | B7: FIDELE | C7: 30 000 | E7: 40178 | H7: JP | I7: 40120 | N7: LISTE | R7: 1 | S7: 2799
A8: AU12 | B8: AURIVE | C8: 30 000 | D8: 39876 | E8: 40971.75 | G8: oui | H8: JP | I8: 39876 | J8: 40080 | L8: 40087 | P8: 40088 | R8: 2 | S8: 12811.26
A9: LE21 | B9: LE CREDIT | C9: 30 000 | D9: 38730 | E9: 39825.75 | H9: JP | I9: 39905 | J9: 40018 | L9: 40018 | O9: CORRECT | P9: 40022 | R9: 18 | S9: 61443.14
A10: SLI30 | B10: SLIMAN | C10: 30 000 | D10: 38730 | E10: 39825.75 | H10: JP | I10: 39905 | J10: 40018 | L10: 40018 | P10: 40025 | R10: 8 | S10: 12512.34
A11: LE22 | B11: LE CREDIT1 | C11: 30 000 | D11: 38730 | E11: 39825.75 | H11: JP | I11: 39905 | J11: 40018 | L11: 40018 | P11: 40021 | R11: 6 | S11: 8066.38
A12: LE23 | B12: LE CREDIT 2 | C12: 30 000 | E12: 40178 | H12: JP | I12: 40177 | L12: 40177 | P12: 40178 | R12: 4 | S12: 93369.88
A13: LE24 | B13: LE CREDIT 3 | C13: 30 000 | E13: 40178 | H13: JP | I13: 40177 | L13: 40177 | P13: 40178 | R13: 1 | S13: 7978.25
A14: LE211 | B14: LE CREDIT | C14: 30 000 | F14: 39876 | G14: 40971.75 | I14: oui | J14: JP | K14: 39876 | L14: 40080 | N14: 40087 | R14: 40088 | S14: 9599.5
A15: LE22 | B15: LE CREDIT1 | C15: 30 000 | F15: 38730 | G15: 39825.75 | J15: JP | K15: 39905 | L15: 40018 | N15: 40018 | Q15: CORRECT | R15: 40022 | S15: 105.48
A16: LE231 | B16: LE CREDIT 2 | C16: 30 000 | F16: 38730 | G16: 39825.75 | J16: JP | K16: 39905 | L16: 40018 | N16: 40018 | R16: 40025 | S16: 11564.78
A17: LE241 | B17: LE CREDIT 3 | C17: 30 000 | F17: 38730 | G17: 39825.75 | J17: JP | K17: 39905 | L17: 40018 | N17: 40018 | R17: 40021 | S17: 915.72
A18: LE251 | B18: LE CREDIT 4 | C18: 32 000 | G18: 40178 | J18: JP | K18: 40177 | N18: 40177 | R18: 40178 | S18: 33869.1
A19: SLI301 | B19: SLIMAN | C19: 30 000 | G19: 40178 | J19: JP | K19: 40177 | N19: 40177 | R19: 40178 | S19: 129358.24

Sheet Nouveau tableau
A1: Code | B1: Libellés | C1: CODE INTERNE | D1: Date référence | E1: Date butoir | F1: DIF1 | G1: DIF2 | H1: Suivi par | I1: Date demande CAT | J1: Date 1ère relance | K1: Date 2ème relance | L1: Date retour | M1: Date demande emetteur | N1: Suspens | O1: Observations | P1: Date clôture | Q1: Nombre Ajustement | R1: NBRE LIGNES CLIENTS | S1: VALORISATION | T1: N/N-1
A2: {=INDEX('2010'!$A$1:$A$25,MIN(IF(COUNTIF($A$1:$A1,'2010'!$A$3:$A$25)=0,IF('2010'!$A$3:$A$25<>"",ROW('2010'!$A$3:$A$25)))))&""} -> AU12 | B2: =IF($A2="","",IF(ISERROR(VLOOKUP($A2,Base2009,COLUMN(),FALSE)),VLOOKUP($A2,Base2010,COLUMN(),FALSE),VLOOKUP($A2,Base2009,COLUMN(),FALSE))) -> AURIVE | C2: =IF($A2="","",IF(ISERROR(VLOOKUP($A2,Base2009,COLUMN(),FALSE)),VLOOKUP($A2,Base2010,COLUMN(),FALSE),VLOOKUP($A2,Base2009,COLUMN(),FALSE))) -> 30 000 | D2: =IF($A2="","",IF(ISERROR(VLOOKUP($A2,Base2009,COLUMN(),FALSE)),VLOOKUP($A2,Base2010,COLUMN(),FALSE),VLOOKUP($A2,Base2009,COLUMN(),FALSE))) -> 39876 | E2: =IF($A2="","",IF(ISERROR(VLOOKUP($A2,Base2009,COLUMN(),FALSE)),VLOOKUP($A2,Base2010,COLUMN(),FALSE),VLOOKUP($A2,Base2009,COLUMN(),FALSE))) -> 40971.75 | F2: =IF($A2="","",IF(ISERROR(VLOOKUP($A2,Base2009,COLUMN(),FALSE)),VLOOKUP($A2,Base2010,COLUMN(),FALSE),VLOOKUP($A2,Base2009,COLUMN(),FALSE))) -> 0 | G2: =IF($A2="","",IF(ISERROR(VLOOKUP($A2,Base2009,COLUMN(),FALSE)),VLOOKUP($A2,Base2010,COLUMN(),FALSE),VLOOKUP($A2,Base2009,COLUMN(),FALSE))) -> oui | H2: =IF($A2="","",IF(ISERROR(VLOOKUP($A2,Base2009,COLUMN(),FALSE)),VLOOKUP($A2,Base2010,COLUMN(),FALSE),VLOOKUP($A2,Base2009,COLUMN(),FALSE))) -> JP | I2: =IF($A2="","",IF(ISERROR(VLOOKUP($A2,Base2009,COLUMN(),FALSE)),VLOOKUP($A2,Base2010,COLUMN(),FALSE),VLOOKUP($A2,Base2009,COLUMN(),FALSE))) -> 39876 | J2: {=IF($A2="","",IF(ISERROR(VLOOKUP($A2,Base2009,COLUMN(),FALSE)),VLOOKUP($A2,Base2010,COLUMN(),FALSE),VLOOKUP($A2,Base2009,COLUMN(),FALSE)))} -> 40080 | K2: {=IF($A2="","",IF(ISERROR(VLOOKUP($A2,Base2009,COLUMN(),FALSE)),VLOOKUP($A2,Base2010,COLUMN(),FALSE),VLOOKUP($A2,Base2009,COLUMN(),FALSE)))} -> 0 | L2: =IF($A2="","",IF(ISERROR(VLOOKUP($A2,Base2009,COLUMN(),FALSE)),VLOOKUP($A2,Base2010,COLUMN(),FALSE),VLOOKUP($A2,Base2009,COLUMN(),FALSE))) -> 40087 | M2: =IF($A2="","",IF(ISERROR(VLOOKUP($A2,Base2009,COLUMN(),FALSE)),VLOOKUP($A2,Base2010,COLUMN(),FALSE),VLOOKUP($A2,Base2009,COLUMN(),FALSE))) -> 0 | N2: =IF($A2="","",IF(ISERROR(VLOOKUP($A2,Base2009,COLUMN(),FALSE)),VLOOKUP($A2,Base2010,COLUMN(),FALSE),VLOOKUP($A2,Base2009,COLUMN(),FALSE))) -> 0 | O2: =IF($A2="","",IF(ISERROR(VLOOKUP($A2,Base2009,COLUMN(),FALSE)),VLOOKUP($A2,Base2010,COLUMN(),FALSE),VLOOKUP($A2,Base2009,COLUMN(),FALSE))) -> 0 | P2: =IF($A2="","",IF(ISERROR(VLOOKUP($A2,Base2009,COLUMN(),FALSE)),VLOOKUP($A2,Base2010,COLUMN(),FALSE),VLOOKUP($A2,Base2009,COLUMN(),FALSE))) -> 40088 | Q2: =IF($A2="","",IF(ISERROR(VLOOKUP($A2,Base2009,COLUMN(),FALSE)),VLOOKUP($A2,Base2010,COLUMN(),FALSE),VLOOKUP($A2,Base2009,COLUMN(),FALSE))) -> 0 | R2: =IF($A2="","",IF(ISERROR(VLOOKUP($A2,Base2009,COLUMN(),FALSE)),VLOOKUP($A2,Base2010,COLUMN(),FALSE),VLOOKUP($A2,Base2009,COLUMN(),FALSE))) -> 2 | S2: =IF(ISERROR(VLOOKUP($A2,Base2010,COLUMN(),FALSE)),"",VLOOKUP($A2,Base2010,COLUMN(),FALSE)) -> 14019.39 | T2: {=IF(ISERROR(VLOOKUP($A2,Base2009,COLUMN()-1,FALSE)),"",S2/VLOOKUP($A2,Base2009,COLUMN()-1,FALSE))} -> 1.0943022
A3: {=INDEX('2010'!$A$1:$A$25,MIN(IF(COUNTIF($A$1:$A2,'2010'!$A$3:$A$25)=0,IF('2010'!$A$3:$A$25<>"",ROW('2010'!$A$3:$A$25)))))&""} -> AU13 | B3: =IF($A3="","",IF(ISERROR(VLOOKUP($A3,Base2009,COLUMN(),FALSE)),VLOOKUP($A3,Base2010,COLUMN(),FALSE),VLOOKUP($A3,Base2009,COLUMN(),FALSE))) -> AURIVE 1 | C3: =IF($A3="","",IF(ISERROR(VLOOKUP($A3,Base2009,COLUMN(),FALSE)),VLOOKUP($A3,Base2010,COLUMN(),FALSE),VLOOKUP($A3,Base2009,COLUMN(),FALSE))) -> 31 000 | D3: =IF($A3="","",IF(ISERROR(VLOOKUP($A3,Base2009,COLUMN(),FALSE)),VLOOKUP($A3,Base2010,COLUMN(),FALSE),VLOOKUP($A3,Base2009,COLUMN(),FALSE))) -> 0 | E3: =IF($A3="","",IF(ISERROR(VLOOKUP($A3,Base2009,COLUMN(),FALSE)),VLOOKUP($A3,Base2010,COLUMN(),FALSE),VLOOKUP($A3,Base2009,COLUMN(),FALSE))) -> 0 | F3: =IF($A3="","",IF(ISERROR(VLOOKUP($A3,Base2009,COLUMN(),FALSE)),VLOOKUP($A3,Base2010,COLUMN(),FALSE),VLOOKUP($A3,Base2009,COLUMN(),FALSE))) -> 0 | G3: =IF($A3="","",IF(ISERROR(VLOOKUP($A3,Base2009,COLUMN(),FALSE)),VLOOKUP($A3,Base2010,COLUMN(),FALSE),VLOOKUP($A3,Base2009,COLUMN(),FALSE))) -> 0 | H3: =IF($A3="","",IF(ISERROR(VLOOKUP($A3,Base2009,COLUMN(),FALSE)),VLOOKUP($A3,Base2010,COLUMN(),FALSE),VLOOKUP($A3,Base2009,COLUMN(),FALSE))) -> 0 | I3: =IF($A3="","",IF(ISERROR(VLOOKUP($A3,Base2009,COLUMN(),FALSE)),VLOOKUP($A3,Base2010,COLUMN(),FALSE),VLOOKUP($A3,Base2009,COLUMN(),FALSE))) -> 0 | J3: {=IF($A3="","",IF(ISERROR(VLOOKUP($A3,Base2009,COLUMN(),FALSE)),VLOOKUP($A3,Base2010,COLUMN(),FALSE),VLOOKUP($A3,Base2009,COLUMN(),FALSE)))} -> 0 | K3: {=IF($A3="","",IF(ISERROR(VLOOKUP($A3,Base2009,COLUMN(),FALSE)),VLOOKUP($A3,Base2010,COLUMN(),FALSE),VLOOKUP($A3,Base2009,COLUMN(),FALSE)))} -> 0 | L3: =IF($A3="","",IF(ISERROR(VLOOKUP($A3,Base2009,COLUMN(),FALSE)),VLOOKUP($A3,Base2010,COLUMN(),FALSE),VLOOKUP($A3,Base2009,COLUMN(),FALSE))) -> 0 | M3: =IF($A3="","",IF(ISERROR(VLOOKUP($A3,Base2009,COLUMN(),FALSE)),VLOOKUP($A3,Base2010,COLUMN(),FALSE),VLOOKUP($A3,Base2009,COLUMN(),FALSE))) -> 0 | N3: =IF($A3="","",IF(ISERROR(VLOOKUP($A3,Base2009,COLUMN(),FALSE)),VLOOKUP($A3,Base2010,COLUMN(),FALSE),VLOOKUP($A3,Base2009,COLUMN(),FALSE))) -> 0 | O3: =IF($A3="","",IF(ISERROR(VLOOKUP($A3,Base2009,COLUMN(),FALSE)),VLOOKUP($A3,Base2010,COLUMN(),FALSE),VLOOKUP($A3,Base2009,COLUMN(),FALSE))) -> 0 | P3: =IF($A3="","",IF(ISERROR(VLOOKUP($A3,Base2009,COLUMN(),FALSE)),VLOOKUP($A3,Base2010,COLUMN(),FALSE),VLOOKUP($A3,Base2009,COLUMN(),FALSE))) -> 0 | Q3: =IF($A3="","",IF(ISERROR(VLOOKUP($A3,Base2009,COLUMN(),FALSE)),VLOOKUP($A3,Base2010,COLUMN(),FALSE),VLOOKUP($A3,Base2009,COLUMN(),FALSE))) -> 0 | R3: =IF($A3="","",IF(ISERROR(VLOOKUP($A3,Base2009,COLUMN(),FALSE)),VLOOKUP($A3,Base2010,COLUMN(),FALSE),VLOOKUP($A3,Base2009,COLUMN(),FALSE))) -> 48 | S3: =IF(ISERROR(VLOOKUP($A3,Base2010,COLUMN(),FALSE)),"",VLOOKUP($A3,Base2010,COLUMN(),FALSE)) -> 97993.55 | T3: {=IF(ISERROR(VLOOKUP($A3,Base2009,COLUMN()-1,FALSE)),"",S3/VLOOKUP($A3,Base2009,COLUMN()-1,FALSE))}
A4: {=INDEX('2010'!$A$1:$A$25,MIN(IF(COUNTIF($A$1:$A3,'2010'!$A$3:$A$25)=0,IF('2010'!$A$3:$A$25<>"",ROW('2010'!$A$3:$A$25)))))&""} -> BA20 | B4: =IF($A4="","",IF(ISERROR(VLOOKUP($A4,Base2009,COLUMN(),FALSE)),VLOOKUP($A4,Base2010,COLUMN(),FALSE),VLOOKUP($A4,Base2009,COLUMN(),FALSE))) -> BANC | C4: =IF($A4="","",IF(ISERROR(VLOOKUP($A4,Base2009,COLUMN(),FALSE)),VLOOKUP($A4,Base2010,COLUMN(),FALSE),VLOOKUP($A4,Base2009,COLUMN(),FALSE))) -> 30 000 | D4: =IF($A4="","",IF(ISERROR(VLOOKUP($A4,Base2009,COLUMN(),FALSE)),VLOOKUP($A4,Base2010,COLUMN(),FALSE),VLOOKUP($A4,Base2009,COLUMN(),FALSE))) -> 38743 | E4: =IF($A4="","",IF(ISERROR(VLOOKUP($A4,Base2009,COLUMN(),FALSE)),VLOOKUP($A4,Base2010,COLUMN(),FALSE),VLOOKUP($A4,Base2009,COLUMN(),FALSE))) -> 39838.75 | F4: =IF($A4="","",IF(ISERROR(VLOOKUP($A4,Base2009,COLUMN(),FALSE)),VLOOKUP($A4,Base2010,COLUMN(),FALSE),VLOOKUP($A4,Base2009,COLUMN(),FALSE))) -> 0 | G4: =IF($A4="","",IF(ISERROR(VLOOKUP($A4,Base2009,COLUMN(),FALSE)),VLOOKUP($A4,Base2010,COLUMN(),FALSE),VLOOKUP($A4,Base2009,COLUMN(),FALSE))) -> 0 | H4: =IF($A4="","",IF(ISERROR(VLOOKUP($A4,Base2009,COLUMN(),FALSE)),VLOOKUP($A4,Base2010,COLUMN(),FALSE),VLOOKUP($A4,Base2009,COLUMN(),FALSE))) -> JP | I4: =IF($A4="","",IF(ISERROR(VLOOKUP($A4,Base2009,COLUMN(),FALSE)),VLOOKUP($A4,Base2010,COLUMN(),FALSE),VLOOKUP($A4,Base2009,COLUMN(),FALSE))) -> 39905 | J4: {=IF($A4="","",IF(ISERROR(VLOOKUP($A4,Base2009,COLUMN(),FALSE)),VLOOKUP($A4,Base2010,COLUMN(),FALSE),VLOOKUP($A4,Base2009,COLUMN(),FALSE)))} -> 0 | K4: {=IF($A4="","",IF(ISERROR(VLOOKUP($A4,Base2009,COLUMN(),FALSE)),VLOOKUP($A4,Base2010,COLUMN(),FALSE),VLOOKUP($A4,Base2009,COLUMN(),FALSE)))} -> 0 | L4: =IF($A4="","",IF(ISERROR(VLOOKUP($A4,Base2009,COLUMN(),FALSE)),VLOOKUP($A4,Base2010,COLUMN(),FALSE),VLOOKUP($A4,Base2009,COLUMN(),FALSE))) -> 40018 | M4: =IF($A4="","",IF(ISERROR(VLOOKUP($A4,Base2009,COLUMN(),FALSE)),VLOOKUP($A4,Base2010,COLUMN(),FALSE),VLOOKUP($A4,Base2009,COLUMN(),FALSE))) -> 0 | N4: =IF($A4="","",IF(ISERROR(VLOOKUP($A4,Base2009,COLUMN(),FALSE)),VLOOKUP($A4,Base2010,COLUMN(),FALSE),VLOOKUP($A4,Base2009,COLUMN(),FALSE))) -> 0 | O4: =IF($A4="","",IF(ISERROR(VLOOKUP($A4,Base2009,COLUMN(),FALSE)),VLOOKUP($A4,Base2010,COLUMN(),FALSE),VLOOKUP($A4,Base2009,COLUMN(),FALSE))) -> 0 | P4: =IF($A4="","",IF(ISERROR(VLOOKUP($A4,Base2009,COLUMN(),FALSE)),VLOOKUP($A4,Base2010,COLUMN(),FALSE),VLOOKUP($A4,Base2009,COLUMN(),FALSE))) -> 40024 | Q4: =IF($A4="","",IF(ISERROR(VLOOKUP($A4,Base2009,COLUMN(),FALSE)),VLOOKUP($A4,Base2010,COLUMN(),FALSE),VLOOKUP($A4,Base2009,COLUMN(),FALSE))) -> 0 | R4: =IF($A4="","",IF(ISERROR(VLOOKUP($A4,Base2009,COLUMN(),FALSE)),VLOOKUP($A4,Base2010,COLUMN(),FALSE),VLOOKUP($A4,Base2009,COLUMN(),FALSE))) -> 1 | S4: =IF(ISERROR(VLOOKUP($A4,Base2010,COLUMN(),FALSE)),"",VLOOKUP($A4,Base2010,COLUMN(),FALSE)) -> 47204.08 | T4: {=IF(ISERROR(VLOOKUP($A4,Base2009,COLUMN()-1,FALSE)),"",S4/VLOOKUP($A4,Base2009,COLUMN()-1,FALSE))} -> 0.95920909
A5: {=INDEX('2010'!$A$1:$A$25,MIN(IF(COUNTIF($A$1:$A4,'2010'!$A$3:$A$25)=0,IF('2010'!$A$3:$A$25<>"",ROW('2010'!$A$3:$A$25)))))&""} -> DEV20 | B5: {=IF($A5="","",IF(ISERROR(VLOOKUP($A5,Base2009,COLUMN(),FALSE)),VLOOKUP($A5,Base2010,COLUMN(),FALSE),VLOOKUP($A5,Base2009,COLUMN(),FALSE)))} -> DEVISE | C5: {=IF($A5="","",IF(ISERROR(VLOOKUP($A5,Base2009,COLUMN(),FALSE)),VLOOKUP($A5,Base2010,COLUMN(),FALSE),VLOOKUP($A5,Base2009,COLUMN(),FALSE)))} -> 30 000 | D5: {=IF($A5="","",IF(ISERROR(VLOOKUP($A5,Base2009,COLUMN(),FALSE)),VLOOKUP($A5,Base2010,COLUMN(),FALSE),VLOOKUP($A5,Base2009,COLUMN(),FALSE)))} -> 39828 | E5: {=IF($A5="","",IF(ISERROR(VLOOKUP($A5,Base2009,COLUMN(),FALSE)),VLOOKUP($A5,Base2010,COLUMN(),FALSE),VLOOKUP($A5,Base2009,COLUMN(),FALSE)))} -> 40923.75 | F5: {=IF($A5="","",IF(ISERROR(VLOOKUP($A5,Base2009,COLUMN(),FALSE)),VLOOKUP($A5,Base2010,COLUMN(),FALSE),VLOOKUP($A5,Base2009,COLUMN(),FALSE)))} -> oui | G5: {=IF($A5="","",IF(ISERROR(VLOOKUP($A5,Base2009,COLUMN(),FALSE)),VLOOKUP($A5,Base2010,COLUMN(),FALSE),VLOOKUP($A5,Base2009,COLUMN(),FALSE)))} -> 0 | H5: {=IF($A5="","",IF(ISERROR(VLOOKUP($A5,Base2009,COLUMN(),FALSE)),VLOOKUP($A5,Base2010,COLUMN(),FALSE),VLOOKUP($A5,Base2009,COLUMN(),FALSE)))} -> JP | I5: =IF($A5="","",IF(ISERROR(VLOOKUP($A5,Base2009,COLUMN(),FALSE)),VLOOKUP($A5,Base2010,COLUMN(),FALSE),VLOOKUP($A5,Base2009,COLUMN(),FALSE))) -> 40015 | J5: {=IF($A5="","",IF(ISERROR(VLOOKUP($A5,Base2009,COLUMN(),FALSE)),VLOOKUP($A5,Base2010,COLUMN(),FALSE),VLOOKUP($A5,Base2009,COLUMN(),FALSE)))} -> 0 | K5: {=IF($A5="","",IF(ISERROR(VLOOKUP($A5,Base2009,COLUMN(),FALSE)),VLOOKUP($A5,Base2010,COLUMN(),FALSE),VLOOKUP($A5,Base2009,COLUMN(),FALSE)))} -> 0 | L5: {=IF($A5="","",IF(ISERROR(VLOOKUP($A5,Base2009,COLUMN(),FALSE)),VLOOKUP($A5,Base2010,COLUMN(),FALSE),VLOOKUP($A5,Base2009,COLUMN(),FALSE)))} -> 40015 | M5: {=IF($A5="","",IF(ISERROR(VLOOKUP($A5,Base2009,COLUMN(),FALSE)),VLOOKUP($A5,Base2010,COLUMN(),FALSE),VLOOKUP($A5,Base2009,COLUMN(),FALSE)))} -> 0 | N5: {=IF($A5="","",IF(ISERROR(VLOOKUP($A5,Base2009,COLUMN(),FALSE)),VLOOKUP($A5,Base2010,COLUMN(),FALSE),VLOOKUP($A5,Base2009,COLUMN(),FALSE)))} -> 0 | O5: {=IF($A5="","",IF(ISERROR(VLOOKUP($A5,Base2009,COLUMN(),FALSE)),VLOOKUP($A5,Base2010,COLUMN(),FALSE),VLOOKUP($A5,Base2009,COLUMN(),FALSE)))} | P5: {=IF($A5="","",IF(ISERROR(VLOOKUP($A5,Base2009,COLUMN(),FALSE)),VLOOKUP($A5,Base2010,COLUMN(),FALSE),VLOOKUP($A5,Base2009,COLUMN(),FALSE)))} -> 40015 | Q5: {=IF($A5="","",IF(ISERROR(VLOOKUP($A5,Base2009,COLUMN(),FALSE)),VLOOKUP($A5,Base2010,COLUMN(),FALSE),VLOOKUP($A5,Base2009,COLUMN(),FALSE)))} -> 0 | R5: =IF($A5="","",IF(ISERROR(VLOOKUP($A5,Base2009,COLUMN(),FALSE)),VLOOKUP($A5,Base2010,COLUMN(),FALSE),VLOOKUP($A5,Base2009,COLUMN(),FALSE))) -> 49 | S5: {=IF(ISERROR(VLOOKUP($A5,Base2010,COLUMN(),FALSE)),"",VLOOKUP($A5,Base2010,COLUMN(),FALSE))} -> 2300 | T5: {=IF(ISERROR(VLOOKUP($A5,Base2009,COLUMN()-1,FALSE)),"",S5/VLOOKUP($A5,Base2009,COLUMN()-1,FALSE))} -> 0.021872432
A6: {=INDEX('2010'!$A$1:$A$25,MIN(IF(COUNTIF($A$1:$A5,'2010'!$A$3:$A$25)=0,IF('2010'!$A$3:$A$25<>"",ROW('2010'!$A$3:$A$25)))))&""} -> DEV21 | B6: {=IF($A6="","",IF(ISERROR(VLOOKUP($A6,Base2009,COLUMN(),FALSE)),VLOOKUP($A6,Base2010,COLUMN(),FALSE),VLOOKUP($A6,Base2009,COLUMN(),FALSE)))} -> DEVISE1 | C6: {=IF($A6="","",IF(ISERROR(VLOOKUP($A6,Base2009,COLUMN(),FALSE)),VLOOKUP($A6,Base2010,COLUMN(),FALSE),VLOOKUP($A6,Base2009,COLUMN(),FALSE)))} -> 30 000 | D6: {=IF($A6="","",IF(ISERROR(VLOOKUP($A6,Base2009,COLUMN(),FALSE)),VLOOKUP($A6,Base2010,COLUMN(),FALSE),VLOOKUP($A6,Base2009,COLUMN(),FALSE)))} -> 39813 | E6: {=IF($A6="","",IF(ISERROR(VLOOKUP($A6,Base2009,COLUMN(),FALSE)),VLOOKUP($A6,Base2010,COLUMN(),FALSE),VLOOKUP($A6,Base2009,COLUMN(),FALSE)))} -> 40908.75 | F6: {=IF($A6="","",IF(ISERROR(VLOOKUP($A6,Base2009,COLUMN(),FALSE)),VLOOKUP($A6,Base2010,COLUMN(),FALSE),VLOOKUP($A6,Base2009,COLUMN(),FALSE)))} -> oui | G6: {=IF($A6="","",IF(ISERROR(VLOOKUP($A6,Base2009,COLUMN(),FALSE)),VLOOKUP($A6,Base2010,COLUMN(),FALSE),VLOOKUP($A6,Base2009,COLUMN(),FALSE)))} -> 0 | H6: {=IF($A6="","",IF(ISERROR(VLOOKUP($A6,Base2009,COLUMN(),FALSE)),VLOOKUP($A6,Base2010,COLUMN(),FALSE),VLOOKUP($A6,Base2009,COLUMN(),FALSE)))} -> JP | I6: =IF($A6="","",IF(ISERROR(VLOOKUP($A6,Base2009,COLUMN(),FALSE)),VLOOKUP($A6,Base2010,COLUMN(),FALSE),VLOOKUP($A6,Base2009,COLUMN(),FALSE))) -> 40015 | J6: {=IF($A6="","",IF(ISERROR(VLOOKUP($A6,Base2009,COLUMN(),FALSE)),VLOOKUP($A6,Base2010,COLUMN(),FALSE),VLOOKUP($A6,Base2009,COLUMN(),FALSE)))} -> 0 | K6: {=IF($A6="","",IF(ISERROR(VLOOKUP($A6,Base2009,COLUMN(),FALSE)),VLOOKUP($A6,Base2010,COLUMN(),FALSE),VLOOKUP($A6,Base2009,COLUMN(),FALSE)))} -> 0 | L6: {=IF($A6="","",IF(ISERROR(VLOOKUP($A6,Base2009,COLUMN(),FALSE)),VLOOKUP($A6,Base2010,COLUMN(),FALSE),VLOOKUP($A6,Base2009,COLUMN(),FALSE)))} -> 40015 | M6: {=IF($A6="","",IF(ISERROR(VLOOKUP($A6,Base2009,COLUMN(),FALSE)),VLOOKUP($A6,Base2010,COLUMN(),FALSE),VLOOKUP($A6,Base2009,COLUMN(),FALSE)))} -> 0 | N6: {=IF($A6="","",IF(ISERROR(VLOOKUP($A6,Base2009,COLUMN(),FALSE)),VLOOKUP($A6,Base2010,COLUMN(),FALSE),VLOOKUP($A6,Base2009,COLUMN(),FALSE)))} -> 0 | O6: {=IF($A6="","",IF(ISERROR(VLOOKUP($A6,Base2009,COLUMN(),FALSE)),VLOOKUP($A6,Base2010,COLUMN(),FALSE),VLOOKUP($A6,Base2009,COLUMN(),FALSE)))} -> OK | P6: {=IF($A6="","",IF(ISERROR(VLOOKUP($A6,Base2009,COLUMN(),FALSE)),VLOOKUP($A6,Base2010,COLUMN(),FALSE),VLOOKUP($A6,Base2009,COLUMN(),FALSE)))} -> 40015 | Q6: {=IF($A6="","",IF(ISERROR(VLOOKUP($A6,Base2009,COLUMN(),FALSE)),VLOOKUP($A6,Base2010,COLUMN(),FALSE),VLOOKUP($A6,Base2009,COLUMN(),FALSE)))} -> 0 | R6: =IF($A6="","",IF(ISERROR(VLOOKUP($A6,Base2009,COLUMN(),FALSE)),VLOOKUP($A6,Base2010,COLUMN(),FALSE),VLOOKUP($A6,Base2009,COLUMN(),FALSE))) -> 5 | S6: {=IF(ISERROR(VLOOKUP($A6,Base2010,COLUMN(),FALSE)),"",VLOOKUP($A6,Base2010,COLUMN(),FALSE))} -> 3824.83 | T6: {=IF(ISERROR(VLOOKUP($A6,Base2009,COLUMN()-1,FALSE)),"",S6/VLOOKUP($A6,Base2009,COLUMN()-1,FALSE))} -> 1131.6065
A7: {=INDEX('2010'!$A$1:$A$25,MIN(IF(COUNTIF($A$1:$A6,'2010'!$A$3:$A$25)=0,IF('2010'!$A$3:$A$25<>"",ROW('2010'!$A$3:$A$25)))))&""} -> DEV22 | B7: {=IF($A7="","",IF(ISERROR(VLOOKUP($A7,Base2009,COLUMN(),FALSE)),VLOOKUP($A7,Base2010,COLUMN(),FALSE),VLOOKUP($A7,Base2009,COLUMN(),FALSE)))} -> DEVISE 2 | C7: {=IF($A7="","",IF(ISERROR(VLOOKUP($A7,Base2009,COLUMN(),FALSE)),VLOOKUP($A7,Base2010,COLUMN(),FALSE),VLOOKUP($A7,Base2009,COLUMN(),FALSE)))} -> 30 000 | D7: {=IF($A7="","",IF(ISERROR(VLOOKUP($A7,Base2009,COLUMN(),FALSE)),VLOOKUP($A7,Base2010,COLUMN(),FALSE),VLOOKUP($A7,Base2009,COLUMN(),FALSE)))} -> 0 | E7: {=IF($A7="","",IF(ISERROR(VLOOKUP($A7,Base2009,COLUMN(),FALSE)),VLOOKUP($A7,Base2010,COLUMN(),FALSE),VLOOKUP($A7,Base2009,COLUMN(),FALSE)))} -> 40178 | F7: {=IF($A7="","",IF(ISERROR(VLOOKUP($A7,Base2009,COLUMN(),FALSE)),VLOOKUP($A7,Base2010,COLUMN(),FALSE),VLOOKUP($A7,Base2009,COLUMN(),FALSE)))} -> 0 | G7: {=IF($A7="","",IF(ISERROR(VLOOKUP($A7,Base2009,COLUMN(),FALSE)),VLOOKUP($A7,Base2010,COLUMN(),FALSE),VLOOKUP($A7,Base2009,COLUMN(),FALSE)))} -> 0 | H7: {=IF($A7="","",IF(ISERROR(VLOOKUP($A7,Base2009,COLUMN(),FALSE)),VLOOKUP($A7,Base2010,COLUMN(),FALSE),VLOOKUP($A7,Base2009,COLUMN(),FALSE)))} -> JP | I7: =IF($A7="","",IF(ISERROR(VLOOKUP($A7,Base2009,COLUMN(),FALSE)),VLOOKUP($A7,Base2010,COLUMN(),FALSE),VLOOKUP($A7,Base2009,COLUMN(),FALSE))) -> 40177 | J7: {=IF($A7="","",IF(ISERROR(VLOOKUP($A7,Base2009,COLUMN(),FALSE)),VLOOKUP($A7,Base2010,COLUMN(),FALSE),VLOOKUP($A7,Base2009,COLUMN(),FALSE)))} -> 0 | K7: {=IF($A7="","",IF(ISERROR(VLOOKUP($A7,Base2009,COLUMN(),FALSE)),VLOOKUP($A7,Base2010,COLUMN(),FALSE),VLOOKUP($A7,Base2009,COLUMN(),FALSE)))} -> 0 | L7: {=IF($A7="","",IF(ISERROR(VLOOKUP($A7,Base2009,COLUMN(),FALSE)),VLOOKUP($A7,Base2010,COLUMN(),FALSE),VLOOKUP($A7,Base2009,COLUMN(),FALSE)))} -> 40177 | M7: {=IF($A7="","",IF(ISERROR(VLOOKUP($A7,Base2009,COLUMN(),FALSE)),VLOOKUP($A7,Base2010,COLUMN(),FALSE),VLOOKUP($A7,Base2009,COLUMN(),FALSE)))} -> 0 | N7: {=IF($A7="","",IF(ISERROR(VLOOKUP($A7,Base2009,COLUMN(),FALSE)),VLOOKUP($A7,Base2010,COLUMN(),FALSE),VLOOKUP($A7,Base2009,COLUMN(),FALSE)))} -> 0 | O7: {=IF($A7="","",IF(ISERROR(VLOOKUP($A7,Base2009,COLUMN(),FALSE)),VLOOKUP($A7,Base2010,COLUMN(),FALSE),VLOOKUP($A7,Base2009,COLUMN(),FALSE)))} -> 0 | P7: {=IF($A7="","",IF(ISERROR(VLOOKUP($A7,Base2009,COLUMN(),FALSE)),VLOOKUP($A7,Base2010,COLUMN(),FALSE),VLOOKUP($A7,Base2009,COLUMN(),FALSE)))} -> 40178 | Q7: {=IF($A7="","",IF(ISERROR(VLOOKUP($A7,Base2009,COLUMN(),FALSE)),VLOOKUP($A7,Base2010,COLUMN(),FALSE),VLOOKUP($A7,Base2009,COLUMN(),FALSE)))} -> 0 | R7: =IF($A7="","",IF(ISERROR(VLOOKUP($A7,Base2009,COLUMN(),FALSE)),VLOOKUP($A7,Base2010,COLUMN(),FALSE),VLOOKUP($A7,Base2009,COLUMN(),FALSE))) -> 1 | S7: {=IF(ISERROR(VLOOKUP($A7,Base2010,COLUMN(),FALSE)),"",VLOOKUP($A7,Base2010,COLUMN(),FALSE))} -> 13291.74 | T7: {=IF(ISERROR(VLOOKUP($A7,Base2009,COLUMN()-1,FALSE)),"",S7/VLOOKUP($A7,Base2009,COLUMN()-1,FALSE))} -> 7.1882213
A8: {=INDEX('2010'!$A$1:$A$25,MIN(IF(COUNTIF($A$1:$A7,'2010'!$A$3:$A$25)=0,IF('2010'!$A$3:$A$25<>"",ROW('2010'!$A$3:$A$25)))))&""} -> FI30 | B8: {=IF($A8="","",IF(ISERROR(VLOOKUP($A8,Base2009,COLUMN(),FALSE)),VLOOKUP($A8,Base2010,COLUMN(),FALSE),VLOOKUP($A8,Base2009,COLUMN(),FALSE)))} -> FIDELE | C8: {=IF($A8="","",IF(ISERROR(VLOOKUP($A8,Base2009,COLUMN(),FALSE)),VLOOKUP($A8,Base2010,COLUMN(),FALSE),VLOOKUP($A8,Base2009,COLUMN(),FALSE)))} -> 30 000 | D8: {=IF($A8="","",IF(ISERROR(VLOOKUP($A8,Base2009,COLUMN(),FALSE)),VLOOKUP($A8,Base2010,COLUMN(),FALSE),VLOOKUP($A8,Base2009,COLUMN(),FALSE)))} -> 0 | E8: {=IF($A8="","",IF(ISERROR(VLOOKUP($A8,Base2009,COLUMN(),FALSE)),VLOOKUP($A8,Base2010,COLUMN(),FALSE),VLOOKUP($A8,Base2009,COLUMN(),FALSE)))} -> 40178 | F8: {=IF($A8="","",IF(ISERROR(VLOOKUP($A8,Base2009,COLUMN(),FALSE)),VLOOKUP($A8,Base2010,COLUMN(),FALSE),VLOOKUP($A8,Base2009,COLUMN(),FALSE)))} -> 0 | G8: {=IF($A8="","",IF(ISERROR(VLOOKUP($A8,Base2009,COLUMN(),FALSE)),VLOOKUP($A8,Base2010,COLUMN(),FALSE),VLOOKUP($A8,Base2009,COLUMN(),FALSE)))} -> 0 | H8: {=IF($A8="","",IF(ISERROR(VLOOKUP($A8,Base2009,COLUMN(),FALSE)),VLOOKUP($A8,Base2010,COLUMN(),FALSE),VLOOKUP($A8,Base2009,COLUMN(),FALSE)))} -> JP | I8: =IF($A8="","",IF(ISERROR(VLOOKUP($A8,Base2009,COLUMN(),FALSE)),VLOOKUP($A8,Base2010,COLUMN(),FALSE),VLOOKUP($A8,Base2009,COLUMN(),FALSE))) -> 40120 | J8: {=IF($A8="","",IF(ISERROR(VLOOKUP($A8,Base2009,COLUMN(),FALSE)),VLOOKUP($A8,Base2010,COLUMN(),FALSE),VLOOKUP($A8,Base2009,COLUMN(),FALSE)))} -> 0 | K8: {=IF($A8="","",IF(ISERROR(VLOOKUP($A8,Base2009,COLUMN(),FALSE)),VLOOKUP($A8,Base2010,COLUMN(),FALSE),VLOOKUP($A8,Base2009,COLUMN(),FALSE)))} -> 0 | L8: {=IF($A8="","",IF(ISERROR(VLOOKUP($A8,Base2009,COLUMN(),FALSE)),VLOOKUP($A8,Base2010,COLUMN(),FALSE),VLOOKUP($A8,Base2009,COLUMN(),FALSE)))} -> 0 | M8: {=IF($A8="","",IF(ISERROR(VLOOKUP($A8,Base2009,COLUMN(),FALSE)),VLOOKUP($A8,Base2010,COLUMN(),FALSE),VLOOKUP($A8,Base2009,COLUMN(),FALSE)))} -> 0 | N8: {=IF($A8="","",IF(ISERROR(VLOOKUP($A8,Base2009,COLUMN(),FALSE)),VLOOKUP($A8,Base2010,COLUMN(),FALSE),VLOOKUP($A8,Base2009,COLUMN(),FALSE)))} -> LISTE | O8: {=IF($A8="","",IF(ISERROR(VLOOKUP($A8,Base2009,COLUMN(),FALSE)),VLOOKUP($A8,Base2010,COLUMN(),FALSE),VLOOKUP($A8,Base2009,COLUMN(),FALSE)))} -> 0 | P8: {=IF($A8="","",IF(ISERROR(VLOOKUP($A8,Base2009,COLUMN(),FALSE)),VLOOKUP($A8,Base2010,COLUMN(),FALSE),VLOOKUP($A8,Base2009,COLUMN(),FALSE)))} -> 0 | Q8: {=IF($A8="","",IF(ISERROR(VLOOKUP($A8,Base2009,COLUMN(),FALSE)),VLOOKUP($A8,Base2010,COLUMN(),FALSE),VLOOKUP($A8,Base2009,COLUMN(),FALSE)))} -> 0 | R8: =IF($A8="","",IF(ISERROR(VLOOKUP($A8,Base2009,COLUMN(),FALSE)),VLOOKUP($A8,Base2010,COLUMN(),FALSE),VLOOKUP($A8,Base2009,COLUMN(),FALSE))) -> 1 | S8: {=IF(ISERROR(VLOOKUP($A8,Base2010,COLUMN(),FALSE)),"",VLOOKUP($A8,Base2010,COLUMN(),FALSE))} -> 138301.68 | T8: {=IF(ISERROR(VLOOKUP($A8,Base2009,COLUMN()-1,FALSE)),"",S8/VLOOKUP($A8,Base2009,COLUMN()-1,FALSE))} -> 49.411104
A9: {=INDEX('2010'!$A$1:$A$25,MIN(IF(COUNTIF($A$1:$A8,'2010'!$A$3:$A$25)=0,IF('2010'!$A$3:$A$25<>"",ROW('2010'!$A$3:$A$25)))))&""} -> LE21 | B9: {=IF($A9="","",IF(ISERROR(VLOOKUP($A9,Base2009,COLUMN(),FALSE)),VLOOKUP($A9,Base2010,COLUMN(),FALSE),VLOOKUP($A9,Base2009,COLUMN(),FALSE)))} -> LE CREDIT | C9: {=IF($A9="","",IF(ISERROR(VLOOKUP($A9,Base2009,COLUMN(),FALSE)),VLOOKUP($A9,Base2010,COLUMN(),FALSE),VLOOKUP($A9,Base2009,COLUMN(),FALSE)))} -> 30 000 | D9: {=IF($A9="","",IF(ISERROR(VLOOKUP($A9,Base2009,COLUMN(),FALSE)),VLOOKUP($A9,Base2010,COLUMN(),FALSE),VLOOKUP($A9,Base2009,COLUMN(),FALSE)))} -> 38730 | E9: {=IF($A9="","",IF(ISERROR(VLOOKUP($A9,Base2009,COLUMN(),FALSE)),VLOOKUP($A9,Base2010,COLUMN(),FALSE),VLOOKUP($A9,Base2009,COLUMN(),FALSE)))} -> 39825.75 | F9: {=IF($A9="","",IF(ISERROR(VLOOKUP($A9,Base2009,COLUMN(),FALSE)),VLOOKUP($A9,Base2010,COLUMN(),FALSE),VLOOKUP($A9,Base2009,COLUMN(),FALSE)))} -> 0 | G9: {=IF($A9="","",IF(ISERROR(VLOOKUP($A9,Base2009,COLUMN(),FALSE)),VLOOKUP($A9,Base2010,COLUMN(),FALSE),VLOOKUP($A9,Base2009,COLUMN(),FALSE)))} -> 0 | H9: {=IF($A9="","",IF(ISERROR(VLOOKUP($A9,Base2009,COLUMN(),FALSE)),VLOOKUP($A9,Base2010,COLUMN(),FALSE),VLOOKUP($A9,Base2009,COLUMN(),FALSE)))} -> JP | I9: =IF($A9="","",IF(ISERROR(VLOOKUP($A9,Base2009,COLUMN(),FALSE)),VLOOKUP($A9,Base2010,COLUMN(),FALSE),VLOOKUP($A9,Base2009,COLUMN(),FALSE))) -> 39905 | J9: {=IF($A9="","",IF(ISERROR(VLOOKUP($A9,Base2009,COLUMN(),FALSE)),VLOOKUP($A9,Base2010,COLUMN(),FALSE),VLOOKUP($A9,Base2009,COLUMN(),FALSE)))} -> 40018 | K9: {=IF($A9="","",IF(ISERROR(VLOOKUP($A9,Base2009,COLUMN(),FALSE)),VLOOKUP($A9,Base2010,COLUMN(),FALSE),VLOOKUP($A9,Base2009,COLUMN(),FALSE)))} -> 0 | L9: {=IF($A9="","",IF(ISERROR(VLOOKUP($A9,Base2009,COLUMN(),FALSE)),VLOOKUP($A9,Base2010,COLUMN(),FALSE),VLOOKUP($A9,Base2009,COLUMN(),FALSE)))} -> 40018 | M9: {=IF($A9="","",IF(ISERROR(VLOOKUP($A9,Base2009,COLUMN(),FALSE)),VLOOKUP($A9,Base2010,COLUMN(),FALSE),VLOOKUP($A9,Base2009,COLUMN(),FALSE)))} -> 0 | N9: {=IF($A9="","",IF(ISERROR(VLOOKUP($A9,Base2009,COLUMN(),FALSE)),VLOOKUP($A9,Base2010,COLUMN(),FALSE),VLOOKUP($A9,Base2009,COLUMN(),FALSE)))} -> 0 | O9: {=IF($A9="","",IF(ISERROR(VLOOKUP($A9,Base2009,COLUMN(),FALSE)),VLOOKUP($A9,Base2010,COLUMN(),FALSE),VLOOKUP($A9,Base2009,COLUMN(),FALSE)))} -> CORRECT | P9: {=IF($A9="","",IF(ISERROR(VLOOKUP($A9,Base2009,COLUMN(),FALSE)),VLOOKUP($A9,Base2010,COLUMN(),FALSE),VLOOKUP($A9,Base2009,COLUMN(),FALSE)))} -> 40022 | Q9: {=IF($A9="","",IF(ISERROR(VLOOKUP($A9,Base2009,COLUMN(),FALSE)),VLOOKUP($A9,Base2010,COLUMN(),FALSE),VLOOKUP($A9,Base2009,COLUMN(),FALSE)))} -> 0 | R9: =IF($A9="","",IF(ISERROR(VLOOKUP($A9,Base2009,COLUMN(),FALSE)),VLOOKUP($A9,Base2010,COLUMN(),FALSE),VLOOKUP($A9,Base2009,COLUMN(),FALSE))) -> 18 | S9: {=IF(ISERROR(VLOOKUP($A9,Base2010,COLUMN(),FALSE)),"",VLOOKUP($A9,Base2010,COLUMN(),FALSE))} -> 9599.5 | T9: {=IF(ISERROR(VLOOKUP($A9,Base2009,COLUMN()-1,FALSE)),"",S9/VLOOKUP($A9,Base2009,COLUMN()-1,FALSE))} -> 0.15623388
A10: {=INDEX('2010'!$A$1:$A$25,MIN(IF(COUNTIF($A$1:$A9,'2010'!$A$3:$A$25)=0,IF('2010'!$A$3:$A$25<>"",ROW('2010'!$A$3:$A$25)))))&""} -> LE22 | B10: {=IF($A10="","",IF(ISERROR(VLOOKUP($A10,Base2009,COLUMN(),FALSE)),VLOOKUP($A10,Base2010,COLUMN(),FALSE),VLOOKUP($A10,Base2009,COLUMN(),FALSE)))} -> LE CREDIT1 | C10: {=IF($A10="","",IF(ISERROR(VLOOKUP($A10,Base2009,COLUMN(),FALSE)),VLOOKUP($A10,Base2010,COLUMN(),FALSE),VLOOKUP($A10,Base2009,COLUMN(),FALSE)))} -> 30 000 | D10: {=IF($A10="","",IF(ISERROR(VLOOKUP($A10,Base2009,COLUMN(),FALSE)),VLOOKUP($A10,Base2010,COLUMN(),FALSE),VLOOKUP($A10,Base2009,COLUMN(),FALSE)))} -> 38730 | E10: {=IF($A10="","",IF(ISERROR(VLOOKUP($A10,Base2009,COLUMN(),FALSE)),VLOOKUP($A10,Base2010,COLUMN(),FALSE),VLOOKUP($A10,Base2009,COLUMN(),FALSE)))} -> 39825.75 | F10: {=IF($A10="","",IF(ISERROR(VLOOKUP($A10,Base2009,COLUMN(),FALSE)),VLOOKUP($A10,Base2010,COLUMN(),FALSE),VLOOKUP($A10,Base2009,COLUMN(),FALSE)))} -> 0 | G10: {=IF($A10="","",IF(ISERROR(VLOOKUP($A10,Base2009,COLUMN(),FALSE)),VLOOKUP($A10,Base2010,COLUMN(),FALSE),VLOOKUP($A10,Base2009,COLUMN(),FALSE)))} -> 0 | H10: {=IF($A10="","",IF(ISERROR(VLOOKUP($A10,Base2009,COLUMN(),FALSE)),VLOOKUP($A10,Base2010,COLUMN(),FALSE),VLOOKUP($A10,Base2009,COLUMN(),FALSE)))} -> JP | I10: =IF($A10="","",IF(ISERROR(VLOOKUP($A10,Base2009,COLUMN(),FALSE)),VLOOKUP($A10,Base2010,COLUMN(),FALSE),VLOOKUP($A10,Base2009,COLUMN(),FALSE))) -> 39905 | J10: {=IF($A10="","",IF(ISERROR(VLOOKUP($A10,Base2009,COLUMN(),FALSE)),VLOOKUP($A10,Base2010,COLUMN(),FALSE),VLOOKUP($A10,Base2009,COLUMN(),FALSE)))} -> 40018 | K10: {=IF($A10="","",IF(ISERROR(VLOOKUP($A10,Base2009,COLUMN(),FALSE)),VLOOKUP($A10,Base2010,COLUMN(),FALSE),VLOOKUP($A10,Base2009,COLUMN(),FALSE)))} -> 0 | L10: {=IF($A10="","",IF(ISERROR(VLOOKUP($A10,Base2009,COLUMN(),FALSE)),VLOOKUP($A10,Base2010,COLUMN(),FALSE),VLOOKUP($A10,Base2009,COLUMN(),FALSE)))} -> 40018 | M10: {=IF($A10="","",IF(ISERROR(VLOOKUP($A10,Base2009,COLUMN(),FALSE)),VLOOKUP($A10,Base2010,COLUMN(),FALSE),VLOOKUP($A10,Base2009,COLUMN(),FALSE)))} -> 0 | N10: {=IF($A10="","",IF(ISERROR(VLOOKUP($A10,Base2009,COLUMN(),FALSE)),VLOOKUP($A10,Base2010,COLUMN(),FALSE),VLOOKUP($A10,Base2009,COLUMN(),FALSE)))} -> 0 | O10: {=IF($A10="","",IF(ISERROR(VLOOKUP($A10,Base2009,COLUMN(),FALSE)),VLOOKUP($A10,Base2010,COLUMN(),FALSE),VLOOKUP($A10,Base2009,COLUMN(),FALSE)))} -> 0 | P10: {=IF($A10="","",IF(ISERROR(VLOOKUP($A10,Base2009,COLUMN(),FALSE)),VLOOKUP($A10,Base2010,COLUMN(),FALSE),VLOOKUP($A10,Base2009,COLUMN(),FALSE)))} -> 40021 | Q10: {=IF($A10="","",IF(ISERROR(VLOOKUP($A10,Base2009,COLUMN(),FALSE)),VLOOKUP($A10,Base2010,COLUMN(),FALSE),VLOOKUP($A10,Base2009,COLUMN(),FALSE)))} -> 0 | R10: =IF($A10="","",IF(ISERROR(VLOOKUP($A10,Base2009,COLUMN(),FALSE)),VLOOKUP($A10,Base2010,COLUMN(),FALSE),VLOOKUP($A10,Base2009,COLUMN(),FALSE))) -> 6 | S10: {=IF(ISERROR(VLOOKUP($A10,Base2010,COLUMN(),FALSE)),"",VLOOKUP($A10,Base2010,COLUMN(),FALSE))} -> 105.48 | T10: {=IF(ISERROR(VLOOKUP($A10,Base2009,COLUMN()-1,FALSE)),"",S10/VLOOKUP($A10,Base2009,COLUMN()-1,FALSE))} -> 0.013076498
A11: {=INDEX('2010'!$A$1:$A$25,MIN(IF(COUNTIF($A$1:$A10,'2010'!$A$3:$A$25)=0,IF('2010'!$A$3:$A$25<>"",ROW('2010'!$A$3:$A$25)))))&""} -> LE23 | B11: {=IF($A11="","",IF(ISERROR(VLOOKUP($A11,Base2009,COLUMN(),FALSE)),VLOOKUP($A11,Base2010,COLUMN(),FALSE),VLOOKUP($A11,Base2009,COLUMN(),FALSE)))} -> LE CREDIT 2 | C11: {=IF($A11="","",IF(ISERROR(VLOOKUP($A11,Base2009,COLUMN(),FALSE)),VLOOKUP($A11,Base2010,COLUMN(),FALSE),VLOOKUP($A11,Base2009,COLUMN(),FALSE)))} -> 30 000 | D11: {=IF($A11="","",IF(ISERROR(VLOOKUP($A11,Base2009,COLUMN(),FALSE)),VLOOKUP($A11,Base2010,COLUMN(),FALSE),VLOOKUP($A11,Base2009,COLUMN(),FALSE)))} -> 0 | E11: {=IF($A11="","",IF(ISERROR(VLOOKUP($A11,Base2009,COLUMN(),FALSE)),VLOOKUP($A11,Base2010,COLUMN(),FALSE),VLOOKUP($A11,Base2009,COLUMN(),FALSE)))} -> 40178 | F11: {=IF($A11="","",IF(ISERROR(VLOOKUP($A11,Base2009,COLUMN(),FALSE)),VLOOKUP($A11,Base2010,COLUMN(),FALSE),VLOOKUP($A11,Base2009,COLUMN(),FALSE)))} -> 0 | G11: {=IF($A11="","",IF(ISERROR(VLOOKUP($A11,Base2009,COLUMN(),FALSE)),VLOOKUP($A11,Base2010,COLUMN(),FALSE),VLOOKUP($A11,Base2009,COLUMN(),FALSE)))} -> 0 | H11: {=IF($A11="","",IF(ISERROR(VLOOKUP($A11,Base2009,COLUMN(),FALSE)),VLOOKUP($A11,Base2010,COLUMN(),FALSE),VLOOKUP($A11,Base2009,COLUMN(),FALSE)))} -> JP | I11: =IF($A11="","",IF(ISERROR(VLOOKUP($A11,Base2009,COLUMN(),FALSE)),VLOOKUP($A11,Base2010,COLUMN(),FALSE),VLOOKUP($A11,Base2009,COLUMN(),FALSE))) -> 40177 | J11: {=IF($A11="","",IF(ISERROR(VLOOKUP($A11,Base2009,COLUMN(),FALSE)),VLOOKUP($A11,Base2010,COLUMN(),FALSE),VLOOKUP($A11,Base2009,COLUMN(),FALSE)))} -> 0 | K11: {=IF($A11="","",IF(ISERROR(VLOOKUP($A11,Base2009,COLUMN(),FALSE)),VLOOKUP($A11,Base2010,COLUMN(),FALSE),VLOOKUP($A11,Base2009,COLUMN(),FALSE)))} -> 0 | L11: {=IF($A11="","",IF(ISERROR(VLOOKUP($A11,Base2009,COLUMN(),FALSE)),VLOOKUP($A11,Base2010,COLUMN(),FALSE),VLOOKUP($A11,Base2009,COLUMN(),FALSE)))} -> 40177 | M11: {=IF($A11="","",IF(ISERROR(VLOOKUP($A11,Base2009,COLUMN(),FALSE)),VLOOKUP($A11,Base2010,COLUMN(),FALSE),VLOOKUP($A11,Base2009,COLUMN(),FALSE)))} -> 0 | N11: {=IF($A11="","",IF(ISERROR(VLOOKUP($A11,Base2009,COLUMN(),FALSE)),VLOOKUP($A11,Base2010,COLUMN(),FALSE),VLOOKUP($A11,Base2009,COLUMN(),FALSE)))} -> 0 | O11: {=IF($A11="","",IF(ISERROR(VLOOKUP($A11,Base2009,COLUMN(),FALSE)),VLOOKUP($A11,Base2010,COLUMN(),FALSE),VLOOKUP($A11,Base2009,COLUMN(),FALSE)))} -> 0 | P11: {=IF($A11="","",IF(ISERROR(VLOOKUP($A11,Base2009,COLUMN(),FALSE)),VLOOKUP($A11,Base2010,COLUMN(),FALSE),VLOOKUP($A11,Base2009,COLUMN(),FALSE)))} -> 40178 | Q11: {=IF($A11="","",IF(ISERROR(VLOOKUP($A11,Base2009,COLUMN(),FALSE)),VLOOKUP($A11,Base2010,COLUMN(),FALSE),VLOOKUP($A11,Base2009,COLUMN(),FALSE)))} -> 0 | R11: =IF($A11="","",IF(ISERROR(VLOOKUP($A11,Base2009,COLUMN(),FALSE)),VLOOKUP($A11,Base2010,COLUMN(),FALSE),VLOOKUP($A11,Base2009,COLUMN(),FALSE))) -> 4 | S11: {=IF(ISERROR(VLOOKUP($A11,Base2010,COLUMN(),FALSE)),"",VLOOKUP($A11,Base2010,COLUMN(),FALSE))} -> 11564.78 | T11: {=IF(ISERROR(VLOOKUP($A11,Base2009,COLUMN()-1,FALSE)),"",S11/VLOOKUP($A11,Base2009,COLUMN()-1,FALSE))} -> 0.12385986
A12: {=INDEX('2010'!$A$1:$A$25,MIN(IF(COUNTIF($A$1:$A11,'2010'!$A$3:$A$25)=0,IF('2010'!$A$3:$A$25<>"",ROW('2010'!$A$3:$A$25)))))&""} -> LE24 | B12: {=IF($A12="","",IF(ISERROR(VLOOKUP($A12,Base2009,COLUMN(),FALSE)),VLOOKUP($A12,Base2010,COLUMN(),FALSE),VLOOKUP($A12,Base2009,COLUMN(),FALSE)))} -> LE CREDIT 3 | C12: {=IF($A12="","",IF(ISERROR(VLOOKUP($A12,Base2009,COLUMN(),FALSE)),VLOOKUP($A12,Base2010,COLUMN(),FALSE),VLOOKUP($A12,Base2009,COLUMN(),FALSE)))} -> 30 000 | D12: {=IF($A12="","",IF(ISERROR(VLOOKUP($A12,Base2009,COLUMN(),FALSE)),VLOOKUP($A12,Base2010,COLUMN(),FALSE),VLOOKUP($A12,Base2009,COLUMN(),FALSE)))} -> 0 | E12: {=IF($A12="","",IF(ISERROR(VLOOKUP($A12,Base2009,COLUMN(),FALSE)),VLOOKUP($A12,Base2010,COLUMN(),FALSE),VLOOKUP($A12,Base2009,COLUMN(),FALSE)))} -> 40178 | F12: {=IF($A12="","",IF(ISERROR(VLOOKUP($A12,Base2009,COLUMN(),FALSE)),VLOOKUP($A12,Base2010,COLUMN(),FALSE),VLOOKUP($A12,Base2009,COLUMN(),FALSE)))} -> 0 | G12: {=IF($A12="","",IF(ISERROR(VLOOKUP($A12,Base2009,COLUMN(),FALSE)),VLOOKUP($A12,Base2010,COLUMN(),FALSE),VLOOKUP($A12,Base2009,COLUMN(),FALSE)))} -> 0 | H12: {=IF($A12="","",IF(ISERROR(VLOOKUP($A12,Base2009,COLUMN(),FALSE)),VLOOKUP($A12,Base2010,COLUMN(),FALSE),VLOOKUP($A12,Base2009,COLUMN(),FALSE)))} -> JP | I12: =IF($A12="","",IF(ISERROR(VLOOKUP($A12,Base2009,COLUMN(),FALSE)),VLOOKUP($A12,Base2010,COLUMN(),FALSE),VLOOKUP($A12,Base2009,COLUMN(),FALSE))) -> 40177 | J12: {=IF($A12="","",IF(ISERROR(VLOOKUP($A12,Base2009,COLUMN(),FALSE)),VLOOKUP($A12,Base2010,COLUMN(),FALSE),VLOOKUP($A12,Base2009,COLUMN(),FALSE)))} -> 0 | K12: {=IF($A12="","",IF(ISERROR(VLOOKUP($A12,Base2009,COLUMN(),FALSE)),VLOOKUP($A12,Base2010,COLUMN(),FALSE),VLOOKUP($A12,Base2009,COLUMN(),FALSE)))} -> 0 | L12: {=IF($A12="","",IF(ISERROR(VLOOKUP($A12,Base2009,COLUMN(),FALSE)),VLOOKUP($A12,Base2010,COLUMN(),FALSE),VLOOKUP($A12,Base2009,COLUMN(),FALSE)))} -> 40177 | M12: {=IF($A12="","",IF(ISERROR(VLOOKUP($A12,Base2009,COLUMN(),FALSE)),VLOOKUP($A12,Base2010,COLUMN(),FALSE),VLOOKUP($A12,Base2009,COLUMN(),FALSE)))} -> 0 | N12: {=IF($A12="","",IF(ISERROR(VLOOKUP($A12,Base2009,COLUMN(),FALSE)),VLOOKUP($A12,Base2010,COLUMN(),FALSE),VLOOKUP($A12,Base2009,COLUMN(),FALSE)))} -> 0 | O12: {=IF($A12="","",IF(ISERROR(VLOOKUP($A12,Base2009,COLUMN(),FALSE)),VLOOKUP($A12,Base2010,COLUMN(),FALSE),VLOOKUP($A12,Base2009,COLUMN(),FALSE)))} -> 0 | P12: {=IF($A12="","",IF(ISERROR(VLOOKUP($A12,Base2009,COLUMN(),FALSE)),VLOOKUP($A12,Base2010,COLUMN(),FALSE),VLOOKUP($A12,Base2009,COLUMN(),FALSE)))} -> 40178 | Q12: {=IF($A12="","",IF(ISERROR(VLOOKUP($A12,Base2009,COLUMN(),FALSE)),VLOOKUP($A12,Base2010,COLUMN(),FALSE),VLOOKUP($A12,Base2009,COLUMN(),FALSE)))} -> 0 | R12: =IF($A12="","",IF(ISERROR(VLOOKUP($A12,Base2009,COLUMN(),FALSE)),VLOOKUP($A12,Base2010,COLUMN(),FALSE),VLOOKUP($A12,Base2009,COLUMN(),FALSE))) -> 1 | S12: {=IF(ISERROR(VLOOKUP($A12,Base2010,COLUMN(),FALSE)),"",VLOOKUP($A12,Base2010,COLUMN(),FALSE))} -> 915.72 | T12: {=IF(ISERROR(VLOOKUP($A12,Base2009,COLUMN()-1,FALSE)),"",S12/VLOOKUP($A12,Base2009,COLUMN()-1,FALSE))} -> 0.11477705
A13: {=INDEX('2010'!$A$1:$A$25,MIN(IF(COUNTIF($A$1:$A12,'2010'!$A$3:$A$25)=0,IF('2010'!$A$3:$A$25<>"",ROW('2010'!$A$3:$A$25)))))&""} -> LE25 | B13: {=IF($A13="","",IF(ISERROR(VLOOKUP($A13,Base2009,COLUMN(),FALSE)),VLOOKUP($A13,Base2010,COLUMN(),FALSE),VLOOKUP($A13,Base2009,COLUMN(),FALSE)))} -> LE CREDIT 4 | C13: {=IF($A13="","",IF(ISERROR(VLOOKUP($A13,Base2009,COLUMN(),FALSE)),VLOOKUP($A13,Base2010,COLUMN(),FALSE),VLOOKUP($A13,Base2009,COLUMN(),FALSE)))} -> 32 000 | D13: {=IF($A13="","",IF(ISERROR(VLOOKUP($A13,Base2009,COLUMN(),FALSE)),VLOOKUP($A13,Base2010,COLUMN(),FALSE),VLOOKUP($A13,Base2009,COLUMN(),FALSE)))} -> 0 | E13: {=IF($A13="","",IF(ISERROR(VLOOKUP($A13,Base2009,COLUMN(),FALSE)),VLOOKUP($A13,Base2010,COLUMN(),FALSE),VLOOKUP($A13,Base2009,COLUMN(),FALSE)))} -> 0 | F13: {=IF($A13="","",IF(ISERROR(VLOOKUP($A13,Base2009,COLUMN(),FALSE)),VLOOKUP($A13,Base2010,COLUMN(),FALSE),VLOOKUP($A13,Base2009,COLUMN(),FALSE)))} -> 0 | G13: {=IF($A13="","",IF(ISERROR(VLOOKUP($A13,Base2009,COLUMN(),FALSE)),VLOOKUP($A13,Base2010,COLUMN(),FALSE),VLOOKUP($A13,Base2009,COLUMN(),FALSE)))} -> 0 | H13: {=IF($A13="","",IF(ISERROR(VLOOKUP($A13,Base2009,COLUMN(),FALSE)),VLOOKUP($A13,Base2010,COLUMN(),FALSE),VLOOKUP($A13,Base2009,COLUMN(),FALSE)))} -> 0 | I13: =IF($A13="","",IF(ISERROR(VLOOKUP($A13,Base2009,COLUMN(),FALSE)),VLOOKUP($A13,Base2010,COLUMN(),FALSE),VLOOKUP($A13,Base2009,COLUMN(),FALSE))) -> 0 | J13: {=IF($A13="","",IF(ISERROR(VLOOKUP($A13,Base2009,COLUMN(),FALSE)),VLOOKUP($A13,Base2010,COLUMN(),FALSE),VLOOKUP($A13,Base2009,COLUMN(),FALSE)))} -> 0 | K13: {=IF($A13="","",IF(ISERROR(VLOOKUP($A13,Base2009,COLUMN(),FALSE)),VLOOKUP($A13,Base2010,COLUMN(),FALSE),VLOOKUP($A13,Base2009,COLUMN(),FALSE)))} -> 0 | L13: {=IF($A13="","",IF(ISERROR(VLOOKUP($A13,Base2009,COLUMN(),FALSE)),VLOOKUP($A13,Base2010,COLUMN(),FALSE),VLOOKUP($A13,Base2009,COLUMN(),FALSE)))} -> 0 | M13: {=IF($A13="","",IF(ISERROR(VLOOKUP($A13,Base2009,COLUMN(),FALSE)),VLOOKUP($A13,Base2010,COLUMN(),FALSE),VLOOKUP($A13,Base2009,COLUMN(),FALSE)))} -> 0 | N13: {=IF($A13="","",IF(ISERROR(VLOOKUP($A13,Base2009,COLUMN(),FALSE)),VLOOKUP($A13,Base2010,COLUMN(),FALSE),VLOOKUP($A13,Base2009,COLUMN(),FALSE)))} -> 0 | O13: {=IF($A13="","",IF(ISERROR(VLOOKUP($A13,Base2009,COLUMN(),FALSE)),VLOOKUP($A13,Base2010,COLUMN(),FALSE),VLOOKUP($A13,Base2009,COLUMN(),FALSE)))} -> 0 | P13: {=IF($A13="","",IF(ISERROR(VLOOKUP($A13,Base2009,COLUMN(),FALSE)),VLOOKUP($A13,Base2010,COLUMN(),FALSE),VLOOKUP($A13,Base2009,COLUMN(),FALSE)))} -> 0 | Q13: {=IF($A13="","",IF(ISERROR(VLOOKUP($A13,Base2009,COLUMN(),FALSE)),VLOOKUP($A13,Base2010,COLUMN(),FALSE),VLOOKUP($A13,Base2009,COLUMN(),FALSE)))} -> 0 | R13: =IF($A13="","",IF(ISERROR(VLOOKUP($A13,Base2009,COLUMN(),FALSE)),VLOOKUP($A13,Base2010,COLUMN(),FALSE),VLOOKUP($A13,Base2009,COLUMN(),FALSE))) -> 1 | S13: {=IF(ISERROR(VLOOKUP($A13,Base2010,COLUMN(),FALSE)),"",VLOOKUP($A13,Base2010,COLUMN(),FALSE))} -> 33869.1 | T13: {=IF(ISERROR(VLOOKUP($A13,Base2009,COLUMN()-1,FALSE)),"",S13/VLOOKUP($A13,Base2009,COLUMN()-1,FALSE))}
A14: {=INDEX('2010'!$A$1:$A$25,MIN(IF(COUNTIF($A$1:$A13,'2010'!$A$3:$A$25)=0,IF('2010'!$A$3:$A$25<>"",ROW('2010'!$A$3:$A$25)))))&""} -> SLI30 | B14: {=IF($A14="","",IF(ISERROR(VLOOKUP($A14,Base2009,COLUMN(),FALSE)),VLOOKUP($A14,Base2010,COLUMN(),FALSE),VLOOKUP($A14,Base2009,COLUMN(),FALSE)))} -> SLIMAN | C14: {=IF($A14="","",IF(ISERROR(VLOOKUP($A14,Base2009,COLUMN(),FALSE)),VLOOKUP($A14,Base2010,COLUMN(),FALSE),VLOOKUP($A14,Base2009,COLUMN(),FALSE)))} -> 30 000 | D14: {=IF($A14="","",IF(ISERROR(VLOOKUP($A14,Base2009,COLUMN(),FALSE)),VLOOKUP($A14,Base2010,COLUMN(),FALSE),VLOOKUP($A14,Base2009,COLUMN(),FALSE)))} -> 38730 | E14: {=IF($A14="","",IF(ISERROR(VLOOKUP($A14,Base2009,COLUMN(),FALSE)),VLOOKUP($A14,Base2010,COLUMN(),FALSE),VLOOKUP($A14,Base2009,COLUMN(),FALSE)))} -> 39825.75 | F14: {=IF($A14="","",IF(ISERROR(VLOOKUP($A14,Base2009,COLUMN(),FALSE)),VLOOKUP($A14,Base2010,COLUMN(),FALSE),VLOOKUP($A14,Base2009,COLUMN(),FALSE)))} -> 0 | G14: {=IF($A14="","",IF(ISERROR(VLOOKUP($A14,Base2009,COLUMN(),FALSE)),VLOOKUP($A14,Base2010,COLUMN(),FALSE),VLOOKUP($A14,Base2009,COLUMN(),FALSE)))} -> 0 | H14: {=IF($A14="","",IF(ISERROR(VLOOKUP($A14,Base2009,COLUMN(),FALSE)),VLOOKUP($A14,Base2010,COLUMN(),FALSE),VLOOKUP($A14,Base2009,COLUMN(),FALSE)))} -> JP | I14: =IF($A14="","",IF(ISERROR(VLOOKUP($A14,Base2009,COLUMN(),FALSE)),VLOOKUP($A14,Base2010,COLUMN(),FALSE),VLOOKUP($A14,Base2009,COLUMN(),FALSE))) -> 39905 | J14: {=IF($A14="","",IF(ISERROR(VLOOKUP($A14,Base2009,COLUMN(),FALSE)),VLOOKUP($A14,Base2010,COLUMN(),FALSE),VLOOKUP($A14,Base2009,COLUMN(),FALSE)))} -> 40018 | K14: {=IF($A14="","",IF(ISERROR(VLOOKUP($A14,Base2009,COLUMN(),FALSE)),VLOOKUP($A14,Base2010,COLUMN(),FALSE),VLOOKUP($A14,Base2009,COLUMN(),FALSE)))} -> 0 | L14: {=IF($A14="","",IF(ISERROR(VLOOKUP($A14,Base2009,COLUMN(),FALSE)),VLOOKUP($A14,Base2010,COLUMN(),FALSE),VLOOKUP($A14,Base2009,COLUMN(),FALSE)))} -> 40018 | M14: {=IF($A14="","",IF(ISERROR(VLOOKUP($A14,Base2009,COLUMN(),FALSE)),VLOOKUP($A14,Base2010,COLUMN(),FALSE),VLOOKUP($A14,Base2009,COLUMN(),FALSE)))} -> 0 | N14: {=IF($A14="","",IF(ISERROR(VLOOKUP($A14,Base2009,COLUMN(),FALSE)),VLOOKUP($A14,Base2010,COLUMN(),FALSE),VLOOKUP($A14,Base2009,COLUMN(),FALSE)))} -> 0 | O14: {=IF($A14="","",IF(ISERROR(VLOOKUP($A14,Base2009,COLUMN(),FALSE)),VLOOKUP($A14,Base2010,COLUMN(),FALSE),VLOOKUP($A14,Base2009,COLUMN(),FALSE)))} -> 0 | P14: {=IF($A14="","",IF(ISERROR(VLOOKUP($A14,Base2009,COLUMN(),FALSE)),VLOOKUP($A14,Base2010,COLUMN(),FALSE),VLOOKUP($A14,Base2009,COLUMN(),FALSE)))} -> 40025 | Q14: {=IF($A14="","",IF(ISERROR(VLOOKUP($A14,Base2009,COLUMN(),FALSE)),VLOOKUP($A14,Base2010,COLUMN(),FALSE),VLOOKUP($A14,Base2009,COLUMN(),FALSE)))} -> 0 | R14: =IF($A14="","",IF(ISERROR(VLOOKUP($A14,Base2009,COLUMN(),FALSE)),VLOOKUP($A14,Base2010,COLUMN(),FALSE),VLOOKUP($A14,Base2009,COLUMN(),FALSE))) -> 8 | S14: {=IF(ISERROR(VLOOKUP($A14,Base2010,COLUMN(),FALSE)),"",VLOOKUP($A14,Base2010,COLUMN(),FALSE))} -> 129358.24 | T14: {=IF(ISERROR(VLOOKUP($A14,Base2009,COLUMN()-1,FALSE)),"",S14/VLOOKUP($A14,Base2009,COLUMN()-1,FALSE))} -> 10.338453
A15: {=INDEX('2010'!$A$1:$A$25,MIN(IF(COUNTIF($A$1:$A14,'2010'!$A$3:$A$25)=0,IF('2010'!$A$3:$A$25<>"",ROW('2010'!$A$3:$A$25)))))&""} -> FI301 | B15: {=IF($A15="","",IF(ISERROR(VLOOKUP($A15,Base2009,COLUMN(),FALSE)),VLOOKUP($A15,Base2010,COLUMN(),FALSE),VLOOKUP($A15,Base2009,COLUMN(),FALSE)))} -> FIDELE | C15: {=IF($A15="","",IF(ISERROR(VLOOKUP($A15,Base2009,COLUMN(),FALSE)),VLOOKUP($A15,Base2010,COLUMN(),FALSE),VLOOKUP($A15,Base2009,COLUMN(),FALSE)))} -> 30 000 | D15: {=IF($A15="","",IF(ISERROR(VLOOKUP($A15,Base2009,COLUMN(),FALSE)),VLOOKUP($A15,Base2010,COLUMN(),FALSE),VLOOKUP($A15,Base2009,COLUMN(),FALSE)))} -> 0 | E15: {=IF($A15="","",IF(ISERROR(VLOOKUP($A15,Base2009,COLUMN(),FALSE)),VLOOKUP($A15,Base2010,COLUMN(),FALSE),VLOOKUP($A15,Base2009,COLUMN(),FALSE)))} -> 0 | F15: {=IF($A15="","",IF(ISERROR(VLOOKUP($A15,Base2009,COLUMN(),FALSE)),VLOOKUP($A15,Base2010,COLUMN(),FALSE),VLOOKUP($A15,Base2009,COLUMN(),FALSE)))} -> 0 | G15: {=IF($A15="","",IF(ISERROR(VLOOKUP($A15,Base2009,COLUMN(),FALSE)),VLOOKUP($A15,Base2010,COLUMN(),FALSE),VLOOKUP($A15,Base2009,COLUMN(),FALSE)))} -> 0 | H15: {=IF($A15="","",IF(ISERROR(VLOOKUP($A15,Base2009,COLUMN(),FALSE)),VLOOKUP($A15,Base2010,COLUMN(),FALSE),VLOOKUP($A15,Base2009,COLUMN(),FALSE)))} -> 0 | I15: =IF($A15="","",IF(ISERROR(VLOOKUP($A15,Base2009,COLUMN(),FALSE)),VLOOKUP($A15,Base2010,COLUMN(),FALSE),VLOOKUP($A15,Base2009,COLUMN(),FALSE))) -> 0 | J15: {=IF($A15="","",IF(ISERROR(VLOOKUP($A15,Base2009,COLUMN(),FALSE)),VLOOKUP($A15,Base2010,COLUMN(),FALSE),VLOOKUP($A15,Base2009,COLUMN(),FALSE)))} -> 0 | K15: {=IF($A15="","",IF(ISERROR(VLOOKUP($A15,Base2009,COLUMN(),FALSE)),VLOOKUP($A15,Base2010,COLUMN(),FALSE),VLOOKUP($A15,Base2009,COLUMN(),FALSE)))} -> 0 | L15: {=IF($A15="","",IF(ISERROR(VLOOKUP($A15,Base2009,COLUMN(),FALSE)),VLOOKUP($A15,Base2010,COLUMN(),FALSE),VLOOKUP($A15,Base2009,COLUMN(),FALSE)))} -> 0 | M15: {=IF($A15="","",IF(ISERROR(VLOOKUP($A15,Base2009,COLUMN(),FALSE)),VLOOKUP($A15,Base2010,COLUMN(),FALSE),VLOOKUP($A15,Base2009,COLUMN(),FALSE)))} -> 0 | N15: {=IF($A15="","",IF(ISERROR(VLOOKUP($A15,Base2009,COLUMN(),FALSE)),VLOOKUP($A15,Base2010,COLUMN(),FALSE),VLOOKUP($A15,Base2009,COLUMN(),FALSE)))} -> 0 | O15: {=IF($A15="","",IF(ISERROR(VLOOKUP($A15,Base2009,COLUMN(),FALSE)),VLOOKUP($A15,Base2010,COLUMN(),FALSE),VLOOKUP($A15,Base2009,COLUMN(),FALSE)))} -> 0 | P15: {=IF($A15="","",IF(ISERROR(VLOOKUP($A15,Base2009,COLUMN(),FALSE)),VLOOKUP($A15,Base2010,COLUMN(),FALSE),VLOOKUP($A15,Base2009,COLUMN(),FALSE)))} -> 0 | Q15: {=IF($A15="","",IF(ISERROR(VLOOKUP($A15,Base2009,COLUMN(),FALSE)),VLOOKUP($A15,Base2010,COLUMN(),FALSE),VLOOKUP($A15,Base2009,COLUMN(),FALSE)))} -> 0 | R15: =IF($A15="","",IF(ISERROR(VLOOKUP($A15,Base2009,COLUMN(),FALSE)),VLOOKUP($A15,Base2010,COLUMN(),FALSE),VLOOKUP($A15,Base2009,COLUMN(),FALSE))) -> 1 | S15: {=IF(ISERROR(VLOOKUP($A15,Base2010,COLUMN(),FALSE)),"",VLOOKUP($A15,Base2010,COLUMN(),FALSE))} -> 138301.68 | T15: {=IF(ISERROR(VLOOKUP($A15,Base2009,COLUMN()-1,FALSE)),"",S15/VLOOKUP($A15,Base2009,COLUMN()-1,FALSE))}
A16: {=INDEX('2010'!$A$1:$A$25,MIN(IF(COUNTIF($A$1:$A15,'2010'!$A$3:$A$25)=0,IF('2010'!$A$3:$A$25<>"",ROW('2010'!$A$3:$A$25)))))&""} -> LE211 | B16: {=IF($A16="","",IF(ISERROR(VLOOKUP($A16,Base2009,COLUMN(),FALSE)),VLOOKUP($A16,Base2010,COLUMN(),FALSE),VLOOKUP($A16,Base2009,COLUMN(),FALSE)))} -> LE CREDIT | C16: {=IF($A16="","",IF(ISERROR(VLOOKUP($A16,Base2009,COLUMN(),FALSE)),VLOOKUP($A16,Base2010,COLUMN(),FALSE),VLOOKUP($A16,Base2009,COLUMN(),FALSE)))} -> 30 000 | D16: {=IF($A16="","",IF(ISERROR(VLOOKUP($A16,Base2009,COLUMN(),FALSE)),VLOOKUP($A16,Base2010,COLUMN(),FALSE),VLOOKUP($A16,Base2009,COLUMN(),FALSE)))} -> 0 | E16: {=IF($A16="","",IF(ISERROR(VLOOKUP($A16,Base2009,COLUMN(),FALSE)),VLOOKUP($A16,Base2010,COLUMN(),FALSE),VLOOKUP($A16,Base2009,COLUMN(),FALSE)))} -> 0 | F16: {=IF($A16="","",IF(ISERROR(VLOOKUP($A16,Base2009,COLUMN(),FALSE)),VLOOKUP($A16,Base2010,COLUMN(),FALSE),VLOOKUP($A16,Base2009,COLUMN(),FALSE)))} -> 39876 | G16: {=IF($A16="","",IF(ISERROR(VLOOKUP($A16,Base2009,COLUMN(),FALSE)),VLOOKUP($A16,Base2010,COLUMN(),FALSE),VLOOKUP($A16,Base2009,COLUMN(),FALSE)))} -> 40971.75 | H16: {=IF($A16="","",IF(ISERROR(VLOOKUP($A16,Base2009,COLUMN(),FALSE)),VLOOKUP($A16,Base2010,COLUMN(),FALSE),VLOOKUP($A16,Base2009,COLUMN(),FALSE)))} -> 0 | I16: =IF($A16="","",IF(ISERROR(VLOOKUP($A16,Base2009,COLUMN(),FALSE)),VLOOKUP($A16,Base2010,COLUMN(),FALSE),VLOOKUP($A16,Base2009,COLUMN(),FALSE))) -> oui | J16: {=IF($A16="","",IF(ISERROR(VLOOKUP($A16,Base2009,COLUMN(),FALSE)),VLOOKUP($A16,Base2010,COLUMN(),FALSE),VLOOKUP($A16,Base2009,COLUMN(),FALSE)))} -> JP | K16: {=IF($A16="","",IF(ISERROR(VLOOKUP($A16,Base2009,COLUMN(),FALSE)),VLOOKUP($A16,Base2010,COLUMN(),FALSE),VLOOKUP($A16,Base2009,COLUMN(),FALSE)))} -> 39876 | L16: {=IF($A16="","",IF(ISERROR(VLOOKUP($A16,Base2009,COLUMN(),FALSE)),VLOOKUP($A16,Base2010,COLUMN(),FALSE),VLOOKUP($A16,Base2009,COLUMN(),FALSE)))} -> 40080 | M16: {=IF($A16="","",IF(ISERROR(VLOOKUP($A16,Base2009,COLUMN(),FALSE)),VLOOKUP($A16,Base2010,COLUMN(),FALSE),VLOOKUP($A16,Base2009,COLUMN(),FALSE)))} -> 0 | N16: {=IF($A16="","",IF(ISERROR(VLOOKUP($A16,Base2009,COLUMN(),FALSE)),VLOOKUP($A16,Base2010,COLUMN(),FALSE),VLOOKUP($A16,Base2009,COLUMN(),FALSE)))} -> 40087 | O16: {=IF($A16="","",IF(ISERROR(VLOOKUP($A16,Base2009,COLUMN(),FALSE)),VLOOKUP($A16,Base2010,COLUMN(),FALSE),VLOOKUP($A16,Base2009,COLUMN(),FALSE)))} -> 0 | P16: {=IF($A16="","",IF(ISERROR(VLOOKUP($A16,Base2009,COLUMN(),FALSE)),VLOOKUP($A16,Base2010,COLUMN(),FALSE),VLOOKUP($A16,Base2009,COLUMN(),FALSE)))} -> 0 | Q16: {=IF($A16="","",IF(ISERROR(VLOOKUP($A16,Base2009,COLUMN(),FALSE)),VLOOKUP($A16,Base2010,COLUMN(),FALSE),VLOOKUP($A16,Base2009,COLUMN(),FALSE)))} -> 0 | R16: =IF($A16="","",IF(ISERROR(VLOOKUP($A16,Base2009,COLUMN(),FALSE)),VLOOKUP($A16,Base2010,COLUMN(),FALSE),VLOOKUP($A16,Base2009,COLUMN(),FALSE))) -> 40088 | S16: {=IF(ISERROR(VLOOKUP($A16,Base2010,COLUMN(),FALSE)),"",VLOOKUP($A16,Base2010,COLUMN(),FALSE))} | T16: {=IF(ISERROR(VLOOKUP($A16,Base2009,COLUMN()-1,FALSE)),"",S16/VLOOKUP($A16,Base2009,COLUMN()-1,FALSE))} -> #VALUE!
A17: {=INDEX('2010'!$A$1:$A$25,MIN(IF(COUNTIF($A$1:$A16,'2010'!$A$3:$A$25)=0,IF('2010'!$A$3:$A$25<>"",ROW('2010'!$A$3:$A$25)))))&""} -> LE231 | B17: {=IF($A17="","",IF(ISERROR(VLOOKUP($A17,Base2009,COLUMN(),FALSE)),VLOOKUP($A17,Base2010,COLUMN(),FALSE),VLOOKUP($A17,Base2009,COLUMN(),FALSE)))} -> LE CREDIT 2 | C17: {=IF($A17="","",IF(ISERROR(VLOOKUP($A17,Base2009,COLUMN(),FALSE)),VLOOKUP($A17,Base2010,COLUMN(),FALSE),VLOOKUP($A17,Base2009,COLUMN(),FALSE)))} -> 30 000 | D17: {=IF($A17="","",IF(ISERROR(VLOOKUP($A17,Base2009,COLUMN(),FALSE)),VLOOKUP($A17,Base2010,COLUMN(),FALSE),VLOOKUP($A17,Base2009,COLUMN(),FALSE)))} -> 0 | E17: {=IF($A17="","",IF(ISERROR(VLOOKUP($A17,Base2009,COLUMN(),FALSE)),VLOOKUP($A17,Base2010,COLUMN(),FALSE),VLOOKUP($A17,Base2009,COLUMN(),FALSE)))} -> 0 | F17: {=IF($A17="","",IF(ISERROR(VLOOKUP($A17,Base2009,COLUMN(),FALSE)),VLOOKUP($A17,Base2010,COLUMN(),FALSE),VLOOKUP($A17,Base2009,COLUMN(),FALSE)))} -> 38730 | G17: {=IF($A17="","",IF(ISERROR(VLOOKUP($A17,Base2009,COLUMN(),FALSE)),VLOOKUP($A17,Base2010,COLUMN(),FALSE),VLOOKUP($A17,Base2009,COLUMN(),FALSE)))} -> 39825.75 | H17: {=IF($A17="","",IF(ISERROR(VLOOKUP($A17,Base2009,COLUMN(),FALSE)),VLOOKUP($A17,Base2010,COLUMN(),FALSE),VLOOKUP($A17,Base2009,COLUMN(),FALSE)))} -> 0 | I17: =IF($A17="","",IF(ISERROR(VLOOKUP($A17,Base2009,COLUMN(),FALSE)),VLOOKUP($A17,Base2010,COLUMN(),FALSE),VLOOKUP($A17,Base2009,COLUMN(),FALSE))) -> 0 | J17: {=IF($A17="","",IF(ISERROR(VLOOKUP($A17,Base2009,COLUMN(),FALSE)),VLOOKUP($A17,Base2010,COLUMN(),FALSE),VLOOKUP($A17,Base2009,COLUMN(),FALSE)))} -> JP | K17: {=IF($A17="","",IF(ISERROR(VLOOKUP($A17,Base2009,COLUMN(),FALSE)),VLOOKUP($A17,Base2010,COLUMN(),FALSE),VLOOKUP($A17,Base2009,COLUMN(),FALSE)))} -> 39905 | L17: {=IF($A17="","",IF(ISERROR(VLOOKUP($A17,Base2009,COLUMN(),FALSE)),VLOOKUP($A17,Base2010,COLUMN(),FALSE),VLOOKUP($A17,Base2009,COLUMN(),FALSE)))} -> 40018 | M17: {=IF($A17="","",IF(ISERROR(VLOOKUP($A17,Base2009,COLUMN(),FALSE)),VLOOKUP($A17,Base2010,COLUMN(),FALSE),VLOOKUP($A17,Base2009,COLUMN(),FALSE)))} -> 0 | N17: {=IF($A17="","",IF(ISERROR(VLOOKUP($A17,Base2009,COLUMN(),FALSE)),VLOOKUP($A17,Base2010,COLUMN(),FALSE),VLOOKUP($A17,Base2009,COLUMN(),FALSE)))} -> 40018 | O17: {=IF($A17="","",IF(ISERROR(VLOOKUP($A17,Base2009,COLUMN(),FALSE)),VLOOKUP($A17,Base2010,COLUMN(),FALSE),VLOOKUP($A17,Base2009,COLUMN(),FALSE)))} -> 0 | P17: {=IF($A17="","",IF(ISERROR(VLOOKUP($A17,Base2009,COLUMN(),FALSE)),VLOOKUP($A17,Base2010,COLUMN(),FALSE),VLOOKUP($A17,Base2009,COLUMN(),FALSE)))} -> 0 | Q17: {=IF($A17="","",IF(ISERROR(VLOOKUP($A17,Base2009,COLUMN(),FALSE)),VLOOKUP($A17,Base2010,COLUMN(),FALSE),VLOOKUP($A17,Base2009,COLUMN(),FALSE)))} -> 0 | R17: =IF($A17="","",IF(ISERROR(VLOOKUP($A17,Base2009,COLUMN(),FALSE)),VLOOKUP($A17,Base2010,COLUMN(),FALSE),VLOOKUP($A17,Base2009,COLUMN(),FALSE))) -> 40025 | S17: {=IF(ISERROR(VLOOKUP($A17,Base2010,COLUMN(),FALSE)),"",VLOOKUP($A17,Base2010,COLUMN(),FALSE))} | T17: {=IF(ISERROR(VLOOKUP($A17,Base2009,COLUMN()-1,FALSE)),"",S17/VLOOKUP($A17,Base2009,COLUMN()-1,FALSE))} -> #VALUE!
A18: {=INDEX('2010'!$A$1:$A$25,MIN(IF(COUNTIF($A$1:$A17,'2010'!$A$3:$A$25)=0,IF('2010'!$A$3:$A$25<>"",ROW('2010'!$A$3:$A$25)))))&""} -> LE241 | B18: {=IF($A18="","",IF(ISERROR(VLOOKUP($A18,Base2009,COLUMN(),FALSE)),VLOOKUP($A18,Base2010,COLUMN(),FALSE),VLOOKUP($A18,Base2009,COLUMN(),FALSE)))} -> #N/A | C18: {=IF($A18="","",IF(ISERROR(VLOOKUP($A18,Base2009,COLUMN(),FALSE)),VLOOKUP($A18,Base2010,COLUMN(),FALSE),VLOOKUP($A18,Base2009,COLUMN(),FALSE)))} -> #N/A | D18: {=IF($A18="","",IF(ISERROR(VLOOKUP($A18,Base2009,COLUMN(),FALSE)),VLOOKUP($A18,Base2010,COLUMN(),FALSE),VLOOKUP($A18,Base2009,COLUMN(),FALSE)))} -> #N/A | E18: {=IF($A18="","",IF(ISERROR(VLOOKUP($A18,Base2009,COLUMN(),FALSE)),VLOOKUP($A18,Base2010,COLUMN(),FALSE),VLOOKUP($A18,Base2009,COLUMN(),FALSE)))} -> #N/A | F18: {=IF($A18="","",IF(ISERROR(VLOOKUP($A18,Base2009,COLUMN(),FALSE)),VLOOKUP($A18,Base2010,COLUMN(),FALSE),VLOOKUP($A18,Base2009,COLUMN(),FALSE)))} -> #N/A | G18: {=IF($A18="","",IF(ISERROR(VLOOKUP($A18,Base2009,COLUMN(),FALSE)),VLOOKUP($A18,Base2010,COLUMN(),FALSE),VLOOKUP($A18,Base2009,COLUMN(),FALSE)))} -> #N/A | H18: {=IF($A18="","",IF(ISERROR(VLOOKUP($A18,Base2009,COLUMN(),FALSE)),VLOOKUP($A18,Base2010,COLUMN(),FALSE),VLOOKUP($A18,Base2009,COLUMN(),FALSE)))} -> #N/A | I18: =IF($A18="","",IF(ISERROR(VLOOKUP($A18,Base2009,COLUMN(),FALSE)),VLOOKUP($A18,Base2010,COLUMN(),FALSE),VLOOKUP($A18,Base2009,COLUMN(),FALSE))) -> #N/A | J18: {=IF($A18="","",IF(ISERROR(VLOOKUP($A18,Base2009,COLUMN(),FALSE)),VLOOKUP($A18,Base2010,COLUMN(),FALSE),VLOOKUP($A18,Base2009,COLUMN(),FALSE)))} -> #N/A | K18: =IF($A18="","",IF(ISERROR(VLOOKUP($A18,Base2009,COLUMN(),FALSE)),VLOOKUP($A18,Base2010,COLUMN(),FALSE),VLOOKUP($A18,Base2009,COLUMN(),FALSE))) -> #N/A | L18: {=IF($A18="","",IF(ISERROR(VLOOKUP($A18,Base2009,COLUMN(),FALSE)),VLOOKUP($A18,Base2010,COLUMN(),FALSE),VLOOKUP($A18,Base2009,COLUMN(),FALSE)))} -> #N/A | M18: {=IF($A18="","",IF(ISERROR(VLOOKUP($A18,Base2009,COLUMN(),FALSE)),VLOOKUP($A18,Base2010,COLUMN(),FALSE),VLOOKUP($A18,Base2009,COLUMN(),FALSE)))} -> #N/A | N18: {=IF($A18="","",IF(ISERROR(VLOOKUP($A18,Base2009,COLUMN(),FALSE)),VLOOKUP($A18,Base2010,COLUMN(),FALSE),VLOOKUP($A18,Base2009,COLUMN(),FALSE)))} -> #N/A | O18: {=IF($A18="","",IF(ISERROR(VLOOKUP($A18,Base2009,COLUMN(),FALSE)),VLOOKUP($A18,Base2010,COLUMN(),FALSE),VLOOKUP($A18,Base2009,COLUMN(),FALSE)))} -> #N/A | P18: {=IF($A18="","",IF(ISERROR(VLOOKUP($A18,Base2009,COLUMN(),FALSE)),VLOOKUP($A18,Base2010,COLUMN(),FALSE),VLOOKUP($A18,Base2009,COLUMN(),FALSE)))} -> #N/A | Q18: {=IF($A18="","",IF(ISERROR(VLOOKUP($A18,Base2009,COLUMN(),FALSE)),VLOOKUP($A18,Base2010,COLUMN(),FALSE),VLOOKUP($A18,Base2009,COLUMN(),FALSE)))} -> #N/A | R18: =IF($A18="","",IF(ISERROR(VLOOKUP($A18,Base2009,COLUMN(),FALSE)),VLOOKUP($A18,Base2010,COLUMN(),FALSE),VLOOKUP($A18,Base2009,COLUMN(),FALSE))) -> #N/A | S18: {=IF(ISERROR(VLOOKUP($A18,Base2010,COLUMN(),FALSE)),"",VLOOKUP($A18,Base2010,COLUMN(),FALSE))} | T18: {=IF(ISERROR(VLOOKUP($A18,Base2009,COLUMN()-1,FALSE)),"",S18/VLOOKUP($A18,Base2009,COLUMN()-1,FALSE))}
A19: {=INDEX('2010'!$A$1:$A$25,MIN(IF(COUNTIF($A$1:$A18,'2010'!$A$3:$A$25)=0,IF('2010'!$A$3:$A$25<>"",ROW('2010'!$A$3:$A$25)))))&""} -> LE251 | B19: {=IF($A19="","",IF(ISERROR(VLOOKUP($A19,Base2009,COLUMN(),FALSE)),VLOOKUP($A19,Base2010,COLUMN(),FALSE),VLOOKUP($A19,Base2009,COLUMN(),FALSE)))} -> #N/A | C19: {=IF($A19="","",IF(ISERROR(VLOOKUP($A19,Base2009,COLUMN(),FALSE)),VLOOKUP($A19,Base2010,COLUMN(),FALSE),VLOOKUP($A19,Base2009,COLUMN(),FALSE)))} -> #N/A | D19: {=IF($A19="","",IF(ISERROR(VLOOKUP($A19,Base2009,COLUMN(),FALSE)),VLOOKUP($A19,Base2010,COLUMN(),FALSE),VLOOKUP($A19,Base2009,COLUMN(),FALSE)))} -> #N/A | E19: {=IF($A19="","",IF(ISERROR(VLOOKUP($A19,Base2009,COLUMN(),FALSE)),VLOOKUP($A19,Base2010,COLUMN(),FALSE),VLOOKUP($A19,Base2009,COLUMN(),FALSE)))} -> #N/A | F19: {=IF($A19="","",IF(ISERROR(VLOOKUP($A19,Base2009,COLUMN(),FALSE)),VLOOKUP($A19,Base2010,COLUMN(),FALSE),VLOOKUP($A19,Base2009,COLUMN(),FALSE)))} -> #N/A | G19: {=IF($A19="","",IF(ISERROR(VLOOKUP($A19,Base2009,COLUMN(),FALSE)),VLOOKUP($A19,Base2010,COLUMN(),FALSE),VLOOKUP($A19,Base2009,COLUMN(),FALSE)))} -> #N/A | H19: {=IF($A19="","",IF(ISERROR(VLOOKUP($A19,Base2009,COLUMN(),FALSE)),VLOOKUP($A19,Base2010,COLUMN(),FALSE),VLOOKUP($A19,Base2009,COLUMN(),FALSE)))} -> #N/A | I19: =IF($A19="","",IF(ISERROR(VLOOKUP($A19,Base2009,COLUMN(),FALSE)),VLOOKUP($A19,Base2010,COLUMN(),FALSE),VLOOKUP($A19,Base2009,COLUMN(),FALSE))) -> #N/A | J19: {=IF($A19="","",IF(ISERROR(VLOOKUP($A19,Base2009,COLUMN(),FALSE)),VLOOKUP($A19,Base2010,COLUMN(),FALSE),VLOOKUP($A19,Base2009,COLUMN(),FALSE)))} -> #N/A | K19: {=IF($A19="","",IF(ISERROR(VLOOKUP($A19,Base2009,COLUMN(),FALSE)),VLOOKUP($A19,Base2010,COLUMN(),FALSE),VLOOKUP($A19,Base2009,COLUMN(),FALSE)))} -> #N/A | L19: {=IF($A19="","",IF(ISERROR(VLOOKUP($A19,Base2009,COLUMN(),FALSE)),VLOOKUP($A19,Base2010,COLUMN(),FALSE),VLOOKUP($A19,Base2009,COLUMN(),FALSE)))} -> #N/A | M19: {=IF($A19="","",IF(ISERROR(VLOOKUP($A19,Base2009,COLUMN(),FALSE)),VLOOKUP($A19,Base2010,COLUMN(),FALSE),VLOOKUP($A19,Base2009,COLUMN(),FALSE)))} -> #N/A | N19: {=IF($A19="","",IF(ISERROR(VLOOKUP($A19,Base2009,COLUMN(),FALSE)),VLOOKUP($A19,Base2010,COLUMN(),FALSE),VLOOKUP($A19,Base2009,COLUMN(),FALSE)))} -> #N/A | O19: {=IF($A19="","",IF(ISERROR(VLOOKUP($A19,Base2009,COLUMN(),FALSE)),VLOOKUP($A19,Base2010,COLUMN(),FALSE),VLOOKUP($A19,Base2009,COLUMN(),FALSE)))} -> #N/A | P19: {=IF($A19="","",IF(ISERROR(VLOOKUP($A19,Base2009,COLUMN(),FALSE)),VLOOKUP($A19,Base2010,COLUMN(),FALSE),VLOOKUP($A19,Base2009,COLUMN(),FALSE)))} -> #N/A | Q19: {=IF($A19="","",IF(ISERROR(VLOOKUP($A19,Base2009,COLUMN(),FALSE)),VLOOKUP($A19,Base2010,COLUMN(),FALSE),VLOOKUP($A19,Base2009,COLUMN(),FALSE)))} -> #N/A | R19: =IF($A19="","",IF(ISERROR(VLOOKUP($A19,Base2009,COLUMN(),FALSE)),VLOOKUP($A19,Base2010,COLUMN(),FALSE),VLOOKUP($A19,Base2009,COLUMN(),FALSE))) -> #N/A | S19: {=IF(ISERROR(VLOOKUP($A19,Base2010,COLUMN(),FALSE)),"",VLOOKUP($A19,Base2010,COLUMN(),FALSE))} | T19: {=IF(ISERROR(VLOOKUP($A19,Base2009,COLUMN()-1,FALSE)),"",S19/VLOOKUP($A19,Base2009,COLUMN()-1,FALSE))}
