Workbook

Sheet ITALIE
A1: FACTURATION | B1: ZONE | C1: COUNTRY | D1: PHASE | E1: SEASON | F1: STATUS | G1: MONTH | I1: AGENCY | J1: BRIEF | K1: STARTING DATE | L1: MEDIA PLAN | M1: BUDGET LOCAL CURRENCY | N1: BUDGET EUROS | O1: FB | P1: IG | Q1: TWITTER | R1: YOUTUBE | S1: SNAP | T1: SNAP LENS | U1: TIKTOK | V1: LINKEDIN | W1: PINTEREST | X1: TOTAL | Y1: delta | Z1: INVOICED | AB1: COMMENTAIRES Media Team | AC1: COMMENTAIRES Social Team | AD1: delta 2021 | AE1: BUDGET 2021
A2: BRANDING | B2: EUROPE | C2: ITALIE | D2: CONSIDERATION | E2: S1 | F2: DONE | G2: 1 | H2: JANUARY | I2: HQ | J2: =EDATE(K2,-1) -> 44171 | K2: 44202 | L2: KR01 | M2: =N2 -> 10000 | N2: 10000 | O2: 8000 | Q2: 0 | R2: 0 | S2: 0 | T2: 2000 | U2: 0 | V2: 0 | W2: 0 | X2: =SUM(O2:W2) -> 10000 | Y2: =N2-X2 -> 0 | AD2: =(N2-AE2)/AE2 -> 0.42857143 | AE2: 7000 | AF2: Formule: (Budget 2022 - Budget 2021)/Budget 2021
A3: BRANDING | B3: EUROPE | C3: ITALIE | D3: CONVERSION | E3: S1 | F3: WIP | G3: 1E | H3: JANUARY | I3: HQ | J3: =EDATE(K3,-1) -> 44178 | K3: 44209 | L3: KRE01 | M3: =N3 -> 7000 | N3: 7000 | O3: 7000 | Q3: 0 | R3: 0 | S3: 0 | T3: 0 | U3: 0 | V3: 0 | W3: 0 | X3: =SUM(O3:W3) -> 7000 | Y3: =N3-X3 -> 0 | AD3: =(N3-AE3)/AE3 -> 0.4 | AE3: 5000
A4: BRANDING | B4: EUROPE | C4: ITALIE | D4: CONVERSION | E4: S1 | F4: WIP | G4: 1E | H4: JANUARY | I4: HQ | M4: =N4 -> 24000 | N4: 24000 | O4: =N4 -> 24000 | Q4: 0 | R4: 0 | S4: 0 | T4: 0 | U4: 0 | V4: 0 | W4: 0 | X4: =SUM(O4:W4) -> 24000 | Y4: =N4-X4 -> 0 | AE4: NEW
A5: ECOMMERCE | B5: EUROPE | C5: ITALIE | D5: CONVERSION | E5: S1 | F5: WIP | G5: 1E | H5: JANUARY | I5: HQ | M5: =N5 -> 12000 | N5: 12000 | O5: =N5 -> 12000 | X5: =SUM(O5:W5) -> 12000 | Y5: =SUM(O5:X5) -> 24000 | AE5: NEW
A6: BRANDING | B6: EUROPE | C6: ITALIE | D6: BRANDING | E6: S1 | F6: UNFUNDED | G6: 1 | H6: JANUARY | I6: HQ | J6: =EDATE(K6,-1) -> 44182 | K6: 44213 | N6: 0 | O6: 0 | P6: 0 | Q6: 0 | R6: 0 | S6: 0 | T6: 0 | U6: 0 | V6: 0 | W6: 0 | X6: =SUM(O6:W6) -> 0 | Y6: =N6-X6 -> 0 | AD6: =(X6-AE6)/AE6 -> #DIV/0! | AE6: 0
A7: BRANDING | B7: EUROPE | C7: ITALIE | D7: BRANDING | E7: S1 | F7: DONE | G7: 1 | H7: JANUARY | I7: HQ | J7: =EDATE(K7,-1) -> 44186 | K7: 44217 | L7: KR05 | M7: =N7 -> 7000 | N7: 7000 | O7: 1500 | P7: 2500 | Q7: 1000 | R7: 1000 | S7: 0 | T7: 0 | U7: 1000 | V7: 0 | W7: 0 | X7: =SUM(O7:W7) -> 7000 | Y7: =N7-X7 -> 0 | AD7: =(N7-AE7)/AE7 -> -0.125 | AE7: 8000
A8: BRANDING | B8: EUROPE | C8: ITALIE | D8: BRANDING | E8: S1 | F8: DONE | G8: 1 | H8: JANUARY | I8: HQ | J8: =EDATE(K8,-1) -> 44189 | K8: 44220 | L8: KR06 | M8: =N8 -> 7000 | N8: 7000 | O8: 1500 | P8: 2500 | Q8: 1000 | R8: 2000 | S8: 0 | T8: 0 | U8: 0 | V8: 0 | W8: 0 | X8: =SUM(O8:W8) -> 7000 | Y8: =N8-X8 -> 0 | AD8: =(N8-AE8)/AE8 -> 0 | AE8: 7000
A9: BRANDING | B9: EUROPE | C9: ITALIE | D9: CONVERSION | E9: S1 | F9: WIP | G9: 1E | H9: JANUARY | I9: HQ | J9: =EDATE(K9,-1) -> 44192 | K9: 44223 | L9: KRE02 | M9: =N9 -> 9000 | N9: 9000 | O9: 9000 | Q9: 0 | R9: 0 | S9: 0 | T9: 0 | U9: 0 | V9: 0 | W9: 0 | X9: =SUM(O9:W9) -> 9000 | Y9: =N9-X9 -> 0 | AD9: =(N9-AE9)/AE9 -> 5 | AE9: 1500
A10: BRANDING | B10: EUROPE | C10: ITALIE | D10: CONVERSION | E10: S1 | F10: WIP | G10: 1E | H10: JANUARY | I10: HQ | J10: =EDATE(K10,-1) -> 44192 | K10: 44223 | L10: KRE02 | M10: =N10 -> 11000 | N10: 11000 | O10: 8000 | Q10: 0 | R10: 0 | S10: 0 | T10: 3000 | U10: 0 | V10: 0 | W10: 0 | X10: =SUM(O10:W10) -> 11000 | Y10: =N10-X10 -> 0 | AD10: =(N10-AE10)/AE10 -> 14.714286 | AE10: 700
A11: ECOMMERCE | B11: EUROPE | C11: ITALIE | D11: CONVERSION | E11: S1 | F11: UNFUNDED | G11: 2E | H11: FEBRUARY | I11: HQ | J11: =EDATE(K11,-1) -> 44562 | K11: 44593 | M11: =N11 -> 0 | N11: 0 | O11: 0 | P11: 0 | Q11: 0 | R11: 0 | S11: 0 | T11: 0 | U11: 0 | V11: 0 | W11: 0 | X11: =SUM(O11:W11) -> 0 | Y11: =N11-X11 -> 0 | AE11: NEW
A12: WATCHES | B12: EUROPE | C12: ITALIE | D12: BRANDING | E12: S1 | F12: UNFUNDED | G12: 2wat | H12: FEBRUARY | I12: HQ | J12: =EDATE(K12,-1) -> 44562 | K12: 44593 | N12: =M12 -> 0 | O12: 0 | P12: 0 | Q12: 0 | R12: 0 | S12: 0 | T12: 0 | U12: 0 | V12: 0 | W12: 0 | X12: =SUM(O12:W12) -> 0 | Y12: =N12-X12 -> 0 | AD12: =(X12-AE12)/AE12 -> #DIV/0! | AE12: 0
A13: BRANDING | B13: EUROPE | C13: ITALIE | D13: BRANDING | E13: S1 | F13: WIP | G13: 2 | H13: FEBRUARY | I13: HQ | J13: 44241 | K13: 44241 | L13: KR08 | M13: 20000 | N13: 20000 | O13: 12000 | Q13: 1500 | R13: DISPLAY | S13: 3000 | T13: 0 | U13: 2000 | V13: 0 | W13: 1500 | X13: 20000 | Y13: 0 | AC13: 0 | AD13: 20000
A14: BRANDING | B14: EUROPE | C14: ITALIE | D14: CONVERSION | E14: S1 | F14: WIP | G14: 2E | H14: FEBRUARY | I14: HQ | J14: 44248 | K14: 44248 | M14: 9000 | N14: 9000 | O14: 7000 | Q14: 0 | R14: 0 | S14: 1000 | T14: 1000 | U14: 0 | V14: 0 | W14: 0 | X14: 9000 | Y14: 0 | AC14: 0.2 | AD14: 7500
A15: BRANDING | B15: EUROPE | C15: ITALIE | D15: BRANDING | E15: S1 | F15: WIP | G15: 2 | H15: FEBRUARY | I15: HQ | J15: =EDATE(K15,-1) -> 44582 | K15: 44613 | M15: =N15 -> 5000 | N15: 5000 | O15: =N15 -> 5000 | Q15: 0 | R15: 0 | S15: 0 | T15: 0 | U15: 0 | V15: 0 | W15: 0 | X15: =SUM(O15:W15) -> 5000 | Y15: =N15-X15 -> 0 | AC15: Baisse 50% | AD15: =(N15-AE15)/AE15 -> -0.5 | AE15: 10000
A16: BRANDING | B16: EUROPE | C16: ITALIE | D16: CONVERSION | E16: S1 | F16: WIP | G16: 3E | H16: MARCH | I16: HQ | J16: =EDATE(K16,-1) -> 44230 | K16: 44258 | M16: =N16 -> 10000 | N16: 10000 | O16: 6000 | Q16: 0 | R16: 0 | S16: 1500 | T16: 2500 | U16: 0 | V16: 0 | W16: 0 | X16: =SUM(O16:W16) -> 10000 | Y16: =N16-X16 -> 0 | AD16: =(N16-AE16)/AE16 -> 0 | AE16: 10000
A17: BRANDING | B17: EUROPE | C17: ITALIE | D17: BRANDING | E17: S1 | F17: WIP | G17: 3 | H17: MARCH | I17: HQ | J17: =EDATE(K17,-1) -> 44593 | K17: 44621 | M17: =N17 -> 20000 | N17: 20000 | O17: 4000 | P17: 5000 | Q17: 2000 | R17: 7000 | S17: 1000 | T17: 0 | U17: 1000 | V17: 0 | W17: 0 | X17: =SUM(O17:W17) -> 20000 | Y17: =N17-X17 -> 0 | AD17: =(N17-AE17)/AE17 -> 0 | AE17: 20000
A18: BRANDING | B18: EUROPE | C18: ITALIE | D18: BRANDING | E18: S1 | F18: UNFUNDED | G18: 3 | H18: MARCH | I18: HQ | N18: =M18 -> 0 | O18: 0 | P18: 0 | Q18: 0 | R18: 0 | S18: 0 | T18: 0 | U18: 0 | V18: 0 | W18: 0 | X18: =SUM(O18:W18) -> 0 | Y18: =N18-X18 -> 0 | AD18: =(X18-AE18)/AE18 -> #DIV/0! | AE18: 0
A19: WATCHES | B19: EUROPE | C19: ITALIE | D19: BRANDING | E19: S1 | F19: UNFUNDED | G19: 3wat | H19: MARCH | I19: HQ | N19: =M19 -> 0 | O19: 0 | P19: 0 | Q19: 0 | R19: 0 | S19: 0 | T19: 0 | U19: 0 | V19: 0 | W19: 0 | X19: =SUM(O19:W19) -> 0 | Y19: =N19-X19 -> 0 | AD19: =(X19-AE19)/AE19 -> #DIV/0! | AE19: 0
A20: ECOMMERCE | B20: EUROPE | C20: ITALIE | D20: CONVERSION | E20: S1 | F20: UNFUNDED | G20: 3 | H20: MARCH | I20: HQ | M20: =N20 -> 0 | N20: 0 | O20: 0 | P20: 0 | Q20: 0 | R20: 0 | S20: 0 | T20: 0 | U20: 0 | V20: 0 | W20: 0 | X20: =SUM(O20:W20) -> 0 | Y20: =N20-X20 -> 0 | AE20: NEW
A21: BRANDING | B21: EUROPE | C21: ITALIE | D21: BRANDING | E21: S2 | F21: WIP | G21: 3 | H21: MARCH | I21: HQ | J21: =EDATE(K21,-1) -> 44602 | K21: 44630 | M21: =N21 -> 5000 | N21: 5000 | O21: 4000 | Q21: 0 | R21: 1000 | S21: 0 | T21: 0 | U21: 0 | V21: 0 | W21: 0 | X21: =SUM(O21:W21) -> 5000 | Y21: =N21-X21 -> 0 | AE21: NEW
A22: BRANDING | B22: EUROPE | C22: ITALIE | D22: BRANDING | E22: S1 | F22: WIP | G22: 3 | H22: MARCH | I22: HQ | K22: 44635 | M22: =N22 -> 7500 | N22: 7500 | X22: =SUM(O22:W22) -> 0 | Y22: =N22-X22 -> 7500 | AD22: =(N22-AE22)/AE22 -> 0.5 | AE22: 5000
A23: BRANDING | B23: EUROPE | C23: ITALIE | D23: CONVERSION | E23: S1 | F23: WIP | G23: 3E | H23: MARCH | I23: HQ | K23: 44641 | M23: =N23 -> 5000 | N23: 5000 | O23: 4000 | Q23: 0 | R23: 0 | S23: 1000 | T23: 0 | U23: 0 | V23: 0 | W23: 0 | X23: =SUM(O23:W23) -> 5000 | Y23: =N23-X23 -> 0 | AE23: NEW
A24: BRANDING | B24: EUROPE | C24: ITALIE | D24: CONVERSION | E24: S1 | F24: WIP | G24: 3E | H24: MARCH | I24: HQ | K24: 44643 | M24: =N24 -> 6000 | N24: 6000 | O24: 4000 | Q24: 0 | R24: 0 | S24: 0 | T24: 2000 | U24: 0 | V24: 0 | W24: 0 | X24: =SUM(O24:W24) -> 6000
A25: BRANDING | B25: EUROPE | C25: ITALIE | D25: EYEWEAR | E25: S1 | F25: UNFUNDED | G25: 3E | H25: MARCH | I25: HQ | J25: =EDATE(K25,-1) -> #NUM! | M25: =N25 -> 0 | N25: 0 | X25: =SUM(O25:W25) -> 0 | Y25: =N25-X25 -> 0 | AE25: NEW
A26: BRANDING | B26: EUROPE | C26: ITALIE | D26: CONSIDERATION | E26: S1 | F26: WIP | G26: 3 | H26: MARCH | I26: HQ | J26: 44652 | K26: 44636 | M26: 7000 | N26: 7000 | X26: 0 | Y26: 7000 | AC26: 0.4 | AD26: 5000
A27: BRANDING | B27: EUROPE | C27: ITALIE | D27: CONVERSION | E27: S1 | F27: WIP | G27: 4E | H27: APRIL | I27: HQ | J27: 44670 | K27: 44670 | M27: 12500 | N27: 12500 | O27: 7000 | S27: 2000 | T27: 2000 | W27: 1500 | X27: 12500 | Y27: 0 | AC27: 1.5 | AD27: 5000
A28: BRANDING | B28: EUROPE | C28: ITALIE | D28: CONSIDERATION | E28: S1 | F28: WIP | G28: 4eye | H28: APRIL | I28: HQ | K28: 44655 | M28: =N28 -> 10000 | N28: 10000 | X28: =SUM(O28:W28) -> 0 | Y28: =N28-X28 -> 10000 | AD28: =(N28-AE28)/AE28 -> -0.6 | AE28: 25000
A29: ECOMMERCE | B29: EUROPE | C29: ITALIE | D29: EYEWEAR | E29: S2 | F29: UNFUNDED | G29: 7eye | H29: MARCH | I29: HQ | M29: =N29 -> 0 | N29: 0 | X29: =SUM(O29:W29) -> 0 | Y29: =N29-X29 -> 0 | AD29: =(N29-AE29)/AE29 -> -1 | AE29: 2000
A30: ECOMMERCE | B30: EUROPE | C30: ITALIE | D30: CONVERSION | E30: S2 | F30: UNFUNDED | G30: 9eye | H30: APRIL | I30: HQ | M30: =N30 -> 0 | N30: 0 | X30: =SUM(O30:W30) -> 0 | Y30: =N30-X30 -> 0 | AD30: =(N30-AE30)/AE30 -> -1 | AE30: 3000
A31: BRANDING | B31: EUROPE | C31: ITALIE | D31: BRANDING | E31: S2 | F31: UNFUNDED | G31: 10eye | H31: APRIL | I31: HQ | M31: =N31 -> 0 | N31: 0 | X31: =SUM(O31:W31) -> 0 | Y31: =N31-X31 -> 0 | AD31: =(N31-AE31)/AE31 -> -1 | AE31: 3000
A32: BRANDING | B32: EUROPE | C32: ITALIE | D32: CONSIDERATION | E32: S1 | F32: WIP | G32: 4eye | H32: APRIL | I32: HQ | K32: 44655 | M32: =N32 -> 10000 | N32: 10000 | X32: =SUM(O32:W32) -> 0 | Y32: =N32-X32 -> 10000 | AD32: =(N32-AE32)/AE32 -> 0 | AE32: 10000
A33: BRANDING | B33: EUROPE | C33: ITALIE | D33: CONSIDERATION | E33: S1 | F33: UNFUNDED | G33: 4 | H33: APRIL | I33: HQ | M33: =N33 -> 0 | N33: 0 | X33: =SUM(O33:W33) -> 0 | Y33: =N33-X33 -> 0 | AE33: NEW
A34: BRANDING | B34: EUROPE | C34: ITALIE | D34: CONVERSION | E34: S1 | G34: 4E | H34: APRIL | I34: HQ | M34: =N34 -> 6000 | N34: 6000 | X34: =SUM(O34:W34) -> 0 | Y34: =N34-#REF! -> #REF! | AD34: =(N34-AE34)/AE34 -> 0.5 | AE34: 4000
A35: BRANDING | B35: EUROPE | C35: ITALIE | D35: CONVERSION | E35: S1 | G35: 4E | H35: APRIL | I35: HQ | M35: =N35 -> 5000 | N35: 5000 | X35: =SUM(O35:W35) -> 0 | Y35: =N35-Z34 -> 5000 | AD35: =(N35-AE35)/AE35 -> -0.375 | AE35: 8000
A36: BRANDING | B36: EUROPE | C36: ITALIE | D36: BRANDING | E36: S1 | F36: UNFUNDED | G36: 4 | H36: APRIL | I36: HQ | N36: =M36 -> 0 | O36: 0 | P36: 0 | Q36: 0 | R36: 0 | S36: 0 | T36: 0 | U36: 0 | V36: 0 | W36: 0 | X36: =SUM(O36:W36) -> 0 | Y36: =N36-X36 -> 0 | AD36: =(X36-AE36)/AE36 -> #DIV/0! | AE36: 0
A37: ECOMMERCE | B37: EUROPE | C37: ITALIE | D37: CONVERSION | E37: S1 | F37: UNFUNDED | G37: 4E | H37: APRIL | I37: HQ | N37: 0 | O37: 0 | P37: 0 | Q37: 0 | R37: 0 | S37: 0 | T37: 0 | U37: 0 | V37: 0 | W37: 0 | X37: =SUM(O37:W37) -> 0 | Y37: =N37-X37 -> 0 | AD37: =(X37-AE37)/AE37 -> #DIV/0! | AE37: 0
A38: BRANDING | B38: EUROPE | C38: ITALIE | D38: BRANDING | E38: S1 | G38: 4 | H38: APRIL | I38: HQ | K38: 44681 | M38: =N38 -> 5000 | N38: 5000 | X38: =SUM(O38:W38) -> 0 | Y38: =N38-X38 -> 5000 | AE38: NEW
A39: BRANDING | B39: EUROPE | C39: ITALIE | D39: BRANDING | E39: S1 | G39: 5 | H39: MAY | I39: HQ | K39: 44682 | M39: =N39 -> 2000 | N39: 2000
A40: BRANDING | B40: EUROPE | C40: ITALIE | D40: BRANDING | E40: S1 | G40: 5 | H40: MAY | I40: HQ | K40: 44683 | M40: =N40 -> 20000 | N40: 20000 | X40: =SUM(O40:W40) -> 0 | Y40: =N40-X40 -> 20000 | AD40: =(N40-AE40)/AE40 -> 0 | AE40: 20000
A41: BRANDING | B41: EUROPE | C41: ITALIE | D41: CONVERSION | E41: S1 | G41: 5 | H41: MAY | I41: HQ | J41: =EDATE(K41,-1) -> 44660 | K41: 44690 | M41: =N41 -> 7000 | N41: 7000 | T41: 2000 | X41: =SUM(O41:W41) -> 2000 | Y41: =N41-X41 -> 5000 | AD41: =(N41-AE41)/AE41 -> 0.4 | AE41: 5000
A42: ECOMMERCE | B42: EUROPE | C42: ITALIE | D42: CONVERSION | E42: S1 | F42: UNFUNDED | G42: 5 | H42: MAY | I42: HQ | M42: =N42 -> 0 | N42: 0 | X42: =SUM(O42:W42) -> 0 | Y42: =N42-X42 -> 0 | AE42: NEW
A43: BRANDING | B43: EUROPE | C43: ITALIE | D43: CONSIDERATION | E43: S1 | G43: 4 | H43: MAY | I43: HQ | M43: 20000 | N43: 20000 | X43: =SUM(O43:W43) -> 0 | Y43: =N43-X43 -> 20000 | AD43: =(N43-AE43)/AE43 -> -0.33333333 | AE43: 30000
A44: BRANDING | B44: EUROPE | C44: ITALIE | D44: BRANDING | E44: S1 | G44: 5 | H44: MAY | I44: HQ | M44: =N44 -> 10000 | N44: 10000 | X44: =SUM(O44:W44) -> 0 | Y44: =N44-X44 -> 10000 | AD44: =(N44-AE44)/AE44 -> 0 | AE44: 10000
A45: BRANDING | B45: EUROPE | C45: ITALIE | D45: CONVERSION | E45: S1 | G45: 5E | H45: MAY | I45: HQ | M45: =N45 -> 7000 | N45: 7000 | X45: =SUM(O45:W45) -> 0 | Y45: =N45-X45 -> 7000 | AD45: =(N45-AE45)/AE45 -> 0.75 | AE45: 4000
A46: BRANDING | B46: EUROPE | C46: ITALIE | D46: CONSIDERATION | E46: S1 | F46: UNFUNDED | G46: 5 | H46: MAY | I46: HQ | N46: =M46 -> 0 | O46: 0 | P46: 0 | Q46: 0 | R46: 0 | S46: 0 | T46: 0 | U46: 0 | V46: 0 | W46: 0 | X46: =SUM(O46:W46) -> 0 | Y46: =N46-X46 -> 0 | AD46: =(X46-AE46)/AE46 -> #DIV/0! | AE46: 0
A47: WATCHES | B47: EUROPE | C47: ITALIE | D47: CONSIDERATION | E47: S1 | F47: UNFUNDED | G47: 5wat | H47: MAY | I47: HQ | N47: =M47 -> 0 | O47: 0 | P47: 0 | Q47: 0 | R47: 0 | S47: 0 | T47: 0 | U47: 0 | V47: 0 | W47: 0 | X47: =SUM(O47:W47) -> 0 | Y47: =N47-X47 -> 0 | AD47: =(X47-AE47)/AE47 -> #DIV/0! | AE47: 0
A48: ECOMMERCE | B48: EUROPE | C48: ITALIE | D48: BRANDING | E48: S1 | F48: UNFUNDED | G48: 6E | H48: JUNE | I48: HQ | M48: =N48 -> 0 | N48: 0 | X48: =SUM(O48:W48) -> 0 | Y48: =N48-X48 -> 0 | AE48: NEW
A49: ECOMMERCE | B49: EUROPE | C49: ITALIE | D49: CONVERSION | E49: S1 | F49: UNFUNDED | G49: 6E | H49: JUNE | I49: HQ | M49: =N49 -> 0 | N49: 0 | X49: =SUM(O49:W49) -> 0 | Y49: =N49-X49 -> 0 | AE49: NEW
A50: BRANDING | B50: EUROPE | C50: ITALIE | D50: CONSIDERATION | E50: S1 | F50: UNFUNDED | G50: 6eye | H50: JUNE | I50: HQ | M50: =N50 -> 0 | N50: 0 | X50: =SUM(O50:W50) -> 0 | Y50: =N50-X50 -> 0 | AD50: =(N50-AE50)/AE50 -> -1 | AE50: 20000
A51: BRANDING | B51: EUROPE | C51: ITALIE | D51: BRANDING | E51: S1 | G51: 5 | H51: MAY | I51: HQ | K51: 44708 | M51: =N51 -> 2000 | N51: 2000
A52: BRANDING | B52: EUROPE | C52: ITALIE | D52: BRANDING | E52: S1 | G52: 5 | H52: MAY | I52: HQ | K52: 44703 | M52: =N52 -> 18000 | N52: 18000 | X52: =SUM(O52:W52) -> 0 | Y52: =N52-X52 -> 18000 | AD52: =(N52-AE52)/AE52 -> 0 | AE52: 18000
A53: BRANDING | B53: EUROPE | C53: ITALIE | D53: CONSIDERATION | E53: S1 | F53: UNFUNDED | G53: 5 | H53: JUNE | I53: HQ | M53: =N53 -> 0 | N53: 0 | X53: =SUM(O53:W53) -> 0 | Y53: =N53-X53 -> 0 | AD53: =(N53-AE53)/AE53 -> -1 | AE53: 7500
A54: BRANDING | B54: EUROPE | C54: ITALIE | D54: CONVERSION | E54: S1 | G54: 6E | H54: JUNE | I54: HQ | M54: =N54 -> 7000 | N54: 7000 | X54: =SUM(O54:W54) -> 0 | Y54: =N54-X54 -> 7000 | AD54: =(N54-AE54)/AE54 -> 0.4 | AE54: 5000
A55: BRANDING | B55: EUROPE | C55: ITALIE | D55: BRANDING | E55: S1 | G55: 6 | H55: JUNE | I55: HQ | M55: =N55 -> 20000 | N55: 20000 | X55: =SUM(O55:W55) -> 0 | Y55: =N55-X55 -> 20000 | AD55: =(N55-AE55)/AE55 -> 0 | AE55: 20000
A56: BRANDING | B56: EUROPE | C56: ITALIE | D56: CONSIDERATION | E56: S1 | G56: 6 | H56: JUNE | I56: HQ | M56: =N56 -> 7500 | N56: 7500 | X56: =SUM(O56:W56) -> 0 | Y56: =N56-X56 -> 7500 | AD56: =(N56-AE56)/AE56 -> 0 | AE56: 7500
A57: BRANDING | B57: EUROPE | C57: ITALIE | D57: CONVERSION | E57: S1 | G57: 6E | H57: JUNE | I57: HQ | M57: =N57 -> 6000 | N57: 6000 | X57: =SUM(O57:W57) -> 0 | Y57: =N57-X57 -> 6000 | AD57: =(N57-AE57)/AE57 -> -0.33333333 | AE57: 9000
A58: BRANDING | B58: EUROPE | C58: ITALIE | D58: CONSIDERATION | E58: S2 | G58: 7eye | H58: JULY | I58: HQ | M58: =N58 -> 5000 | N58: 5000 | X58: =SUM(O58:W58) -> 0 | Y58: =N58-X58 -> 5000
A59: BRANDING | B59: EUROPE | C59: ITALIE | D59: BRANDING | E59: S1 | G59: 6 | H59: JUNE | I59: HQ | M59: =N59 -> 7000 | N59: 7000 | X59: =SUM(O59:W59) -> 0 | Y59: =N59-X59 -> 7000 | AD59: =(N59-AE59)/AE59 -> -0.125 | AE59: 8000
A60: BRANDING | B60: EUROPE | C60: ITALIE | D60: CONSIDERATION | E60: S2 | G60: 6 | H60: JUNE | I60: HQ | M60: =N60 -> 7000 | N60: 7000 | X60: =SUM(O60:W60) -> 0 | Y60: =N60-X60 -> 7000 | AD60: =(N60-AE60)/AE60 -> -0.125 | AE60: 8000
A61: BRANDING | B61: EUROPE | C61: ITALIE | D61: CONSIDERATION | E61: S2 | F61: UNFUNDED | G61: 6 | H61: JUNE | I61: HQ | M61: =N61 -> 0 | N61: 0 | X61: =SUM(O61:W61) -> 0 | Y61: =N61-X61 -> 0 | AE61: NEW
A62: BRANDING | B62: EUROPE | C62: ITALIE | D62: CONVERSION | E62: S2 | G62: 7E | H62: JULY | I62: HQ | M62: =N62 -> 8000 | N62: 8000 | X62: =SUM(O62:W62) -> 0 | Y62: =N62-X62 -> 8000 | AD62: =(N62-AE62)/AE62 -> 0.33333333 | AE62: 6000
A63: BRANDING | B63: EUROPE | C63: ITALIE | D63: BRANDING | E63: S2 | G63: 7 | H63: JULY | I63: HQ | M63: =N63 -> 7000 | N63: 7000 | X63: =SUM(O63:W63) -> 0 | Y63: =N63-X63 -> 7000 | AD63: =(N63-AE63)/AE63 -> 0 | AE63: 7000
A64: BRANDING | B64: EUROPE | C64: ITALIE | D64: BRANDING | E64: S2 | G64: 7 | H64: JULY | I64: HQ | M64: =N64 -> 10000 | N64: 10000 | X64: =SUM(O64:W64) -> 0 | Y64: =N64-X64 -> 10000 | AD64: =(N64-AE64)/AE64 -> 0 | AE64: 10000
A65: BRANDING | B65: EUROPE | C65: ITALIE | D65: CONVERSION | E65: S2 | G65: 7E | H65: JULY | I65: HQ | M65: =N65 -> 7000 | N65: 7000 | T65: 2000 | X65: =SUM(O65:W65) -> 2000 | Y65: =N65-X65 -> 5000 | AD65: =(N65-AE65)/AE65 -> 0.16666667 | AE65: 6000
A66: BRANDING | B66: EUROPE | C66: ITALIE | D66: BRANDING | E66: S2 | G66: 7 | H66: JULY | I66: HQ | M66: =N66 -> 20000 | N66: 20000 | X66: =SUM(O66:W66) -> 0 | Y66: =N66-X66 -> 20000 | AD66: =(N66-AE66)/AE66 -> 0 | AE66: 20000
A67: BRANDING | B67: EUROPE | C67: ITALIE | D67: CONVERSION | E67: S2 | G67: 8E | H67: AUGUST | I67: HQ | M67: =N67 -> 8000 | N67: 8000 | X67: =SUM(O67:W67) -> 0 | Y67: =N67-X67 -> 8000 | AD67: =(N67-AE67)/AE67 -> -0.23809524 | AE67: 10500
A68: BRANDING | B68: EUROPE | C68: ITALIE | D68: CONSIDERATION | E68: S2 | G68: 9eye | H68: SEPTEMBER | I68: HQ | M68: 10000 | N68: 10000 | X68: =SUM(O68:W68) -> 0 | Y68: =N68-X68 -> 10000 | AD68: =(N68-AE68)/AE68 -> 0 | AE68: 10000
A69: BRANDING | B69: EUROPE | C69: ITALIE | D69: BRANDING | E69: S2 | G69: 9B | H69: SEPTEMBER | I69: HQ | M69: =N69 -> 3000 | N69: 3000 | X69: =SUM(O69:W69) -> 0 | Y69: =N69-X69 -> 3000 | AD69: =(N69-AE69)/AE69 -> 0.5 | AE69: 2000
A70: BRANDING | B70: EUROPE | C70: ITALIE | D70: CONVERSION | E70: S2 | G70: 9B | H70: SEPTEMBER | I70: HQ | M70: =N70 -> 4000 | N70: 4000 | X70: =SUM(O70:W70) -> 0 | Y70: =N70-X70 -> 4000 | AD70: =(N70-AE70)/AE70 -> 0.33333333 | AE70: 3000
A71: BRANDING | B71: EUROPE | C71: ITALIE | D71: CONSIDERATION | E71: S2 | G71: 9E | H71: SEPTEMBER | I71: HQ | M71: =N71 -> 7000 | N71: 7000 | X71: =SUM(O71:W71) -> 0 | Y71: =N71-X71 -> 7000 | AD71: =(N71-AE71)/AE71 -> 0.4 | AE71: 5000
A72: BRANDING | B72: EUROPE | C72: ITALIE | D72: CONSIDERATION | E72: S1 | F72: UNFUNDED | G72: 4 | H72: SEPTEMBER | I72: HQ | M72: =N72 -> 0 | N72: 0 | X72: =SUM(O72:W72) -> 0 | Y72: =N72-X72 -> 0 | AE72: NEW
A73: BRANDING | B73: EUROPE | C73: ITALIE | D73: CONVERSION | E73: S2 | G73: 9 | H73: SEPTEMBER | I73: HQ | M73: =N73 -> 8000 | N73: 8000 | X73: =SUM(O73:W73) -> 0 | Y73: =N73-X73 -> 8000 | AD73: =(N73-AE73)/AE73 -> 0.6 | AE73: 5000
A74: BRANDING | B74: EUROPE | C74: ITALIE | D74: CONSIDERATION | E74: S2 | G74: 9 | H74: SEPTEMBER | I74: HQ | M74: =N74 -> 7500 | N74: 7500 | X74: =SUM(O74:W74) -> 0 | Y74: =N74-X74 -> 7500 | AD74: =(N74-AE74)/AE74 -> 0 | AE74: 7500
A75: BRANDING | B75: EUROPE | C75: ITALIE | D75: CONVERSION | E75: S2 | G75: 9E | H75: SEPTEMBER | I75: HQ | M75: =N75 -> 7000 | N75: 7000 | X75: =SUM(O75:W75) -> 0 | Y75: =N75-X75 -> 7000 | AE75: NEW
A76: BRANDING | B76: EUROPE | C76: ITALIE | D76: BRANDING | E76: S2 | G76: 9 | H76: SEPTEMBER | I76: HQ | M76: =N76 -> 20000 | N76: 20000 | X76: =SUM(O76:W76) -> 0 | Y76: =N76-X76 -> 20000 | AD76: =(N76-AE76)/AE76 -> 0 | AE76: 20000
A77: WATCHES | B77: EUROPE | C77: ITALIE | D77: BRANDING | E77: S2 | F77: UNFUNDED | G77: 10wat | H77: OCTOBER | I77: HQ | N77: =M77 -> 0 | O77: 0 | P77: 0 | Q77: 0 | R77: 0 | S77: 0 | T77: 0 | U77: 0 | V77: 0 | W77: 0 | X77: =SUM(O77:W77) -> 0 | Y77: =N77-X77 -> 0 | AD77: =(X77-AE77)/AE77 -> #DIV/0! | AE77: 0
A78: BRANDING | B78: EUROPE | C78: ITALIE | D78: CONSIDERATION | E78: S2 | G78: 9eye | H78: SEPTEMBER | I78: HQ | M78: 10000 | N78: 10000 | X78: 0
A79: BRANDING | B79: EUROPE | C79: ITALIE | D79: CONSIDERATION | E79: S2 | G79: 10eye | H79: OCTOBER | I79: HQ | M79: 10000 | N79: 10000 | X79: 0 | AD79: NEW
A80: BRANDING | B80: EUROPE | C80: ITALIE | D80: BRANDING | E80: S2 | G80: 10 | H80: OCTOBER | I80: HQ | M80: =N80 -> 20000 | N80: 20000 | X80: =SUM(O80:W80) -> 0 | Y80: =N80-X80 -> 20000 | AD80: =(N80-AE80)/AE80 -> 0 | AE80: 20000
A81: BRANDING | B81: EUROPE | C81: ITALIE | D81: CONVERSION | E81: S2 | G81: 10E | H81: OCTOBER | I81: HQ | M81: =N81 -> 8000 | N81: 8000 | X81: =SUM(O81:W81) -> 0 | Y81: =N81-X81 -> 8000 | AD81: =(N81-AE81)/AE81 -> -0.11111111 | AE81: 9000
A82: BRANDING | B82: EUROPE | C82: ITALIE | D82: BRANDING | E82: S2 | G82: 10 | H82: OCTOBER | I82: HQ | M82: =N82 -> 10000 | N82: 10000 | X82: =SUM(O82:W82) -> 0 | Y82: =N82-X82 -> 10000 | AD82: =(N82-AE82)/AE82 -> 0 | AE82: 10000
A83: BRANDING | B83: EUROPE | C83: ITALIE | D83: CONVERSION | E83: S2 | G83: 10E | H83: OCTOBER | I83: HQ | M83: =N83 -> 7000 | N83: 7000 | X83: =SUM(O83:W83) -> 0 | Y83: =N83-X83 -> 7000 | AD83: =(N83-AE83)/AE83 -> -0.53333333 | AE83: 15000
A84: BRANDING | B84: EUROPE | C84: ITALIE | D84: BRANDING | E84: S2 | G84: 11 | H84: NOVEMBER | I84: HQ | M84: =N84 -> 7500 | N84: 7500 | X84: =SUM(O84:W84) -> 0 | Y84: =N84-X84 -> 7500 | AD84: =(N84-AE84)/AE84 -> -0.0625 | AE84: 8000
A85: BRANDING | B85: EUROPE | C85: ITALIE | D85: CONSIDERATION | E85: S2 | G85: 11 | H85: NOVEMBER | I85: HQ | M85: =N85 -> 7500 | N85: 7500 | X85: =SUM(O85:W85) -> 0 | Y85: =N85-X85 -> 7500 | AD85: =(N85-AE85)/AE85 -> 0.071428571 | AE85: 7000
A86: BRANDING | B86: EUROPE | C86: ITALIE | D86: CONVERSION | E86: S2 | G86: 11E | H86: NOVEMBER | I86: HQ | M86: =N86 -> 15000 | N86: 15000 | X86: =SUM(O86:W86) -> 0 | Y86: =N86-X86 -> 15000 | AD86: =(N86-AE86)/AE86 -> -0.25 | AE86: 20000
A87: WATCHES | B87: EUROPE | C87: ITALIE | D87: BRANDING | E87: S2 | F87: UNFUNDED | G87: 11wat | H87: NOVEMBER | I87: HQ | N87: =M87 -> 0 | O87: 0 | P87: 0 | Q87: 0 | R87: 0 | S87: 0 | T87: 0 | U87: 0 | V87: 0 | W87: 0 | X87: =SUM(O87:W87) -> 0 | Y87: =N87-X87 -> 0 | AD87: =(X87-AE87)/AE87 -> #DIV/0! | AE87: 0
A88: BRANDING | B88: EUROPE | C88: ITALIE | D88: CONSIDERATION | E88: S2 | G88: 11 | H88: NOVEMBER | I88: HQ | M88: =N88 -> 5000 | N88: 5000 | X88: =SUM(O88:W88) -> 0 | Y88: =N88-X88 -> 5000 | AD88: =(N88-AE88)/AE88 -> -0.5 | AE88: 10000
A89: BRANDING | B89: EUROPE | C89: ITALIE | D89: CONVERSION | E89: S2 | G89: 11E | H89: NOVEMBER | I89: HQ | M89: =N89 -> 12000 | N89: 12000 | X89: =SUM(O89:W89) -> 0 | Y89: =N89-X89 -> 12000 | AD89: =(N89-AE89)/AE89 -> -0.2 | AE89: 15000
A90: BRANDING | B90: EUROPE | C90: ITALIE | D90: BRANDING | E90: S2 | F90: UNFUNDED | G90: 11 | H90: NOVEMBER | I90: HQ | N90: =M90 -> 0 | O90: 0 | P90: 0 | Q90: 0 | R90: 0 | S90: 0 | T90: 0 | U90: 0 | V90: 0 | W90: 0 | X90: =SUM(O90:W90) -> 0 | Y90: =N90-X90 -> 0 | AD90: =(X90-AE90)/AE90 -> #DIV/0! | AE90: 0
A91: ECOMMERCE | B91: EUROPE | C91: ITALIE | D91: CONVERSION | E91: S2 | F91: UNFUNDED | G91: 12E | H91: DECEMBER | I91: HQ | M91: =N91 -> 0 | N91: 0 | O91: 0 | P91: 0 | Q91: 0 | R91: 0 | S91: 0 | T91: 0 | U91: 0 | V91: 0 | W91: 0 | X91: =SUM(O91:W91) -> 0 | Y91: =N91-X91 -> 0 | AE91: NEW
A92: BRANDING | B92: EUROPE | C92: ITALIE | D92: CONSIDERATION | E92: S2 | G92: 10eye | H92: OCTOBER | I92: HQ | M92: 10000 | N92: 10000 | X92: =SUM(O92:W92) -> 0 | Y92: =N92-X92 -> 10000
A93: BRANDING | B93: EUROPE | C93: ITALIE | D93: CONSIDERATION | E93: S2 | G93: 12eye | H93: DECEMBER | I93: HQ | M93: 10000 | N93: 10000 | X93: =SUM(O93:W93) -> 0 | Y93: =N93-X93 -> 10000 | AD93: =(N93-AE93)/AE93 -> 0 | AE93: 10000
A94: BRANDING | B94: EUROPE | C94: ITALIE | D94: CONVERSION | E94: S2 | G94: 12B | H94: DECEMBER | I94: HQ | M94: =N94 -> 6000 | N94: 6000 | X94: =SUM(O94:W94) -> 0 | Y94: =N94-X94 -> 6000 | AD94: =(N94-AE94)/AE94 -> 0.090909091 | AE94: 5500
A95: BRANDING | B95: EUROPE | C95: ITALIE | D95: CONVERSION | E95: S2 | G95: 12E | H95: DECEMBER | I95: HQ | M95: =N95 -> 6000 | N95: 6000 | X95: =SUM(O95:W95) -> 0 | Y95: =N95-X95 -> 6000 | AD95: =(N95-AE95)/AE95 -> 0.2 | AE95: 5000
A96: BRANDING | B96: EUROPE | C96: ITALIE | D96: CONSIDERATION | E96: S2 | G96: 12 | H96: DECEMBER | I96: HQ | M96: =N96 -> 7000 | N96: 7000 | X96: =SUM(O96:W96) -> 0 | Y96: =N96-X96 -> 7000 | AD96: =(N96-AE96)/AE96 -> 0.16666667 | AE96: 6000
A97: ECOMMERCE | B97: EUROPE | C97: ITALIE | D97: CONVERSION | E97: S2 | F97: UNFUNDED | G97: 12E | H97: DECEMBER | I97: HQ | M97: =N97 -> 0 | N97: 0 | X97: =SUM(O97:W97) -> 0 | Y97: =N97-X97 -> 0 | AE97: NEW
K98: Buffer | L98: =RECAP!B15-ITALIE!N98 -> 12000 | M98: =SUM(M2:M97) -> 653000 | N98: =SUM(N2:N97) -> 653000 | O98: =SUM(O2:O97) -> 124000 | P98: =SUM(P2:P97) -> 10000 | Q98: =SUM(Q2:Q97) -> 5500 | R98: =SUM(R2:R97) -> 11000 | S98: =SUM(S2:S97) -> 9500 | U98: =SUM(U2:U97) -> 4000 | V98: =SUM(V2:V97) -> 0 | W98: =SUM(W2:W97) -> 3000 | X98: =SUM(X2:X97) -> 183500 | Y98: =SUM(Y2:Y97) -> #REF! | Z98: =SUM(Z2:Z97) -> 0
N100: Penetration Rate | O100: 0.8 | P100: 0.67 | Q100: 0.33 | R100: 0.85 | S100: 0.14 | T100: =S100*0.33 -> 0.0462 | U100: 0.24 | V100: 0.31 | W100: 0.28

Sheet ESPAGNE
A1: FACTURATION | B1: ZONE | C1: COUNTRY | D1: PHASE | E1: SEASON | F1: STATUS | G1: MONTH | I1: AGENCY | J1: BRIEF | K1: STARTING DATE | L1: MEDIA PLAN | M1: BUDGET LOCAL CURRENCY | N1: BUDGET EUROS | O1: FB | P1: IG | Q1: TWITTER | R1: YOUTUBE | S1: SNAP | T1: TIKTOK | U1: LINKEDIN | V1: PINTEREST | W1: TOTAL | X1: delta | Y1: INVOICED | AA1: COMMENTAIRES Media Team | AB1: COMMENTAIRES Social Team | AC1: delta 2021 | AD1: BUDGET 2021
A2: BRANDING | B2: EUROPE | C2: ESPAGNE | D2: CONSIDERATION | E2: S1 | F2: DONE | G2: 1 | H2: JANUARY | I2: HQ | J2: =EDATE(K2,-1) -> 44171 | K2: 44202 | L2: KR01 | M2: =N2 -> 7000 | N2: 7000 | O2: 6000 | Q2: 0 | R2: 0 | S2: 1000 | T2: 0 | U2: 0 | V2: 0 | W2: =O2+Q2+S2+P2+R2+T2+U2 -> 7000 | X2: =N2-W2 -> 0 | AC2: =(M2-AD2)/AD2 -> 0.4 | AD2: 5000 | AE2: Formule: (Budget 2022 - Budget 2021)/Budget 2021
A3: BRANDING | B3: EUROPE | C3: ESPAGNE | D3: CONVERSION | E3: S1 | F3: WIP | G3: 1E | H3: JANUARY | I3: HQ | J3: =EDATE(K3,-1) -> 44178 | K3: 44209 | L3: KRE01 | M3: =N3 -> 5000 | N3: 5000 | O3: 5000 | Q3: 0 | R3: 0 | S3: 0 | T3: 0 | U3: 0 | V3: 0 | W3: =O3+Q3+S3+P3+R3+T3+U3 -> 5000 | X3: =N3-W3 -> 0 | AC3: -1 | AD3: 3000
A4: BRANDING | B4: EUROPE | C4: ESPAGNE | D4: CONVERSION | E4: S1 | F4: WIP | G4: 1E | H4: JANUARY | I4: HQ | M4: =N4 -> 22000 | N4: 22000 | O4: 22000 | Q4: 0 | R4: 0 | S4: 0 | T4: 0 | U4: 0 | V4: 0 | W4: =O4+Q4+R4+S4+T4+U4+V4 -> 22000
A5: BRANDING | B5: EUROPE | C5: ESPAGNE | D5: BRANDING | E5: S1 | F5: UNFUNDED | G5: 1 | H5: JANUARY | I5: HQ | J5: =EDATE(K5,-1) -> 44182 | K5: 44213 | M5: 0 | N5: 0 | W5: =O5+Q5+S5+P5+R5+T5+U5 -> 0 | X5: =N5-W5 -> 0 | AC5: -1 | AD5: 0
A6: BRANDING | B6: EUROPE | C6: ESPAGNE | D6: BRANDING | E6: S1 | F6: DONE | G6: 1 | H6: JANUARY | I6: HQ | J6: =EDATE(K6,-1) -> 44186 | K6: 44217 | L6: KR05 | M6: =N6 -> 5000 | N6: 5000 | O6: 2000 | P6: 2000 | Q6: 0 | R6: 1000 | S6: 0 | T6: 0 | U6: 0 | V6: 0 | W6: =O6+Q6+S6+P6+T6+U6+V6+R6 -> 5000 | X6: =N6-W6 -> 0 | AC6: =(M6-AD6)/AD6 -> 0 | AD6: 5000
A7: BRANDING | B7: EUROPE | C7: ESPAGNE | D7: BRANDING | E7: S1 | F7: DONE | G7: 1 | H7: JANUARY | I7: HQ | J7: =EDATE(K7,-1) -> 44189 | K7: 44220 | L7: KR06 | M7: =N7 -> 3000 | N7: 3000 | O7: 1000 | P7: 1000 | Q7: 0 | R7: 1000 | S7: 0 | T7: 0 | U7: 0 | V7: 0 | W7: =O7+Q7+S7+P7+T7+U7+V7+R7 -> 3000 | X7: =N7-W7 -> 0 | AC7: =(M7-AD7)/AD7 -> -0.4 | AD7: 5000
A8: BRANDING | B8: EUROPE | C8: ESPAGNE | D8: CONVERSION | E8: S1 | F8: WIP | G8: 1E | H8: JANUARY | I8: HQ | J8: =EDATE(K8,-1) -> 44192 | K8: 44223 | L8: KRE02 | M8: =N8 -> 5000 | N8: 5000 | O8: 5000 | Q8: 0 | R8: 0 | S8: 0 | T8: 0 | U8: 0 | V8: 0 | W8: =O8+Q8+S8+P8+T8+U8+V8 -> 5000 | X8: =N8-W8 -> 0 | AC8: -1 | AD8: 1000
A9: BRANDING | B9: EUROPE | C9: ESPAGNE | D9: CONVERSION | E9: S1 | F9: WIP | G9: 1E | H9: JANUARY | I9: HQ | J9: =EDATE(K9,-1) -> 44192 | K9: 44223 | L9: KRE02 | M9: =N9 -> 7000 | N9: 7000 | O9: 7000 | Q9: 0 | R9: 0 | S9: 0 | T9: 0 | U9: 0 | V9: 0 | W9: =O9+Q9+S9+P9+T9+U9+V9 -> 7000 | X9: =N9-W9 -> 0 | AC9: -1 | AD9: 5000
A10: BRANDING | B10: EUROPE | C10: ESPAGNE | D10: CONVERSION | E10: S1 | F10: UNFUNDED | G10: 2E | H10: FEBRUARY | I10: HQ | J10: =EDATE(K10,-1) -> 44562 | K10: 44593 | M10: =N10 -> 0 | N10: 0 | W10: =O10+Q10+S10+P10+T10+U10+V10 -> 0 | X10: =N10-W10 -> 0 | AD10: NEW
A11: WATCHES | B11: EUROPE | C11: ESPAGNE | D11: BRANDING | E11: S1 | F11: UNFUNDED | G11: 2wat | H11: FEBRUARY | I11: HQ | J11: =EDATE(K11,-1) -> 44562 | K11: 44593 | N11: =M11 -> 0 | W11: =O11+Q11+S11+P11+T11+U11+V11 -> 0 | X11: =N11-W11 -> 0 | AC11: -1 | AD11: NEW
A12: BRANDING | B12: EUROPE | C12: ESPAGNE | D12: BRANDING | E12: S1 | F12: WIP | G12: 2 | H12: FEBRUARY | I12: HQ | J12: 44241 | K12: 44241 | L12: KR08 | M12: 15000 | N12: 15000 | O12: 9000 | Q12: 1000 | R12: DISPLAY | S12: 3000 | T12: 2000 | U12: 0 | V12: 0 | W12: 15000 | X12: 0 | AB12: 0 | AC12: 15000
A13: BRANDING | B13: EUROPE | C13: ESPAGNE | D13: CONVERSION | E13: S1 | F13: WIP | G13: 2E | H13: FEBRUARY | I13: HQ | J13: 44248 | K13: 44248 | M13: 5000 | N13: 5000 | O13: 5000 | Q13: 0 | R13: 0 | S13: 0 | T13: 0 | U13: 0 | V13: 0 | W13: 5000 | X13: 0 | AB13: -1 | AC13: 6000
A14: BRANDING | B14: EUROPE | C14: ESPAGNE | D14: BRANDING | E14: S1 | F14: WIP | G14: 2 | H14: FEBRUARY | I14: HQ | J14: =EDATE(K14,-1) -> 44582 | K14: 44613 | M14: =N14 -> 4000 | N14: 4000 | O14: =N14 -> 4000 | Q14: 0 | R14: 0 | S14: 0 | T14: 0 | U14: 0 | V14: 0 | W14: =O14+Q14+S14+P14+T14+U14+V14 -> 4000 | X14: =N14-W14 -> 0 | AB14: Anciennement 7k€ | AC14: =(M14-AD14)/AD14 -> -0.5 | AD14: 8000
A15: BRANDING | B15: EUROPE | C15: ESPAGNE | D15: CONVERSION | E15: S1 | F15: WIP | G15: 3E | H15: MARCH | I15: HQ | J15: =EDATE(K15,-1) -> 44230 | K15: 44258 | M15: =N15 -> 6000 | N15: 6000 | O15: 5000 | Q15: 0 | R15: 0 | S15: 1000 | T15: 0 | U15: 0 | V15: 0 | W15: =O15+Q15+S15+P15+T15+U15+V15 -> 6000 | X15: =N15-W15 -> 0 | AC15: -1 | AD15: 5000
A16: BRANDING | B16: EUROPE | C16: ESPAGNE | D16: BRANDING | E16: S1 | F16: UNFUNDED | G16: 3 | H16: MARCH | I16: HQ | M16: =N16 -> 0 | N16: 0 | W16: =O16+Q16+S16+P16+T16+U16+V16 -> 0 | X16: =N16-Y16 -> 0 | AC16: -1 | AD16: 0
A17: BRANDING | B17: EUROPE | C17: ESPAGNE | D17: CONVERSION | E17: S1 | F17: UNFUNDED | G17: 3E | H17: MARCH | I17: HQ | M17: =N17 -> 0 | N17: 0 | W17: =O17+Q17+S17+P17+T17+U17+V17 -> 0 | X17: =N17-Y17 -> 0 | Y17: =N17-Z17 -> 0 | AD17: NEW
A18: BRANDING | B18: EUROPE | C18: ESPAGNE | D18: BRANDING | E18: S1 | F18: WIP | G18: 3 | H18: MARCH | I18: HQ | J18: =EDATE(K18,-1) -> 44593 | K18: 44621 | M18: =N18 -> 15000 | N18: 15000 | O18: 3000 | P18: 4000 | Q18: 2000 | R18: 4000 | S18: 0 | T18: 2000 | U18: 0 | V18: 0 | W18: =O18+Q18+S18+P18+R18+T18+U18+V18 -> 15000 | X18: =N18-W18 -> 0 | AC18: =(M18-AD18)/AD18 -> 0 | AD18: 15000
A19: BRANDING | B19: EUROPE | C19: ESPAGNE | D19: BRANDING | E19: S1 | F19: UNFUNDED | G19: 3 | H19: MARCH | I19: HQ | M19: =N19 -> 0 | N19: 0 | W19: =O19+Q19+S19+P19+T19+U19+V19 -> 0 | X19: =N19-W19 -> 0 | AC19: -1 | AD19: 0
A20: WATCHES | B20: EUROPE | C20: ESPAGNE | D20: BRANDING | E20: S1 | F20: UNFUNDED | G20: 3wat | H20: MARCH | I20: HQ | N20: =M20 -> 0 | W20: =O20+Q20+S20+P20+T20+U20+V20 -> 0 | X20: =N20-W20 -> 0 | AC20: -1 | AD20: 0
A21: BRANDING | B21: EUROPE | C21: ESPAGNE | D21: BRANDING | E21: S2 | F21: WIP | G21: 3 | H21: MARCH | I21: HQ | J21: =EDATE(K21,-1) -> 44602 | K21: 44630 | M21: =N21 -> 2000 | N21: 2000 | O21: 2000 | Q21: 0 | R21: 0 | S21: 0 | T21: 0 | U21: 0 | V21: 0 | W21: =O21+Q21+S21+P21+R21+T21+U21+V21 -> 2000 | X21: =N21-W21 -> 0 | AD21: NEW
A22: BRANDING | B22: EUROPE | C22: ESPAGNE | D22: CONVERSION | E22: S1 | F22: UNFUNDED | G22: 3E | H22: MARCH | I22: HQ | M22: =N22 -> 0 | N22: 0 | W22: =O22+Q22+S22+P22+R22+T22+U22+V22 -> 0 | X22: =N22-W22 -> 0 | AD22: NEW
A23: EYEWEAR | B23: EUROPE | C23: ESPAGNE | D23: CONSIDERATION | E23: S1 | F23: UNFUNDED | G23: 3eye | H23: MARCH | I23: HQ | M23: =N23 -> 0 | N23: =M23 -> 0 | W23: =O23+Q23+S23+P23+R23+T23+U23+V23 -> 0 | X23: =N23-W23 -> 0 | AD23: NEW
A24: BRANDING | B24: EUROPE | C24: ESPAGNE | D24: CONSIDERATION | E24: S1 | F24: WIP | G24: 3 | H24: MARCH | I24: HQ | K24: 44635 | M24: =N24 -> 2000 | N24: 2000 | W24: =O24+Q24+S24+P24+R24+T24+U24+V24 -> 0 | X24: =N24-W24 -> 2000 | AD24: NEW
A25: BRANDING | B25: EUROPE | C25: ESPAGNE | D25: CONVERSION | E25: S1 | F25: UNFUNDED | G25: 3E | H25: MARCH | I25: HQ | M25: =N25 -> 0 | N25: 0 | O25: 0 | P25: 0 | Q25: 0 | R25: 0 | S25: 0 | T25: 0 | U25: 0 | V25: 0 | W25: =O25+Q25+S25+P25+R25+T25+U25+V25 -> 0 | X25: =N25-Y25 -> 0 | AD25: NEW
A26: EYEWEAR | B26: EUROPE | C26: ESPAGNE | D26: CONSIDERATION | E26: S1 | F26: UNFUNDED | G26: 3eye | H26: MARCH | I26: HQ | M26: =N26 -> 0 | N26: =M26 -> 0 | W26: =O26+Q26+S26+P26+R26+T26+U26+V26 -> 0 | X26: =N26-W26 -> 0 | AD26: NEW
A27: BRANDING | B27: EUROPE | C27: ESPAGNE | D27: CONVERSION | E27: S1 | F27: WIP | G27: 3E | H27: MARCH | I27: HQ | K27: 44641 | M27: =N27 -> 2000 | N27: 2000 | W27: =O27+Q27+S27+P27+R27+T27+U27+V27 -> 0 | X27: =N27-W27 -> 2000 | AD27: 6000
A28: BRANDING | B28: EUROPE | C28: ESPAGNE | D28: BRANDING | E28: S1 | F28: UNFUNDED | G28: 3B | H28: MARCH | I28: HQ | M28: =N28 -> 0 | N28: 0 | W28: =O28+Q28+S28+P28+R28+T28+U28+V28 -> 0 | X28: =N28-W28 -> 0 | AD28: NEW
A29: BRANDING | B29: EUROPE | C29: ESPAGNE | D29: CONVERSION | E29: S1 | F29: UNFUNDED | G29: 4B | H29: APRIL | I29: HQ | M29: =N29 -> 0 | N29: =M29 -> 0 | W29: =O29+Q29+S29+P29+R29+T29+U29+V29 -> 0 | X29: =N29-W29 -> 0 | AD29: NEW
A30: BRANDING | B30: EUROPE | C30: ESPAGNE | D30: CONSIDERATION | E30: S1 | F30: WIP | G30: 3 | H30: MARCH | I30: HQ | K30: 44636 | M30: =N30 -> 5000 | N30: 5000 | W30: =O30+Q30+S30+P30+R30+T30+U30+V30 -> 0 | X30: =N30-W30 -> 5000 | AC30: =(M30-AD30)/AD30 -> 0 | AD30: 5000
A31: BRANDING | B31: EUROPE | C31: ESPAGNE | D31: CONSIDERATION | E31: S1 | F31: UNFUNDED | G31: 4 | H31: APRIL | I31: HQ | M31: =N31 -> 0 | N31: 0 | W31: =O31+Q31+S31+P31+R31+T31+U31+V31 -> 0 | X31: =N31-W31 -> 0 | AC31: -1 | AD31: 0
A32: BRANDING | B32: EUROPE | C32: ESPAGNE | D32: CONVERSION | E32: S1 | F32: WIP | G32: 4E | H32: APRIL | I32: HQ | K32: 44667 | M32: =N32 -> 7000 | N32: 7000 | W32: =O32+Q32+S32+P32+R32+T32+U32+V32 -> 0 | X32: =N32-Y30 -> 7000 | AD32: NEW
A33: BRANDING | B33: EUROPE | C33: ESPAGNE | D33: CONVERSION | E33: S1 | G33: 4E | H33: APRIL | I33: HQ | M33: =N33 -> 3000 | N33: 3000 | W33: =O33+Q33+S33+P33+R33+T33+U33+V33 -> 0 | X33: =N33-Y32 -> 3000 | AD33: NEW
A34: BRANDING | B34: EUROPE | C34: ESPAGNE | D34: CONVERSION | E34: S1 | F34: UNFUNDED | G34: 4E | H34: APRIL | I34: HQ | M34: =N34 -> 0 | N34: 0 | O34: 0 | P34: 0 | Q34: 0 | R34: 0 | S34: 0 | T34: 0 | U34: 0 | V34: 0 | W34: =O34+Q34+S34+P34+R34+T34+U34+V34 -> 0 | X34: =N34-Y33 -> 0 | AD34: NEW
A35: BRANDING | B35: EUROPE | C35: ESPAGNE | D35: BRANDING | E35: S1 | F35: UNFUNDED | G35: 4 | H35: APRIL | I35: HQ | M35: =N35 -> 0 | N35: 0 | X35: =SUM(O35:W35) -> 0 | Y35: =N35-X35 -> 0 | AC35: -1 | AD35: NEW
A36: BRANDING | B36: EUROPE | C36: ESPAGNE | D36: CONVERSION | E36: S1 | F36: UNFUNDED | G36: 4E | H36: APRIL | I36: HQ | M36: =N36 -> 0 | N36: 0 | W36: =O36+Q36+S36+P36+T36+U36+V36 -> 0 | X36: =N36-Y36 -> 0 | Y36: =N36-X36 -> 0 | AD36: NEW
A37: BRANDING | B37: EUROPE | C37: ESPAGNE | D37: BRANDING | E37: S1 | F37: UNFUNDED | G37: 4 | H37: APRIL | I37: HQ | M37: =N37 -> 0 | N37: 0 | W37: =O37+Q37+S37+P37+R37+T37+U37+V37 -> 0 | X37: =N37-W37 -> 0 | AC37: -1 | AD37: 0
A38: BRANDING | B38: EUROPE | C38: ESPAGNE | D38: BRANDING | E38: S1 | G38: 5 | H38: MAY | I38: HQ | K38: 44683 | M38: =N38 -> 15000 | N38: 15000 | W38: =O38+Q38+S38+P38+T38+U38+V38 -> 0 | X38: =N38-W38 -> 15000 | AC38: =(M38-AD38)/AD38 -> 0 | AD38: 15000
A39: BRANDING | B39: EUROPE | C39: ESPAGNE | D39: CONVERSION | E39: S1 | G39: 5 | H39: MAY | I39: HQ | M39: =N39 -> 4000 | N39: 4000 | W39: =O39+Q39+S39+P39+R39+T39+U39+V39 -> 0 | X39: =N39-W39 -> 4000 | AC39: -1 | AD39: 5000
A40: BRANDING | B40: EUROPE | C40: ESPAGNE | D40: CONVERSION | E40: S1 | F40: UNFUNDED | G40: 5 | H40: MAY | I40: HQ | M40: =N40 -> 0 | N40: 0 | O40: 0 | P40: 0 | Q40: 0 | R40: 0 | S40: 0 | T40: 0 | U40: 0 | V40: 0 | W40: =O40+Q40+S40+P40+R40+T40+U40+V40 -> 0 | X40: =N40-W40 -> 0 | AD40: NEW
A41: EYEWEAR | B41: EUROPE | C41: ESPAGNE | D41: CONSIDERATION | E41: S1 | F41: UNFUNDED | G41: 4 | H41: MAY | I41: HQ | M41: =N41 -> 0 | N41: =M41 -> 0 | W41: =O41+Q41+S41+P41+R41+T41+U41+V41 -> 0 | X41: =N41-W41 -> 0 | AD41: NEW
A42: BRANDING | B42: EUROPE | C42: ESPAGNE | D42: BRANDING | E42: S1 | G42: 5 | H42: MAY | I42: HQ | M42: =N42 -> 7000 | N42: 7000 | W42: =O42+Q42+S42+P42+T42+U42+V42 -> 0 | X42: =N42-W42 -> 7000 | AC42: =(M42-AD42)/AD42 -> -0.125 | AD42: 8000
A43: BRANDING | B43: EUROPE | C43: ESPAGNE | D43: CONVERSION | E43: S1 | G43: 5E | H43: MAY | I43: HQ | M43: =N43 -> 4000 | N43: 4000 | W43: =O43+Q43+S43+P43+R43+T43+U43+V43 -> 0 | X43: =N43-W43 -> 4000 | AC43: -1 | AD43: 4000
A44: BRANDING | B44: EUROPE | C44: ESPAGNE | D44: CONSIDERATION | E44: S1 | F44: UNFUNDED | G44: 5 | H44: MAY | I44: HQ | M44: =N44 -> 0 | N44: 0 | W44: =O44+Q44+S44+P44+R44+T44+U44+V44 -> 0 | X44: =N44-W44 -> 0 | AC44: -1 | AD44: 0
A45: WATCHES | B45: EUROPE | C45: ESPAGNE | D45: CONSIDERATION | E45: S1 | F45: UNFUNDED | G45: 5wat | H45: MAY | I45: HQ | N45: =M45 -> 0 | W45: =O45+Q45+S45+P45+R45+T45+U45+V45 -> 0 | X45: =N45-W45 -> 0 | AC45: -1 | AD45: 0
A46: BRANDING | B46: EUROPE | C46: ESPAGNE | D46: BRANDING | E46: S1 | F46: UNFUNDED | G46: 6E | H46: JUNE | I46: HQ | M46: =N46 -> 0 | N46: =M46 -> 0 | W46: =O46+Q46+S46+P46+R46+T46+U46+V46 -> 0 | X46: =N46-W46 -> 0 | AD46: NEW
A47: BRANDING | B47: EUROPE | C47: ESPAGNE | D47: CONVERSION | E47: S1 | F47: UNFUNDED | G47: 6E | H47: JUNE | I47: HQ | M47: =N47 -> 0 | N47: =M47 -> 0 | W47: =O47+Q47+S47+P47+R47+T47+U47+V47 -> 0 | X47: =N47-W47 -> 0 | AD47: NEW
A48: BRANDING | B48: EUROPE | C48: ESPAGNE | D48: CONSIDERATION | E48: S1 | F48: UNFUNDED | G48: 6eye | H48: JUNE | I48: HQ | M48: =N48 -> 0 | N48: 0 | O48: 0 | P48: 0 | Q48: 0 | R48: 0 | S48: 0 | T48: 0 | U48: 0 | V48: 0 | W48: =O48+Q48+S48+P48+R48+T48+U48+V48 -> 0 | X48: =N48-W48 -> 0 | AD48: NEW
A49: BRANDING | B49: EUROPE | C49: ESPAGNE | D49: BRANDING | E49: S1 | G49: 6 | H49: JUNE | I49: HQ | K49: 44733 | M49: =N49 -> 10000 | N49: 10000 | W49: =O49+Q49+S49+P49+R49+T49+U49+V49 -> 0 | X49: =N49-W49 -> 10000 | AC49: =(M49-AD49)/AD49 -> 0.25 | AD49: 8000
A50: BRANDING | B50: EUROPE | C50: ESPAGNE | D50: CONSIDERATION | E50: S1 | F50: UNFUNDED | G50: 5 | H50: JUNE | I50: HQ | M50: =N50 -> 0 | N50: 0 | W50: =O50+Q50+S50+P50+R50+T50+U50+V50 -> 0 | X50: =N50-W50 -> 0 | AC50: =(M50-AD50)/AD50 -> -1 | AD50: 10000
A51: BRANDING | B51: EUROPE | C51: ESPAGNE | D51: CONVERSION | E51: S1 | G51: 6E | H51: JUNE | I51: HQ | M51: =N51 -> 4000 | N51: 4000 | W51: =O51+Q51+S51+P51+R51+T51+U51+V51 -> 0 | X51: =N51-W51 -> 4000 | AC51: -1 | AD51: 4000
A52: BRANDING | B52: EUROPE | C52: ESPAGNE | D52: BRANDING | E52: S1 | G52: 6 | H52: JUNE | I52: HQ | M52: =N52 -> 15000 | N52: 15000 | W52: =O52+Q52+S52+P52+R52+T52+U52+V52 -> 0 | X52: =N52-W52 -> 15000 | AC52: =(M52-AD52)/AD52 -> 0 | AD52: 15000
A53: BRANDING | B53: EUROPE | C53: ESPAGNE | D53: CONSIDERATION | E53: S1 | G53: 6 | H53: JUNE | I53: HQ | M53: =N53 -> 2000 | N53: 2000 | W53: =O53+Q53+S53+P53+R53+T53+U53+V53 -> 0 | X53: =N53-W53 -> 2000 | AC53: =(M53-AD53)/AD53 -> -0.75 | AD53: 8000
A54: BRANDING | B54: EUROPE | C54: ESPAGNE | D54: CONVERSION | E54: S1 | G54: 6E | H54: JUNE | I54: HQ | M54: =N54 -> 3000 | N54: 3000 | W54: =O54+Q54+S54+P54+R54+T54+U54+V54 -> 0 | X54: =N54-W54 -> 3000 | AC54: -1 | AD54: 3000
A55: EYEWEAR | B55: EUROPE | C55: ESPAGNE | D55: CONSIDERATION | E55: S1 | F55: UNFUNDED | G55: 6eye | H55: JUNE | I55: HQ | M55: =N55 -> 0 | N55: =M55 -> 0 | W55: =O55+Q55+S55+P55+R55+T55+U55+V55 -> 0 | X55: =N55-W55 -> 0 | AD55: NEW
A56: BRANDING | B56: EUROPE | C56: ESPAGNE | D56: BRANDING | E56: S1 | G56: 6 | H56: JUNE | I56: HQ | M56: =N56 -> 2000 | N56: 2000 | W56: =O56+Q56+S56+P56+R56+T56+U56+V56 -> 0 | X56: =N56-W56 -> 2000 | AC56: =(M56-AD56)/AD56 -> -0.6 | AD56: 5000
A57: BRANDING | B57: EUROPE | C57: ESPAGNE | D57: CONSIDERATION | E57: S2 | G57: 6 | H57: JUNE | I57: HQ | M57: =N57 -> 5000 | N57: 5000 | W57: =O57+Q57+S57+P57+R57+T57+U57+V57 -> 0 | X57: =N57-W57 -> 5000 | AD57: NEW
A58: BRANDING | B58: EUROPE | C58: ESPAGNE | D58: CONSIDERATION | E58: S2 | F58: UNFUNDED | G58: 6 | H58: JUNE | I58: HQ | M58: =N58 -> 0 | N58: 0 | W58: =O58+Q58+S58+P58+R58+T58+U58+V58 -> 0 | X58: =N58-W58 -> 0 | AC58: -1 | AD58: NEW
A59: BRANDING | B59: EUROPE | C59: ESPAGNE | D59: CONVERSION | E59: S2 | G59: 7E | H59: JULY | I59: HQ | M59: =N59 -> 4000 | N59: 4000 | W59: =O59+Q59+S59+P59+R59+T59+U59+V59 -> 0 | X59: =N59-W59 -> 4000 | AD59: NEW
A60: BRANDING | B60: EUROPE | C60: ESPAGNE | D60: BRANDING | E60: S2 | G60: 7 | H60: JULY | I60: HQ | M60: =N60 -> 3000 | N60: 3000 | W60: =O60+Q60+S60+P60+R60+T60+U60+V60 -> 0 | X60: =N60-W60 -> 3000 | AC60: =(M60-AD60)/AD60 -> -0.4 | AD60: 5000
A61: BRANDING | B61: EUROPE | C61: ESPAGNE | D61: BRANDING | E61: S2 | G61: 7 | H61: JULY | I61: HQ | M61: =N61 -> 7000 | N61: 7000 | W61: =O61+Q61+S61+P61+R61+T61+U61+V61 -> 0 | X61: =N61-W61 -> 7000 | AC61: =(M61-AD61)/AD61 -> -0.125 | AD61: 8000
A62: BRANDING | B62: EUROPE | C62: ESPAGNE | D62: CONVERSION | E62: S2 | G62: 7E | H62: JULY | I62: HQ | M62: =N62 -> 4000 | N62: 4000 | W62: =O62+Q62+S62+P62+R62+T62+U62+V62 -> 0 | X62: =N62-W62 -> 4000 | AC62: -1 | AD62: 3000
A63: BRANDING | B63: EUROPE | C63: ESPAGNE | D63: BRANDING | E63: S2 | G63: 7 | H63: JULY | I63: HQ | M63: =N63 -> 15000 | N63: 15000 | W63: =O63+Q63+S63+P63+R63+T63+U63+V63 -> 0 | X63: =N63-W63 -> 15000 | AC63: =(M63-AD63)/AD63 -> 0 | AD63: 15000
A64: BRANDING | B64: EUROPE | C64: ESPAGNE | D64: CONVERSION | E64: S2 | G64: 8E | H64: AUGUST | I64: HQ | M64: =N64 -> 6000 | N64: 6000 | W64: =O64+Q64+S64+P64+R64+T64+U64+V64 -> 0 | X64: =N64-W64 -> 6000 | AC64: -1 | AD64: 5000
A65: BRANDING | B65: EUROPE | C65: ESPAGNE | D65: BRANDING | E65: S2 | F65: UNFUNDED | G65: 9 | H65: SEPTEMBER | I65: HQ | M65: =N65 -> 0 | N65: 0 | W65: =O65+Q65+S65+P65+R65+T65+U65+V65 -> 0 | X65: =N65-W65 -> 0 | AC65: -1 | AD65: 0
A66: EYEWEAR | B66: EUROPE | C66: ESPAGNE | D66: CONSIDERATION | E66: S2 | F66: UNFUNDED | G66: 9eye | H66: SEPTEMBER | I66: HQ | M66: =N66 -> 0 | N66: =M66 -> 0 | W66: =O66+Q66+S66+P66+R66+T66+U66+V66 -> 0 | X66: =N66-W66 -> 0 | AD66: NEW
A67: BRANDING | B67: EUROPE | C67: ESPAGNE | D67: BRANDING | E67: S2 | F67: UNFUNDED | G67: 9B | H67: SEPTEMBER | I67: HQ | M67: =N67 -> 0 | N67: 0 | O67: 0 | P67: 0 | Q67: 0 | R67: 0 | S67: 0 | T67: 0 | U67: 0 | V67: 0 | W67: =O67+Q67+S67+P67+R67+T67+U67+V67 -> 0 | X67: =N67-W67 -> 0 | AD67: NEW
A68: BRANDING | B68: EUROPE | C68: ESPAGNE | D68: CONVERSION | E68: S2 | F68: UNFUNDED | G68: 9B | H68: SEPTEMBER | I68: HQ | M68: =N68 -> 0 | N68: 0 | O68: 0 | P68: 0 | Q68: 0 | R68: 0 | S68: 0 | T68: 0 | U68: 0 | V68: 0 | W68: =O68+Q68+S68+P68+R68+T68+U68+V68 -> 0 | X68: =N68-W68 -> 0 | AD68: NEW
A69: BRANDING | B69: EUROPE | C69: ESPAGNE | D69: CONSIDERATION | E69: S2 | G69: 9E | H69: SEPTEMBER | I69: HQ | M69: =N69 -> 5000 | N69: 5000 | W69: =O69+Q69+S69+P69+R69+T69+U69+V69 -> 0 | X69: =N69-W69 -> 5000 | AC69: =(M69-AD69)/AD69 -> 0 | AD69: 5000
A70: BRANDING | B70: EUROPE | C70: ESPAGNE | D70: CONSIDERATION | E70: S1 | F70: UNFUNDED | G70: 4 | H70: SEPTEMBER | I70: HQ | M70: =N70 -> 0 | N70: 0 | W70: =O70+Q70+S70+P70+R70+T70+U70+V70 -> 0 | X70: =N70-W70 -> 0 | AC70: -1 | AD70: 0
A71: BRANDING | B71: EUROPE | C71: ESPAGNE | D71: CONVERSION | E71: S2 | G71: 9 | H71: SEPTEMBER | I71: HQ | M71: =N71 -> 4000 | N71: 4000 | W71: =O71+Q71+S71+P71+R71+T71+U71+V71 -> 0 | X71: =N71-W71 -> 4000 | AC71: -1 | AD71: 3000
A72: BRANDING | B72: EUROPE | C72: ESPAGNE | D72: CONSIDERATION | E72: S2 | G72: 9 | H72: SEPTEMBER | I72: HQ | M72: =N72 -> 2000 | N72: 2000 | W72: =O72+Q72+S72+P72+R72+T72+U72+V72 -> 0 | X72: =N72-W72 -> 2000 | AD72: NEW
A73: BRANDING | B73: EUROPE | C73: ESPAGNE | D73: CONVERSION | E73: S2 | G73: 9E | H73: SEPTEMBER | I73: HQ | M73: =N73 -> 4000 | N73: 4000 | W73: =O73+Q73+S73+P73+R73+T73+U73+V73 -> 0 | X73: =N73-W73 -> 4000 | AC73: -1 | AD73: 3000
A74: BRANDING | B74: EUROPE | C74: ESPAGNE | D74: BRANDING | E74: S2 | G74: 9 | H74: SEPTEMBER | I74: HQ | M74: =N74 -> 15000 | N74: 15000 | W74: =O74+Q74+S74+P74+R74+T74+U74+V74 -> 0 | X74: =N74-W74 -> 15000 | AC74: =(M74-AD74)/AD74 -> 0 | AD74: 15000
A75: WATCHES | B75: EUROPE | C75: ESPAGNE | D75: BRANDING | E75: S2 | F75: UNFUNDED | G75: 10wat | H75: NOVEMBER | I75: HQ | N75: =M75 -> 0 | X75: =SUM(O75:W75) -> 0 | Y75: =N75-X75 -> 0 | AC75: -1 | AD75: 0
A76: BRANDING | B76: EUROPE | C76: ESPAGNE | D76: BRANDING | E76: S2 | G76: 10 | H76: OCTOBER | I76: HQ | M76: =N76 -> 15000 | N76: 15000 | W76: =O76+Q76+S76+P76+R76+T76+U76+V76 -> 0 | X76: =N76-W76 -> 15000 | AC76: =(M76-AD76)/AD76 -> -0.11764706 | AD76: 17000
A77: BRANDING | B77: EUROPE | C77: ESPAGNE | D77: CONVERSION | E77: S2 | G77: 10E | H77: OCTOBER | I77: HQ | M77: =N77 -> 6000 | N77: 6000 | W77: =O77+Q77+S77+P77+R77+T77+U77+V77 -> 0 | X77: =N77-W77 -> 6000 | AC77: -1 | AD77: 5000
A78: BRANDING | B78: EUROPE | C78: ESPAGNE | D78: BRANDING | E78: S2 | G78: 10 | H78: OCTOBER | I78: HQ | M78: =N78 -> 7000 | N78: 7000 | W78: =O78+Q78+S78+P78+R78+T78+U78+V78 -> 0 | X78: =N78-W78 -> 7000 | AC78: =(M78-AD78)/AD78 -> 0.4 | AD78: 5000
A79: BRANDING | B79: EUROPE | C79: ESPAGNE | D79: CONVERSION | E79: S2 | G79: 10E | H79: OCTOBER | I79: HQ | M79: =N79 -> 4000 | N79: 4000 | W79: =O79+Q79+S79+P79+R79+T79+U79+V79 -> 0 | X79: =N79-W79 -> 4000 | AD79: NEW
A80: BRANDING | B80: EUROPE | C80: ESPAGNE | D80: BRANDING | E80: S2 | G80: 11 | H80: NOVEMBER | I80: HQ | M80: =N80 -> 3000 | N80: 3000
A81: BRANDING | B81: EUROPE | C81: ESPAGNE | D81: BRANDING | E81: S2 | G81: 11 | H81: NOVEMBER | I81: HQ | M81: =N81 -> 5000 | N81: 5000 | W81: =O81+Q81+S81+P81+R81+T81+U81+V81 -> 0 | X81: =N81-W81 -> 5000 | AC81: =(M81-AD81)/AD81 -> 0 | AD81: 5000
A82: BRANDING | B82: EUROPE | C82: ESPAGNE | D82: CONSIDERATION | E82: S2 | G82: 11 | H82: NOVEMBER | I82: HQ | M82: =N82 -> 6000 | N82: 6000 | W82: =O82+Q82+S82+P82+R82+T82+U82+V82 -> 0 | X82: =N82-W82 -> 6000 | AD82: NEW
A83: BRANDING | B83: EUROPE | C83: ESPAGNE | D83: CONVERSION | E83: S2 | G83: 11E | H83: NOVEMBER | I83: HQ | M83: =N83 -> 15000 | N83: 15000 | W83: =O83+Q83+S83+P83+R83+T83+U83+V83 -> 0 | X83: =N83-W83 -> 15000 | AC83: -1 | AD83: 15000
A84: WATCHES | B84: EUROPE | C84: ESPAGNE | D84: BRANDING | E84: S2 | F84: UNFUNDED | G84: 11wat | H84: NOVEMBER | I84: HQ | N84: =M84 -> 0 | W84: =O84+Q84+S84+P84+R84+T84+U84+V84 -> 0 | X84: =N84-W84 -> 0 | AC84: -1 | AD84: 0
A85: BRANDING | B85: EUROPE | C85: ESPAGNE | D85: CONSIDERATION | E85: S2 | G85: 11 | H85: NOVEMBER | I85: HQ | M85: =N85 -> 2000 | N85: 2000 | W85: =O85+Q85+S85+P85+R85+T85+U85+V85 -> 0 | X85: =N85-W85 -> 2000 | AC85: -1 | AD85: 5000
A86: BRANDING | B86: EUROPE | C86: ESPAGNE | D86: CONVERSION | E86: S2 | G86: 11E | H86: NOVEMBER | I86: HQ | M86: =N86 -> 12000 | N86: 12000 | W86: =O86+Q86+S86+P86+R86+T86+U86+V86 -> 0 | X86: =N86-W86 -> 12000 | AC86: -1 | AD86: 10000
A87: BRANDING | B87: EUROPE | C87: ESPAGNE | D87: BRANDING | E87: S2 | F87: UNFUNDED | G87: 11 | H87: NOVEMBER | I87: HQ | M87: =N87 -> 0 | N87: 0 | W87: =O87+Q87+S87+P87+R87+T87+U87+V87 -> 0 | X87: =N87-W87 -> 0 | AD87: 0
A88: BRANDING | B88: EUROPE | C88: ESPAGNE | D88: CONVERSION | E88: S2 | F88: UNFUNDED | G88: 12E | H88: DECEMBER | I88: HQ | M88: =N88 -> 0 | N88: 0 | O88: 0 | P88: 0 | Q88: 0 | R88: 0 | S88: 0 | T88: 0 | U88: 0 | V88: 0 | W88: =O88+Q88+S88+P88+R88+T88+U88+V88 -> 0 | X88: =N88-W88 -> 0 | AD88: NEW
A89: EYEWEAR | B89: EUROPE | C89: ESPAGNE | D89: CONSIDERATION | E89: S2 | F89: UNFUNDED | G89: 12eye | H89: DECEMBER | I89: HQ | M89: =N89 -> 0 | N89: =M89 -> 0 | W89: =O89+Q89+S89+P89+R89+T89+U89+V89 -> 0 | X89: =N89-W89 -> 0 | AD89: NEW
A90: BRANDING | B90: EUROPE | C90: ESPAGNE | D90: CONVERSION | E90: S2 | F90: UNFUNDED | G90: 12B | H90: DECEMBER | I90: HQ | M90: =N90 -> 0 | N90: 0 | O90: 0 | P90: 0 | Q90: 0 | R90: 0 | S90: 0 | T90: 0 | U90: 0 | V90: 0 | W90: =O90+Q90+S90+P90+R90+T90+U90+V90 -> 0 | X90: =N90-W90 -> 0 | AD90: NEW
A91: BRANDING | B91: EUROPE | C91: ESPAGNE | D91: CONVERSION | E91: S2 | F91: UNFUNDED | G91: 12E | H91: DECEMBER | I91: HQ | M91: =N91 -> 0 | N91: 0 | O91: 0 | P91: 0 | Q91: 0 | R91: 0 | S91: 0 | T91: 0 | U91: 0 | V91: 0 | W91: =O91+Q91+S91+P91+R91+T91+U91+V91 -> 0 | X91: =N91-W91 -> 0 | AD91: NEW
A92: BRANDING | B92: EUROPE | C92: ESPAGNE | D92: CONSIDERATION | E92: S2 | G92: 12 | H92: DECEMBER | I92: HQ | M92: =N92 -> 5000 | N92: 5000 | W92: =O92+Q92+S92+P92+R92+T92+U92+V92 -> 0 | X92: =N92-W92 -> 5000 | AD92: NEW
A93: BRANDING | B93: EUROPE | C93: ESPAGNE | D93: CONVERSION | E93: S2 | F93: UNFUNDED | G93: 12E | H93: DECEMBER | I93: HQ | M93: =N93 -> 0 | N93: 0 | O93: 0 | P93: 0 | Q93: 0 | R93: 0 | S93: 0 | T93: 0 | U93: 0 | V93: 0 | W93: =O93+Q93+S93+P93+R93+T93+U93+V93 -> 0 | X93: =N93-W93 -> 0 | AD93: NEW
K94: Buffer | L94: =RECAP!O15-N94 -> -23000 | M94: =SUM(M2:M93) -> 204000 | N94: =SUM(N2:N93) -> 233000 | O94: =SUM(O2:O93) -> 76000 | P94: =SUM(P2:P93) -> 7000 | Q94: =SUM(Q2:Q93) -> 3000 | R94: =SUM(R2:R93) -> 6000 | S94: =SUM(S2:S93) -> 5000 | T94: =SUM(T2:T93) -> 4000 | ... Y94: =SUM(Y2:Y93) -> 12000
N96: Penetration Rate | O96: 0.79 | P96: 0.69 | Q96: 0.53 | R96: 0.89 | S96: 0.19 | T96: 0.27 | U96: 0.36 | V96: 0.34

Sheet RECAP
A1: ITALIE | B1: 2022 | C1: % | D1: EVOL | F1: 2021 | G1: % | H1: 2020 | I1: % | J1: 2019 | K1: % | N1: ESPAGNE | O1: 2022 | P1: % | Q1: EVOL | S1: 2021 | T1: % | U1: 2020 | V1: % | W1: 2019 | X1: %
A2: FACEBOOK | B2: =ITALIE!O98 -> 124000 | C2: =B2/$B$10 -> 0.775 | D2: =(B2-F2)/F2 -> -0.69570552 | F2: 407500 | G2: =(F2-H2)/H2 -> 0.60781219 | H2: 253450 | N2: FACEBOOK | O2: =ESPAGNE!$O$94 -> 76000 | P2: =O2/$O$10 -> 0.75247525 | Q2: =(O2-S2)/S2 -> -0.58356164 | S2: 182500 | T2: =(S2-U2)/U2 -> 0.61219081 | U2: 113200
A3: INSTAGRAM | B3: =ITALIE!P98 -> 10000 | C3: =B3/$B$10 -> 0.0625 | D3: =(B3-F3)/F3 -> -0.57446809 | F3: 23500 | G3: =(F3-H3)/H3 -> -0.88483215 | H3: 204050 | N3: INSTAGRAM | O3: =ESPAGNE!$P$94 -> 7000 | P3: =O3/$O$10 -> 0.069306931 | Q3: =(O3-S3)/S3 -> -0.74074074 | S3: 27000 | T3: =(S3-U3)/U3 -> -0.75957257 | U3: 112300
A4: TWITTER | B4: =ITALIE!Q98 -> 5500 | C4: =B4/$B$10 -> 0.034375 | D4: =(B4-F4)/F4 -> -0.76086957 | F4: 23000 | G4: =(F4-H4)/H4 -> 0 | H4: 23000 | N4: TWITTER | O4: =ESPAGNE!$Q$94 -> 3000 | P4: =O4/$O$10 -> 0.02970297 | Q4: =(O4-S4)/S4 -> -0.625 | S4: 8000 | T4: =(S4-U4)/U4 -> 0 | U4: 8000
A5: YOUTUBE | B5: =ITALIE!R98 -> 11000 | C5: =B5/$B$10 -> 0.06875 | D5: =(B5-F5)/F5 -> -0.24137931 | F5: 14500 | G5: =(F5-H5)/H5 -> 0.70588235 | H5: 8500 | N5: YOUTUBE | O5: =ESPAGNE!$R$94 -> 6000 | P5: =O5/$O$10 -> 0.059405941 | Q5: =(O5-S5)/S5 -> 0 | S5: 6000 | T5: 0 | U5: 0
A6: SNAPCHAT | B6: =ITALIE!S98 -> 9500 | C6: =B6/$B$10 -> 0.059375 | D6: =(B6-F6)/F6 -> -0.83186138 | F6: 56501 | G6: =(F6-H6)/H6 -> 2.8966207 | H6: 14500 | N6: SNAPCHAT | O6: =ESPAGNE!$S$94 -> 5000 | P6: =O6/$O$10 -> 0.04950495 | Q6: =(O6-S6)/S6 -> -0.58333333 | S6: 12000 | T6: =(S6-U6)/U6 -> 0.71428571 | U6: 7000
A7: TIKTOK | B7: =ITALIE!U99 -> 0 | C7: =B7/$B$10 -> 0 | D7: 0 | F7: 0 | G7: 0 | H7: 0 | N7: TIKTOK | O7: =ESPAGNE!$T$94 -> 4000 | P7: =O7/$O$10 -> 0.03960396 | Q7: 0 | S7: 0 | T7: 0 | U7: 0
A8: LINKEDIN | B8: =ITALIE!V100 -> 0.31 | C8: =B8/$B$10 -> 1.9375e-06 | D8: 0 | F8: 0 | G8: 0 | H8: 0 | N8: LINKEDIN | O8: =ESPAGNE!$U$94 -> 0 | P8: =O8/$O$10 -> 0 | Q8: 0 | S8: 0 | T8: 0 | U8: 0
A9: PINTEREST | B9: =ITALIE!W101 -> 0 | C9: =B9/$B$10 -> 0 | D9: 0 | F9: 0 | G9: 0 | H9: 0 | N9: PINTEREST | O9: =ESPAGNE!$V$94 -> 0 | P9: =O9/$O$10 -> 0 | Q9: 0 | S9: 0 | T9: 0 | U9: 0
A10: TOTAL | B10: =SUM(B2:B6) -> 160000 | C10: =B10/B15 -> 0.2406015 | D10: =(B10-F10)/F10 -> -0.69523868 | F10: =SUM(F2:F9) -> 525001 | G10: =(F10-H10)/H10 -> 0.042703078 | H10: =SUM(H2:H9) -> 503500 | N10: TOTAL | O10: =SUM(O2:O9) -> 101000 | P10: =O10/O15 -> 0.28857143 | Q10: =(O10-S10)/S10 -> -0.57112527 | S10: =SUM(S2:S9) -> 235500 | T10: =(S10-U10)/U10 -> -0.020790021 | U10: =SUM(U2:U9) -> 240500
A12: BRANDING | B12: =G29 -> 330000 | C12: =B12/$B$15 -> 0.4962406 | D12: =(B12-F12)/F12 -> 0.03125 | F12: 320000 | G12: =(F12-H12)/H12 -> 0.066666667 | H12: 300000 | I12: =(H12-J12)/J12 -> -0.21259843 | J12: 381000 | N12: BRANDING | O12: =T29 -> 210000 | P12: =O12/$O$15 -> 0.6 | Q12: =(O12-S12)/S12 -> -0.3 | S12: 300000 | T12: =(S12-U12)/U12 -> 0.74418605 | U12: 172000
A13: ECOMMERCE | B13: =H29 -> 240000 | C13: =B13/$B$15 -> 0.36090226 | D13: =(B13-F13)/F13 -> 0.41176471 | F13: 170000 | G13: =(F13-H13)/H13 -> 0.011904762 | H13: 168000 | I13: =(H13-J13)/J13 -> -0.67123288 | J13: 511000 | N13: ECOMMERCE | O13: =U29 -> 140000 | P13: =O13/$O$15 -> 0.4 | Q13: =(O13-S13)/S13 -> 0.4 | S13: 100000 | T13: =(S13-U13)/U13 -> 0.53846154 | U13: 65000
A14: LUNETTES | B14: =I29 -> 95000 | C14: =B14/$B$15 -> 0.14285714 | D14: =(B14-F14)/F14 -> -0.32142857 | F14: 140000 | G14: 1 | H14: 0 | I14: 0 | J14: 0 | N14: LUNETTES | O14: =V29 -> 0 | P14: =O14/$O$15 -> 0 | Q14: 0 | S14: 0 | T14: 0 | U14: 0
A15: GRAND TOTAL | B15: =SUM(B12:B13)+I29+J29+K29 -> 665000 | D15: =(B15-F15)/F15 -> 0.055555556 | F15: =SUM(F12:F14) -> 630000 | G15: =(F15-H15)/H15 -> 0.34615385 | H15: 468000 | I15: =(H15-J15)/J15 -> -0.47533632 | J15: =SUM(J12:J14) -> 892000 | N15: GRAND TOTAL | O15: =SUM(O12:O13)+V29+W29+X29 -> 350000 | Q15: =(O15-S15)/S15 -> -0.18224299 | S15: 428000 | T15: =(S15-U15)/U15 -> 0.76859504 | U15: 242000 | V15: =(U15-W15)/W15 -> -0.050980392 | W15: 255000
D17: % | F17: Reco Media | G17: Branding | H17: Performances | Q17: % | S17: Reco Media | T17: Branding | U17: Performances
A18: Femme | B18: =SUMIF(ITALIE!#REF!,"WOMEN",ITALIE!M2:M97)-ITALIE!N32-ITALIE!N43-ITALIE!N92-ITALIE!N68-ITALIE!N93 -> #REF! | C18: =B18/$B$15 -> #REF! | H18: =B18-G18 -> #REF! | N18: Femme | O18: =SUMIF(ESPAGNE!#REF!,"WOMEN",ESPAGNE!N2:N93)-ESPAGNE!M23-ESPAGNE!M41-ESPAGNE!N48-ESPAGNE!N66-ESPAGNE!N89 -> 0 | P18: =O18/$O$15 -> 0 | U18: =O18-T18 -> 0
A19: Homme | B19: =SUMIF(ITALIE!#REF!,"MEN",ITALIE!N2:N97)-ITALIE!N28-ITALIE!N58-ITALIE!N79-ITALIE!N79 -> #REF! | C19: =B19/$B$15 -> #REF! | H19: =B19-G19 -> #REF! | N19: Homme | O19: =SUMIF(ESPAGNE!#REF!,"MEN",ESPAGNE!$N$2:$N$93)-ESPAGNE!$N$26-ESPAGNE!$N$55 -> 55000 | P19: =O19/$O$15 -> 0.26190476 | U19: =O19-T19 -> 55000
A20: Joaillerie | B20: =SUMIF(ITALIE!#REF!,"JEWELRY",ITALIE!N2:N97) -> #REF! | C20: =B20/$B$15 -> #REF! | H20: =B20-G20 -> #REF! | N20: Joaillerie | O20: =SUMIF(ESPAGNE!#REF!,"JEWELRY",ESPAGNE!$N2:$N$93) -> #REF! | P20: =O20/$O$15 -> #REF! | U20: =O20-T20 -> #REF!
A21: Horlogerie | B21: =SUMIF(ITALIE!#REF!,"WATCHES",ITALIE!N2:N97) -> #REF! | C21: =B21/$B$15 -> #REF! | N21: Horlogerie | O21: =SUMIF(ESPAGNE!#REF!,"WATCHES",ESPAGNE!$N$2:$N$93) -> #REF! | P21: =O21/$O$15 -> #REF!
A22: Eyewear | B22: =SUMIF(ITALIE!#REF!,"EYEWEAR",ITALIE!N2:N97) -> #REF! | C22: =B22/$B$15 -> #REF! | N22: Eyewear | O22: =SUMIF(ESPAGNE!$A$2:$A$93,"EYEWEAR",ESPAGNE!$N$2:$N$93) -> 0 | P22: =O22/$O$15 -> 0
A23: Baby | B23: =SUMIF(ITALIE!#REF!,"BABY",ITALIE!N2:N97) -> #REF! | C23: =B23/$B$15 -> #REF! | N23: Baby | O23: =SUMIF(ESPAGNE!$A$2:$A$93,"BABY",ESPAGNE!$N$2:$N$93) -> 0 | P23: =O23/$O$15 -> 0
A24: Maison | B24: =SUMIF(ITALIE!#REF!,"MAISON",ITALIE!N2:N97) -> #REF! | C24: =B24/$B$15 -> #REF! | N24: Maison | O24: =SUMIF(ESPAGNE!#REF!,"MAISON",ESPAGNE!$N$2:$N$93) -> #REF! | P24: =O24/$O$15 -> #REF!
A25: Corporate | B25: =SUMIF(ITALIE!#REF!,"CORPORATE",ITALIE!N2:N97) -> #REF! | C25: =B25/$B$15 -> #REF! | N25: Corporate | O25: =SUMIF(ESPAGNE!$D$2:$D$93,"CORPORATE",ESPAGNE!$N$2:$N$93) -> 0 | P25: =O25/$O$15 -> 0
A26: Buffer | B26: =B15-B18-B19-B20-B21-B25-B22-B23-B24 -> #REF! | C26: =B26/$B$15 -> #REF! | G26: Facturation | N26: Buffer | O26: =O15-O18-O19-O20-O21-O25-O22-O23-O24 -> -23000 | P26: =O26/$O$15 -> -0.10952381 | T26: Facturation
G27: Branding | H27: Perf | I27: Lunettes | J27: Horlogerie | K27: Baby | L27: Total | T27: Branding | U27: Perf | V27: Lunettes | W27: Horlogerie | X27: Baby | Y27: Total
A28: CONVERSION | B28: =SUMIF(ITALIE!D2:D97,"CONVERSION",ITALIE!N2:N97) -> 239500 | F28: Réel | G28: =SUMIF(ITALIE!D2:D97,"BRANDING",ITALIE!N2:N97)+SUMIF(ITALIE!D2:D97,"CONSIDERATION",ITALIE!N2:N97) -> 413500 | H28: =SUMIF(ITALIE!D2:D97,"CONVERSION",ITALIE!N2:N97) -> 239500 | I28: =SUMIF(ITALIE!#REF!,"EYEWEAR",ITALIE!M2:M97) -> #REF! | J28: =SUMIF(ITALIE!A2:A97,"WATCHES",ITALIE!N2:N97) -> 0 | K28: 0 | L28: =SUM(G28:K28) -> #REF! | N28: CONVERSION | O28: =SUMIF(ESPAGNE!D6:D178,"CONVERSION",ESPAGNE!N6:N178) -> 0 | S28: Réel | T28: =SUMIF(ESPAGNE!D2:D93,"BRANDING",ESPAGNE!N2:N93)+SUMIF(ESPAGNE!D2:D93,"CONSIDERATION",ESPAGNE!N2:N93) -> 0 | U28: =SUMIF(ESPAGNE!D2:D93,"conversion",ESPAGNE!N2:N93) -> 0 | V28: =SUMIF(ESPAGNE!$A$2:$A$93,"EYEWEAR",ESPAGNE!$M$2:$M$93) -> 0 | W28: =SUMIF(ESPAGNE!$A$2:$A$93,"WATCHES",ESPAGNE!$N$2:$N$93) -> 0 | X28: =SUMIF(ESPAGNE!#REF!,"BABY",ESPAGNE!$M$2:$M$93) -> #REF! | Y28: =SUM(T28:X28) -> #VALUE!
A29: Budgeté | B29: =H29 -> 240000 | F29: Budgeté | G29: 330000 | H29: 240000 | I29: 95000 | J29: 0 | K29: 0 | L29: =SUM(G29:K29) -> 665000 | N29: Budgeté | O29: 0 | S29: Budgeté | T29: 210000 | U29: 140000 | V29: 0 | W29: 0 | X29: 0 | Y29: =SUM(T29:X29) -> 350000
A30: Buffer Perf | B30: =B29-B28 -> 500 | F30: Buffer | G30: =G29-G28 -> -83500 | H30: =H29-H28 -> 500 | I30: =I29-I28 -> #REF! | J30: =J29-J28 -> 0 | K30: =K29-K28 -> 0 | L30: =L29-L28 -> #REF! | N30: Buffer Perf | S30: Buffer | T30: =T29-T28 -> 155000 | U30: =U29-U28 -> 140000 | V30: =V29-V28 -> 0 | W30: =W29-W28 -> 0 | X30: =X29-X28 -> #REF! | Y30: =Y29-Y28 -> #VALUE!
G31: =G30/G29 -> -0.2530303 | H31: =H30/H29 -> 0.0020833333 | I31: 0 | J31: 0 | K31: 0 | T31: =T30/T29 -> 0.73809524 | U31: =U30/U29 -> 1 | V31: 0 | W31: 0 | X31: 0
