Workbook
Name date_debut: Feuil2!$F$2
Name date_fin: Feuil2!$F$3
Name heure_debut: Feuil2!$H$2
Name heure_fin: Feuil2!$H$2
Name pas_heure: Feuil2!$C$7
Name pas_heures: Feuil2!$C$7
Name pas_jours: Feuil2!$C$6
Name pas_minutes: Feuil2!$C$8

Sheet Releve
A1: Date et heure de relevé | B1: T° ext | C1: Salle scène
A2: 44207.5 | B2: 150 | C2: 21
A3: 44207.507 | B3: -0.3 | C3: 21
A4: 44207.514 | B4: -0.6 | C4: 21.1
A5: 44207.521 | B5: -0.7 | C5: 21.1
A6: 44207.528 | B6: -0.6 | C6: 21.1
A7: 44207.535 | B7: -0.3 | C7: 21.1
A8: 44207.542 | B8: -0.1 | C8: 21.2
A9: 44207.549 | B9: -0.1 | C9: 21.2
A10: 44207.556 | B10: -0.2 | C10: 21.2
A11: 44207.562 | B11: -0.2 | C11: 21.3
A12: 44207.569 | B12: -0.3 | C12: 21.3
A13: 44207.576 | B13: -0.2 | C13: 21.3
... A2043: 44221.674 | B2043: 17.9 | C2043: 17.4

Sheet Feuil2
B2: Nom de la feuille des données | C2: "Releve" | E2: Date de début : | F2: 44208 | G2: Heure de début : | H2: 0.5
B3: Ligne des valeurs | E3: Date de fin : | G3: Heure de fin :
B4: Colonne nom paramètre à analyser | C4: 1
E5: Période :
B6: Pas en jours : | C6: 1
B7: Pas en heures : | C7: 1 | F7: Paramètres à étudier :
B8: Pas en minutes : | C8: 0 | F8: T° ext
B9: Intervalle de temps : | C9: =pas_jours+pas_heure/24+pas_minutes/1440 -> 1.0416667 | F9: Format :
F10: # #0;# #0;"°C"
F11: Coefficient multiplicateur :
F12: 1
B16: Année n
C17: Feuille de données : | D17: Ligne | E17: Dates | F17: =F8&" : "&TEXT(AVERAGE(F18:F34),F$10) -> T° ext : 7
C18: ="'"&TEXT($E18,$C$2)&"'!" -> 'Releve'! | D18: =INDEX(ROW(Releve!A:A),MATCH(E18,Releve!A:A,0)) -> 146 | E18: =date_debut+heure_debut -> 44208.5 | F18: =IFERROR(INDIRECT($C18&"L"&$D18&"C"&MATCH(F$8,INDIRECT($C18&$C$4&":"&$C$4),0),FALSE)*IF(ISNUMBER(F$12*1),F$12,INDIRECT(F$12,FALSE)),"") -> 4
C19: ="'"&TEXT($E19,$C$2)&"'!" -> 'Releve'! | D19: =INDEX(ROW(Releve!A:A),MATCH(E19,Releve!A:A,0)) -> 296 | E19: =E18+$C$9 -> 44209.542 | F19: =IFERROR(INDIRECT($C19&"L"&$D19&"C"&MATCH(F$8,INDIRECT($C19&$C$4&":"&$C$4),0),FALSE)*IF(ISNUMBER(F$12*1),F$12,INDIRECT(F$12,FALSE)),"") -> 9.6
C20: ="'"&TEXT($E20,$C$2)&"'!" -> 'Releve'! | D20: =INDEX(ROW(Releve!A:A),MATCH(E20,Releve!A:A,0)) -> #N/A | E20: =E19+$C$9 -> 44210.583 | F20: =IFERROR(INDIRECT($C20&"L"&$D20&"C"&MATCH(F$8,INDIRECT($C20&$C$4&":"&$C$4),0),FALSE)*IF(ISNUMBER(F$12*1),F$12,INDIRECT(F$12,FALSE)),"")
C21: ="'"&TEXT($E21,$C$2)&"'!" -> 'Releve'! | D21: =INDEX(ROW(Releve!A:A),MATCH(E21,Releve!A:A,0)) -> #N/A | E21: =E20+$C$9 -> 44211.625 | F21: =IFERROR(INDIRECT($C21&"L"&$D21&"C"&MATCH(F$8,INDIRECT($C21&$C$4&":"&$C$4),0),FALSE)*IF(ISNUMBER(F$12*1),F$12,INDIRECT(F$12,FALSE)),"")
C22: ="'"&TEXT($E22,$C$2)&"'!" -> 'Releve'! | D22: =INDEX(ROW(Releve!A:A),MATCH(E22,Releve!A:A,0)) -> #N/A | E22: =E21+$C$9 -> 44212.667 | F22: =IFERROR(INDIRECT($C22&"L"&$D22&"C"&MATCH(F$8,INDIRECT($C22&$C$4&":"&$C$4),0),FALSE)*IF(ISNUMBER(F$12*1),F$12,INDIRECT(F$12,FALSE)),"")
C23: ="'"&TEXT($E23,$C$2)&"'!" -> 'Releve'! | D23: =INDEX(ROW(Releve!A:A),MATCH(E23,Releve!A:A,0)) -> #N/A | E23: =E22+$C$9 -> 44213.708 | F23: =IFERROR(INDIRECT($C23&"L"&$D23&"C"&MATCH(F$8,INDIRECT($C23&$C$4&":"&$C$4),0),FALSE)*IF(ISNUMBER(F$12*1),F$12,INDIRECT(F$12,FALSE)),"")
C24: ="'"&TEXT($E24,$C$2)&"'!" -> 'Releve'! | D24: =INDEX(ROW(Releve!A:A),MATCH(E24,Releve!A:A,0)) -> #N/A | E24: =E23+$C$9 -> 44214.75 | F24: =IFERROR(INDIRECT($C24&"L"&$D24&"C"&MATCH(F$8,INDIRECT($C24&$C$4&":"&$C$4),0),FALSE)*IF(ISNUMBER(F$12*1),F$12,INDIRECT(F$12,FALSE)),"")
C25: ="'"&TEXT($E25,$C$2)&"'!" -> 'Releve'! | D25: =INDEX(ROW(Releve!A:A),MATCH(E25,Releve!A:A,0)) -> #N/A | E25: =E24+$C$9 -> 44215.792 | F25: =IFERROR(INDIRECT($C25&"L"&$D25&"C"&MATCH(F$8,INDIRECT($C25&$C$4&":"&$C$4),0),FALSE)*IF(ISNUMBER(F$12*1),F$12,INDIRECT(F$12,FALSE)),"")
C26: ="'"&TEXT($E26,$C$2)&"'!" -> 'Releve'! | D26: =INDEX(ROW(Releve!A:A),MATCH(E26,Releve!A:A,0)) -> #N/A | E26: =E25+$C$9 -> 44216.833 | F26: =IFERROR(INDIRECT($C26&"L"&$D26&"C"&MATCH(F$8,INDIRECT($C26&$C$4&":"&$C$4),0),FALSE)*IF(ISNUMBER(F$12*1),F$12,INDIRECT(F$12,FALSE)),"")
C27: ="'"&TEXT($E27,$C$2)&"'!" -> 'Releve'! | D27: =INDEX(ROW(Releve!A:A),MATCH(E27,Releve!A:A,0)) -> #N/A | E27: =E26+$C$9 -> 44217.875 | F27: =IFERROR(INDIRECT($C27&"L"&$D27&"C"&MATCH(F$8,INDIRECT($C27&$C$4&":"&$C$4),0),FALSE)*IF(ISNUMBER(F$12*1),F$12,INDIRECT(F$12,FALSE)),"")
C28: ="'"&TEXT($E28,$C$2)&"'!" -> 'Releve'! | D28: =INDEX(ROW(Releve!A:A),MATCH(E28,Releve!A:A,0)) -> #N/A | E28: =E27+$C$9 -> 44218.917 | F28: =IFERROR(INDIRECT($C28&"L"&$D28&"C"&MATCH(F$8,INDIRECT($C28&$C$4&":"&$C$4),0),FALSE)*IF(ISNUMBER(F$12*1),F$12,INDIRECT(F$12,FALSE)),"")
C29: ="'"&TEXT($E29,$C$2)&"'!" -> 'Releve'! | D29: =INDEX(ROW(Releve!A:A),MATCH(E29,Releve!A:A,0)) -> #N/A | E29: =E28+$C$9 -> 44219.958 | F29: =IFERROR(INDIRECT($C29&"L"&$D29&"C"&MATCH(F$8,INDIRECT($C29&$C$4&":"&$C$4),0),FALSE)*IF(ISNUMBER(F$12*1),F$12,INDIRECT(F$12,FALSE)),"")
C30: ="'"&TEXT($E30,$C$2)&"'!" -> 'Releve'! | D30: =INDEX(ROW(Releve!A:A),MATCH(E30,Releve!A:A,0)) -> #N/A | E30: =E29+$C$9 -> 44221 | F30: =IFERROR(INDIRECT($C30&"L"&$D30&"C"&MATCH(F$8,INDIRECT($C30&$C$4&":"&$C$4),0),FALSE)*IF(ISNUMBER(F$12*1),F$12,INDIRECT(F$12,FALSE)),"")
... C34: ="'"&TEXT($E34,$C$2)&"'!" -> 'Releve'! | D34: =INDEX(ROW(Releve!A:A),MATCH(E34,Releve!A:A,0)) -> #N/A | E34: =E33+$C$9 -> 44225.167 | F34: =IFERROR(INDIRECT($C34&"L"&$D34&"C"&MATCH(F$8,INDIRECT($C34&$C$4&":"&$C$4),0),FALSE)*IF(ISNUMBER(F$12*1),F$12,INDIRECT(F$12,FALSE)),"")
