Workbook
Name ABACO_Jonathan: Données!$C$2:$C$56
Name Absence: Données!$AK$2:$AK$6
Name Centre_1_3: Données!$G$2:$G$9
Name Chauffeurs: Données!$C$1:$C$56
Name départ: #REF!
Name Essentiel: Données!$AG$2:$AG$17
Name f_Chauffeurs: OFFSET(p_Chauffeurs,0,0,COUNTA(Chauffeurs),1)
Name ListeChauffeurs: " =DECALER(Chauffeurs;0;0;NBVAL(Chauffeurs)-1;1)"
Name p_Chauffeurs: Données!$C$1
Name plage_courrier: OFFSET(Courrier!$A$1,,,COUNTA(Courrier!$A:$A),19)
Name RETOURS: Données!$AI$2:$AI$28
Name Secteur: Courrier!$C$2:$C$1291
Name Secteur__31: Données!$E$6
Name Secteur_31: Données!$K$2:$K$12
Name Secteur_32: Données!$L$2:$L$5
Name Secteur_34: Données!$M$2:$M$8
Name Secteur_41: Données!$N$2:$N$14
Name Secteur_42: Données!$O$2:$O$9
Name Secteur_43: Données!$P$2:$P$11
Name Secteur_44: Données!$Q$2:$Q$5
Name Secteur_51: Données!$R$2:$R$17
Name Secteur_52: Données!$S$2:$S$7
Name Secteur_53: Données!$T$2:$T$12
Name Secteur_54: Données!$U$2:$U$6
Name Secteur_61: Données!$V$2:$V$14
Name Secteur_62: Données!$W$2:$W$14
Name Secteur_71: Données!$X$2:$X$12
Name Secteur_72: Données!$Y$2:$Y$13
Name Secteur_81: Données!$Z$2:$Z$12
Name Secteur_82: Données!$AA$2:$AA$12
Name Secteur_83: Données!$AB$2:$AB$6
Name Secteur_84: Données!$AC$2:$AC$4
Name Secteur_91: Données!$AD$2:$AD$15
Name Secteur_92: Données!$AE$2:$AE$12
Name Secteur_93: Données!$AF$2:$AF$16
Name Secteurs: Données!$E$1:$E$35
Name secteurtri: Courrier!$G$2
Name tri: #REF!
Name TriGare: Données!$H$2:$H$15
Name TriHowald: Données!$I$2:$I$14
Name TriNeudorf: Données!$J$2:$J$17
Name Triville: Données!$G$2:$G$9
Name Vehicule: Données!$AH$2:$AH$48
Name Ville11: Données!$G$2:$G$9
Name Ville12: Données!$H$2:$H$15
Name Ville21: Données!$I$2:$I$14
Name Ville22: Données!$J$2:$J$17

Sheet Courrier
A1: Date de distribution | B1: Chauffeur | C1: Secteur | D1: Tri | E1: Quantité | F1: Urgent | G1: En plus | H1: En plus Tri | I1: En plus Quantité | J1: Commentaire | K1: Retours | L1: Adresses incorrectes | M1: Essentiel ou enl. | N1: Retard Essentiel | O1: Véhicule | P1: Km début | Q1: Km Fin | R1: Heure début | S1: Heure fin
A2: 42737 | B2: SCARMIGNAN Laurent | C2: Ville11 | D2: Centre 3/3 | E2: 462 | L2: 16 | M2: 1070
A3: 42737 | B3: GRAFF Jordan | C3: Ville12 | D3: Belair 2/2 | E3: 486 | F3: 7 | L3: 17 | M3: 1040
A4: 42737 | B4: GOELFF Pascal | C4: Ville12 | D4: Cessange | E4: 764 | L4: 21
A5: 42737 | B5: AMBIEHL Gilles | C5: Ville21 | D5: Bonnevoie 1/3 | E5: 678 | L5: 31 | M5: 1110
A6: 42737 | B6: LEJOUR Jean-Luc | C6: Ville22 | D6: Weimershof | E6: 573 | L6: 29 | M6: Admninistratif
A7: 42737 | B7: ONRAET David | C7: Ville22 | D7: Clausen Pfaffenthal | E7: 374 | L7: 24 | M7: 1080
A8: 42737 | B8: PRIGNON Willy | C8: Ville22 | D8: Eich Beggen | E8: 718 | L8: 25 | M8: 1100
A9: 42737 | B9: MARON Dominique | C9: Secteur_31 | D9: Kayl Tétange | E9: 605 | F9: 1 | L9: 15
A10: 42737 | B10: WEFFLING Valérie | C10: Secteur_31 | D10: Schifflange 1/2 | E10: 206 | F10: 2 | L10: 3 | M10: 1030
A11: 42737 | B11: MARTINEZ Aimé | C11: Secteur_32 | D11: Dudelange 1/3 | E11: 592 | L11: 19
A12: 42737 | B12: DUCREUX Bruno | C12: Secteur_34 | D12: Reckange à Clemency | E12: 886 | L12: 11
A13: 42737 | B13: FLAMENT Samuel | C13: Secteur_42 | D13: Differdange 2/3 | E13: 790 | K13: 234 | L13: 19
A14: 42737 | B14: BERBUDEAU Malory | C14: Secteur_44 | D14: Sanem Ehlerange | E14: 886 | L14: 17 | M14: 1060
A15: 42737 | B15: MEYER Jean Luc | C15: Secteur_43 | D15: Esch 4/4 | E15: 1062 | F15: 7 | K15: 215 | L15: 41
A16: 42737 | B16: MARSEU Grégory | C16: Secteur_52 | D16: Mondorf à Schengen | E16: 472 | L16: 20
A17: 42737 | B17: FERREIRA PEDROSA Luis | C17: Secteur_53 | D17: Stadtbredimus à Schuttrange | E17: 593 | L17: 36
A18: 42737 | B18: WOLSKI Arnaud | C18: Secteur_61 | D18: Grevenmacher Machtum Mertert Wasserbillig | E18: 585 | F18: 3 | L18: 21
A19: 42737 | B19: LOPES José | C19: Secteur_62 | D19: Eschweiler à Osweiler | E19: 311 | F19: 1 | L19: 3 | M19: 1050
A20: 42737 | B20: MARTIN Emmanuel | C20: Secteur_71 | D20: Berschbach Mersch | E20: 921 | L20: 28
A21: 42737 | B21: BUZELIN Vincent | C21: Secteur_71 | D21: Schoenfels à la fin | E21: 765 | L21: 6
A22: 42737 | B22: PIMENTEL DA SILVA Miguel | C22: Secteur_72 | D22: Cruchten à Medernach | E22: 342 | L22: 4 | M22: 1020
A23: 42737 | B23: BERTOZZI Jacques | C23: Secteur_81 | D23: Strassen 1/2 | E23: 512 | L23: 18 | M23: 1090
A24: 42737 | B24: WALDUNG Laurent | C24: Secteur_83 | D24: 8.3 (2/2) | E24: 544 | G24: Secteur_82 | H24: Eischen | L24: 8
A25: 42737 | B25: GRAISSE Didier | C25: Secteur_91 | D25: Schieren à Hoesdorf | E25: 508 | L25: 7
A26: 42737 | B26: PAULIS Patrick | C26: Secteur_92 | D26: Nothum à Lentzweiler | E26: 474 | L26: 10 | M26: 1010
A27: 42737 | B27: LEDENT Eric | C27: Secteur_92 | D27: Ettelbruck 1 + 2/3 | E27: 574 | L27: 27 | M27: 1000
A28: 42737 | B28: VIOT David | C28: Secteur_93 | D28: Bockholz à Wiltz | E28: 873 | L28: 14
A29: 42738 | B29: SCARMIGNAN Laurent | C29: Ville11 | D29: Centre 1/3 | E29: 444 | L29: 20 | M29: 1070
A30: 42738 | B30: GRAFF Jordan | C30: Ville12 | D30: Belair 1/2 | F30: 149 | G30: Ville12 | H30: Gasperich Kockelscheuer | I30: 210 | L30: 19
A31: 42738 | B31: GOELFF Pascal | C31: Ville12 | D31: Gasperich Kockelscheuer | E31: 900 | L31: 23
A32: 42738 | B32: AMBIEHL Gilles | C32: Ville21 | D32: Bonnevoie 2/3 | E32: 622 | L32: 35
A33: 42738 | B33: LEJOUR Jean-Luc | C33: Ville12 | D33: Gare 3/3 | E33: 594 | G33: Ville12 | H33: Gare 3/3 | I33: 146 | L33: 61
A34: 42738 | B34: ONRAET David | C34: Ville22 | D34: Limpertsberg 2/2 | E34: 494 | L34: 40
A35: 42738 | B35: FERREIRA PEDROSA Luis | C35: Ville21 | D35: Howald | E35: 885 | L35: 57
A36: 42738 | B36: MARON Dominique | C36: Secteur_31 | D36: Rumelange | E36: 240 | G36: Secteur_34 | H36: Leudelange à Limpach | I36: 275 | L36: 12
A37: 42738 | B37: WEFFLING Valérie | C37: Secteur_31 | D37: Schifflange 2/2 | E37: 574 | L37: 24
A38: 42738 | B38: MARTINEZ Aimé | C38: Secteur_32 | D38: Dudelange 2/3 | E38: 244 | G38: Secteur_32 | H38: Dudelange 3/3 | I38: 189 | L38: 13
A39: 42738 | B39: MARTIN Emmanuel | C39: Secteur_34 | D39: Fennange à Pontpierre | E39: 249 | L39: 50
A40: 42738 | B40: DUCREUX Bruno | C40: Secteur_41 | D40: Hautcharage Bascharage | E40: 1070 | G40: Secteur_41 | H40: Linger | L40: 22
A41: 42738 | B41: FLAMENT Samuel | C41: Secteur_42 | D41: Differdange 3/3 | E41: 828 | G41: RETOURS | H41: 42 | I41: 234 | L41: 24
A42: 42738 | B42: BERBUDEAU Malory | C42: Secteur_44 | D42: Belvaux/Soleuvre | E42: 999 | L42: 17
A43: 42738 | B43: MEYER Jean Luc | C43: Secteur_43 | D43: Esch 1/5 | E43: 1462 | G43: RETOURS | H43: 43 | I43: 215 | L43: 81
A44: 42738 | B44: MARSEU Grégory | C44: Secteur_52 | D44: Remerschen à la fin | E44: 420 | L44: 17
A45: 42738 | B45: WOLSKI Arnaud | C45: Secteur_61 | D45: Senningerberg à Gonderange | E45: 511 | L45: 14
A46: 42738 | B46: LOPES José | C46: Secteur_62 | D46: Haller à la fin | E46: 312 | L46: 3
A47: 42738 | B47: PRIGNON Willy | C47: Secteur_71 | D47: Bereldange | E47: 358 | G47: Secteur_71 | H47: Walferdange Helmsange | I47: 80 | L47: 13
A48: 42738 | B48: BUZELIN Vincent | C48: Secteur_71 | D48: Heisdorf Steinsel Mullendorf | E48: 302 | G48: Secteur_71 | H48: Walferdange Helmsange | I48: 79 | L48: 12
A49: 42738 | B49: PIMENTEL DA SILVA Miguel | C49: Secteur_72 | D49: Freckeisen à la fin | E49: 571 | F49: 5 | L49: 4
A50: 42738 | B50: BERTOZZI Jacques | C50: Secteur_81 | D50: Strassen 2/2 | E50: 208 | G50: Secteur_81 | H50: Capellen Olm | I50: 86 | L50: 12
A51: 42738 | B51: VIGNERON Nicolas | C51: Secteur_82 | D51: Schweich à la fin | E51: 350 | L51: 8
A52: 42738 | B52: WALDUNG Laurent | C52: Secteur_83 | D52: 8.3 (3/3) | E52: 628 | G52: Secteur_83 | H52: 8.3 (1/3) | I52: 263 | L52: 7
A53: 42738 | B53: GRAISSE Didier | C53: Secteur_91 | D53: Moestroff à Vianden | E53: 404 | F53: 6 | L53: 4
A54: 42738 | B54: PAULIS Patrick | C54: Secteur_92 | D54: Rumlange à la fin | E54: 344 | F54: 3
A55: 42738 | B55: LEDENT Eric | C55: Secteur_92 | D55: Ettelbruck 3/3 + Warken Welscheid | E55: 300 | F55: 6 | G55: Secteur_92 | H55: Niederfeulen Oberfeulen | I55: 195 | L55: 9
A56: 42738 | B56: VIOT David | C56: Secteur_93 | D56: Mercols à la fin | E56: 251 | G56: Secteur_93 | H56: Ingeldorf Erpeldange | L56: 6
A57: 42739 | B57: SCARMIGNAN Laurent | C57: Ville11 | D57: Centre 2/3 | E57: 139 | L57: 12
A58: 42739 | B58: LEJOUR Jean-Luc | C58: Ville12 | D58: Gare 2/3 | E58: 384 | L58: 33
A59: 42739 | B59: GRAFF Jordan | C59: Ville12 | D59: Hollerich 1/2 | E59: 438 | L59: 20
A60: 42739 | B60: GOELFF Pascal | C60: Ville12 | D60: Merl | E60: 731 | L60: 44
A61: 42739 | B61: AMBIEHL Gilles | C61: Ville21 | D61: Bonnevoie 3/3 + Pulv. | F61: 623 | G61: Ville21 | H61: Hamm Grund Cents | L61: 28
A62: 42739 | B62: ONRAET David | C62: Ville22 | D62: Limpertsberg 2/2 | E62: 332 | G62: Ville22 | H62: Mullenbach | I62: 50 | L62: 31
A63: 42739 | B63: MARON Dominique | C63: Secteur_32 | D63: Hellange à Peppange | E63: 425 | G63: Secteur_31 | H63: Mondercange Foetz | I63: 217 | L63: 21
A64: 42739 | B64: WEFFLING Valérie | C64: Secteur_34 | D64: Bettembourg + Abweiler | F64: 405 | L64: 16
A65: 42739 | B65: DUCREUX Bruno | C65: Secteur_41 | D65: Pétange | E65: 851 | F65: 1 | G65: Secteur_41 | H65: Lamadelaine | L65: 21
A66: 42739 | B66: FLAMENT Samuel | C66: Secteur_42 | D66: Differdange 1/3 | E66: 687 | L66: 20
A67: 42739 | B67: BERBUDEAU Malory | C67: Secteur_44 | D67: Belvaux/Soleuvre 2/2 | E67: 1237 | L67: 26
A68: 42739 | B68: MEYER Jean Luc | C68: Secteur_43 | D68: Esch | E68: 500 | L68: 17
A69: 42739 | B69: MARSEU Grégory | C69: Secteur_51 | D69: Hesperange Fentange Alzingen | E69: 739 | L69: 28
A70: 42739 | B70: MARTINEZ Aimé | C70: Secteur_51 | D70: Weiler à Filsdorf | E70: 323 | G70: 5000 | I70: 186 | J70: Colruyt | L70: 6
A71: 42739 | B71: FERREIRA PEDROSA Luis | C71: Secteur_53 | D71: Schrassig Sandweiler | E71: 380 | G71: 5000 | I71: 280 | J71: Colruyt | L71: 26
A72: 42739 | B72: WOLSKI Arnaud | C72: Secteur_61 | D72: Rodenbourg à Munschecker | E72: 376 | G72: Secteur_62 | I72: 444 | J72: Commune Consdorf | L72: 15
A73: 42739 | B73: LOPES José | C73: Secteur_62 | D73: Bigelbach Beaufort | E73: 184 | F73: 50 | G73: Secteur_62 | I73: 217 | J73: Commune Consdorf
A74: 42739 | B74: BUZELIN Vincent | C74: Secteur_71 | D74: Bofferdange à Prettingen | E74: 660 | F74: 12 | L74: 15
A75: 42739 | B75: PIMENTEL DA SILVA Miguel | C75: Secteur_72 | D75: Début à Roost | E75: 463 | L75: 7
A76: 42739 | B76: PRIGNON Willy | C76: Secteur_72 | D76: Bissen | E76: 463
A77: 42739 | B77: MARTIN Emmanuel | C77: Secteur_81 | D77: Bertrange | E77: 337 | F77: 12 | L77: 23
A78: 42739 | B78: BERTOZZI Jacques | C78: Secteur_81 | D78: Villages 8.1 | E78: 163 | G78: Secteur_82 | H78: Hobscheid | I78: 51 | L78: 3
A79: 42739 | B79: VIGNERON Nicolas | C79: Secteur_82 | D79: Windhof à Hagen/Kleinbettingen | E79: 356 | F79: 2 | G79: Secteur_82 | H79: Steinfort | I79: 47 | L79: 10
A80: 42739 | B80: WALDUNG Laurent | C80: Secteur_84 | D80: 8.4 | E80: 431 | G80: Secteur_83 | H80: 8.3 (2/3) | I80: 213 | J80: Colruyt | L80: 5
A81: 42739 | B81: GRAISSE Didier | C81: Secteur_91 | D81: Bivels à Eselborn | E81: 204 | F81: 1 | L81: 5
A82: 42739 | B82: PAULIS Patrick | C82: Secteur_91 | D82: Urspelt à Wemperhardt | E82: 222
A83: 42739 | B83: LEDENT Eric | C83: Secteur_92 | D83: Mertzig à Vichten | E83: 437 | F83: 4 | L83: 2
A84: 42739 | B84: VIOT David | C84: Secteur_93 | D84: Diekirch Gilsdorf | E84: 427 | L84: 4
A85: 42740 | B85: SCARMIGNAN Laurent | C85: Ville11 | D85: Centre 2/3 | E85: 473 | L85: 24
A86: 42740 | B86: LEJOUR Jean-Luc | C86: Ville12 | D86: Gare 1/3 | E86: 270 | L86: 33
A87: 42740 | B87: GRAFF Jordan | C87: Ville12 | D87: Hollerich 2/2 | E87: 131 | G87: Ville22 | H87: Kirchberg | I87: 182 | L87: 37
A88: 42740 | B88: GOELFF Pascal | C88: Ville21 | D88: Hamm Grund Cents | E88: 322 | L88: 29
A89: 42740 | B89: AMBIEHL Gilles | C89: Ville21 | D89: Bonnevoie 3/3 + Pulv. | E89: 198 | L89: 22
A90: 42740 | B90: ONRAET David | C90: Ville22 | D90: Mullenbach Roll. | E90: 343 | L90: 17
A91: 42740 | B91: MARON Dominique | C91: Secteur_34 | D91: Leudelange à Limpach | E91: 340 | F91: 1 | G91: Secteur_31 | H91: Mondercange Foetz | L91: 8
A92: 42740 | B92: WEFFLING Valérie | C92: Secteur_34 | D92: Bettembourg 1/2 | E92: 135 | F92: 14 | L92: 10
A93: 42740 | B93: DUCREUX Bruno | C93: Secteur_41 | D93: Rodange Lasauvage | E93: 549 | F93: 6 | L93: 9
A94: 42740 | B94: FLAMENT Samuel | C94: Secteur_43 | D94: Esch 3/5 | E94: 177 | F94: 60 | G94: RETOURS | H94: 42 | I94: 315 | L94: 41
A95: 42740 | B95: BERBUDEAU Malory | C95: Secteur_81 | D95: Mamer | E95: 405 | F95: 4 | L95: 18
A96: 42740 | B96: MEYER Jean Luc | C96: Secteur_43 | D96: Esch 2/5 | E96: 1064 | L96: 29
A97: 42740 | B97: FERREIRA PEDROSA Luis | C97: Secteur_54 | D97: Oetrange Moutfort Contern Itzig | E97: 312 | G97: Secteur_53 | H97: Remich | L97: 20
A98: 42740 | B98: MARSEU Grégory | C98: Secteur_51 | D98: Aspelt à Mondorf | E98: 213 | L98: 15
A99: 42740 | B99: WOLSKI Arnaud | C99: Secteur_62 | D99: Echternach à Dillingen | E99: 288 | L99: 8
A100: 42740 | B100: LOPES José | C100: Secteur_62 | D100: Début à Junglinster | E100: 388
...

Sheet Données
A1: ABACO | B1: Jonathan | C1: =A1&B1 -> ABACO Jonathan | E1: Ville11 | G1: 1.1 | H1: 1.2 | I1: 2.1 | J1: 2.2 | K1: Secteur _31 | L1: Secteur_32 | M1: Secteur_34 | N1: Secteur_41 | O1: Secteur_42 | P1: Secteur_43 | Q1: Secteur_44 | R1: Secteur_51 | S1: Secteur_52 | T1: Secteur_53 | U1: Secteur_54 | V1: Secteur_61 | W1: Secteur_62 | X1: Secteur_71 | Y1: Secteur_72 | Z1: Secteur_81 | AA1: Secteur_82 | AB1: Secteur_83 | AC1: Secteur_84 | AD1: Secteur_91 | AE1: Secteur_92 | AF1: Secteur_93 | AG1: Essentiel | AH1: Véhicule | AI1: RETOURS | AK1: ABSENCE
A2: ACKERMAN | B2: Arnaud | C2: =A2&B2 -> ACKERMAN Arnaud | E2: Ville12 | G2: Centre 1/3 | H2: Gare 1/3 | I2: Howald | J2: Neudorf | K2: Mondercange Foetz | L2: Dudelange 1/3 | M2: Bettembourg 1/2 | N2: Hautcharage Bascharage | O2: Differdange 1/3 | P2: Esch 1/5 | Q2: Belvaux/Soleuvre 1/2 | R2: Hesperange Fentange Alzingen | S2: Mondorf à Schengen | T2: Remich | U2: Oetrange Moutfort Contern Itzig | V2: Senningerberg à Hostert | W2: Début à Junglinster | X2: Bereldange | Y2: Début à Roost | Z2: Strassen | AA2: Windhof à Hagen/Kleinbettingen | AB2: 8.3 (1/2) | AC2: 8.4 | AD2: Schieren à Hoesdorf | AE2: Ettelbruck 1 + 2/3 | AF2: Ingeldorf | AG2: 1000 | AH2: DC 5500 | AI2: 11 | AK2: Malade
A3: AMBIEHL | B3: Gilles | C3: =A3&B3 -> AMBIEHL Gilles | E3: Ville21 | G3: Centre 2/3 | H3: Gare 2/3 | I3: Howald 1/2 | J3: Clausen Pfaffenthal | K3: Mondercange | L3: Dudelange 2/3 | M3: Bettembourg 2/2 + Abw. | N3: Hautcharage | O3: Differdange 2/3 | P3: Esch 2/5 | Q3: Belvaux/Soleuvre 2/2 | R3: H/F/A 1/2 | S3: Emerange à Ellange | T3: Remich à Ehnen | U3: Oetrange Moutfort Contern | V3: Senningerberg à Gonderange | W3: Début à Godbrange | X3: Walferdange Helmsange | Y3: Début à Angelsberg | Z3: Strassen 1/2 | AA3: Windhof à Goetzingen | AB3: 8.3 (2/2) | AD3: Schieren à Bettendorf | AE3: Ettelbruck 3/3 + Warken Welscheid | AF3: Ingledorf Diekirch Gilsdorf | AG3: 1010 | AH3: DC 5501 | AI3: 12 | AK3: Congé
A4: APPENZELLER | B4: Frédéric | C4: =A4&B4 -> APPENZELLER Frédéric | E4: Ville22 | G4: Centre 3/3 | H4: Gare 3/3 | I4: Howald 2/2 | J4: Weimershof | K4: Foetz | L4: Dudelange 3/3 | M4: Bettembourg + Abweiler | N4: Bascharage | O4: Differdange 3/3 | P4: Esch 3/5 | Q4: Belvaux/Soleuvre | R4: H/F/A 2/2 | S4: Remerschen à la fin | T4: Remich à Ahn | U4: Mourfort Contern | V4: Ernster Gonderange | W4: Junglinster à Graulinster | X4: Bereldange Walferdange Helmsange | Y4: Beringen à Roost | Z4: Strassen 2/2 | AA4: Hagen/Kleibettingen à Steinfort | AB4: 8.3 (1/3) | AD4: Moestroff à Vianden | AE4: Niederfeulen Oberfeulen | AF4: Ingeldorf Erpeldange | AG4: 1020 | AH4: DC 5502 | AI4: 21 | AK4: Récup heures
A5: AQUILANO | B5: Rémi | C5: =A5&B5 -> AQUILANO Rémi | E5: 3000 | H5: Hollerich | I5: Bonnevoie 1/3 | J5: Kirchberg | K5: Foetz + Kayl | L5: Hellange à Peppange | M5: Leudelange à Limpach | N5: Linger Pétange | O5: Differdange 1/4 | P5: Esch 4/5 | Q5: Sanem Ehlerange | R5: Weiler à Aspelt | S5: Schengen à la fin | T5: Stadtbredimus à Schuttrange | U5: Moutfort Contern Itzig | V5: Ernster à Munschecker | W5: Rippig à Osweiler | X5: Heisdorf Steinsel Mullendorf | Y5: Bissen | Z5: Bertrange | AA5: Steinfort Hobscheid Eischen | AB5: 8.3 (2/3) | AD5: Moestroff à Bettel | AE5: Niederfeulen à Mertzig | AF5: Ingledorf Erpeldange Gilsdorf | AG5: 1030 | AH5: DC 5503 | AI5: 22 | AK5: Récup férié
A6: BERBUDEAU | B6: Malory | C6: =A6&B6 -> BERBUDEAU Malory | E6: Secteur_31 | G6: Centre 1/4 | H6: Hollerich 1/2 | I6: Bonnevoie 2/3 | J6: Eich Beggen | K6: Schifflange 1/2 | M6: Roedgen à Limpach | N6: Linger | O6: Differdange 2/4 | P6: Esch 5/5 | R6: Weiler à Dalheim | T6: Stadtbredimus à Ehnen | U6: Itzig | V6: Ernster à Flaxweiler | W6: Eschweiler à Givenich | X6: Bofferdange à Prettingen | Y6: Colmar | Z6: Bertrange 1/2 | AA6: Steinfort Hobscheid | AB6: 8.3 (3/3) | AD6: Bleesbruck à Vianden | AE6: Niederfeulen à Michelbouch | AF6: Diekirch Gilsdorf | AG6: 1040 | AH6: DC 5504 | AI6: 31 | AK6: Congé ext.
A7: BERTOZZI | B7: Jacques | C7: =A7&B7 -> BERTOZZI Jacques | E7: Secteur_32 | G7: Centre 2/4 | H7: Hollerich 2/2 | I7: Bonnevoie 3/3 + Pulv. | J7: Eich | K7: Schifflange 2/2 | M7: Fennange à Pontpierre | N7: Pétange | O7: Differdange 3/4 | P7: Esch 1/4 | R7: Weiler à Frisange | T7: Stadtbredimus à Neuhausgen | V7: Ernster à Wecker | W7: Moersdorf à Osweiler | X7: Berschbach Mersch | Y7: Bissen Colmar | Z7: Bertrange 2/2 | AA7: Steinfort | AD7: Bivels à Eselborn | AE7: Mertzig à Vichten | AF7: Flebour à Wahlhausen | AG7: 1050 | AH7: DC 5505 | AI7: 32
A8: BURGER | B8: Raoul | C8: =A8&B8 -> BURGER Raoul | E8: Secteur_34 | G8: Centre 3/4 | H8: Merl | I8: Hamm | J8: Beggen | K8: Kayl | M8: Reckange à Clemency | N8: Linger Pétange 1/2 | O8: Differdange 4/4 | P8: Esch 2/4 | R8: Weiler à Filsdorf | T8: Wormeldange à Neuhausgen | V8: Berg à Muschecker + Machtum Mertert | W8: Eschweiler à Osweiler | X8: Berschbach Mersch 1/2 | Y8: Colmar à Medernach | Z8: Villages 8.1 | AA8: Hobscheid Eischen | AD8: Vianden à Marnach | AE8: Michelbouch à Merscheid/Heiderscheid | AF8: Flebour à Hosingen | AG8: 1060 | AH8: DC 5506 | AI8: 34
A9: BUZELIN | B9: Vincent | C9: =A9&B9 -> BUZELIN Vincent | E9: 4000 | G9: Centre 4/4 | H9: Merl 1/2 | I9: Grund | J9: Mullenbach | K9: Kayl Tétange | N9: Pétange 2/2 | O9: Differdange | P9: Esch 3/4 | R9: Filsdorf à Altwies | T9: Niederdonven à Ubersyren | V9: Rodenbourg à Munschecker | W9: Echternach à Dillingen | X9: Mersch 2/2 | Y9: Colmar à Nommern | Z9: Mamer | AA9: Hobscheid | AD9: Bivels à Marnach | AE9: Grosbous à Lutzhausen | AF9: Hosingen à Eschweiler | AG9: 1070 | AH9: DC 5507 | AI9: 41
A10: CHAMPION | B10: Nohwenn | C10: =A10&B10 -> CHAMPION Nohwenn | E10: Secteur_41 | H10: Merl 2/2 | I10: Hamm Grund | J10: Mullenbach Eich | K10: Tétange | N10: Lamadelaine | P10: Esch 4/4 | R10: Aspelt à Altwies | T10: Schuttrange à Sandweiler | V10: Manternach à Mertert | W10: Bigelbach à Kaltkesbach | X10: Schoenfels à Saeul | Y10: Cruchten à Medernach | Z10: Mamer 1/2 | AA10: Eischen | AD10: Munshausen à Eselborn | AE10: Eschdorf à Lutzhausen | AF10: Bockholz à Wiltz | AG10: 1080 | AH10: DC 5508 | AI10: 42
A11: CHAVES | B11: Mike | C11: =A11&B11 -> CHAVES Mike | E11: Secteur_42 | H11: Belair | I11: Cents | J11: Rollingergrund | K11: Rumelange | N11: Lamadelaine Rodange | P11: Esch | R11: Aspelt à Mondorf | T11: Schrassig Sandweiler | V11: Grevenmacher | W11: Bigelbach Beaufort | X11: Brouch à la fin | Y11: Freckeisen à Blumenthal | Z11: Mamer 2/2 | AA11: Eischen à la fin | AD11: Urspelt à Wemperhardt | AE11: Nothum à Lentzweiler | AF11: Bockholz à Eschweiler | AG11: 1090 | AH11: DC 5509 | AI11: 43
A12: COMBAUD | B12: Virgile | C12: =A12&B12 -> COMBAUD Virgile | E12: Secteur_43 | H12: Belair 1/2 | I12: Cents 1/2 | J12: Mullenbach Roll. | K12: Kayl Tétange Rum. | N12: Rodange Lasauvage | R12: Frisange à Mondorf | T12: Schrassig Sandweiler Oetrange | V12: Grevenmacher Machtum Mertert | W12: Bigelbach à la fin | X12: Schoenfels à la fin | Y12: Freckeisen à la fin | Z12: Capellen Olm | AA12: Schweich à la fin | AD12: Huldange à Schleif | AE12: Rumlange à la fin | AF12: Flebour à Eschweiler | AG12: 1100 | AH12: DC 5510 | AI12: 44
A13: COSTANZA | B13: Robert | C13: =A13&B13 -> COSTANZA Robert | E13: Secteur_44 | H13: Belair 2/2 | I13: Cents 2/2 | J13: Limpertsberg 1/2 | N13: Lasauvage | R13: Mondorf à Burmerange | V13: Grevenmacher Machtum Mertert Wasserbillig | W13: Haller à la fin | Y13: Larochette à la fin | AD13: Huldange à Goedange | AF13: Weidingen Wiltz | AG13: 1110 | AH13: DC 5511 | AI13: 51
A14: CUTULLE | B14: Lucas | C14: =A14&B14 -> CUTULLE Lucas | E14: 5000 | H14: Cessange | I14: Hamm Grund Cents | J14: Limpertsberg 2/2 | N14: Lam. Rodange Lasauvage | R14: Mondorf à Schengen | V14: Wasserbillig | W14: Consdorf à la fin | AD14: Hachiville à Schleif | AF14: Mercols à la fin | AH14: DC 5512 | AI14: 52
A15: DA CUNHA CARNEIRO | B15: Helio | C15: =A15&B15 -> DA CUNHA CARNEIRO Helio | E15: Secteur_51 | H15: Gasperich Kockelscheuer | J15: Limpertsberg 1/3 | AD15: Pommerloch à la fin | AF15: Mercols à la fin + Ingeldorf, Erpeldange | AG15: Admninistratif | AH15: DC 5513 | AI15: 53
A16: DAUPHIN | B16: Jody | C16: =A16&B16 -> DAUPHIN Jody | E16: Secteur_52 | J16: Limpertsberg 2/3 | AF16: Mercols à la fin + Erpeldange | AG16: Enl. Simaform | AH16: DC 5514 | AI16: 54
A17: DELLANDREA | B17: Virgil | C17: =A17&B17 -> DELLANDREA Virgil | E17: Secteur_53 | J17: Limpertsberg 3/3 | AG17: Enl. Avocado | AH17: DC 5515 | AI17: 61
A18: DORSCHNER | B18: Nicolas | C18: =A18&B18 -> DORSCHNER Nicolas | E18: Secteur_54 | AH18: DC 5516 | AI18: 62
A19: DOS SANTOS | B19: Helder | C19: =A19&B19 -> DOS SANTOS Helder | E19: 6000 | AH19: DC 5517 | AI19: 71
A20: DUCREUX | B20: Bruno | C20: =A20&B20 -> DUCREUX Bruno | E20: Secteur_61 | AH20: DC 5518 | AI20: 72
A21: FERREIRA PEDROSA | B21: Luis | C21: =A21&B21 -> FERREIRA PEDROSA Luis | E21: Secteur_62 | AH21: DC 5519 | AI21: 73
A22: FERY | B22: Nicolas | C22: =A22&B22 -> FERY Nicolas | E22: 7000 | AH22: DC 5520 | AI22: 81
A23: FLAMENT | B23: Samuel | C23: =A23&B23 -> FLAMENT Samuel | E23: Secteur_71 | AH23: DC 5521 | AI23: 82
A24: GILLET | B24: Loic | C24: =A24&B24 -> GILLET Loic | E24: Secteur_72 | AH24: DC 5522 | AI24: 83
A25: GOELFF | B25: Pascal | C25: =A25&B25 -> GOELFF Pascal | E25: 8000 | AH25: DC 5523 | AI25: 84
A26: GRAFF | B26: Jordan | C26: =A26&B26 -> GRAFF Jordan | E26: Secteur_81 | AH26: DC 5524 | AI26: 91
A27: GRAISSE | B27: Didier | C27: =A27&B27 -> GRAISSE Didier | E27: Secteur_82 | AH27: DC 5525 | AI27: 92
A28: HERMAN | B28: Geoffrey | C28: =A28&B28 -> HERMAN Geoffrey | E28: Secteur_83 | AH28: DC 5526 | AI28: 93
A29: JACQUES | B29: Stéphane | C29: =A29&B29 -> JACQUES Stéphane | E29: Secteur_84 | AH29: DC 5527
A30: LEBARGY | B30: Jonathan | C30: =A30&B30 -> LEBARGY Jonathan | AH30: DC 5528
A31: LEDENT | B31: Eric | C31: =A31&B31 -> LEDENT Eric | E31: 9000 | AH31: DC 5529
A32: LEJOUR | B32: Jean-Luc | C32: =A32&B32 -> LEJOUR Jean-Luc | E32: Secteur_91 | AH32: DC 5530
A33: LEPAGE | B33: Luc | C33: =A33&B33 -> LEPAGE Luc | E33: Secteur_92 | AH33: DC 5531
A34: LOPES | B34: José | C34: =A34&B34 -> LOPES José | E34: Secteur_93 | AH34: DC 5532
A35: LUNARDI | B35: Matthieu | C35: =A35&B35 -> LUNARDI Matthieu | E35: RETOURS | AH35: DC 5533
A36: MARON | B36: Dominique | C36: =A36&B36 -> MARON Dominique | AH36: DC 5534
A37: MARSEU | B37: Grégory | C37: =A37&B37 -> MARSEU Grégory | AH37: DC 5535
A38: MARTIN | B38: Emmanuel | C38: =A38&B38 -> MARTIN Emmanuel | AH38: DC 5536
A39: MARTINEZ | B39: Aimé | C39: =A39&B39 -> MARTINEZ Aimé | AH39: DC 5537
A40: MENACER | B40: Eddy | C40: =A40&B40 -> MENACER Eddy | AH40: DC 5538
A41: MEYER | B41: Jean Luc | C41: =A41&B41 -> MEYER Jean Luc | AH41: DC 5539
A42: ONRAET | B42: David | C42: =A42&B42 -> ONRAET David | AH42: DC 5540
A43: PAULIS | B43: Patrick | C43: =A43&B43 -> PAULIS Patrick | AH43: DC 5541
A44: PIMENTEL DA SILVA | B44: Miguel | C44: =A44&B44 -> PIMENTEL DA SILVA Miguel | AH44: DC 5542
A45: PRIGNON | B45: Willy | C45: =A45&B45 -> PRIGNON Willy | AH45: DC 5543
A46: RAEBISCH | B46: Quentin | C46: =A46&B46 -> RAEBISCH Quentin | AH46: DC 5544
A47: RAEBISCH | B47: Sébastien | C47: =A47&B47 -> RAEBISCH Sébastien | AH47: DC 5545
A48: RUFI | B48: Mathieu | C48: =A48&B48 -> RUFI Mathieu | AH48: DC 5546
A49: SCARMIGNAN | B49: Laurent | C49: =A49&B49 -> SCARMIGNAN Laurent
A50: SCASSELLATI | B50: Florian | C50: =A50&B50 -> SCASSELLATI Florian
A51: TOUSSAINT | B51: Yves | C51: =A51&B51 -> TOUSSAINT Yves
A52: VIGNERON | B52: Nicolas | C52: =A52&B52 -> VIGNERON Nicolas
A53: VIOT | B53: David | C53: =A53&B53 -> VIOT David
A54: WALDUNG | B54: Laurent | C54: =A54&B54 -> WALDUNG Laurent
A55: WEFFLING | B55: Valérie | C55: =A55&B55 -> WEFFLING Valérie
A56: WOLSKI | B56: Arnaud | C56: =A56&B56 -> WOLSKI Arnaud

Sheet Feuil2
F2: TOTAL QUANTITÉS
A3: 42745 | B3: 45
A4: 42745 | B4: 38 | F4: =SUM(Courrier!E:E,Courrier!F:F,Courrier!I:I) -> 467915
A5: 42745 | B5: 27
A6: 42746 | B6: 15 | F6: RETOURS
A7: 42746 | B7: 26
D8: {=SUM((A1:A65535=DATEVALUE("10/01/2017"))*(A1:A65535=DATEVALUE("10/01/2017"))*(B1:B65535))} -> 110 | F8: =SUM(Courrier!K:K) -> 34760
D10: {=SUM((Courrier!A1:A65538=DATEVALUE("10/01/2017"))*(Courrier!E1:E65538))} -> #VALUE! | F10: DISTRBUÉ | H10: ADRESSES
F12: =F4-F8 -> 433155 | H12: =SUM(Courrier!L:L) -> 19172
H13: =H12*100/F12 -> 4.4261292 | I13: %
A20: TOTAL QUANTITÉS | C20: 16-17-18/01
A22: =SUM(Courrier!E262:E345,Courrier!F262:F345,Courrier!I262:I345) -> 82659
A24: RETOURS
A26: =SUM(Courrier!K262:K345) -> 10041
A28: DISTRBUÉ | C28: ADRESSES
A30: =A22-A26 -> 72618 | C30: =SUM(Courrier!L262:L345) -> 4909
C31: =C30*100/A30 -> 6.7600319 | D31: %

Sheet Absences
A1: Date | B1: Chauffeur | C1: Cause | D1: Commentaires
A2: 42737 | C2: Malade
A3: 42737 | C3: Congé

Sheet Réceptions + Distribution
A1: Janvier | G1: Février | M1: Mars | S1: Avril | Y1: Mai | AE1: Juin
A2: 42736 | B2: D | C2: ='[1]Premier semestre - Tableau'!$A$1:$F$65536 -> 0 | E2: =SUMIF(Courrier!$A$2:$E$65003,A2,Courrier!$E$2:$E$65003) -> 0 | G2: 42767 | H2: M | M2: 1 | N2: M | S2: 1 | T2: S | Y2: 1 | Z2: L | AE2: 1 | AF2: J
A3: 42737 | B3: L | C3: 3274 | E3: =SUMIF(Courrier!$A$2:$A$65003,A3,Courrier!$E$2:$E$65003) -> 16556 | G3: 42768 | H3: J | M3: 2 | N3: J | S3: 2 | T3: D | Y3: 2 | Z3: M | AE3: 2 | AF3: V
A4: 42738 | B4: M | C4: 10190 | E4: =SUMIF(Courrier!$A$2:$E$65003,A4,Courrier!$E$2:$E$65003) -> 14564 | G4: 42769 | H4: V | M4: 3 | N4: V | S4: 3 | T4: L | Y4: 3 | Z4: M | AE4: 3 | AF4: S
A5: 42739 | B5: M | C5: 7948 | E5: =SUMIF(Courrier!$A$2:$E$65003,A5,Courrier!$E$2:$E$65003) -> 11889 | G5: 42770 | H5: S | M5: 4 | N5: S | S5: 4 | T5: M | Y5: 4 | Z5: J | AE5: 4 | AF5: D
A6: 42740 | B6: J | C6: 23590 | E6: =SUMIF(Courrier!$A$2:$E$65003,A6,Courrier!$E$2:$E$65003) -> 7933 | G6: 42771 | H6: D | M6: 5 | N6: D | S6: 5 | T6: M | Y6: 5 | Z6: V | AE6: 5 | AF6: L
A7: 42741 | B7: V | C7: 39529 | E7: =SUMIF(Courrier!$A$2:$E$65003,A7,Courrier!$E$2:$E$65003) -> 5791 | G7: 42772 | H7: L | M7: 6 | N7: L | S7: 6 | T7: J | Y7: 6 | Z7: S | AE7: 6 | AF7: M
A8: 42742 | B8: S | E8: =SUMIF(Courrier!$A$2:$E$65003,A8,Courrier!$E$2:$E$65003) -> 0 | G8: 42773 | H8: M | M8: 7 | N8: M | S8: 7 | T8: V | Y8: 7 | Z8: D | AE8: 7 | AF8: M
A9: 42743 | B9: D | E9: =SUMIF(Courrier!$A$2:$E$65003,A9,Courrier!$E$2:$E$65003) -> 0 | G9: 42774 | H9: M | M9: 8 | N9: M | S9: 8 | T9: S | Y9: 8 | Z9: L | AE9: 8 | AF9: J
A10: 42744 | B10: L | C10: 75062 | E10: =SUMIF(Courrier!$A$2:$E$65003,A10,Courrier!$E$2:$E$65003) -> 20063 | G10: 42775 | H10: J | M10: 9 | N10: J | S10: 9 | T10: D | Y10: 9 | Z10: M | AE10: 9 | AF10: V
A11: 42745 | B11: M | C11: 20652 | E11: =SUMIF(Courrier!$A$2:$E$65003,A11,Courrier!$E$2:$E$65003) -> 23581 | G11: 42776 | H11: V | M11: 10 | N11: V | S11: 10 | T11: L | Y11: 10 | Z11: M | AE11: 10 | AF11: S
A12: 42746 | B12: M | C12: 14756 | E12: =SUMIF(Courrier!$A$2:$E$65003,A12,Courrier!$E$2:$E$65003) -> 24051 | G12: 42777 | H12: S | M12: 11 | N12: S | S12: 11 | T12: M | Y12: 11 | Z12: J | AE12: 11 | AF12: D
A13: 42747 | B13: J | C13: 2512 | E13: =SUMIF(Courrier!$A$2:$E$65003,A13,Courrier!$E$2:$E$65003) -> 25767 | G13: 42778 | H13: D | M13: 12 | N13: D | S13: 12 | T13: M | Y13: 12 | Z13: V | AE13: 12 | AF13: L
A14: 42748 | B14: V | C14: 12266 | E14: =SUMIF(Courrier!$A$2:$E$65003,A14,Courrier!$E$2:$E$65003) -> 11072 | G14: 42779 | H14: L | M14: 13 | N14: L | S14: 13 | T14: J | Y14: 13 | Z14: S | AE14: 13 | AF14: M
A15: 42749 | B15: S | E15: =SUMIF(Courrier!$A$2:$E$65003,A15,Courrier!$E$2:$E$65003) -> 0 | G15: 42780 | H15: M | M15: 14 | N15: M | S15: 14 | T15: V | Y15: 14 | Z15: D | AE15: 14 | AF15: M
A16: 42750 | B16: D | E16: =SUMIF(Courrier!$A$2:$E$65003,A16,Courrier!$E$2:$E$65003) -> 0 | G16: 42781 | H16: M | M16: 15 | N16: M | S16: 15 | T16: S | Y16: 15 | Z16: L | AE16: 15 | AF16: J
A17: 42751 | B17: L | C17: 15664 | E17: =SUMIF(Courrier!$A$2:$E$65003,A17,Courrier!$E$2:$E$65003) -> 28839 | G17: 42782 | H17: J | M17: 16 | N17: J | S17: 16 | T17: D | Y17: 16 | Z17: M | AE17: 16 | AF17: V
A18: 42752 | B18: M | C18: 6799 | E18: =SUMIF(Courrier!$A$2:$E$65003,A18,Courrier!$E$2:$E$65003) -> 24188 | G18: 42783 | H18: V | M18: 17 | N18: V | S18: 17 | T18: L | Y18: 17 | Z18: M | AE18: 17 | AF18: S
A19: 42753 | B19: M | C19: 24281 | E19: =SUMIF(Courrier!$A$2:$E$65003,A19,Courrier!$E$2:$E$65003) -> 21771 | G19: 42784 | H19: S | M19: 18 | N19: S | S19: 18 | T19: M | Y19: 18 | Z19: J | AE19: 18 | AF19: D
A20: 42754 | B20: J | C20: 2301 | E20: =SUMIF(Courrier!$A$2:$E$65003,A20,Courrier!$E$2:$E$65003) -> 15092 | G20: 42785 | H20: D | M20: 19 | N20: D | S20: 19 | T20: M | Y20: 19 | Z20: V | AE20: 19 | AF20: L
A21: 42755 | B21: V | C21: 43947 | E21: =SUMIF(Courrier!$A$2:$E$65003,A21,Courrier!$E$2:$E$65003) -> 12983 | G21: 42786 | H21: L | M21: 20 | N21: L | S21: 20 | T21: J | Y21: 20 | Z21: S | AE21: 20 | AF21: M
A22: 42756 | B22: S | E22: =SUMIF(Courrier!$A$2:$E$65003,A22,Courrier!$E$2:$E$65003) -> 0 | G22: 42787 | H22: M | M22: 21 | N22: M | S22: 21 | T22: V | Y22: 21 | Z22: D | AE22: 21 | AF22: M
A23: 42757 | B23: D | E23: =SUMIF(Courrier!$A$2:$E$65003,A23,Courrier!$E$2:$E$65003) -> 0 | G23: 42788 | H23: M | M23: 22 | N23: M | S23: 22 | T23: S | Y23: 22 | Z23: L | AE23: 22 | AF23: J
A24: 42758 | B24: L | C24: 9738 | E24: =SUMIF(Courrier!$A$2:$E$65003,A24,Courrier!$E$2:$E$65003) -> 17503 | G24: 42789 | H24: J | M24: 23 | N24: J | S24: 23 | T24: D | Y24: 23 | Z24: M | AE24: 23 | AF24: V
A25: 42759 | B25: M | C25: 14105 | E25: =SUMIF(Courrier!$A$2:$E$65003,A25,Courrier!$E$2:$E$65003) -> 20466 | G25: 42790 | H25: V | M25: 24 | N25: V | S25: 24 | T25: L | Y25: 24 | Z25: M | AE25: 24 | AF25: S
A26: 42760 | B26: M | C26: 18516 | E26: =SUMIF(Courrier!$A$2:$E$65003,A26,Courrier!$E$2:$E$65003) -> 18463 | G26: 42791 | H26: S | M26: 25 | N26: S | S26: 25 | T26: M | Y26: 25 | Z26: J | AE26: 25 | AF26: D
A27: 42761 | B27: J | C27: 19649 | E27: =SUMIF(Courrier!$A$2:$E$65003,A27,Courrier!$E$2:$E$65003) -> 17079 | G27: 42792 | H27: D | M27: 26 | N27: D | S27: 26 | T27: M | Y27: 26 | Z27: V | AE27: 26 | AF27: L
A28: 42762 | B28: V | C28: ='[1]Premier semestre - Tableau'!$C$28 -> 8275 | E28: =SUMIF(Courrier!$A$2:$E$65003,A28,Courrier!$E$2:$E$65003) -> 12720 | G28: 42793 | H28: L | M28: 27 | N28: L | S28: 27 | T28: J | Y28: 27 | Z28: S | AE28: 27 | AF28: M
A29: 42763 | B29: S | E29: =SUMIF(Courrier!$A$2:$E$65003,A29,Courrier!$E$2:$E$65003) -> 0 | G29: 42794 | H29: M | M29: 28 | N29: M | S29: 28 | T29: V | Y29: 28 | Z29: D | AE29: 28 | AF29: M
A30: 42764 | B30: D | E30: =SUMIF(Courrier!$A$2:$E$65003,A30,Courrier!$E$2:$E$65003) -> 0 | M30: 29 | N30: M | S30: 29 | T30: S | Y30: 29 | Z30: L | AE30: 29 | AF30: J
A31: 42765 | B31: L | C31: 21585 | E31: =SUMIF(Courrier!$A$2:$E$65003,A31,Courrier!$E$2:$E$65003) -> 18323 | M31: 30 | N31: J | S31: 30 | T31: D | Y31: 30 | Z31: M | AE31: 30 | AF31: V
A32: 42766 | B32: M | C32: 26590 | E32: =SUMIF(Courrier!$A$2:$E$65003,A32,Courrier!$E$2:$E$65003) -> 18702 | M32: 31 | N32: V | Y32: 31 | Z32: M

Sheet Chauffeur
B1: Chauffeur
B2: AMBIEHL Gilles
A4: Date de distribution | B4: Chauffeur | C4: Secteur | D4: Tri | E4: Quantité | F4: Urgent | G4: En plus | H4: En plus Tri | I4: En plus Quantité | J4: Commentaire | K4: Retours | L4: Adresses incorrectes | M4: Essentiel ou enl. | N4: Retard Essentiel | O4: Véhicule | P4: Km début | Q4: Km Fin | R4: Heure début | S4: Heure fin
A5: 42737 | B5: AMBIEHL Gilles | C5: Ville21 | D5: Bonnevoie 1/3 | E5: 678 | L5: 31 | M5: 1110
A6: 42738 | B6: AMBIEHL Gilles | C6: Ville21 | D6: Bonnevoie 2/3 | E6: 622 | L6: 35
A7: 42739 | B7: AMBIEHL Gilles | C7: Ville21 | D7: Bonnevoie 3/3 + Pulv. | F7: 623 | G7: Ville21 | H7: Hamm Grund Cents | L7: 28
A8: 42740 | B8: AMBIEHL Gilles | C8: Ville21 | D8: Bonnevoie 3/3 + Pulv. | E8: 198 | L8: 22
A9: 42744 | C9: Ville21 | D9: Bonnevoie 1/3 | E9: 1014 | L9: 68
A10: 42745 | B10: AMBIEHL Gilles | C10: Ville21 | D10: Bonnevoie 2/3 | E10: 1080 | L10: 103
A11: 42746 | B11: AMBIEHL Gilles | C11: Ville21 | D11: Bonnevoie 3/3 + Pulv. | E11: 1872 | K11: 700 | L11: 126
A12: 42747 | B12: AMBIEHL Gilles | C12: Ville21 | D12: Hamm | E12: 701 | G12: RETOURS | H12: 21 | I12: 700 | J12: Bonnevoie | K12: 350 | L12: 155
A13: 42748 | B13: AMBIEHL Gilles | C13: Ville21 | D13: Grund | E13: 369 | G13: RETOURS | H13: 21 | I13: 350 | J13: Hamm | L13: 86
A14: 42751 | B14: AMBIEHL Gilles | C14: Ville21 | D14: Cents 2/2 | E14: 847 | L14: 65
A15: 42752 | B15: AMBIEHL Gilles | C15: Ville21 | D15: Bonnevoie 1/3 | E15: 653 | L15: 59
A16: 42753 | B16: AMBIEHL Gilles | C16: Ville21 | D16: Bonnevoie 2/3 | E16: 647 | F16: 7 | L16: 48
A17: 42754 | B17: AMBIEHL Gilles | C17: Ville21 | D17: Bonnevoie 3/3 + Pulv. | E17: 993 | K17: 250 | L17: 83
A18: 42755 | B18: AMBIEHL Gilles | C18: Ville21 | D18: Hamm Grund | E18: 502 | G18: RETOURS | H18: 21 | I18: 250 | J18: Bonnevoie | L18: 47
A19: 42758 | B19: AMBIEHL Gilles | C19: Ville21 | D19: Cents 2/2 | E19: 437 | F19: 11 | L19: 39
A20: 42759 | B20: AMBIEHL Gilles | C20: Ville21 | D20: Bonnevoie 1/3 | E20: 649 | F20: 22 | L20: 39
A21: 42760 | B21: AMBIEHL Gilles | C21: Ville21 | D21: Bonnevoie 2/3 | E21: 536 | F21: 1 | L21: 37
A22: 42761 | B22: AMBIEHL Gilles | C22: Ville21 | D22: Bonnevoie 3/3 + Pulv. | E22: 1107 | F22: 124 | K22: 500 | L22: 58
A23: 42762 | B23: AMBIEHL Gilles | C23: Ville21 | D23: Hamm Grund | E23: 323 | F23: 76
A24: 42765 | B24: AMBIEHL Gilles | C24: Ville21 | D24: Cents 2/2 | E24: 562
A25: 42766 | B25: AMBIEHL Gilles | C25: Ville21 | D25: Bonnevoie 1/3 | E25: 422 | F25: 7
A26: 42767 | B26: AMBIEHL Gilles | C26: Ville21 | D26: Bonnevoie 2/3 | E26: 458
A27: 42768 | B27: AMBIEHL Gilles | C27: Ville21 | D27: Hamm Grund | E27: 399
