Workbook

Sheet essai Aurélie
X1: FOYER HEBERGEMENT | AA1: ARRET MAL | AC1: INITIAL | AE1: CDD
A2: Eatblissement | C2: FOYER HEBERGEMENT | K2: Raison du Contrat | M2: remplacement Mme Dimortier | X2: FOYER DE VIE | AA2: ACC TRAV | AC2: PROLONG | AE2: CDI
X3: CAJ | AA3: CT | AE3: CUI
A4: Nouveau Contrat | E4: Personne remplacée | I4: Prolongations (suite) | M4: Prolongations (suite) | X4: SAVS | AA4: CP
A5: Type contrat | B5: CDD | E5: Nom | F5: Prénom | G5: MOTIF | I5: date début | J5: date fin | K5: nb jours | M5: date début | N5: date fin | O5: nb jours | AA5: C Anc
A6: Nom | B6: BABEL | E6: DIMORTIER | F6: Catherine | G6: ARRET MAL | K6: =J6-I6 -> 0 | O6: =N6-M6 -> 0
A7: Prénom | B7: Toto | E7: Arrêt initial | K7: =J7-I7 -> 0 | O7: =N7-M7 -> 0
E8: date début | F8: date fin | G8: nb jours | K8: =J8-I8 -> 0 | O8: =N8-M8 -> 0 | AA8: C Matern
E9: 42747 | F9: 42760 | G9: =F9-E9+1 -> 14 | K9: =J9-I9 -> 0 | O9: =N9-M9 -> 0
E10: Prolongations | K10: =J10-I10 -> 0 | O10: =N10-M10 -> 0
E11: date début | F11: date fin | G11: nb jours | K11: =J11-I11 -> 0 | O11: =N11-M11 -> 0
G12: =F12-E12 -> 0 | K12: =J12-I12 -> 0 | O12: =N12-M12 -> 0
G13: =F13-E13 -> 0 | K13: =J13-I13 -> 0 | O13: =N13-M13 -> 0
G14: =F14-E14 -> 0 | K14: =J14-I14 -> 0 | M14: TOTAL ARRET | N14: =(SUM(G12:G14)+SUM(K6:K14)+SUM(O6:O13)+G9) -> 14
A16: Contrat | C16: Fiche Salarié | E16: Contrats | J16: Déclaration Urssaf | L16: Solde de tout compte | P16: Nb jours de remplacement
A17: date début | B17: date fin | C17: fait le | D17: Envoi au Siège | E17: Fait le | F17: Envoi au Siège | G17: Retour Siège Signé | H17: Signature Direction | I17: Signature salarié | J17: fait le | K17: Envoi Compta | L17: Fait le | M17: Envoi Compta | N17: Retour Compta | O17: Signature Salarié
A18: 42747 | B18: 42760 | P18: =B18-A18+1 -> 14
A19: Avenants | C19: Fiche Salarié | E19: Contrats | J19: Déclaration Urssaf | L19: Solde de tout compte | P19: Nb jours
A20: date début | B20: date fin | C20: fait le | D20: Envoi au Siège | E20: Fait le | F20: Envoi au Siège | G20: Retour Siège Signé | H20: Signature Direction | I20: Signature salarié | J20: fait le | K20: Envoi Compta | L20: Fait le | M20: Envoi Compta | N20: Retour Compta | O20: Signature Salarié
O26: TOTAL | P26: =SUM(P21:P25)+P18 -> 14
A28: Eatblissement | C28: FOYER HEBERGEMENT | K28: Raison du Contrat | M28: remplacement Mme Dubroeucq
A30: Nouveau Contrat | E30: Personne remplacée | I30: Prolongations (suite) | M30: Prolongations (suite)
A31: Type contrat | B31: CDD | E31: Nom | F31: Prénom | G31: MOTIF | I31: date début | J31: date fin | K31: nb jours | M31: date début | N31: date fin | O31: nb jours
A32: Nom | B32: YFFF | E32: DUBROEUCQ | F32: amélie | G32: ARRET MAL | K32: =J32-I32 -> 0 | O32: =N32-M32 -> 0
A33: Prénom | B33: carolina | E33: Arrêt initial | K33: =J33-I33 -> 0 | O33: =N33-M33 -> 0
E34: date début | F34: date fin | G34: nb jours | K34: =J34-I34 -> 0 | O34: =N34-M34 -> 0
E35: 42758 | F35: 42763 | G35: =F35-E35+1 -> 6 | K35: =J35-I35 -> 0 | O35: =N35-M35 -> 0
E36: Prolongations | K36: =J36-I36 -> 0 | O36: =N36-M36 -> 0
E37: date début | F37: date fin | G37: nb jours | K37: =J37-I37 -> 0 | O37: =N37-M37 -> 0
G38: =F38-E38 -> 0 | K38: =J38-I38 -> 0 | O38: =N38-M38 -> 0
G39: =F39-E39 -> 0 | K39: =J39-I39 -> 0 | O39: =N39-M39 -> 0
G40: =F40-E40 -> 0 | K40: =J40-I40 -> 0 | M40: TOTAL ARRET | N40: =(SUM(G38:G40)+SUM(K32:K40)+SUM(O32:O39)+G35) -> 6
A42: Contrat | C42: Fiche Salarié | E42: Contrats | J42: Déclaration Urssaf | L42: Solde de tout compte | P42: Nb jours de remplacement
A43: date début | B43: date fin | C43: fait le | D43: Envoi au Siège | E43: Fait le | F43: Envoi au Siège | G43: Retour Siège Signé | H43: Signature Direction | I43: Signature salarié | J43: fait le | K43: Envoi Compta | L43: Fait le | M43: Envoi Compta | N43: Retour Compta | O43: Signature Salarié
A44: 42758 | B44: 42760 | O44: 42760 | P44: =B44-A44+1 -> 3
A45: Avenants | C45: Fiche Salarié | E45: Contrats | J45: Déclaration Urssaf | L45: Solde de tout compte | P45: Nb jours
A46: date début | B46: date fin | C46: fait le | D46: Envoi au Siège | E46: Fait le | F46: Envoi au Siège | G46: Retour Siège Signé | H46: Signature Direction | I46: Signature salarié | J46: fait le | K46: Envoi Compta | L46: Fait le | M46: Envoi Compta | N46: Retour Compta | O46: Signature Salarié
O47: 42765
O52: TOTAL | P52: =SUM(P47:P51)+P44 -> 3
A54: Eatblissement | C54: FOYER HEBERGEMENT | K54: Raison du Contrat | M54: Remplacement Mme Bragantini
...

Sheet Récap
B4: Nb d'arrets maladie | F4: Nb d'Accident travail | K4: Nb de jours d'arret mal | N4: Nb de jours de remplacement
B5: =COUNTIF('essai Aurélie'!$G3:$G500,"ARRET MAL") -> 2 | F5: =COUNTIF('essai Aurélie'!$G3:$G500,"ACC TRAV") -> 2 | G5: =COUNTIF('essai Aurélie'!$G3:$G497,"ARRET MAL") -> 2 | K5: {=SUM(IF(MOD(ROW('essai Aurélie'!$N$14:$N$500)-14,26)=0,'essai Aurélie'!$N$14:$N$500,0))} -> 57 | N5: {=SUM(IF(MOD(ROW('essai Aurélie'!$P21:$P495)-26,26)=0,'essai Aurélie'!$P21:$P495,0))} -> 27
